{"text_format":"1","workbook":"xlsx","n_sheets":3,"sheets":["Oblika_pomoci","Porocane_pomoci","Sifranti"],"not_rendered":{"charts":0,"images":0,"macros":1,"external_links":0,"defined_names":21,"comments":0,"pivot_tables":0},"unopened":[],"bounds":{"document_bytes":16777216,"sheet_cells":100000,"rows_first":2000,"rows_last":500,"rows_between":2000,"halvings":0,"cell_chars":16384,"cell_head_chars":4096},"cells_cut":0,"cells_raw":0,"read":"whole","date_system":"1900"}

{"sheet":"Oblika_pomoci","index":0,"n_rows":1,"n_cols":1,"rows_kept":1,"cut":false,"hidden":false,"merged":[]}
["Izberite obliko pomoči:"]

{"sheet":"Porocane_pomoci","index":1,"n_rows":6000,"n_cols":54,"rows_kept":1125,"cut":true,"hidden":true,"merged":[[12,52,12,53]],"bounds":{"rows_first":500,"rows_last":125,"rows_between":500,"halvings":2}}
["Šifra dajalca\n(iz PRS)","Dajalec\n\n\n\n<===","Slovenska št. priglasitve (MSSI)\n\n===> Naziv priglasitve\n===> Kategorija po shemi","Matična številka prejemnika \n(iz PRS)","Davčna številka prejemnika","KMG_MID prejemnika \n(iz RKG)","Naslov prejemnika\n(Ulica, hišna številka, poštna številka in pošta!)","Datum odobritve\n\n===> Leto odobritve","Datum transakcije","Leto odobritve","Šifra instrumenta","Instrument\n\n\n\n<===","Šifra namena","Namen\n\n\n<===\n===> Kategorija po namenu","Šifra investicije\n(1/0)","Investicija\n(Da/Ne)\n\n\n<===","Pravna podlaga","Pravni akt","Znesek celotne investicije oz. vrednost celotnega projekta\n(EUR)","Maksimalni možni znesek sofinanciranja za celotno obdobje\n(EUR)","Bruto znesek pomoči\n(EUR)\n===> Stopnja sofinanciranja\n===> Delež, izplačan iz EU sredstev","Neto znesek pomoči\n(EUR)\n\n\n","10","Bruto znesek pomoči (SIT)","27,00","27","Opomba","Odobren znesek pomoči za celotno obdobje\n(EUR)","Realizirani znesek investicije oz. vrednost celotnega projekta glede na izplačan znesek pomoči\n(EUR)","Realizirani upravičeni stroški glede na izplačan znesek pomoči\n(EUR)\n===> Stopnja sofinanciranja","Znesek pomoči iz EU sredstev\n(EUR)\n\n===> Delež iz EU sredstev","Naziv prejemnika\n(popolno ime iz PRS)","Naziv projekta","Številka vloge / prijavnice","Sofinanciranje projekta s strani dajalca zaključeno\n(Da/Ne)","Projekt s strani prejemnika zaključen\n(Da/Ne)","Kratko ime javnega razpisa / poziva / povabila\n\n===> Javni razpis / poziv / povabilo","Vodja razpisa / poročevalec","Proračunska postavka","EU sklad\n\n\n\n===>","Šifra sklada","Naziv priglasitve","Stopnja sofinanciranja\n(Bruto znesek pomoči/Realizirani upravičeni stroški)","Odstotek pomoči iz EU sredstev\n(Znesek pomoči iz EU sredstev/Bruto znesek pomoči)","Kategorija po shemi","Kategorija po namenu","Javni razpis / poziv / povabilo","Št. objave v Ur. l. RS","Datum objave \n(v Ur. l. RS)"]
[{"$f":"IF(B2=\"\",\"\",VLOOKUP(B2,Sifranti!K:L,2,FALSE))","v":""},null,null,null,null,null,null,null,null,{"$f":"IF(H2=\"\",\"\",YEAR(H2))","v":""},{"$f":"IF(L2=\"\",\"\",VLOOKUP(L2,Sifranti!A:B,2,FALSE))","v":""},null,{"$f":"IF(N2=\"\",\"\",VLOOKUP(N2,Sifranti!D:F,3,FALSE))","v":""},null,{"$f":"IF(P2=\"\",\"\",VLOOKUP(P2,Sifranti!H:I,2,FALSE))","v":""},null,null,null,null,null,null,null,10,0,0,27,null,null,null,null,null,null,null,null,null,null,null,null,null,null,{"$f":"IF(AN2=\"\",\"\",IF(LEN(VLOOKUP(AN2,Sifranti!BY:BZ,2,FALSE))=0,\"\",VLOOKUP(AN2,Sifranti!BY:BZ,2,FALSE)))","v":""},{"$f":"IF(C2=\"\",\"\",VLOOKUP(C2,Sifranti!P:R,2,FALSE))","v":""},{"$f":"IF(V2>0,IF(AS2=\"de minimis\",T2/S2*100,U2/AD2*100),\"\")","v":""},{"$f":"IF(AE2>0,AE2/U2*100,\"\")","v":""},{"$f":"IF(C2=\"\",\"\",VLOOKUP(C2,Sifranti!P:R,3,FALSE))","v":""},{"$f":"IF(N2=\"\",\"\",VLOOKUP(N2,Sifranti!D:F,2,FALSE))","v":""},{"$f":"IF(AK2=\"\",\"\",VLOOKUP(AK2,Sifranti!V:Y,2,FALSE))","v":""},{"$f":"IF(AK2=\"\",\"\",IF(VLOOKUP(AK2,Sifranti!V:Y,3,FALSE)=\"\",\"\",VLOOKUP(AK2,Sifranti!V:Y,3,FALSE)))","v":""},{"$f":"IF(AK2=\"\",\"\",VLOOKUP(AK2,Sifranti!V:Y,4,FALSE))","v":""}]
[{"$f":"IF(B3=\"\",\"\",VLOOKUP(B3,Sifranti!K:L,2,FALSE))","v":""},null,null,null,null,null,null,null,null,"",{"$f":"IF(L3=\"\",\"\",VLOOKUP(L3,Sifranti!A:B,2,FALSE))","v":""},null,{"$f":"IF(N3=\"\",\"\",VLOOKUP(N3,Sifranti!D:F,3,FALSE))","v":""},null,{"$f":"IF(P3=\"\",\"\",VLOOKUP(P3,Sifranti!H:I,2,FALSE))","v":""},null,null,null,null,null,null,null,null,null,null,null,null,null,null,null,null,null,null,null,null,null,null,null,null,null,{"$f":"IF(AN3=\"\",\"\",IF(LEN(VLOOKUP(AN3,Sifranti!BY:BZ,2,FALSE))=0,\"\",VLOOKUP(AN3,Sifranti!BY:BZ,2,FALSE)))","v":""},{"$f":"IF(C3=\"\",\"\",VLOOKUP(C3,Sifranti!P:R,2,FALSE))","v":""},"","",{"$f":"IF(C3=\"\",\"\",VLOOKUP(C3,Sifranti!P:R,3,FALSE))","v":""},{"$f":"IF(N3=\"\",\"\",VLOOKUP(N3,Sifranti!D:F,2,FALSE))","v":""},{"$f":"IF(AK3=\"\",\"\",VLOOKUP(AK3,Sifranti!V:Y,2,FALSE))","v":""},{"$f":"IF(AK3=\"\",\"\",IF(VLOOKUP(AK3,Sifranti!V:Y,3,FALSE)=\"\",\"\",VLOOKUP(AK3,Sifranti!V:Y,3,FALSE)))","v":""},{"$f":"IF(AK3=\"\",\"\",VLOOKUP(AK3,Sifranti!V:Y,4,FALSE))","v":""}]
[{"$f":"IF(B4=\"\",\"\",VLOOKUP(B4,Sifranti!K:L,2,FALSE))","v":""},null,null,null,null,null,null,null,null,"",{"$f":"IF(L4=\"\",\"\",VLOOKUP(L4,Sifranti!A:B,2,FALSE))","v":""},null,{"$f":"IF(N4=\"\",\"\",VLOOKUP(N4,Sifranti!D:F,3,FALSE))","v":""},null,{"$f":"IF(P4=\"\",\"\",VLOOKUP(P4,Sifranti!H:I,2,FALSE))","v":""},null,null,null,null,null,null,null,null,null,null,null,null,null,null,null,null,null,null,null,null,null,null,null,null,null,{"$f":"IF(AN4=\"\",\"\",IF(LEN(VLOOKUP(AN4,Sifranti!BY:BZ,2,FALSE))=0,\"\",VLOOKUP(AN4,Sifranti!BY:BZ,2,FALSE)))","v":""},{"$f":"IF(C4=\"\",\"\",VLOOKUP(C4,Sifranti!P:R,2,FALSE))","v":""},"","",{"$f":"IF(C4=\"\",\"\",VLOOKUP(C4,Sifranti!P:R,3,FALSE))","v":""},{"$f":"IF(N4=\"\",\"\",VLOOKUP(N4,Sifranti!D:F,2,FALSE))","v":""},{"$f":"IF(AK4=\"\",\"\",VLOOKUP(AK4,Sifranti!V:Y,2,FALSE))","v":""},{"$f":"IF(AK4=\"\",\"\",IF(VLOOKUP(AK4,Sifranti!V:Y,3,FALSE)=\"\",\"\",VLOOKUP(AK4,Sifranti!V:Y,3,FALSE)))","v":""},{"$f":"IF(AK4=\"\",\"\",VLOOKUP(AK4,Sifranti!V:Y,4,FALSE))","v":""}]
[{"$f":"IF(B5=\"\",\"\",VLOOKUP(B5,Sifranti!K:L,2,FALSE))","v":""},null,null,null,null,null,null,null,null,"",{"$f":"IF(L5=\"\",\"\",VLOOKUP(L5,Sifranti!A:B,2,FALSE))","v":""},null,{"$f":"IF(N5=\"\",\"\",VLOOKUP(N5,Sifranti!D:F,3,FALSE))","v":""},null,{"$f":"IF(P5=\"\",\"\",VLOOKUP(P5,Sifranti!H:I,2,FALSE))","v":""},null,null,null,null,null,null,null,null,null,null,null,null,null,null,null,null,null,null,null,null,null,null,null,null,null,{"$f":"IF(AN5=\"\",\"\",IF(LEN(VLOOKUP(AN5,Sifranti!BY:BZ,2,FALSE))=0,\"\",VLOOKUP(AN5,Sifranti!BY:BZ,2,FALSE)))","v":""},{"$f":"IF(C5=\"\",\"\",VLOOKUP(C5,Sifranti!P:R,2,FALSE))","v":""},"","",{"$f":"IF(C5=\"\",\"\",VLOOKUP(C5,Sifranti!P:R,3,FALSE))","v":""},{"$f":"IF(N5=\"\",\"\",VLOOKUP(N5,Sifranti!D:F,2,FALSE))","v":""},{"$f":"IF(AK5=\"\",\"\",VLOOKUP(AK5,Sifranti!V:Y,2,FALSE))","v":""},{"$f":"IF(AK5=\"\",\"\",IF(VLOOKUP(AK5,Sifranti!V:Y,3,FALSE)=\"\",\"\",VLOOKUP(AK5,Sifranti!V:Y,3,FALSE)))","v":""},{"$f":"IF(AK5=\"\",\"\",VLOOKUP(AK5,Sifranti!V:Y,4,FALSE))","v":""}]
[{"$f":"IF(B6=\"\",\"\",VLOOKUP(B6,Sifranti!K:L,2,FALSE))","v":""},null,null,null,null,null,null,null,null,"",{"$f":"IF(L6=\"\",\"\",VLOOKUP(L6,Sifranti!A:B,2,FALSE))","v":""},null,{"$f":"IF(N6=\"\",\"\",VLOOKUP(N6,Sifranti!D:F,3,FALSE))","v":""},null,{"$f":"IF(P6=\"\",\"\",VLOOKUP(P6,Sifranti!H:I,2,FALSE))","v":""},null,null,null,null,null,null,null,null,null,null,null,null,null,null,null,null,null,null,null,null,null,null,null,null,null,{"$f":"IF(AN6=\"\",\"\",IF(LEN(VLOOKUP(AN6,Sifranti!BY:BZ,2,FALSE))=0,\"\",VLOOKUP(AN6,Sifranti!BY:BZ,2,FALSE)))","v":""},{"$f":"IF(C6=\"\",\"\",VLOOKUP(C6,Sifranti!P:R,2,FALSE))","v":""},"","",{"$f":"IF(C6=\"\",\"\",VLOOKUP(C6,Sifranti!P:R,3,FALSE))","v":""},{"$f":"IF(N6=\"\",\"\",VLOOKUP(N6,Sifranti!D:F,2,FALSE))","v":""},{"$f":"IF(AK6=\"\",\"\",VLOOKUP(AK6,Sifranti!V:Y,2,FALSE))","v":""},{"$f":"IF(AK6=\"\",\"\",IF(VLOOKUP(AK6,Sifranti!V:Y,3,FALSE)=\"\",\"\",VLOOKUP(AK6,Sifranti!V:Y,3,FALSE)))","v":""},{"$f":"IF(AK6=\"\",\"\",VLOOKUP(AK6,Sifranti!V:Y,4,FALSE))","v":""}]
[{"$f":"IF(B7=\"\",\"\",VLOOKUP(B7,Sifranti!K:L,2,FALSE))","v":""},null,null,null,null,null,null,null,null,"",{"$f":"IF(L7=\"\",\"\",VLOOKUP(L7,Sifranti!A:B,2,FALSE))","v":""},null,{"$f":"IF(N7=\"\",\"\",VLOOKUP(N7,Sifranti!D:F,3,FALSE))","v":""},null,{"$f":"IF(P7=\"\",\"\",VLOOKUP(P7,Sifranti!H:I,2,FALSE))","v":""},null,null,null,null,null,null,null,null,null,null,null,null,null,null,null,null,null,null,null,null,null,null,null,null,null,{"$f":"IF(AN7=\"\",\"\",IF(LEN(VLOOKUP(AN7,Sifranti!BY:BZ,2,FALSE))=0,\"\",VLOOKUP(AN7,Sifranti!BY:BZ,2,FALSE)))","v":""},{"$f":"IF(C7=\"\",\"\",VLOOKUP(C7,Sifranti!P:R,2,FALSE))","v":""},"","",{"$f":"IF(C7=\"\",\"\",VLOOKUP(C7,Sifranti!P:R,3,FALSE))","v":""},{"$f":"IF(N7=\"\",\"\",VLOOKUP(N7,Sifranti!D:F,2,FALSE))","v":""},{"$f":"IF(AK7=\"\",\"\",VLOOKUP(AK7,Sifranti!V:Y,2,FALSE))","v":""},{"$f":"IF(AK7=\"\",\"\",IF(VLOOKUP(AK7,Sifranti!V:Y,3,FALSE)=\"\",\"\",VLOOKUP(AK7,Sifranti!V:Y,3,FALSE)))","v":""},{"$f":"IF(AK7=\"\",\"\",VLOOKUP(AK7,Sifranti!V:Y,4,FALSE))","v":""}]
[{"$f":"IF(B8=\"\",\"\",VLOOKUP(B8,Sifranti!K:L,2,FALSE))","v":""},null,null,null,null,null,null,null,null,"",{"$f":"IF(L8=\"\",\"\",VLOOKUP(L8,Sifranti!A:B,2,FALSE))","v":""},null,{"$f":"IF(N8=\"\",\"\",VLOOKUP(N8,Sifranti!D:F,3,FALSE))","v":""},null,{"$f":"IF(P8=\"\",\"\",VLOOKUP(P8,Sifranti!H:I,2,FALSE))","v":""},null,null,null,null,null,null,null,null,null,null,null,null,null,null,null,null,null,null,null,null,null,null,null,null,null,{"$f":"IF(AN8=\"\",\"\",IF(LEN(VLOOKUP(AN8,Sifranti!BY:BZ,2,FALSE))=0,\"\",VLOOKUP(AN8,Sifranti!BY:BZ,2,FALSE)))","v":""},{"$f":"IF(C8=\"\",\"\",VLOOKUP(C8,Sifranti!P:R,2,FALSE))","v":""},"","",{"$f":"IF(C8=\"\",\"\",VLOOKUP(C8,Sifranti!P:R,3,FALSE))","v":""},{"$f":"IF(N8=\"\",\"\",VLOOKUP(N8,Sifranti!D:F,2,FALSE))","v":""},{"$f":"IF(AK8=\"\",\"\",VLOOKUP(AK8,Sifranti!V:Y,2,FALSE))","v":""},{"$f":"IF(AK8=\"\",\"\",IF(VLOOKUP(AK8,Sifranti!V:Y,3,FALSE)=\"\",\"\",VLOOKUP(AK8,Sifranti!V:Y,3,FALSE)))","v":""},{"$f":"IF(AK8=\"\",\"\",VLOOKUP(AK8,Sifranti!V:Y,4,FALSE))","v":""}]
[{"$f":"IF(B9=\"\",\"\",VLOOKUP(B9,Sifranti!K:L,2,FALSE))","v":""},null,null,null,null,null,null,null,null,"",{"$f":"IF(L9=\"\",\"\",VLOOKUP(L9,Sifranti!A:B,2,FALSE))","v":""},null,{"$f":"IF(N9=\"\",\"\",VLOOKUP(N9,Sifranti!D:F,3,FALSE))","v":""},null,{"$f":"IF(P9=\"\",\"\",VLOOKUP(P9,Sifranti!H:I,2,FALSE))","v":""},null,null,null,null,null,null,null,null,null,null,null,null,null,null,null,null,null,null,null,null,null,null,null,null,null,{"$f":"IF(AN9=\"\",\"\",IF(LEN(VLOOKUP(AN9,Sifranti!BY:BZ,2,FALSE))=0,\"\",VLOOKUP(AN9,Sifranti!BY:BZ,2,FALSE)))","v":""},{"$f":"IF(C9=\"\",\"\",VLOOKUP(C9,Sifranti!P:R,2,FALSE))","v":""},"","",{"$f":"IF(C9=\"\",\"\",VLOOKUP(C9,Sifranti!P:R,3,FALSE))","v":""},{"$f":"IF(N9=\"\",\"\",VLOOKUP(N9,Sifranti!D:F,2,FALSE))","v":""},{"$f":"IF(AK9=\"\",\"\",VLOOKUP(AK9,Sifranti!V:Y,2,FALSE))","v":""},{"$f":"IF(AK9=\"\",\"\",IF(VLOOKUP(AK9,Sifranti!V:Y,3,FALSE)=\"\",\"\",VLOOKUP(AK9,Sifranti!V:Y,3,FALSE)))","v":""},{"$f":"IF(AK9=\"\",\"\",VLOOKUP(AK9,Sifranti!V:Y,4,FALSE))","v":""}]
[{"$f":"IF(B10=\"\",\"\",VLOOKUP(B10,Sifranti!K:L,2,FALSE))","v":""},null,null,null,null,null,null,null,null,"",{"$f":"IF(L10=\"\",\"\",VLOOKUP(L10,Sifranti!A:B,2,FALSE))","v":""},null,{"$f":"IF(N10=\"\",\"\",VLOOKUP(N10,Sifranti!D:F,3,FALSE))","v":""},null,{"$f":"IF(P10=\"\",\"\",VLOOKUP(P10,Sifranti!H:I,2,FALSE))","v":""},null,null,null,null,null,null,null,null,null,null,null,null,null,null,null,null,null,null,null,null,null,null,null,null,null,{"$f":"IF(AN10=\"\",\"\",IF(LEN(VLOOKUP(AN10,Sifranti!BY:BZ,2,FALSE))=0,\"\",VLOOKUP(AN10,Sifranti!BY:BZ,2,FALSE)))","v":""},{"$f":"IF(C10=\"\",\"\",VLOOKUP(C10,Sifranti!P:R,2,FALSE))","v":""},"","",{"$f":"IF(C10=\"\",\"\",VLOOKUP(C10,Sifranti!P:R,3,FALSE))","v":""},{"$f":"IF(N10=\"\",\"\",VLOOKUP(N10,Sifranti!D:F,2,FALSE))","v":""},{"$f":"IF(AK10=\"\",\"\",VLOOKUP(AK10,Sifranti!V:Y,2,FALSE))","v":""},{"$f":"IF(AK10=\"\",\"\",IF(VLOOKUP(AK10,Sifranti!V:Y,3,FALSE)=\"\",\"\",VLOOKUP(AK10,Sifranti!V:Y,3,FALSE)))","v":""},{"$f":"IF(AK10=\"\",\"\",VLOOKUP(AK10,Sifranti!V:Y,4,FALSE))","v":""}]
[{"$f":"IF(B11=\"\",\"\",VLOOKUP(B11,Sifranti!K:L,2,FALSE))","v":""},null,null,null,null,null,null,null,null,"",{"$f":"IF(L11=\"\",\"\",VLOOKUP(L11,Sifranti!A:B,2,FALSE))","v":""},null,{"$f":"IF(N11=\"\",\"\",VLOOKUP(N11,Sifranti!D:F,3,FALSE))","v":""},null,{"$f":"IF(P11=\"\",\"\",VLOOKUP(P11,Sifranti!H:I,2,FALSE))","v":""},null,null,null,null,null,null,null,null,null,null,null,null,null,null,null,null,null,null,null,null,null,null,null,null,null,{"$f":"IF(AN11=\"\",\"\",IF(LEN(VLOOKUP(AN11,Sifranti!BY:BZ,2,FALSE))=0,\"\",VLOOKUP(AN11,Sifranti!BY:BZ,2,FALSE)))","v":""},{"$f":"IF(C11=\"\",\"\",VLOOKUP(C11,Sifranti!P:R,2,FALSE))","v":""},"","",{"$f":"IF(C11=\"\",\"\",VLOOKUP(C11,Sifranti!P:R,3,FALSE))","v":""},{"$f":"IF(N11=\"\",\"\",VLOOKUP(N11,Sifranti!D:F,2,FALSE))","v":""},{"$f":"IF(AK11=\"\",\"\",VLOOKUP(AK11,Sifranti!V:Y,2,FALSE))","v":""},{"$f":"IF(AK11=\"\",\"\",IF(VLOOKUP(AK11,Sifranti!V:Y,3,FALSE)=\"\",\"\",VLOOKUP(AK11,Sifranti!V:Y,3,FALSE)))","v":""},{"$f":"IF(AK11=\"\",\"\",VLOOKUP(AK11,Sifranti!V:Y,4,FALSE))","v":""}]
[{"$f":"IF(B12=\"\",\"\",VLOOKUP(B12,Sifranti!K:L,2,FALSE))","v":""},null,null,null,null,null,null,null,null,"",{"$f":"IF(L12=\"\",\"\",VLOOKUP(L12,Sifranti!A:B,2,FALSE))","v":""},null,{"$f":"IF(N12=\"\",\"\",VLOOKUP(N12,Sifranti!D:F,3,FALSE))","v":""},null,{"$f":"IF(P12=\"\",\"\",VLOOKUP(P12,Sifranti!H:I,2,FALSE))","v":""},null,null,null,null,null,null,null,null,null,null,null,null,null,null,null,null,null,null,null,null,null,null,null,null,null,{"$f":"IF(AN12=\"\",\"\",IF(LEN(VLOOKUP(AN12,Sifranti!BY:BZ,2,FALSE))=0,\"\",VLOOKUP(AN12,Sifranti!BY:BZ,2,FALSE)))","v":""},{"$f":"IF(C12=\"\",\"\",VLOOKUP(C12,Sifranti!P:R,2,FALSE))","v":""},"","",{"$f":"IF(C12=\"\",\"\",VLOOKUP(C12,Sifranti!P:R,3,FALSE))","v":""},{"$f":"IF(N12=\"\",\"\",VLOOKUP(N12,Sifranti!D:F,2,FALSE))","v":""},{"$f":"IF(AK12=\"\",\"\",VLOOKUP(AK12,Sifranti!V:Y,2,FALSE))","v":""},{"$f":"IF(AK12=\"\",\"\",IF(VLOOKUP(AK12,Sifranti!V:Y,3,FALSE)=\"\",\"\",VLOOKUP(AK12,Sifranti!V:Y,3,FALSE)))","v":""},{"$f":"IF(AK12=\"\",\"\",VLOOKUP(AK12,Sifranti!V:Y,4,FALSE))","v":""}]
[{"$f":"IF(B13=\"\",\"\",VLOOKUP(B13,Sifranti!K:L,2,FALSE))","v":""},null,null,null,null,null,null,null,null,"",{"$f":"IF(L13=\"\",\"\",VLOOKUP(L13,Sifranti!A:B,2,FALSE))","v":""},null,{"$f":"IF(N13=\"\",\"\",VLOOKUP(N13,Sifranti!D:F,3,FALSE))","v":""},null,{"$f":"IF(P13=\"\",\"\",VLOOKUP(P13,Sifranti!H:I,2,FALSE))","v":""},null,null,null,null,null,null,null,null,null,null,null,null,null,null,null,null,null,null,null,null,null,null,null,null,null,{"$f":"IF(AN13=\"\",\"\",IF(LEN(VLOOKUP(AN13,Sifranti!BY:BZ,2,FALSE))=0,\"\",VLOOKUP(AN13,Sifranti!BY:BZ,2,FALSE)))","v":""},{"$f":"IF(C13=\"\",\"\",VLOOKUP(C13,Sifranti!P:R,2,FALSE))","v":""},"","",{"$f":"IF(C13=\"\",\"\",VLOOKUP(C13,Sifranti!P:R,3,FALSE))","v":""},{"$f":"IF(N13=\"\",\"\",VLOOKUP(N13,Sifranti!D:F,2,FALSE))","v":""},{"$f":"IF(AK13=\"\",\"\",VLOOKUP(AK13,Sifranti!V:Y,2,FALSE))","v":""},{"$f":"IF(AK13=\"\",\"\",IF(VLOOKUP(AK13,Sifranti!V:Y,3,FALSE)=\"\",\"\",VLOOKUP(AK13,Sifranti!V:Y,3,FALSE)))","v":""},{"$f":"IF(AK13=\"\",\"\",VLOOKUP(AK13,Sifranti!V:Y,4,FALSE))","v":""},null,null,null,"Legenda"]
[{"$f":"IF(B14=\"\",\"\",VLOOKUP(B14,Sifranti!K:L,2,FALSE))","v":""},null,null,null,null,null,null,null,null,"",{"$f":"IF(L14=\"\",\"\",VLOOKUP(L14,Sifranti!A:B,2,FALSE))","v":""},null,{"$f":"IF(N14=\"\",\"\",VLOOKUP(N14,Sifranti!D:F,3,FALSE))","v":""},null,{"$f":"IF(P14=\"\",\"\",VLOOKUP(P14,Sifranti!H:I,2,FALSE))","v":""},null,null,null,null,null,null,null,null,null,null,null,null,null,null,null,null,null,null,null,null,null,null,null,null,null,{"$f":"IF(AN14=\"\",\"\",IF(LEN(VLOOKUP(AN14,Sifranti!BY:BZ,2,FALSE))=0,\"\",VLOOKUP(AN14,Sifranti!BY:BZ,2,FALSE)))","v":""},{"$f":"IF(C14=\"\",\"\",VLOOKUP(C14,Sifranti!P:R,2,FALSE))","v":""},"","",{"$f":"IF(C14=\"\",\"\",VLOOKUP(C14,Sifranti!P:R,3,FALSE))","v":""},{"$f":"IF(N14=\"\",\"\",VLOOKUP(N14,Sifranti!D:F,2,FALSE))","v":""},{"$f":"IF(AK14=\"\",\"\",VLOOKUP(AK14,Sifranti!V:Y,2,FALSE))","v":""},{"$f":"IF(AK14=\"\",\"\",IF(VLOOKUP(AK14,Sifranti!V:Y,3,FALSE)=\"\",\"\",VLOOKUP(AK14,Sifranti!V:Y,3,FALSE)))","v":""},{"$f":"IF(AK14=\"\",\"\",VLOOKUP(AK14,Sifranti!V:Y,4,FALSE))","v":""},null,null,null,null,"Zahtevajo pozornost"]
[{"$f":"IF(B15=\"\",\"\",VLOOKUP(B15,Sifranti!K:L,2,FALSE))","v":""},null,null,null,null,null,null,null,null,"",{"$f":"IF(L15=\"\",\"\",VLOOKUP(L15,Sifranti!A:B,2,FALSE))","v":""},null,{"$f":"IF(N15=\"\",\"\",VLOOKUP(N15,Sifranti!D:F,3,FALSE))","v":""},null,{"$f":"IF(P15=\"\",\"\",VLOOKUP(P15,Sifranti!H:I,2,FALSE))","v":""},null,null,null,null,null,null,null,null,null,null,null,null,null,null,null,null,null,null,null,null,null,null,null,null,null,{"$f":"IF(AN15=\"\",\"\",IF(LEN(VLOOKUP(AN15,Sifranti!BY:BZ,2,FALSE))=0,\"\",VLOOKUP(AN15,Sifranti!BY:BZ,2,FALSE)))","v":""},{"$f":"IF(C15=\"\",\"\",VLOOKUP(C15,Sifranti!P:R,2,FALSE))","v":""},"","",{"$f":"IF(C15=\"\",\"\",VLOOKUP(C15,Sifranti!P:R,3,FALSE))","v":""},{"$f":"IF(N15=\"\",\"\",VLOOKUP(N15,Sifranti!D:F,2,FALSE))","v":""},{"$f":"IF(AK15=\"\",\"\",VLOOKUP(AK15,Sifranti!V:Y,2,FALSE))","v":""},{"$f":"IF(AK15=\"\",\"\",IF(VLOOKUP(AK15,Sifranti!V:Y,3,FALSE)=\"\",\"\",VLOOKUP(AK15,Sifranti!V:Y,3,FALSE)))","v":""},{"$f":"IF(AK15=\"\",\"\",VLOOKUP(AK15,Sifranti!V:Y,4,FALSE))","v":""},null,null,null,null,"Ni v skladu s predpisi"]
[{"$f":"IF(B16=\"\",\"\",VLOOKUP(B16,Sifranti!K:L,2,FALSE))","v":""},null,null,null,null,null,null,null,null,"",{"$f":"IF(L16=\"\",\"\",VLOOKUP(L16,Sifranti!A:B,2,FALSE))","v":""},null,{"$f":"IF(N16=\"\",\"\",VLOOKUP(N16,Sifranti!D:F,3,FALSE))","v":""},null,{"$f":"IF(P16=\"\",\"\",VLOOKUP(P16,Sifranti!H:I,2,FALSE))","v":""},null,null,null,null,null,null,null,null,null,null,null,null,null,null,null,null,null,null,null,null,null,null,null,null,null,{"$f":"IF(AN16=\"\",\"\",IF(LEN(VLOOKUP(AN16,Sifranti!BY:BZ,2,FALSE))=0,\"\",VLOOKUP(AN16,Sifranti!BY:BZ,2,FALSE)))","v":""},{"$f":"IF(C16=\"\",\"\",VLOOKUP(C16,Sifranti!P:R,2,FALSE))","v":""},"","",{"$f":"IF(C16=\"\",\"\",VLOOKUP(C16,Sifranti!P:R,3,FALSE))","v":""},{"$f":"IF(N16=\"\",\"\",VLOOKUP(N16,Sifranti!D:F,2,FALSE))","v":""},{"$f":"IF(AK16=\"\",\"\",VLOOKUP(AK16,Sifranti!V:Y,2,FALSE))","v":""},{"$f":"IF(AK16=\"\",\"\",IF(VLOOKUP(AK16,Sifranti!V:Y,3,FALSE)=\"\",\"\",VLOOKUP(AK16,Sifranti!V:Y,3,FALSE)))","v":""},{"$f":"IF(AK16=\"\",\"\",VLOOKUP(AK16,Sifranti!V:Y,4,FALSE))","v":""}]
[{"$f":"IF(B17=\"\",\"\",VLOOKUP(B17,Sifranti!K:L,2,FALSE))","v":""},null,null,null,null,null,null,null,null,"",{"$f":"IF(L17=\"\",\"\",VLOOKUP(L17,Sifranti!A:B,2,FALSE))","v":""},null,{"$f":"IF(N17=\"\",\"\",VLOOKUP(N17,Sifranti!D:F,3,FALSE))","v":""},null,{"$f":"IF(P17=\"\",\"\",VLOOKUP(P17,Sifranti!H:I,2,FALSE))","v":""},null,null,null,null,null,null,null,null,null,null,null,null,null,null,null,null,null,null,null,null,null,null,null,null,null,{"$f":"IF(AN17=\"\",\"\",IF(LEN(VLOOKUP(AN17,Sifranti!BY:BZ,2,FALSE))=0,\"\",VLOOKUP(AN17,Sifranti!BY:BZ,2,FALSE)))","v":""},{"$f":"IF(C17=\"\",\"\",VLOOKUP(C17,Sifranti!P:R,2,FALSE))","v":""},"","",{"$f":"IF(C17=\"\",\"\",VLOOKUP(C17,Sifranti!P:R,3,FALSE))","v":""},{"$f":"IF(N17=\"\",\"\",VLOOKUP(N17,Sifranti!D:F,2,FALSE))","v":""},{"$f":"IF(AK17=\"\",\"\",VLOOKUP(AK17,Sifranti!V:Y,2,FALSE))","v":""},{"$f":"IF(AK17=\"\",\"\",IF(VLOOKUP(AK17,Sifranti!V:Y,3,FALSE)=\"\",\"\",VLOOKUP(AK17,Sifranti!V:Y,3,FALSE)))","v":""},{"$f":"IF(AK17=\"\",\"\",VLOOKUP(AK17,Sifranti!V:Y,4,FALSE))","v":""}]
[{"$f":"IF(B18=\"\",\"\",VLOOKUP(B18,Sifranti!K:L,2,FALSE))","v":""},null,null,null,null,null,null,null,null,"",{"$f":"IF(L18=\"\",\"\",VLOOKUP(L18,Sifranti!A:B,2,FALSE))","v":""},null,{"$f":"IF(N18=\"\",\"\",VLOOKUP(N18,Sifranti!D:F,3,FALSE))","v":""},null,{"$f":"IF(P18=\"\",\"\",VLOOKUP(P18,Sifranti!H:I,2,FALSE))","v":""},null,null,null,null,null,null,null,null,null,null,null,null,null,null,null,null,null,null,null,null,null,null,null,null,null,{"$f":"IF(AN18=\"\",\"\",IF(LEN(VLOOKUP(AN18,Sifranti!BY:BZ,2,FALSE))=0,\"\",VLOOKUP(AN18,Sifranti!BY:BZ,2,FALSE)))","v":""},{"$f":"IF(C18=\"\",\"\",VLOOKUP(C18,Sifranti!P:R,2,FALSE))","v":""},"","",{"$f":"IF(C18=\"\",\"\",VLOOKUP(C18,Sifranti!P:R,3,FALSE))","v":""},{"$f":"IF(N18=\"\",\"\",VLOOKUP(N18,Sifranti!D:F,2,FALSE))","v":""},{"$f":"IF(AK18=\"\",\"\",VLOOKUP(AK18,Sifranti!V:Y,2,FALSE))","v":""},{"$f":"IF(AK18=\"\",\"\",IF(VLOOKUP(AK18,Sifranti!V:Y,3,FALSE)=\"\",\"\",VLOOKUP(AK18,Sifranti!V:Y,3,FALSE)))","v":""},{"$f":"IF(AK18=\"\",\"\",VLOOKUP(AK18,Sifranti!V:Y,4,FALSE))","v":""}]
[{"$f":"IF(B19=\"\",\"\",VLOOKUP(B19,Sifranti!K:L,2,FALSE))","v":""},null,null,null,null,null,null,null,null,"",{"$f":"IF(L19=\"\",\"\",VLOOKUP(L19,Sifranti!A:B,2,FALSE))","v":""},null,{"$f":"IF(N19=\"\",\"\",VLOOKUP(N19,Sifranti!D:F,3,FALSE))","v":""},null,{"$f":"IF(P19=\"\",\"\",VLOOKUP(P19,Sifranti!H:I,2,FALSE))","v":""},null,null,null,null,null,null,null,null,null,null,null,null,null,null,null,null,null,null,null,null,null,null,null,null,null,{"$f":"IF(AN19=\"\",\"\",IF(LEN(VLOOKUP(AN19,Sifranti!BY:BZ,2,FALSE))=0,\"\",VLOOKUP(AN19,Sifranti!BY:BZ,2,FALSE)))","v":""},{"$f":"IF(C19=\"\",\"\",VLOOKUP(C19,Sifranti!P:R,2,FALSE))","v":""},"","",{"$f":"IF(C19=\"\",\"\",VLOOKUP(C19,Sifranti!P:R,3,FALSE))","v":""},{"$f":"IF(N19=\"\",\"\",VLOOKUP(N19,Sifranti!D:F,2,FALSE))","v":""},{"$f":"IF(AK19=\"\",\"\",VLOOKUP(AK19,Sifranti!V:Y,2,FALSE))","v":""},{"$f":"IF(AK19=\"\",\"\",IF(VLOOKUP(AK19,Sifranti!V:Y,3,FALSE)=\"\",\"\",VLOOKUP(AK19,Sifranti!V:Y,3,FALSE)))","v":""},{"$f":"IF(AK19=\"\",\"\",VLOOKUP(AK19,Sifranti!V:Y,4,FALSE))","v":""}]
[{"$f":"IF(B20=\"\",\"\",VLOOKUP(B20,Sifranti!K:L,2,FALSE))","v":""},null,null,null,null,null,null,null,null,"",{"$f":"IF(L20=\"\",\"\",VLOOKUP(L20,Sifranti!A:B,2,FALSE))","v":""},null,{"$f":"IF(N20=\"\",\"\",VLOOKUP(N20,Sifranti!D:F,3,FALSE))","v":""},null,{"$f":"IF(P20=\"\",\"\",VLOOKUP(P20,Sifranti!H:I,2,FALSE))","v":""},null,null,null,null,null,null,null,null,null,null,null,null,null,null,null,null,null,null,null,null,null,null,null,null,null,{"$f":"IF(AN20=\"\",\"\",IF(LEN(VLOOKUP(AN20,Sifranti!BY:BZ,2,FALSE))=0,\"\",VLOOKUP(AN20,Sifranti!BY:BZ,2,FALSE)))","v":""},{"$f":"IF(C20=\"\",\"\",VLOOKUP(C20,Sifranti!P:R,2,FALSE))","v":""},"","",{"$f":"IF(C20=\"\",\"\",VLOOKUP(C20,Sifranti!P:R,3,FALSE))","v":""},{"$f":"IF(N20=\"\",\"\",VLOOKUP(N20,Sifranti!D:F,2,FALSE))","v":""},{"$f":"IF(AK20=\"\",\"\",VLOOKUP(AK20,Sifranti!V:Y,2,FALSE))","v":""},{"$f":"IF(AK20=\"\",\"\",IF(VLOOKUP(AK20,Sifranti!V:Y,3,FALSE)=\"\",\"\",VLOOKUP(AK20,Sifranti!V:Y,3,FALSE)))","v":""},{"$f":"IF(AK20=\"\",\"\",VLOOKUP(AK20,Sifranti!V:Y,4,FALSE))","v":""}]
[{"$f":"IF(B21=\"\",\"\",VLOOKUP(B21,Sifranti!K:L,2,FALSE))","v":""},null,null,null,null,null,null,null,null,"",{"$f":"IF(L21=\"\",\"\",VLOOKUP(L21,Sifranti!A:B,2,FALSE))","v":""},null,{"$f":"IF(N21=\"\",\"\",VLOOKUP(N21,Sifranti!D:F,3,FALSE))","v":""},null,{"$f":"IF(P21=\"\",\"\",VLOOKUP(P21,Sifranti!H:I,2,FALSE))","v":""},null,null,null,null,null,null,null,null,null,null,null,null,null,null,null,null,null,null,null,null,null,null,null,null,null,{"$f":"IF(AN21=\"\",\"\",IF(LEN(VLOOKUP(AN21,Sifranti!BY:BZ,2,FALSE))=0,\"\",VLOOKUP(AN21,Sifranti!BY:BZ,2,FALSE)))","v":""},{"$f":"IF(C21=\"\",\"\",VLOOKUP(C21,Sifranti!P:R,2,FALSE))","v":""},"","",{"$f":"IF(C21=\"\",\"\",VLOOKUP(C21,Sifranti!P:R,3,FALSE))","v":""},{"$f":"IF(N21=\"\",\"\",VLOOKUP(N21,Sifranti!D:F,2,FALSE))","v":""},{"$f":"IF(AK21=\"\",\"\",VLOOKUP(AK21,Sifranti!V:Y,2,FALSE))","v":""},{"$f":"IF(AK21=\"\",\"\",IF(VLOOKUP(AK21,Sifranti!V:Y,3,FALSE)=\"\",\"\",VLOOKUP(AK21,Sifranti!V:Y,3,FALSE)))","v":""},{"$f":"IF(AK21=\"\",\"\",VLOOKUP(AK21,Sifranti!V:Y,4,FALSE))","v":""}]
[{"$f":"IF(B22=\"\",\"\",VLOOKUP(B22,Sifranti!K:L,2,FALSE))","v":""},null,null,null,null,null,null,null,null,"",{"$f":"IF(L22=\"\",\"\",VLOOKUP(L22,Sifranti!A:B,2,FALSE))","v":""},null,{"$f":"IF(N22=\"\",\"\",VLOOKUP(N22,Sifranti!D:F,3,FALSE))","v":""},null,{"$f":"IF(P22=\"\",\"\",VLOOKUP(P22,Sifranti!H:I,2,FALSE))","v":""},null,null,null,null,null,null,null,null,null,null,null,null,null,null,null,null,null,null,null,null,null,null,null,null,null,{"$f":"IF(AN22=\"\",\"\",IF(LEN(VLOOKUP(AN22,Sifranti!BY:BZ,2,FALSE))=0,\"\",VLOOKUP(AN22,Sifranti!BY:BZ,2,FALSE)))","v":""},{"$f":"IF(C22=\"\",\"\",VLOOKUP(C22,Sifranti!P:R,2,FALSE))","v":""},"","",{"$f":"IF(C22=\"\",\"\",VLOOKUP(C22,Sifranti!P:R,3,FALSE))","v":""},{"$f":"IF(N22=\"\",\"\",VLOOKUP(N22,Sifranti!D:F,2,FALSE))","v":""},{"$f":"IF(AK22=\"\",\"\",VLOOKUP(AK22,Sifranti!V:Y,2,FALSE))","v":""},{"$f":"IF(AK22=\"\",\"\",IF(VLOOKUP(AK22,Sifranti!V:Y,3,FALSE)=\"\",\"\",VLOOKUP(AK22,Sifranti!V:Y,3,FALSE)))","v":""},{"$f":"IF(AK22=\"\",\"\",VLOOKUP(AK22,Sifranti!V:Y,4,FALSE))","v":""}]
[{"$f":"IF(B23=\"\",\"\",VLOOKUP(B23,Sifranti!K:L,2,FALSE))","v":""},null,null,null,null,null,null,null,null,"",{"$f":"IF(L23=\"\",\"\",VLOOKUP(L23,Sifranti!A:B,2,FALSE))","v":""},null,{"$f":"IF(N23=\"\",\"\",VLOOKUP(N23,Sifranti!D:F,3,FALSE))","v":""},null,{"$f":"IF(P23=\"\",\"\",VLOOKUP(P23,Sifranti!H:I,2,FALSE))","v":""},null,null,null,null,null,null,null,null,null,null,null,null,null,null,null,null,null,null,null,null,null,null,null,null,null,{"$f":"IF(AN23=\"\",\"\",IF(LEN(VLOOKUP(AN23,Sifranti!BY:BZ,2,FALSE))=0,\"\",VLOOKUP(AN23,Sifranti!BY:BZ,2,FALSE)))","v":""},{"$f":"IF(C23=\"\",\"\",VLOOKUP(C23,Sifranti!P:R,2,FALSE))","v":""},"","",{"$f":"IF(C23=\"\",\"\",VLOOKUP(C23,Sifranti!P:R,3,FALSE))","v":""},{"$f":"IF(N23=\"\",\"\",VLOOKUP(N23,Sifranti!D:F,2,FALSE))","v":""},{"$f":"IF(AK23=\"\",\"\",VLOOKUP(AK23,Sifranti!V:Y,2,FALSE))","v":""},{"$f":"IF(AK23=\"\",\"\",IF(VLOOKUP(AK23,Sifranti!V:Y,3,FALSE)=\"\",\"\",VLOOKUP(AK23,Sifranti!V:Y,3,FALSE)))","v":""},{"$f":"IF(AK23=\"\",\"\",VLOOKUP(AK23,Sifranti!V:Y,4,FALSE))","v":""}]
[{"$f":"IF(B24=\"\",\"\",VLOOKUP(B24,Sifranti!K:L,2,FALSE))","v":""},null,null,null,null,null,null,null,null,"",{"$f":"IF(L24=\"\",\"\",VLOOKUP(L24,Sifranti!A:B,2,FALSE))","v":""},null,{"$f":"IF(N24=\"\",\"\",VLOOKUP(N24,Sifranti!D:F,3,FALSE))","v":""},null,{"$f":"IF(P24=\"\",\"\",VLOOKUP(P24,Sifranti!H:I,2,FALSE))","v":""},null,null,null,null,null,null,null,null,null,null,null,null,null,null,null,null,null,null,null,null,null,null,null,null,null,{"$f":"IF(AN24=\"\",\"\",IF(LEN(VLOOKUP(AN24,Sifranti!BY:BZ,2,FALSE))=0,\"\",VLOOKUP(AN24,Sifranti!BY:BZ,2,FALSE)))","v":""},{"$f":"IF(C24=\"\",\"\",VLOOKUP(C24,Sifranti!P:R,2,FALSE))","v":""},"","",{"$f":"IF(C24=\"\",\"\",VLOOKUP(C24,Sifranti!P:R,3,FALSE))","v":""},{"$f":"IF(N24=\"\",\"\",VLOOKUP(N24,Sifranti!D:F,2,FALSE))","v":""},{"$f":"IF(AK24=\"\",\"\",VLOOKUP(AK24,Sifranti!V:Y,2,FALSE))","v":""},{"$f":"IF(AK24=\"\",\"\",IF(VLOOKUP(AK24,Sifranti!V:Y,3,FALSE)=\"\",\"\",VLOOKUP(AK24,Sifranti!V:Y,3,FALSE)))","v":""},{"$f":"IF(AK24=\"\",\"\",VLOOKUP(AK24,Sifranti!V:Y,4,FALSE))","v":""}]
[{"$f":"IF(B25=\"\",\"\",VLOOKUP(B25,Sifranti!K:L,2,FALSE))","v":""},null,null,null,null,null,null,null,null,"",{"$f":"IF(L25=\"\",\"\",VLOOKUP(L25,Sifranti!A:B,2,FALSE))","v":""},null,{"$f":"IF(N25=\"\",\"\",VLOOKUP(N25,Sifranti!D:F,3,FALSE))","v":""},null,{"$f":"IF(P25=\"\",\"\",VLOOKUP(P25,Sifranti!H:I,2,FALSE))","v":""},null,null,null,null,null,null,null,null,null,null,null,null,null,null,null,null,null,null,null,null,null,null,null,null,null,{"$f":"IF(AN25=\"\",\"\",IF(LEN(VLOOKUP(AN25,Sifranti!BY:BZ,2,FALSE))=0,\"\",VLOOKUP(AN25,Sifranti!BY:BZ,2,FALSE)))","v":""},{"$f":"IF(C25=\"\",\"\",VLOOKUP(C25,Sifranti!P:R,2,FALSE))","v":""},"","",{"$f":"IF(C25=\"\",\"\",VLOOKUP(C25,Sifranti!P:R,3,FALSE))","v":""},{"$f":"IF(N25=\"\",\"\",VLOOKUP(N25,Sifranti!D:F,2,FALSE))","v":""},{"$f":"IF(AK25=\"\",\"\",VLOOKUP(AK25,Sifranti!V:Y,2,FALSE))","v":""},{"$f":"IF(AK25=\"\",\"\",IF(VLOOKUP(AK25,Sifranti!V:Y,3,FALSE)=\"\",\"\",VLOOKUP(AK25,Sifranti!V:Y,3,FALSE)))","v":""},{"$f":"IF(AK25=\"\",\"\",VLOOKUP(AK25,Sifranti!V:Y,4,FALSE))","v":""}]
[{"$f":"IF(B26=\"\",\"\",VLOOKUP(B26,Sifranti!K:L,2,FALSE))","v":""},null,null,null,null,null,null,null,null,"",{"$f":"IF(L26=\"\",\"\",VLOOKUP(L26,Sifranti!A:B,2,FALSE))","v":""},null,{"$f":"IF(N26=\"\",\"\",VLOOKUP(N26,Sifranti!D:F,3,FALSE))","v":""},null,{"$f":"IF(P26=\"\",\"\",VLOOKUP(P26,Sifranti!H:I,2,FALSE))","v":""},null,null,null,null,null,null,null,null,null,null,null,null,null,null,null,null,null,null,null,null,null,null,null,null,null,{"$f":"IF(AN26=\"\",\"\",IF(LEN(VLOOKUP(AN26,Sifranti!BY:BZ,2,FALSE))=0,\"\",VLOOKUP(AN26,Sifranti!BY:BZ,2,FALSE)))","v":""},{"$f":"IF(C26=\"\",\"\",VLOOKUP(C26,Sifranti!P:R,2,FALSE))","v":""},"","",{"$f":"IF(C26=\"\",\"\",VLOOKUP(C26,Sifranti!P:R,3,FALSE))","v":""},{"$f":"IF(N26=\"\",\"\",VLOOKUP(N26,Sifranti!D:F,2,FALSE))","v":""},{"$f":"IF(AK26=\"\",\"\",VLOOKUP(AK26,Sifranti!V:Y,2,FALSE))","v":""},{"$f":"IF(AK26=\"\",\"\",IF(VLOOKUP(AK26,Sifranti!V:Y,3,FALSE)=\"\",\"\",VLOOKUP(AK26,Sifranti!V:Y,3,FALSE)))","v":""},{"$f":"IF(AK26=\"\",\"\",VLOOKUP(AK26,Sifranti!V:Y,4,FALSE))","v":""}]
[{"$f":"IF(B27=\"\",\"\",VLOOKUP(B27,Sifranti!K:L,2,FALSE))","v":""},null,null,null,null,null,null,null,null,"",{"$f":"IF(L27=\"\",\"\",VLOOKUP(L27,Sifranti!A:B,2,FALSE))","v":""},null,{"$f":"IF(N27=\"\",\"\",VLOOKUP(N27,Sifranti!D:F,3,FALSE))","v":""},null,{"$f":"IF(P27=\"\",\"\",VLOOKUP(P27,Sifranti!H:I,2,FALSE))","v":""},null,null,null,null,null,null,null,null,null,null,null,null,null,null,null,null,null,null,null,null,null,null,null,null,null,{"$f":"IF(AN27=\"\",\"\",IF(LEN(VLOOKUP(AN27,Sifranti!BY:BZ,2,FALSE))=0,\"\",VLOOKUP(AN27,Sifranti!BY:BZ,2,FALSE)))","v":""},{"$f":"IF(C27=\"\",\"\",VLOOKUP(C27,Sifranti!P:R,2,FALSE))","v":""},"","",{"$f":"IF(C27=\"\",\"\",VLOOKUP(C27,Sifranti!P:R,3,FALSE))","v":""},{"$f":"IF(N27=\"\",\"\",VLOOKUP(N27,Sifranti!D:F,2,FALSE))","v":""},{"$f":"IF(AK27=\"\",\"\",VLOOKUP(AK27,Sifranti!V:Y,2,FALSE))","v":""},{"$f":"IF(AK27=\"\",\"\",IF(VLOOKUP(AK27,Sifranti!V:Y,3,FALSE)=\"\",\"\",VLOOKUP(AK27,Sifranti!V:Y,3,FALSE)))","v":""},{"$f":"IF(AK27=\"\",\"\",VLOOKUP(AK27,Sifranti!V:Y,4,FALSE))","v":""}]
[{"$f":"IF(B28=\"\",\"\",VLOOKUP(B28,Sifranti!K:L,2,FALSE))","v":""},null,null,null,null,null,null,null,null,"",{"$f":"IF(L28=\"\",\"\",VLOOKUP(L28,Sifranti!A:B,2,FALSE))","v":""},null,{"$f":"IF(N28=\"\",\"\",VLOOKUP(N28,Sifranti!D:F,3,FALSE))","v":""},null,{"$f":"IF(P28=\"\",\"\",VLOOKUP(P28,Sifranti!H:I,2,FALSE))","v":""},null,null,null,null,null,null,null,null,null,null,null,null,null,null,null,null,null,null,null,null,null,null,null,null,null,{"$f":"IF(AN28=\"\",\"\",IF(LEN(VLOOKUP(AN28,Sifranti!BY:BZ,2,FALSE))=0,\"\",VLOOKUP(AN28,Sifranti!BY:BZ,2,FALSE)))","v":""},{"$f":"IF(C28=\"\",\"\",VLOOKUP(C28,Sifranti!P:R,2,FALSE))","v":""},"","",{"$f":"IF(C28=\"\",\"\",VLOOKUP(C28,Sifranti!P:R,3,FALSE))","v":""},{"$f":"IF(N28=\"\",\"\",VLOOKUP(N28,Sifranti!D:F,2,FALSE))","v":""},{"$f":"IF(AK28=\"\",\"\",VLOOKUP(AK28,Sifranti!V:Y,2,FALSE))","v":""},{"$f":"IF(AK28=\"\",\"\",IF(VLOOKUP(AK28,Sifranti!V:Y,3,FALSE)=\"\",\"\",VLOOKUP(AK28,Sifranti!V:Y,3,FALSE)))","v":""},{"$f":"IF(AK28=\"\",\"\",VLOOKUP(AK28,Sifranti!V:Y,4,FALSE))","v":""}]
[{"$f":"IF(B29=\"\",\"\",VLOOKUP(B29,Sifranti!K:L,2,FALSE))","v":""},null,null,null,null,null,null,null,null,"",{"$f":"IF(L29=\"\",\"\",VLOOKUP(L29,Sifranti!A:B,2,FALSE))","v":""},null,{"$f":"IF(N29=\"\",\"\",VLOOKUP(N29,Sifranti!D:F,3,FALSE))","v":""},null,{"$f":"IF(P29=\"\",\"\",VLOOKUP(P29,Sifranti!H:I,2,FALSE))","v":""},null,null,null,null,null,null,null,null,null,null,null,null,null,null,null,null,null,null,null,null,null,null,null,null,null,{"$f":"IF(AN29=\"\",\"\",IF(LEN(VLOOKUP(AN29,Sifranti!BY:BZ,2,FALSE))=0,\"\",VLOOKUP(AN29,Sifranti!BY:BZ,2,FALSE)))","v":""},{"$f":"IF(C29=\"\",\"\",VLOOKUP(C29,Sifranti!P:R,2,FALSE))","v":""},"","",{"$f":"IF(C29=\"\",\"\",VLOOKUP(C29,Sifranti!P:R,3,FALSE))","v":""},{"$f":"IF(N29=\"\",\"\",VLOOKUP(N29,Sifranti!D:F,2,FALSE))","v":""},{"$f":"IF(AK29=\"\",\"\",VLOOKUP(AK29,Sifranti!V:Y,2,FALSE))","v":""},{"$f":"IF(AK29=\"\",\"\",IF(VLOOKUP(AK29,Sifranti!V:Y,3,FALSE)=\"\",\"\",VLOOKUP(AK29,Sifranti!V:Y,3,FALSE)))","v":""},{"$f":"IF(AK29=\"\",\"\",VLOOKUP(AK29,Sifranti!V:Y,4,FALSE))","v":""}]
[{"$f":"IF(B30=\"\",\"\",VLOOKUP(B30,Sifranti!K:L,2,FALSE))","v":""},null,null,null,null,null,null,null,null,"",{"$f":"IF(L30=\"\",\"\",VLOOKUP(L30,Sifranti!A:B,2,FALSE))","v":""},null,{"$f":"IF(N30=\"\",\"\",VLOOKUP(N30,Sifranti!D:F,3,FALSE))","v":""},null,{"$f":"IF(P30=\"\",\"\",VLOOKUP(P30,Sifranti!H:I,2,FALSE))","v":""},null,null,null,null,null,null,null,null,null,null,null,null,null,null,null,null,null,null,null,null,null,null,null,null,null,{"$f":"IF(AN30=\"\",\"\",IF(LEN(VLOOKUP(AN30,Sifranti!BY:BZ,2,FALSE))=0,\"\",VLOOKUP(AN30,Sifranti!BY:BZ,2,FALSE)))","v":""},{"$f":"IF(C30=\"\",\"\",VLOOKUP(C30,Sifranti!P:R,2,FALSE))","v":""},"","",{"$f":"IF(C30=\"\",\"\",VLOOKUP(C30,Sifranti!P:R,3,FALSE))","v":""},{"$f":"IF(N30=\"\",\"\",VLOOKUP(N30,Sifranti!D:F,2,FALSE))","v":""},{"$f":"IF(AK30=\"\",\"\",VLOOKUP(AK30,Sifranti!V:Y,2,FALSE))","v":""},{"$f":"IF(AK30=\"\",\"\",IF(VLOOKUP(AK30,Sifranti!V:Y,3,FALSE)=\"\",\"\",VLOOKUP(AK30,Sifranti!V:Y,3,FALSE)))","v":""},{"$f":"IF(AK30=\"\",\"\",VLOOKUP(AK30,Sifranti!V:Y,4,FALSE))","v":""}]
[{"$f":"IF(B31=\"\",\"\",VLOOKUP(B31,Sifranti!K:L,2,FALSE))","v":""},null,null,null,null,null,null,null,null,"",{"$f":"IF(L31=\"\",\"\",VLOOKUP(L31,Sifranti!A:B,2,FALSE))","v":""},null,{"$f":"IF(N31=\"\",\"\",VLOOKUP(N31,Sifranti!D:F,3,FALSE))","v":""},null,{"$f":"IF(P31=\"\",\"\",VLOOKUP(P31,Sifranti!H:I,2,FALSE))","v":""},null,null,null,null,null,null,null,null,null,null,null,null,null,null,null,null,null,null,null,null,null,null,null,null,null,{"$f":"IF(AN31=\"\",\"\",IF(LEN(VLOOKUP(AN31,Sifranti!BY:BZ,2,FALSE))=0,\"\",VLOOKUP(AN31,Sifranti!BY:BZ,2,FALSE)))","v":""},{"$f":"IF(C31=\"\",\"\",VLOOKUP(C31,Sifranti!P:R,2,FALSE))","v":""},"","",{"$f":"IF(C31=\"\",\"\",VLOOKUP(C31,Sifranti!P:R,3,FALSE))","v":""},{"$f":"IF(N31=\"\",\"\",VLOOKUP(N31,Sifranti!D:F,2,FALSE))","v":""},{"$f":"IF(AK31=\"\",\"\",VLOOKUP(AK31,Sifranti!V:Y,2,FALSE))","v":""},{"$f":"IF(AK31=\"\",\"\",IF(VLOOKUP(AK31,Sifranti!V:Y,3,FALSE)=\"\",\"\",VLOOKUP(AK31,Sifranti!V:Y,3,FALSE)))","v":""},{"$f":"IF(AK31=\"\",\"\",VLOOKUP(AK31,Sifranti!V:Y,4,FALSE))","v":""}]
[{"$f":"IF(B32=\"\",\"\",VLOOKUP(B32,Sifranti!K:L,2,FALSE))","v":""},null,null,null,null,null,null,null,null,"",{"$f":"IF(L32=\"\",\"\",VLOOKUP(L32,Sifranti!A:B,2,FALSE))","v":""},null,{"$f":"IF(N32=\"\",\"\",VLOOKUP(N32,Sifranti!D:F,3,FALSE))","v":""},null,{"$f":"IF(P32=\"\",\"\",VLOOKUP(P32,Sifranti!H:I,2,FALSE))","v":""},null,null,null,null,null,null,null,null,null,null,null,null,null,null,null,null,null,null,null,null,null,null,null,null,null,{"$f":"IF(AN32=\"\",\"\",IF(LEN(VLOOKUP(AN32,Sifranti!BY:BZ,2,FALSE))=0,\"\",VLOOKUP(AN32,Sifranti!BY:BZ,2,FALSE)))","v":""},{"$f":"IF(C32=\"\",\"\",VLOOKUP(C32,Sifranti!P:R,2,FALSE))","v":""},"","",{"$f":"IF(C32=\"\",\"\",VLOOKUP(C32,Sifranti!P:R,3,FALSE))","v":""},{"$f":"IF(N32=\"\",\"\",VLOOKUP(N32,Sifranti!D:F,2,FALSE))","v":""},{"$f":"IF(AK32=\"\",\"\",VLOOKUP(AK32,Sifranti!V:Y,2,FALSE))","v":""},{"$f":"IF(AK32=\"\",\"\",IF(VLOOKUP(AK32,Sifranti!V:Y,3,FALSE)=\"\",\"\",VLOOKUP(AK32,Sifranti!V:Y,3,FALSE)))","v":""},{"$f":"IF(AK32=\"\",\"\",VLOOKUP(AK32,Sifranti!V:Y,4,FALSE))","v":""}]
[{"$f":"IF(B33=\"\",\"\",VLOOKUP(B33,Sifranti!K:L,2,FALSE))","v":""},null,null,null,null,null,null,null,null,"",{"$f":"IF(L33=\"\",\"\",VLOOKUP(L33,Sifranti!A:B,2,FALSE))","v":""},null,{"$f":"IF(N33=\"\",\"\",VLOOKUP(N33,Sifranti!D:F,3,FALSE))","v":""},null,{"$f":"IF(P33=\"\",\"\",VLOOKUP(P33,Sifranti!H:I,2,FALSE))","v":""},null,null,null,null,null,null,null,null,null,null,null,null,null,null,null,null,null,null,null,null,null,null,null,null,null,{"$f":"IF(AN33=\"\",\"\",IF(LEN(VLOOKUP(AN33,Sifranti!BY:BZ,2,FALSE))=0,\"\",VLOOKUP(AN33,Sifranti!BY:BZ,2,FALSE)))","v":""},{"$f":"IF(C33=\"\",\"\",VLOOKUP(C33,Sifranti!P:R,2,FALSE))","v":""},"","",{"$f":"IF(C33=\"\",\"\",VLOOKUP(C33,Sifranti!P:R,3,FALSE))","v":""},{"$f":"IF(N33=\"\",\"\",VLOOKUP(N33,Sifranti!D:F,2,FALSE))","v":""},{"$f":"IF(AK33=\"\",\"\",VLOOKUP(AK33,Sifranti!V:Y,2,FALSE))","v":""},{"$f":"IF(AK33=\"\",\"\",IF(VLOOKUP(AK33,Sifranti!V:Y,3,FALSE)=\"\",\"\",VLOOKUP(AK33,Sifranti!V:Y,3,FALSE)))","v":""},{"$f":"IF(AK33=\"\",\"\",VLOOKUP(AK33,Sifranti!V:Y,4,FALSE))","v":""}]
[{"$f":"IF(B34=\"\",\"\",VLOOKUP(B34,Sifranti!K:L,2,FALSE))","v":""},null,null,null,null,null,null,null,null,"",{"$f":"IF(L34=\"\",\"\",VLOOKUP(L34,Sifranti!A:B,2,FALSE))","v":""},null,{"$f":"IF(N34=\"\",\"\",VLOOKUP(N34,Sifranti!D:F,3,FALSE))","v":""},null,{"$f":"IF(P34=\"\",\"\",VLOOKUP(P34,Sifranti!H:I,2,FALSE))","v":""},null,null,null,null,null,null,null,null,null,null,null,null,null,null,null,null,null,null,null,null,null,null,null,null,null,{"$f":"IF(AN34=\"\",\"\",IF(LEN(VLOOKUP(AN34,Sifranti!BY:BZ,2,FALSE))=0,\"\",VLOOKUP(AN34,Sifranti!BY:BZ,2,FALSE)))","v":""},{"$f":"IF(C34=\"\",\"\",VLOOKUP(C34,Sifranti!P:R,2,FALSE))","v":""},"","",{"$f":"IF(C34=\"\",\"\",VLOOKUP(C34,Sifranti!P:R,3,FALSE))","v":""},{"$f":"IF(N34=\"\",\"\",VLOOKUP(N34,Sifranti!D:F,2,FALSE))","v":""},{"$f":"IF(AK34=\"\",\"\",VLOOKUP(AK34,Sifranti!V:Y,2,FALSE))","v":""},{"$f":"IF(AK34=\"\",\"\",IF(VLOOKUP(AK34,Sifranti!V:Y,3,FALSE)=\"\",\"\",VLOOKUP(AK34,Sifranti!V:Y,3,FALSE)))","v":""},{"$f":"IF(AK34=\"\",\"\",VLOOKUP(AK34,Sifranti!V:Y,4,FALSE))","v":""}]
[{"$f":"IF(B35=\"\",\"\",VLOOKUP(B35,Sifranti!K:L,2,FALSE))","v":""},null,null,null,null,null,null,null,null,"",{"$f":"IF(L35=\"\",\"\",VLOOKUP(L35,Sifranti!A:B,2,FALSE))","v":""},null,{"$f":"IF(N35=\"\",\"\",VLOOKUP(N35,Sifranti!D:F,3,FALSE))","v":""},null,{"$f":"IF(P35=\"\",\"\",VLOOKUP(P35,Sifranti!H:I,2,FALSE))","v":""},null,null,null,null,null,null,null,null,null,null,null,null,null,null,null,null,null,null,null,null,null,null,null,null,null,{"$f":"IF(AN35=\"\",\"\",IF(LEN(VLOOKUP(AN35,Sifranti!BY:BZ,2,FALSE))=0,\"\",VLOOKUP(AN35,Sifranti!BY:BZ,2,FALSE)))","v":""},{"$f":"IF(C35=\"\",\"\",VLOOKUP(C35,Sifranti!P:R,2,FALSE))","v":""},"","",{"$f":"IF(C35=\"\",\"\",VLOOKUP(C35,Sifranti!P:R,3,FALSE))","v":""},{"$f":"IF(N35=\"\",\"\",VLOOKUP(N35,Sifranti!D:F,2,FALSE))","v":""},{"$f":"IF(AK35=\"\",\"\",VLOOKUP(AK35,Sifranti!V:Y,2,FALSE))","v":""},{"$f":"IF(AK35=\"\",\"\",IF(VLOOKUP(AK35,Sifranti!V:Y,3,FALSE)=\"\",\"\",VLOOKUP(AK35,Sifranti!V:Y,3,FALSE)))","v":""},{"$f":"IF(AK35=\"\",\"\",VLOOKUP(AK35,Sifranti!V:Y,4,FALSE))","v":""}]
[{"$f":"IF(B36=\"\",\"\",VLOOKUP(B36,Sifranti!K:L,2,FALSE))","v":""},null,null,null,null,null,null,null,null,"",{"$f":"IF(L36=\"\",\"\",VLOOKUP(L36,Sifranti!A:B,2,FALSE))","v":""},null,{"$f":"IF(N36=\"\",\"\",VLOOKUP(N36,Sifranti!D:F,3,FALSE))","v":""},null,{"$f":"IF(P36=\"\",\"\",VLOOKUP(P36,Sifranti!H:I,2,FALSE))","v":""},null,null,null,null,null,null,null,null,null,null,null,null,null,null,null,null,null,null,null,null,null,null,null,null,null,{"$f":"IF(AN36=\"\",\"\",IF(LEN(VLOOKUP(AN36,Sifranti!BY:BZ,2,FALSE))=0,\"\",VLOOKUP(AN36,Sifranti!BY:BZ,2,FALSE)))","v":""},{"$f":"IF(C36=\"\",\"\",VLOOKUP(C36,Sifranti!P:R,2,FALSE))","v":""},"","",{"$f":"IF(C36=\"\",\"\",VLOOKUP(C36,Sifranti!P:R,3,FALSE))","v":""},{"$f":"IF(N36=\"\",\"\",VLOOKUP(N36,Sifranti!D:F,2,FALSE))","v":""},{"$f":"IF(AK36=\"\",\"\",VLOOKUP(AK36,Sifranti!V:Y,2,FALSE))","v":""},{"$f":"IF(AK36=\"\",\"\",IF(VLOOKUP(AK36,Sifranti!V:Y,3,FALSE)=\"\",\"\",VLOOKUP(AK36,Sifranti!V:Y,3,FALSE)))","v":""},{"$f":"IF(AK36=\"\",\"\",VLOOKUP(AK36,Sifranti!V:Y,4,FALSE))","v":""}]
[{"$f":"IF(B37=\"\",\"\",VLOOKUP(B37,Sifranti!K:L,2,FALSE))","v":""},null,null,null,null,null,null,null,null,"",{"$f":"IF(L37=\"\",\"\",VLOOKUP(L37,Sifranti!A:B,2,FALSE))","v":""},null,{"$f":"IF(N37=\"\",\"\",VLOOKUP(N37,Sifranti!D:F,3,FALSE))","v":""},null,{"$f":"IF(P37=\"\",\"\",VLOOKUP(P37,Sifranti!H:I,2,FALSE))","v":""},null,null,null,null,null,null,null,null,null,null,null,null,null,null,null,null,null,null,null,null,null,null,null,null,null,{"$f":"IF(AN37=\"\",\"\",IF(LEN(VLOOKUP(AN37,Sifranti!BY:BZ,2,FALSE))=0,\"\",VLOOKUP(AN37,Sifranti!BY:BZ,2,FALSE)))","v":""},{"$f":"IF(C37=\"\",\"\",VLOOKUP(C37,Sifranti!P:R,2,FALSE))","v":""},"","",{"$f":"IF(C37=\"\",\"\",VLOOKUP(C37,Sifranti!P:R,3,FALSE))","v":""},{"$f":"IF(N37=\"\",\"\",VLOOKUP(N37,Sifranti!D:F,2,FALSE))","v":""},{"$f":"IF(AK37=\"\",\"\",VLOOKUP(AK37,Sifranti!V:Y,2,FALSE))","v":""},{"$f":"IF(AK37=\"\",\"\",IF(VLOOKUP(AK37,Sifranti!V:Y,3,FALSE)=\"\",\"\",VLOOKUP(AK37,Sifranti!V:Y,3,FALSE)))","v":""},{"$f":"IF(AK37=\"\",\"\",VLOOKUP(AK37,Sifranti!V:Y,4,FALSE))","v":""}]
[{"$f":"IF(B38=\"\",\"\",VLOOKUP(B38,Sifranti!K:L,2,FALSE))","v":""},null,null,null,null,null,null,null,null,"",{"$f":"IF(L38=\"\",\"\",VLOOKUP(L38,Sifranti!A:B,2,FALSE))","v":""},null,{"$f":"IF(N38=\"\",\"\",VLOOKUP(N38,Sifranti!D:F,3,FALSE))","v":""},null,{"$f":"IF(P38=\"\",\"\",VLOOKUP(P38,Sifranti!H:I,2,FALSE))","v":""},null,null,null,null,null,null,null,null,null,null,null,null,null,null,null,null,null,null,null,null,null,null,null,null,null,{"$f":"IF(AN38=\"\",\"\",IF(LEN(VLOOKUP(AN38,Sifranti!BY:BZ,2,FALSE))=0,\"\",VLOOKUP(AN38,Sifranti!BY:BZ,2,FALSE)))","v":""},{"$f":"IF(C38=\"\",\"\",VLOOKUP(C38,Sifranti!P:R,2,FALSE))","v":""},"","",{"$f":"IF(C38=\"\",\"\",VLOOKUP(C38,Sifranti!P:R,3,FALSE))","v":""},{"$f":"IF(N38=\"\",\"\",VLOOKUP(N38,Sifranti!D:F,2,FALSE))","v":""},{"$f":"IF(AK38=\"\",\"\",VLOOKUP(AK38,Sifranti!V:Y,2,FALSE))","v":""},{"$f":"IF(AK38=\"\",\"\",IF(VLOOKUP(AK38,Sifranti!V:Y,3,FALSE)=\"\",\"\",VLOOKUP(AK38,Sifranti!V:Y,3,FALSE)))","v":""},{"$f":"IF(AK38=\"\",\"\",VLOOKUP(AK38,Sifranti!V:Y,4,FALSE))","v":""}]
[{"$f":"IF(B39=\"\",\"\",VLOOKUP(B39,Sifranti!K:L,2,FALSE))","v":""},null,null,null,null,null,null,null,null,"",{"$f":"IF(L39=\"\",\"\",VLOOKUP(L39,Sifranti!A:B,2,FALSE))","v":""},null,{"$f":"IF(N39=\"\",\"\",VLOOKUP(N39,Sifranti!D:F,3,FALSE))","v":""},null,{"$f":"IF(P39=\"\",\"\",VLOOKUP(P39,Sifranti!H:I,2,FALSE))","v":""},null,null,null,null,null,null,null,null,null,null,null,null,null,null,null,null,null,null,null,null,null,null,null,null,null,{"$f":"IF(AN39=\"\",\"\",IF(LEN(VLOOKUP(AN39,Sifranti!BY:BZ,2,FALSE))=0,\"\",VLOOKUP(AN39,Sifranti!BY:BZ,2,FALSE)))","v":""},{"$f":"IF(C39=\"\",\"\",VLOOKUP(C39,Sifranti!P:R,2,FALSE))","v":""},"","",{"$f":"IF(C39=\"\",\"\",VLOOKUP(C39,Sifranti!P:R,3,FALSE))","v":""},{"$f":"IF(N39=\"\",\"\",VLOOKUP(N39,Sifranti!D:F,2,FALSE))","v":""},{"$f":"IF(AK39=\"\",\"\",VLOOKUP(AK39,Sifranti!V:Y,2,FALSE))","v":""},{"$f":"IF(AK39=\"\",\"\",IF(VLOOKUP(AK39,Sifranti!V:Y,3,FALSE)=\"\",\"\",VLOOKUP(AK39,Sifranti!V:Y,3,FALSE)))","v":""},{"$f":"IF(AK39=\"\",\"\",VLOOKUP(AK39,Sifranti!V:Y,4,FALSE))","v":""}]
[{"$f":"IF(B40=\"\",\"\",VLOOKUP(B40,Sifranti!K:L,2,FALSE))","v":""},null,null,null,null,null,null,null,null,"",{"$f":"IF(L40=\"\",\"\",VLOOKUP(L40,Sifranti!A:B,2,FALSE))","v":""},null,{"$f":"IF(N40=\"\",\"\",VLOOKUP(N40,Sifranti!D:F,3,FALSE))","v":""},null,{"$f":"IF(P40=\"\",\"\",VLOOKUP(P40,Sifranti!H:I,2,FALSE))","v":""},null,null,null,null,null,null,null,null,null,null,null,null,null,null,null,null,null,null,null,null,null,null,null,null,null,{"$f":"IF(AN40=\"\",\"\",IF(LEN(VLOOKUP(AN40,Sifranti!BY:BZ,2,FALSE))=0,\"\",VLOOKUP(AN40,Sifranti!BY:BZ,2,FALSE)))","v":""},{"$f":"IF(C40=\"\",\"\",VLOOKUP(C40,Sifranti!P:R,2,FALSE))","v":""},"","",{"$f":"IF(C40=\"\",\"\",VLOOKUP(C40,Sifranti!P:R,3,FALSE))","v":""},{"$f":"IF(N40=\"\",\"\",VLOOKUP(N40,Sifranti!D:F,2,FALSE))","v":""},{"$f":"IF(AK40=\"\",\"\",VLOOKUP(AK40,Sifranti!V:Y,2,FALSE))","v":""},{"$f":"IF(AK40=\"\",\"\",IF(VLOOKUP(AK40,Sifranti!V:Y,3,FALSE)=\"\",\"\",VLOOKUP(AK40,Sifranti!V:Y,3,FALSE)))","v":""},{"$f":"IF(AK40=\"\",\"\",VLOOKUP(AK40,Sifranti!V:Y,4,FALSE))","v":""}]
[{"$f":"IF(B41=\"\",\"\",VLOOKUP(B41,Sifranti!K:L,2,FALSE))","v":""},null,null,null,null,null,null,null,null,"",{"$f":"IF(L41=\"\",\"\",VLOOKUP(L41,Sifranti!A:B,2,FALSE))","v":""},null,{"$f":"IF(N41=\"\",\"\",VLOOKUP(N41,Sifranti!D:F,3,FALSE))","v":""},null,{"$f":"IF(P41=\"\",\"\",VLOOKUP(P41,Sifranti!H:I,2,FALSE))","v":""},null,null,null,null,null,null,null,null,null,null,null,null,null,null,null,null,null,null,null,null,null,null,null,null,null,{"$f":"IF(AN41=\"\",\"\",IF(LEN(VLOOKUP(AN41,Sifranti!BY:BZ,2,FALSE))=0,\"\",VLOOKUP(AN41,Sifranti!BY:BZ,2,FALSE)))","v":""},{"$f":"IF(C41=\"\",\"\",VLOOKUP(C41,Sifranti!P:R,2,FALSE))","v":""},"","",{"$f":"IF(C41=\"\",\"\",VLOOKUP(C41,Sifranti!P:R,3,FALSE))","v":""},{"$f":"IF(N41=\"\",\"\",VLOOKUP(N41,Sifranti!D:F,2,FALSE))","v":""},{"$f":"IF(AK41=\"\",\"\",VLOOKUP(AK41,Sifranti!V:Y,2,FALSE))","v":""},{"$f":"IF(AK41=\"\",\"\",IF(VLOOKUP(AK41,Sifranti!V:Y,3,FALSE)=\"\",\"\",VLOOKUP(AK41,Sifranti!V:Y,3,FALSE)))","v":""},{"$f":"IF(AK41=\"\",\"\",VLOOKUP(AK41,Sifranti!V:Y,4,FALSE))","v":""}]
[{"$f":"IF(B42=\"\",\"\",VLOOKUP(B42,Sifranti!K:L,2,FALSE))","v":""},null,null,null,null,null,null,null,null,"",{"$f":"IF(L42=\"\",\"\",VLOOKUP(L42,Sifranti!A:B,2,FALSE))","v":""},null,{"$f":"IF(N42=\"\",\"\",VLOOKUP(N42,Sifranti!D:F,3,FALSE))","v":""},null,{"$f":"IF(P42=\"\",\"\",VLOOKUP(P42,Sifranti!H:I,2,FALSE))","v":""},null,null,null,null,null,null,null,null,null,null,null,null,null,null,null,null,null,null,null,null,null,null,null,null,null,{"$f":"IF(AN42=\"\",\"\",IF(LEN(VLOOKUP(AN42,Sifranti!BY:BZ,2,FALSE))=0,\"\",VLOOKUP(AN42,Sifranti!BY:BZ,2,FALSE)))","v":""},{"$f":"IF(C42=\"\",\"\",VLOOKUP(C42,Sifranti!P:R,2,FALSE))","v":""},"","",{"$f":"IF(C42=\"\",\"\",VLOOKUP(C42,Sifranti!P:R,3,FALSE))","v":""},{"$f":"IF(N42=\"\",\"\",VLOOKUP(N42,Sifranti!D:F,2,FALSE))","v":""},{"$f":"IF(AK42=\"\",\"\",VLOOKUP(AK42,Sifranti!V:Y,2,FALSE))","v":""},{"$f":"IF(AK42=\"\",\"\",IF(VLOOKUP(AK42,Sifranti!V:Y,3,FALSE)=\"\",\"\",VLOOKUP(AK42,Sifranti!V:Y,3,FALSE)))","v":""},{"$f":"IF(AK42=\"\",\"\",VLOOKUP(AK42,Sifranti!V:Y,4,FALSE))","v":""}]
[{"$f":"IF(B43=\"\",\"\",VLOOKUP(B43,Sifranti!K:L,2,FALSE))","v":""},null,null,null,null,null,null,null,null,"",{"$f":"IF(L43=\"\",\"\",VLOOKUP(L43,Sifranti!A:B,2,FALSE))","v":""},null,{"$f":"IF(N43=\"\",\"\",VLOOKUP(N43,Sifranti!D:F,3,FALSE))","v":""},null,{"$f":"IF(P43=\"\",\"\",VLOOKUP(P43,Sifranti!H:I,2,FALSE))","v":""},null,null,null,null,null,null,null,null,null,null,null,null,null,null,null,null,null,null,null,null,null,null,null,null,null,{"$f":"IF(AN43=\"\",\"\",IF(LEN(VLOOKUP(AN43,Sifranti!BY:BZ,2,FALSE))=0,\"\",VLOOKUP(AN43,Sifranti!BY:BZ,2,FALSE)))","v":""},{"$f":"IF(C43=\"\",\"\",VLOOKUP(C43,Sifranti!P:R,2,FALSE))","v":""},"","",{"$f":"IF(C43=\"\",\"\",VLOOKUP(C43,Sifranti!P:R,3,FALSE))","v":""},{"$f":"IF(N43=\"\",\"\",VLOOKUP(N43,Sifranti!D:F,2,FALSE))","v":""},{"$f":"IF(AK43=\"\",\"\",VLOOKUP(AK43,Sifranti!V:Y,2,FALSE))","v":""},{"$f":"IF(AK43=\"\",\"\",IF(VLOOKUP(AK43,Sifranti!V:Y,3,FALSE)=\"\",\"\",VLOOKUP(AK43,Sifranti!V:Y,3,FALSE)))","v":""},{"$f":"IF(AK43=\"\",\"\",VLOOKUP(AK43,Sifranti!V:Y,4,FALSE))","v":""}]
[{"$f":"IF(B44=\"\",\"\",VLOOKUP(B44,Sifranti!K:L,2,FALSE))","v":""},null,null,null,null,null,null,null,null,"",{"$f":"IF(L44=\"\",\"\",VLOOKUP(L44,Sifranti!A:B,2,FALSE))","v":""},null,{"$f":"IF(N44=\"\",\"\",VLOOKUP(N44,Sifranti!D:F,3,FALSE))","v":""},null,{"$f":"IF(P44=\"\",\"\",VLOOKUP(P44,Sifranti!H:I,2,FALSE))","v":""},null,null,null,null,null,null,null,null,null,null,null,null,null,null,null,null,null,null,null,null,null,null,null,null,null,{"$f":"IF(AN44=\"\",\"\",IF(LEN(VLOOKUP(AN44,Sifranti!BY:BZ,2,FALSE))=0,\"\",VLOOKUP(AN44,Sifranti!BY:BZ,2,FALSE)))","v":""},{"$f":"IF(C44=\"\",\"\",VLOOKUP(C44,Sifranti!P:R,2,FALSE))","v":""},"","",{"$f":"IF(C44=\"\",\"\",VLOOKUP(C44,Sifranti!P:R,3,FALSE))","v":""},{"$f":"IF(N44=\"\",\"\",VLOOKUP(N44,Sifranti!D:F,2,FALSE))","v":""},{"$f":"IF(AK44=\"\",\"\",VLOOKUP(AK44,Sifranti!V:Y,2,FALSE))","v":""},{"$f":"IF(AK44=\"\",\"\",IF(VLOOKUP(AK44,Sifranti!V:Y,3,FALSE)=\"\",\"\",VLOOKUP(AK44,Sifranti!V:Y,3,FALSE)))","v":""},{"$f":"IF(AK44=\"\",\"\",VLOOKUP(AK44,Sifranti!V:Y,4,FALSE))","v":""}]
[{"$f":"IF(B45=\"\",\"\",VLOOKUP(B45,Sifranti!K:L,2,FALSE))","v":""},null,null,null,null,null,null,null,null,"",{"$f":"IF(L45=\"\",\"\",VLOOKUP(L45,Sifranti!A:B,2,FALSE))","v":""},null,{"$f":"IF(N45=\"\",\"\",VLOOKUP(N45,Sifranti!D:F,3,FALSE))","v":""},null,{"$f":"IF(P45=\"\",\"\",VLOOKUP(P45,Sifranti!H:I,2,FALSE))","v":""},null,null,null,null,null,null,null,null,null,null,null,null,null,null,null,null,null,null,null,null,null,null,null,null,null,{"$f":"IF(AN45=\"\",\"\",IF(LEN(VLOOKUP(AN45,Sifranti!BY:BZ,2,FALSE))=0,\"\",VLOOKUP(AN45,Sifranti!BY:BZ,2,FALSE)))","v":""},{"$f":"IF(C45=\"\",\"\",VLOOKUP(C45,Sifranti!P:R,2,FALSE))","v":""},"","",{"$f":"IF(C45=\"\",\"\",VLOOKUP(C45,Sifranti!P:R,3,FALSE))","v":""},{"$f":"IF(N45=\"\",\"\",VLOOKUP(N45,Sifranti!D:F,2,FALSE))","v":""},{"$f":"IF(AK45=\"\",\"\",VLOOKUP(AK45,Sifranti!V:Y,2,FALSE))","v":""},{"$f":"IF(AK45=\"\",\"\",IF(VLOOKUP(AK45,Sifranti!V:Y,3,FALSE)=\"\",\"\",VLOOKUP(AK45,Sifranti!V:Y,3,FALSE)))","v":""},{"$f":"IF(AK45=\"\",\"\",VLOOKUP(AK45,Sifranti!V:Y,4,FALSE))","v":""}]
[{"$f":"IF(B46=\"\",\"\",VLOOKUP(B46,Sifranti!K:L,2,FALSE))","v":""},null,null,null,null,null,null,null,null,"",{"$f":"IF(L46=\"\",\"\",VLOOKUP(L46,Sifranti!A:B,2,FALSE))","v":""},null,{"$f":"IF(N46=\"\",\"\",VLOOKUP(N46,Sifranti!D:F,3,FALSE))","v":""},null,{"$f":"IF(P46=\"\",\"\",VLOOKUP(P46,Sifranti!H:I,2,FALSE))","v":""},null,null,null,null,null,null,null,null,null,null,null,null,null,null,null,null,null,null,null,null,null,null,null,null,null,{"$f":"IF(AN46=\"\",\"\",IF(LEN(VLOOKUP(AN46,Sifranti!BY:BZ,2,FALSE))=0,\"\",VLOOKUP(AN46,Sifranti!BY:BZ,2,FALSE)))","v":""},{"$f":"IF(C46=\"\",\"\",VLOOKUP(C46,Sifranti!P:R,2,FALSE))","v":""},"","",{"$f":"IF(C46=\"\",\"\",VLOOKUP(C46,Sifranti!P:R,3,FALSE))","v":""},{"$f":"IF(N46=\"\",\"\",VLOOKUP(N46,Sifranti!D:F,2,FALSE))","v":""},{"$f":"IF(AK46=\"\",\"\",VLOOKUP(AK46,Sifranti!V:Y,2,FALSE))","v":""},{"$f":"IF(AK46=\"\",\"\",IF(VLOOKUP(AK46,Sifranti!V:Y,3,FALSE)=\"\",\"\",VLOOKUP(AK46,Sifranti!V:Y,3,FALSE)))","v":""},{"$f":"IF(AK46=\"\",\"\",VLOOKUP(AK46,Sifranti!V:Y,4,FALSE))","v":""}]
[{"$f":"IF(B47=\"\",\"\",VLOOKUP(B47,Sifranti!K:L,2,FALSE))","v":""},null,null,null,null,null,null,null,null,"",{"$f":"IF(L47=\"\",\"\",VLOOKUP(L47,Sifranti!A:B,2,FALSE))","v":""},null,{"$f":"IF(N47=\"\",\"\",VLOOKUP(N47,Sifranti!D:F,3,FALSE))","v":""},null,{"$f":"IF(P47=\"\",\"\",VLOOKUP(P47,Sifranti!H:I,2,FALSE))","v":""},null,null,null,null,null,null,null,null,null,null,null,null,null,null,null,null,null,null,null,null,null,null,null,null,null,{"$f":"IF(AN47=\"\",\"\",IF(LEN(VLOOKUP(AN47,Sifranti!BY:BZ,2,FALSE))=0,\"\",VLOOKUP(AN47,Sifranti!BY:BZ,2,FALSE)))","v":""},{"$f":"IF(C47=\"\",\"\",VLOOKUP(C47,Sifranti!P:R,2,FALSE))","v":""},"","",{"$f":"IF(C47=\"\",\"\",VLOOKUP(C47,Sifranti!P:R,3,FALSE))","v":""},{"$f":"IF(N47=\"\",\"\",VLOOKUP(N47,Sifranti!D:F,2,FALSE))","v":""},{"$f":"IF(AK47=\"\",\"\",VLOOKUP(AK47,Sifranti!V:Y,2,FALSE))","v":""},{"$f":"IF(AK47=\"\",\"\",IF(VLOOKUP(AK47,Sifranti!V:Y,3,FALSE)=\"\",\"\",VLOOKUP(AK47,Sifranti!V:Y,3,FALSE)))","v":""},{"$f":"IF(AK47=\"\",\"\",VLOOKUP(AK47,Sifranti!V:Y,4,FALSE))","v":""}]
[{"$f":"IF(B48=\"\",\"\",VLOOKUP(B48,Sifranti!K:L,2,FALSE))","v":""},null,null,null,null,null,null,null,null,"",{"$f":"IF(L48=\"\",\"\",VLOOKUP(L48,Sifranti!A:B,2,FALSE))","v":""},null,{"$f":"IF(N48=\"\",\"\",VLOOKUP(N48,Sifranti!D:F,3,FALSE))","v":""},null,{"$f":"IF(P48=\"\",\"\",VLOOKUP(P48,Sifranti!H:I,2,FALSE))","v":""},null,null,null,null,null,null,null,null,null,null,null,null,null,null,null,null,null,null,null,null,null,null,null,null,null,{"$f":"IF(AN48=\"\",\"\",IF(LEN(VLOOKUP(AN48,Sifranti!BY:BZ,2,FALSE))=0,\"\",VLOOKUP(AN48,Sifranti!BY:BZ,2,FALSE)))","v":""},{"$f":"IF(C48=\"\",\"\",VLOOKUP(C48,Sifranti!P:R,2,FALSE))","v":""},"","",{"$f":"IF(C48=\"\",\"\",VLOOKUP(C48,Sifranti!P:R,3,FALSE))","v":""},{"$f":"IF(N48=\"\",\"\",VLOOKUP(N48,Sifranti!D:F,2,FALSE))","v":""},{"$f":"IF(AK48=\"\",\"\",VLOOKUP(AK48,Sifranti!V:Y,2,FALSE))","v":""},{"$f":"IF(AK48=\"\",\"\",IF(VLOOKUP(AK48,Sifranti!V:Y,3,FALSE)=\"\",\"\",VLOOKUP(AK48,Sifranti!V:Y,3,FALSE)))","v":""},{"$f":"IF(AK48=\"\",\"\",VLOOKUP(AK48,Sifranti!V:Y,4,FALSE))","v":""}]
[{"$f":"IF(B49=\"\",\"\",VLOOKUP(B49,Sifranti!K:L,2,FALSE))","v":""},null,null,null,null,null,null,null,null,"",{"$f":"IF(L49=\"\",\"\",VLOOKUP(L49,Sifranti!A:B,2,FALSE))","v":""},null,{"$f":"IF(N49=\"\",\"\",VLOOKUP(N49,Sifranti!D:F,3,FALSE))","v":""},null,{"$f":"IF(P49=\"\",\"\",VLOOKUP(P49,Sifranti!H:I,2,FALSE))","v":""},null,null,null,null,null,null,null,null,null,null,null,null,null,null,null,null,null,null,null,null,null,null,null,null,null,{"$f":"IF(AN49=\"\",\"\",IF(LEN(VLOOKUP(AN49,Sifranti!BY:BZ,2,FALSE))=0,\"\",VLOOKUP(AN49,Sifranti!BY:BZ,2,FALSE)))","v":""},{"$f":"IF(C49=\"\",\"\",VLOOKUP(C49,Sifranti!P:R,2,FALSE))","v":""},"","",{"$f":"IF(C49=\"\",\"\",VLOOKUP(C49,Sifranti!P:R,3,FALSE))","v":""},{"$f":"IF(N49=\"\",\"\",VLOOKUP(N49,Sifranti!D:F,2,FALSE))","v":""},{"$f":"IF(AK49=\"\",\"\",VLOOKUP(AK49,Sifranti!V:Y,2,FALSE))","v":""},{"$f":"IF(AK49=\"\",\"\",IF(VLOOKUP(AK49,Sifranti!V:Y,3,FALSE)=\"\",\"\",VLOOKUP(AK49,Sifranti!V:Y,3,FALSE)))","v":""},{"$f":"IF(AK49=\"\",\"\",VLOOKUP(AK49,Sifranti!V:Y,4,FALSE))","v":""}]
[{"$f":"IF(B50=\"\",\"\",VLOOKUP(B50,Sifranti!K:L,2,FALSE))","v":""},null,null,null,null,null,null,null,null,"",{"$f":"IF(L50=\"\",\"\",VLOOKUP(L50,Sifranti!A:B,2,FALSE))","v":""},null,{"$f":"IF(N50=\"\",\"\",VLOOKUP(N50,Sifranti!D:F,3,FALSE))","v":""},null,{"$f":"IF(P50=\"\",\"\",VLOOKUP(P50,Sifranti!H:I,2,FALSE))","v":""},null,null,null,null,null,null,null,null,null,null,null,null,null,null,null,null,null,null,null,null,null,null,null,null,null,{"$f":"IF(AN50=\"\",\"\",IF(LEN(VLOOKUP(AN50,Sifranti!BY:BZ,2,FALSE))=0,\"\",VLOOKUP(AN50,Sifranti!BY:BZ,2,FALSE)))","v":""},{"$f":"IF(C50=\"\",\"\",VLOOKUP(C50,Sifranti!P:R,2,FALSE))","v":""},"","",{"$f":"IF(C50=\"\",\"\",VLOOKUP(C50,Sifranti!P:R,3,FALSE))","v":""},{"$f":"IF(N50=\"\",\"\",VLOOKUP(N50,Sifranti!D:F,2,FALSE))","v":""},{"$f":"IF(AK50=\"\",\"\",VLOOKUP(AK50,Sifranti!V:Y,2,FALSE))","v":""},{"$f":"IF(AK50=\"\",\"\",IF(VLOOKUP(AK50,Sifranti!V:Y,3,FALSE)=\"\",\"\",VLOOKUP(AK50,Sifranti!V:Y,3,FALSE)))","v":""},{"$f":"IF(AK50=\"\",\"\",VLOOKUP(AK50,Sifranti!V:Y,4,FALSE))","v":""}]
[{"$f":"IF(B51=\"\",\"\",VLOOKUP(B51,Sifranti!K:L,2,FALSE))","v":""},null,null,null,null,null,null,null,null,"",{"$f":"IF(L51=\"\",\"\",VLOOKUP(L51,Sifranti!A:B,2,FALSE))","v":""},null,{"$f":"IF(N51=\"\",\"\",VLOOKUP(N51,Sifranti!D:F,3,FALSE))","v":""},null,{"$f":"IF(P51=\"\",\"\",VLOOKUP(P51,Sifranti!H:I,2,FALSE))","v":""},null,null,null,null,null,null,null,null,null,null,null,null,null,null,null,null,null,null,null,null,null,null,null,null,null,{"$f":"IF(AN51=\"\",\"\",IF(LEN(VLOOKUP(AN51,Sifranti!BY:BZ,2,FALSE))=0,\"\",VLOOKUP(AN51,Sifranti!BY:BZ,2,FALSE)))","v":""},{"$f":"IF(C51=\"\",\"\",VLOOKUP(C51,Sifranti!P:R,2,FALSE))","v":""},"","",{"$f":"IF(C51=\"\",\"\",VLOOKUP(C51,Sifranti!P:R,3,FALSE))","v":""},{"$f":"IF(N51=\"\",\"\",VLOOKUP(N51,Sifranti!D:F,2,FALSE))","v":""},{"$f":"IF(AK51=\"\",\"\",VLOOKUP(AK51,Sifranti!V:Y,2,FALSE))","v":""},{"$f":"IF(AK51=\"\",\"\",IF(VLOOKUP(AK51,Sifranti!V:Y,3,FALSE)=\"\",\"\",VLOOKUP(AK51,Sifranti!V:Y,3,FALSE)))","v":""},{"$f":"IF(AK51=\"\",\"\",VLOOKUP(AK51,Sifranti!V:Y,4,FALSE))","v":""}]
[{"$f":"IF(B52=\"\",\"\",VLOOKUP(B52,Sifranti!K:L,2,FALSE))","v":""},null,null,null,null,null,null,null,null,"",{"$f":"IF(L52=\"\",\"\",VLOOKUP(L52,Sifranti!A:B,2,FALSE))","v":""},null,{"$f":"IF(N52=\"\",\"\",VLOOKUP(N52,Sifranti!D:F,3,FALSE))","v":""},null,{"$f":"IF(P52=\"\",\"\",VLOOKUP(P52,Sifranti!H:I,2,FALSE))","v":""},null,null,null,null,null,null,null,null,null,null,null,null,null,null,null,null,null,null,null,null,null,null,null,null,null,{"$f":"IF(AN52=\"\",\"\",IF(LEN(VLOOKUP(AN52,Sifranti!BY:BZ,2,FALSE))=0,\"\",VLOOKUP(AN52,Sifranti!BY:BZ,2,FALSE)))","v":""},{"$f":"IF(C52=\"\",\"\",VLOOKUP(C52,Sifranti!P:R,2,FALSE))","v":""},"","",{"$f":"IF(C52=\"\",\"\",VLOOKUP(C52,Sifranti!P:R,3,FALSE))","v":""},{"$f":"IF(N52=\"\",\"\",VLOOKUP(N52,Sifranti!D:F,2,FALSE))","v":""},{"$f":"IF(AK52=\"\",\"\",VLOOKUP(AK52,Sifranti!V:Y,2,FALSE))","v":""},{"$f":"IF(AK52=\"\",\"\",IF(VLOOKUP(AK52,Sifranti!V:Y,3,FALSE)=\"\",\"\",VLOOKUP(AK52,Sifranti!V:Y,3,FALSE)))","v":""},{"$f":"IF(AK52=\"\",\"\",VLOOKUP(AK52,Sifranti!V:Y,4,FALSE))","v":""}]
[{"$f":"IF(B53=\"\",\"\",VLOOKUP(B53,Sifranti!K:L,2,FALSE))","v":""},null,null,null,null,null,null,null,null,"",{"$f":"IF(L53=\"\",\"\",VLOOKUP(L53,Sifranti!A:B,2,FALSE))","v":""},null,{"$f":"IF(N53=\"\",\"\",VLOOKUP(N53,Sifranti!D:F,3,FALSE))","v":""},null,{"$f":"IF(P53=\"\",\"\",VLOOKUP(P53,Sifranti!H:I,2,FALSE))","v":""},null,null,null,null,null,null,null,null,null,null,null,null,null,null,null,null,null,null,null,null,null,null,null,null,null,{"$f":"IF(AN53=\"\",\"\",IF(LEN(VLOOKUP(AN53,Sifranti!BY:BZ,2,FALSE))=0,\"\",VLOOKUP(AN53,Sifranti!BY:BZ,2,FALSE)))","v":""},{"$f":"IF(C53=\"\",\"\",VLOOKUP(C53,Sifranti!P:R,2,FALSE))","v":""},"","",{"$f":"IF(C53=\"\",\"\",VLOOKUP(C53,Sifranti!P:R,3,FALSE))","v":""},{"$f":"IF(N53=\"\",\"\",VLOOKUP(N53,Sifranti!D:F,2,FALSE))","v":""},{"$f":"IF(AK53=\"\",\"\",VLOOKUP(AK53,Sifranti!V:Y,2,FALSE))","v":""},{"$f":"IF(AK53=\"\",\"\",IF(VLOOKUP(AK53,Sifranti!V:Y,3,FALSE)=\"\",\"\",VLOOKUP(AK53,Sifranti!V:Y,3,FALSE)))","v":""},{"$f":"IF(AK53=\"\",\"\",VLOOKUP(AK53,Sifranti!V:Y,4,FALSE))","v":""}]
[{"$f":"IF(B54=\"\",\"\",VLOOKUP(B54,Sifranti!K:L,2,FALSE))","v":""},null,null,null,null,null,null,null,null,"",{"$f":"IF(L54=\"\",\"\",VLOOKUP(L54,Sifranti!A:B,2,FALSE))","v":""},null,{"$f":"IF(N54=\"\",\"\",VLOOKUP(N54,Sifranti!D:F,3,FALSE))","v":""},null,{"$f":"IF(P54=\"\",\"\",VLOOKUP(P54,Sifranti!H:I,2,FALSE))","v":""},null,null,null,null,null,null,null,null,null,null,null,null,null,null,null,null,null,null,null,null,null,null,null,null,null,{"$f":"IF(AN54=\"\",\"\",IF(LEN(VLOOKUP(AN54,Sifranti!BY:BZ,2,FALSE))=0,\"\",VLOOKUP(AN54,Sifranti!BY:BZ,2,FALSE)))","v":""},{"$f":"IF(C54=\"\",\"\",VLOOKUP(C54,Sifranti!P:R,2,FALSE))","v":""},"","",{"$f":"IF(C54=\"\",\"\",VLOOKUP(C54,Sifranti!P:R,3,FALSE))","v":""},{"$f":"IF(N54=\"\",\"\",VLOOKUP(N54,Sifranti!D:F,2,FALSE))","v":""},{"$f":"IF(AK54=\"\",\"\",VLOOKUP(AK54,Sifranti!V:Y,2,FALSE))","v":""},{"$f":"IF(AK54=\"\",\"\",IF(VLOOKUP(AK54,Sifranti!V:Y,3,FALSE)=\"\",\"\",VLOOKUP(AK54,Sifranti!V:Y,3,FALSE)))","v":""},{"$f":"IF(AK54=\"\",\"\",VLOOKUP(AK54,Sifranti!V:Y,4,FALSE))","v":""}]
[{"$f":"IF(B55=\"\",\"\",VLOOKUP(B55,Sifranti!K:L,2,FALSE))","v":""},null,null,null,null,null,null,null,null,"",{"$f":"IF(L55=\"\",\"\",VLOOKUP(L55,Sifranti!A:B,2,FALSE))","v":""},null,{"$f":"IF(N55=\"\",\"\",VLOOKUP(N55,Sifranti!D:F,3,FALSE))","v":""},null,{"$f":"IF(P55=\"\",\"\",VLOOKUP(P55,Sifranti!H:I,2,FALSE))","v":""},null,null,null,null,null,null,null,null,null,null,null,null,null,null,null,null,null,null,null,null,null,null,null,null,null,{"$f":"IF(AN55=\"\",\"\",IF(LEN(VLOOKUP(AN55,Sifranti!BY:BZ,2,FALSE))=0,\"\",VLOOKUP(AN55,Sifranti!BY:BZ,2,FALSE)))","v":""},{"$f":"IF(C55=\"\",\"\",VLOOKUP(C55,Sifranti!P:R,2,FALSE))","v":""},"","",{"$f":"IF(C55=\"\",\"\",VLOOKUP(C55,Sifranti!P:R,3,FALSE))","v":""},{"$f":"IF(N55=\"\",\"\",VLOOKUP(N55,Sifranti!D:F,2,FALSE))","v":""},{"$f":"IF(AK55=\"\",\"\",VLOOKUP(AK55,Sifranti!V:Y,2,FALSE))","v":""},{"$f":"IF(AK55=\"\",\"\",IF(VLOOKUP(AK55,Sifranti!V:Y,3,FALSE)=\"\",\"\",VLOOKUP(AK55,Sifranti!V:Y,3,FALSE)))","v":""},{"$f":"IF(AK55=\"\",\"\",VLOOKUP(AK55,Sifranti!V:Y,4,FALSE))","v":""}]
[{"$f":"IF(B56=\"\",\"\",VLOOKUP(B56,Sifranti!K:L,2,FALSE))","v":""},null,null,null,null,null,null,null,null,"",{"$f":"IF(L56=\"\",\"\",VLOOKUP(L56,Sifranti!A:B,2,FALSE))","v":""},null,{"$f":"IF(N56=\"\",\"\",VLOOKUP(N56,Sifranti!D:F,3,FALSE))","v":""},null,{"$f":"IF(P56=\"\",\"\",VLOOKUP(P56,Sifranti!H:I,2,FALSE))","v":""},null,null,null,null,null,null,null,null,null,null,null,null,null,null,null,null,null,null,null,null,null,null,null,null,null,{"$f":"IF(AN56=\"\",\"\",IF(LEN(VLOOKUP(AN56,Sifranti!BY:BZ,2,FALSE))=0,\"\",VLOOKUP(AN56,Sifranti!BY:BZ,2,FALSE)))","v":""},{"$f":"IF(C56=\"\",\"\",VLOOKUP(C56,Sifranti!P:R,2,FALSE))","v":""},"","",{"$f":"IF(C56=\"\",\"\",VLOOKUP(C56,Sifranti!P:R,3,FALSE))","v":""},{"$f":"IF(N56=\"\",\"\",VLOOKUP(N56,Sifranti!D:F,2,FALSE))","v":""},{"$f":"IF(AK56=\"\",\"\",VLOOKUP(AK56,Sifranti!V:Y,2,FALSE))","v":""},{"$f":"IF(AK56=\"\",\"\",IF(VLOOKUP(AK56,Sifranti!V:Y,3,FALSE)=\"\",\"\",VLOOKUP(AK56,Sifranti!V:Y,3,FALSE)))","v":""},{"$f":"IF(AK56=\"\",\"\",VLOOKUP(AK56,Sifranti!V:Y,4,FALSE))","v":""}]
[{"$f":"IF(B57=\"\",\"\",VLOOKUP(B57,Sifranti!K:L,2,FALSE))","v":""},null,null,null,null,null,null,null,null,"",{"$f":"IF(L57=\"\",\"\",VLOOKUP(L57,Sifranti!A:B,2,FALSE))","v":""},null,{"$f":"IF(N57=\"\",\"\",VLOOKUP(N57,Sifranti!D:F,3,FALSE))","v":""},null,{"$f":"IF(P57=\"\",\"\",VLOOKUP(P57,Sifranti!H:I,2,FALSE))","v":""},null,null,null,null,null,null,null,null,null,null,null,null,null,null,null,null,null,null,null,null,null,null,null,null,null,{"$f":"IF(AN57=\"\",\"\",IF(LEN(VLOOKUP(AN57,Sifranti!BY:BZ,2,FALSE))=0,\"\",VLOOKUP(AN57,Sifranti!BY:BZ,2,FALSE)))","v":""},{"$f":"IF(C57=\"\",\"\",VLOOKUP(C57,Sifranti!P:R,2,FALSE))","v":""},"","",{"$f":"IF(C57=\"\",\"\",VLOOKUP(C57,Sifranti!P:R,3,FALSE))","v":""},{"$f":"IF(N57=\"\",\"\",VLOOKUP(N57,Sifranti!D:F,2,FALSE))","v":""},{"$f":"IF(AK57=\"\",\"\",VLOOKUP(AK57,Sifranti!V:Y,2,FALSE))","v":""},{"$f":"IF(AK57=\"\",\"\",IF(VLOOKUP(AK57,Sifranti!V:Y,3,FALSE)=\"\",\"\",VLOOKUP(AK57,Sifranti!V:Y,3,FALSE)))","v":""},{"$f":"IF(AK57=\"\",\"\",VLOOKUP(AK57,Sifranti!V:Y,4,FALSE))","v":""}]
[{"$f":"IF(B58=\"\",\"\",VLOOKUP(B58,Sifranti!K:L,2,FALSE))","v":""},null,null,null,null,null,null,null,null,"",{"$f":"IF(L58=\"\",\"\",VLOOKUP(L58,Sifranti!A:B,2,FALSE))","v":""},null,{"$f":"IF(N58=\"\",\"\",VLOOKUP(N58,Sifranti!D:F,3,FALSE))","v":""},null,{"$f":"IF(P58=\"\",\"\",VLOOKUP(P58,Sifranti!H:I,2,FALSE))","v":""},null,null,null,null,null,null,null,null,null,null,null,null,null,null,null,null,null,null,null,null,null,null,null,null,null,{"$f":"IF(AN58=\"\",\"\",IF(LEN(VLOOKUP(AN58,Sifranti!BY:BZ,2,FALSE))=0,\"\",VLOOKUP(AN58,Sifranti!BY:BZ,2,FALSE)))","v":""},{"$f":"IF(C58=\"\",\"\",VLOOKUP(C58,Sifranti!P:R,2,FALSE))","v":""},"","",{"$f":"IF(C58=\"\",\"\",VLOOKUP(C58,Sifranti!P:R,3,FALSE))","v":""},{"$f":"IF(N58=\"\",\"\",VLOOKUP(N58,Sifranti!D:F,2,FALSE))","v":""},{"$f":"IF(AK58=\"\",\"\",VLOOKUP(AK58,Sifranti!V:Y,2,FALSE))","v":""},{"$f":"IF(AK58=\"\",\"\",IF(VLOOKUP(AK58,Sifranti!V:Y,3,FALSE)=\"\",\"\",VLOOKUP(AK58,Sifranti!V:Y,3,FALSE)))","v":""},{"$f":"IF(AK58=\"\",\"\",VLOOKUP(AK58,Sifranti!V:Y,4,FALSE))","v":""}]
[{"$f":"IF(B59=\"\",\"\",VLOOKUP(B59,Sifranti!K:L,2,FALSE))","v":""},null,null,null,null,null,null,null,null,"",{"$f":"IF(L59=\"\",\"\",VLOOKUP(L59,Sifranti!A:B,2,FALSE))","v":""},null,{"$f":"IF(N59=\"\",\"\",VLOOKUP(N59,Sifranti!D:F,3,FALSE))","v":""},null,{"$f":"IF(P59=\"\",\"\",VLOOKUP(P59,Sifranti!H:I,2,FALSE))","v":""},null,null,null,null,null,null,null,null,null,null,null,null,null,null,null,null,null,null,null,null,null,null,null,null,null,{"$f":"IF(AN59=\"\",\"\",IF(LEN(VLOOKUP(AN59,Sifranti!BY:BZ,2,FALSE))=0,\"\",VLOOKUP(AN59,Sifranti!BY:BZ,2,FALSE)))","v":""},{"$f":"IF(C59=\"\",\"\",VLOOKUP(C59,Sifranti!P:R,2,FALSE))","v":""},"","",{"$f":"IF(C59=\"\",\"\",VLOOKUP(C59,Sifranti!P:R,3,FALSE))","v":""},{"$f":"IF(N59=\"\",\"\",VLOOKUP(N59,Sifranti!D:F,2,FALSE))","v":""},{"$f":"IF(AK59=\"\",\"\",VLOOKUP(AK59,Sifranti!V:Y,2,FALSE))","v":""},{"$f":"IF(AK59=\"\",\"\",IF(VLOOKUP(AK59,Sifranti!V:Y,3,FALSE)=\"\",\"\",VLOOKUP(AK59,Sifranti!V:Y,3,FALSE)))","v":""},{"$f":"IF(AK59=\"\",\"\",VLOOKUP(AK59,Sifranti!V:Y,4,FALSE))","v":""}]
[{"$f":"IF(B60=\"\",\"\",VLOOKUP(B60,Sifranti!K:L,2,FALSE))","v":""},null,null,null,null,null,null,null,null,"",{"$f":"IF(L60=\"\",\"\",VLOOKUP(L60,Sifranti!A:B,2,FALSE))","v":""},null,{"$f":"IF(N60=\"\",\"\",VLOOKUP(N60,Sifranti!D:F,3,FALSE))","v":""},null,{"$f":"IF(P60=\"\",\"\",VLOOKUP(P60,Sifranti!H:I,2,FALSE))","v":""},null,null,null,null,null,null,null,null,null,null,null,null,null,null,null,null,null,null,null,null,null,null,null,null,null,{"$f":"IF(AN60=\"\",\"\",IF(LEN(VLOOKUP(AN60,Sifranti!BY:BZ,2,FALSE))=0,\"\",VLOOKUP(AN60,Sifranti!BY:BZ,2,FALSE)))","v":""},{"$f":"IF(C60=\"\",\"\",VLOOKUP(C60,Sifranti!P:R,2,FALSE))","v":""},"","",{"$f":"IF(C60=\"\",\"\",VLOOKUP(C60,Sifranti!P:R,3,FALSE))","v":""},{"$f":"IF(N60=\"\",\"\",VLOOKUP(N60,Sifranti!D:F,2,FALSE))","v":""},{"$f":"IF(AK60=\"\",\"\",VLOOKUP(AK60,Sifranti!V:Y,2,FALSE))","v":""},{"$f":"IF(AK60=\"\",\"\",IF(VLOOKUP(AK60,Sifranti!V:Y,3,FALSE)=\"\",\"\",VLOOKUP(AK60,Sifranti!V:Y,3,FALSE)))","v":""},{"$f":"IF(AK60=\"\",\"\",VLOOKUP(AK60,Sifranti!V:Y,4,FALSE))","v":""}]
[{"$f":"IF(B61=\"\",\"\",VLOOKUP(B61,Sifranti!K:L,2,FALSE))","v":""},null,null,null,null,null,null,null,null,"",{"$f":"IF(L61=\"\",\"\",VLOOKUP(L61,Sifranti!A:B,2,FALSE))","v":""},null,{"$f":"IF(N61=\"\",\"\",VLOOKUP(N61,Sifranti!D:F,3,FALSE))","v":""},null,{"$f":"IF(P61=\"\",\"\",VLOOKUP(P61,Sifranti!H:I,2,FALSE))","v":""},null,null,null,null,null,null,null,null,null,null,null,null,null,null,null,null,null,null,null,null,null,null,null,null,null,{"$f":"IF(AN61=\"\",\"\",IF(LEN(VLOOKUP(AN61,Sifranti!BY:BZ,2,FALSE))=0,\"\",VLOOKUP(AN61,Sifranti!BY:BZ,2,FALSE)))","v":""},{"$f":"IF(C61=\"\",\"\",VLOOKUP(C61,Sifranti!P:R,2,FALSE))","v":""},"","",{"$f":"IF(C61=\"\",\"\",VLOOKUP(C61,Sifranti!P:R,3,FALSE))","v":""},{"$f":"IF(N61=\"\",\"\",VLOOKUP(N61,Sifranti!D:F,2,FALSE))","v":""},{"$f":"IF(AK61=\"\",\"\",VLOOKUP(AK61,Sifranti!V:Y,2,FALSE))","v":""},{"$f":"IF(AK61=\"\",\"\",IF(VLOOKUP(AK61,Sifranti!V:Y,3,FALSE)=\"\",\"\",VLOOKUP(AK61,Sifranti!V:Y,3,FALSE)))","v":""},{"$f":"IF(AK61=\"\",\"\",VLOOKUP(AK61,Sifranti!V:Y,4,FALSE))","v":""}]
[{"$f":"IF(B62=\"\",\"\",VLOOKUP(B62,Sifranti!K:L,2,FALSE))","v":""},null,null,null,null,null,null,null,null,"",{"$f":"IF(L62=\"\",\"\",VLOOKUP(L62,Sifranti!A:B,2,FALSE))","v":""},null,{"$f":"IF(N62=\"\",\"\",VLOOKUP(N62,Sifranti!D:F,3,FALSE))","v":""},null,{"$f":"IF(P62=\"\",\"\",VLOOKUP(P62,Sifranti!H:I,2,FALSE))","v":""},null,null,null,null,null,null,null,null,null,null,null,null,null,null,null,null,null,null,null,null,null,null,null,null,null,{"$f":"IF(AN62=\"\",\"\",IF(LEN(VLOOKUP(AN62,Sifranti!BY:BZ,2,FALSE))=0,\"\",VLOOKUP(AN62,Sifranti!BY:BZ,2,FALSE)))","v":""},{"$f":"IF(C62=\"\",\"\",VLOOKUP(C62,Sifranti!P:R,2,FALSE))","v":""},"","",{"$f":"IF(C62=\"\",\"\",VLOOKUP(C62,Sifranti!P:R,3,FALSE))","v":""},{"$f":"IF(N62=\"\",\"\",VLOOKUP(N62,Sifranti!D:F,2,FALSE))","v":""},{"$f":"IF(AK62=\"\",\"\",VLOOKUP(AK62,Sifranti!V:Y,2,FALSE))","v":""},{"$f":"IF(AK62=\"\",\"\",IF(VLOOKUP(AK62,Sifranti!V:Y,3,FALSE)=\"\",\"\",VLOOKUP(AK62,Sifranti!V:Y,3,FALSE)))","v":""},{"$f":"IF(AK62=\"\",\"\",VLOOKUP(AK62,Sifranti!V:Y,4,FALSE))","v":""}]
[{"$f":"IF(B63=\"\",\"\",VLOOKUP(B63,Sifranti!K:L,2,FALSE))","v":""},null,null,null,null,null,null,null,null,"",{"$f":"IF(L63=\"\",\"\",VLOOKUP(L63,Sifranti!A:B,2,FALSE))","v":""},null,{"$f":"IF(N63=\"\",\"\",VLOOKUP(N63,Sifranti!D:F,3,FALSE))","v":""},null,{"$f":"IF(P63=\"\",\"\",VLOOKUP(P63,Sifranti!H:I,2,FALSE))","v":""},null,null,null,null,null,null,null,null,null,null,null,null,null,null,null,null,null,null,null,null,null,null,null,null,null,{"$f":"IF(AN63=\"\",\"\",IF(LEN(VLOOKUP(AN63,Sifranti!BY:BZ,2,FALSE))=0,\"\",VLOOKUP(AN63,Sifranti!BY:BZ,2,FALSE)))","v":""},{"$f":"IF(C63=\"\",\"\",VLOOKUP(C63,Sifranti!P:R,2,FALSE))","v":""},"","",{"$f":"IF(C63=\"\",\"\",VLOOKUP(C63,Sifranti!P:R,3,FALSE))","v":""},{"$f":"IF(N63=\"\",\"\",VLOOKUP(N63,Sifranti!D:F,2,FALSE))","v":""},{"$f":"IF(AK63=\"\",\"\",VLOOKUP(AK63,Sifranti!V:Y,2,FALSE))","v":""},{"$f":"IF(AK63=\"\",\"\",IF(VLOOKUP(AK63,Sifranti!V:Y,3,FALSE)=\"\",\"\",VLOOKUP(AK63,Sifranti!V:Y,3,FALSE)))","v":""},{"$f":"IF(AK63=\"\",\"\",VLOOKUP(AK63,Sifranti!V:Y,4,FALSE))","v":""}]
[{"$f":"IF(B64=\"\",\"\",VLOOKUP(B64,Sifranti!K:L,2,FALSE))","v":""},null,null,null,null,null,null,null,null,"",{"$f":"IF(L64=\"\",\"\",VLOOKUP(L64,Sifranti!A:B,2,FALSE))","v":""},null,{"$f":"IF(N64=\"\",\"\",VLOOKUP(N64,Sifranti!D:F,3,FALSE))","v":""},null,{"$f":"IF(P64=\"\",\"\",VLOOKUP(P64,Sifranti!H:I,2,FALSE))","v":""},null,null,null,null,null,null,null,null,null,null,null,null,null,null,null,null,null,null,null,null,null,null,null,null,null,{"$f":"IF(AN64=\"\",\"\",IF(LEN(VLOOKUP(AN64,Sifranti!BY:BZ,2,FALSE))=0,\"\",VLOOKUP(AN64,Sifranti!BY:BZ,2,FALSE)))","v":""},{"$f":"IF(C64=\"\",\"\",VLOOKUP(C64,Sifranti!P:R,2,FALSE))","v":""},"","",{"$f":"IF(C64=\"\",\"\",VLOOKUP(C64,Sifranti!P:R,3,FALSE))","v":""},{"$f":"IF(N64=\"\",\"\",VLOOKUP(N64,Sifranti!D:F,2,FALSE))","v":""},{"$f":"IF(AK64=\"\",\"\",VLOOKUP(AK64,Sifranti!V:Y,2,FALSE))","v":""},{"$f":"IF(AK64=\"\",\"\",IF(VLOOKUP(AK64,Sifranti!V:Y,3,FALSE)=\"\",\"\",VLOOKUP(AK64,Sifranti!V:Y,3,FALSE)))","v":""},{"$f":"IF(AK64=\"\",\"\",VLOOKUP(AK64,Sifranti!V:Y,4,FALSE))","v":""}]
[{"$f":"IF(B65=\"\",\"\",VLOOKUP(B65,Sifranti!K:L,2,FALSE))","v":""},null,null,null,null,null,null,null,null,"",{"$f":"IF(L65=\"\",\"\",VLOOKUP(L65,Sifranti!A:B,2,FALSE))","v":""},null,{"$f":"IF(N65=\"\",\"\",VLOOKUP(N65,Sifranti!D:F,3,FALSE))","v":""},null,{"$f":"IF(P65=\"\",\"\",VLOOKUP(P65,Sifranti!H:I,2,FALSE))","v":""},null,null,null,null,null,null,null,null,null,null,null,null,null,null,null,null,null,null,null,null,null,null,null,null,null,{"$f":"IF(AN65=\"\",\"\",IF(LEN(VLOOKUP(AN65,Sifranti!BY:BZ,2,FALSE))=0,\"\",VLOOKUP(AN65,Sifranti!BY:BZ,2,FALSE)))","v":""},{"$f":"IF(C65=\"\",\"\",VLOOKUP(C65,Sifranti!P:R,2,FALSE))","v":""},"","",{"$f":"IF(C65=\"\",\"\",VLOOKUP(C65,Sifranti!P:R,3,FALSE))","v":""},{"$f":"IF(N65=\"\",\"\",VLOOKUP(N65,Sifranti!D:F,2,FALSE))","v":""},{"$f":"IF(AK65=\"\",\"\",VLOOKUP(AK65,Sifranti!V:Y,2,FALSE))","v":""},{"$f":"IF(AK65=\"\",\"\",IF(VLOOKUP(AK65,Sifranti!V:Y,3,FALSE)=\"\",\"\",VLOOKUP(AK65,Sifranti!V:Y,3,FALSE)))","v":""},{"$f":"IF(AK65=\"\",\"\",VLOOKUP(AK65,Sifranti!V:Y,4,FALSE))","v":""}]
[{"$f":"IF(B66=\"\",\"\",VLOOKUP(B66,Sifranti!K:L,2,FALSE))","v":""},null,null,null,null,null,null,null,null,{"$f":"IF(H66=\"\",\"\",YEAR(H66))","v":""},{"$f":"IF(L66=\"\",\"\",VLOOKUP(L66,Sifranti!A:B,2,FALSE))","v":""},null,{"$f":"IF(N66=\"\",\"\",VLOOKUP(N66,Sifranti!D:F,3,FALSE))","v":""},null,{"$f":"IF(P66=\"\",\"\",VLOOKUP(P66,Sifranti!H:I,2,FALSE))","v":""},null,null,null,null,null,null,null,null,null,null,null,null,null,null,null,null,null,null,null,null,null,null,null,null,null,{"$f":"IF(AN66=\"\",\"\",IF(LEN(VLOOKUP(AN66,Sifranti!BY:BZ,2,FALSE))=0,\"\",VLOOKUP(AN66,Sifranti!BY:BZ,2,FALSE)))","v":""},{"$f":"IF(C66=\"\",\"\",VLOOKUP(C66,Sifranti!P:R,2,FALSE))","v":""},{"$f":"IF(V66>0,IF(AS66=\"de minimis\",T66/S66*100,U66/AD66*100),\"\")","v":""},{"$f":"IF(AE66>0,AE66/U66*100,\"\")","v":""},{"$f":"IF(C66=\"\",\"\",VLOOKUP(C66,Sifranti!P:R,3,FALSE))","v":""},{"$f":"IF(N66=\"\",\"\",VLOOKUP(N66,Sifranti!D:F,2,FALSE))","v":""},{"$f":"IF(AK66=\"\",\"\",VLOOKUP(AK66,Sifranti!V:Y,2,FALSE))","v":""},{"$f":"IF(AK66=\"\",\"\",IF(VLOOKUP(AK66,Sifranti!V:Y,3,FALSE)=\"\",\"\",VLOOKUP(AK66,Sifranti!V:Y,3,FALSE)))","v":""},{"$f":"IF(AK66=\"\",\"\",VLOOKUP(AK66,Sifranti!V:Y,4,FALSE))","v":""}]
[{"$f":"IF(B67=\"\",\"\",VLOOKUP(B67,Sifranti!K:L,2,FALSE))","v":""},null,null,null,null,null,null,null,null,"",{"$f":"IF(L67=\"\",\"\",VLOOKUP(L67,Sifranti!A:B,2,FALSE))","v":""},null,{"$f":"IF(N67=\"\",\"\",VLOOKUP(N67,Sifranti!D:F,3,FALSE))","v":""},null,{"$f":"IF(P67=\"\",\"\",VLOOKUP(P67,Sifranti!H:I,2,FALSE))","v":""},null,null,null,null,null,null,null,null,null,null,null,null,null,null,null,null,null,null,null,null,null,null,null,null,null,{"$f":"IF(AN67=\"\",\"\",IF(LEN(VLOOKUP(AN67,Sifranti!BY:BZ,2,FALSE))=0,\"\",VLOOKUP(AN67,Sifranti!BY:BZ,2,FALSE)))","v":""},{"$f":"IF(C67=\"\",\"\",VLOOKUP(C67,Sifranti!P:R,2,FALSE))","v":""},"","",{"$f":"IF(C67=\"\",\"\",VLOOKUP(C67,Sifranti!P:R,3,FALSE))","v":""},{"$f":"IF(N67=\"\",\"\",VLOOKUP(N67,Sifranti!D:F,2,FALSE))","v":""},{"$f":"IF(AK67=\"\",\"\",VLOOKUP(AK67,Sifranti!V:Y,2,FALSE))","v":""},{"$f":"IF(AK67=\"\",\"\",IF(VLOOKUP(AK67,Sifranti!V:Y,3,FALSE)=\"\",\"\",VLOOKUP(AK67,Sifranti!V:Y,3,FALSE)))","v":""},{"$f":"IF(AK67=\"\",\"\",VLOOKUP(AK67,Sifranti!V:Y,4,FALSE))","v":""}]
[{"$f":"IF(B68=\"\",\"\",VLOOKUP(B68,Sifranti!K:L,2,FALSE))","v":""},null,null,null,null,null,null,null,null,"",{"$f":"IF(L68=\"\",\"\",VLOOKUP(L68,Sifranti!A:B,2,FALSE))","v":""},null,{"$f":"IF(N68=\"\",\"\",VLOOKUP(N68,Sifranti!D:F,3,FALSE))","v":""},null,{"$f":"IF(P68=\"\",\"\",VLOOKUP(P68,Sifranti!H:I,2,FALSE))","v":""},null,null,null,null,null,null,null,null,null,null,null,null,null,null,null,null,null,null,null,null,null,null,null,null,null,{"$f":"IF(AN68=\"\",\"\",IF(LEN(VLOOKUP(AN68,Sifranti!BY:BZ,2,FALSE))=0,\"\",VLOOKUP(AN68,Sifranti!BY:BZ,2,FALSE)))","v":""},{"$f":"IF(C68=\"\",\"\",VLOOKUP(C68,Sifranti!P:R,2,FALSE))","v":""},"","",{"$f":"IF(C68=\"\",\"\",VLOOKUP(C68,Sifranti!P:R,3,FALSE))","v":""},{"$f":"IF(N68=\"\",\"\",VLOOKUP(N68,Sifranti!D:F,2,FALSE))","v":""},{"$f":"IF(AK68=\"\",\"\",VLOOKUP(AK68,Sifranti!V:Y,2,FALSE))","v":""},{"$f":"IF(AK68=\"\",\"\",IF(VLOOKUP(AK68,Sifranti!V:Y,3,FALSE)=\"\",\"\",VLOOKUP(AK68,Sifranti!V:Y,3,FALSE)))","v":""},{"$f":"IF(AK68=\"\",\"\",VLOOKUP(AK68,Sifranti!V:Y,4,FALSE))","v":""}]
[{"$f":"IF(B69=\"\",\"\",VLOOKUP(B69,Sifranti!K:L,2,FALSE))","v":""},null,null,null,null,null,null,null,null,"",{"$f":"IF(L69=\"\",\"\",VLOOKUP(L69,Sifranti!A:B,2,FALSE))","v":""},null,{"$f":"IF(N69=\"\",\"\",VLOOKUP(N69,Sifranti!D:F,3,FALSE))","v":""},null,{"$f":"IF(P69=\"\",\"\",VLOOKUP(P69,Sifranti!H:I,2,FALSE))","v":""},null,null,null,null,null,null,null,null,null,null,null,null,null,null,null,null,null,null,null,null,null,null,null,null,null,{"$f":"IF(AN69=\"\",\"\",IF(LEN(VLOOKUP(AN69,Sifranti!BY:BZ,2,FALSE))=0,\"\",VLOOKUP(AN69,Sifranti!BY:BZ,2,FALSE)))","v":""},{"$f":"IF(C69=\"\",\"\",VLOOKUP(C69,Sifranti!P:R,2,FALSE))","v":""},"","",{"$f":"IF(C69=\"\",\"\",VLOOKUP(C69,Sifranti!P:R,3,FALSE))","v":""},{"$f":"IF(N69=\"\",\"\",VLOOKUP(N69,Sifranti!D:F,2,FALSE))","v":""},{"$f":"IF(AK69=\"\",\"\",VLOOKUP(AK69,Sifranti!V:Y,2,FALSE))","v":""},{"$f":"IF(AK69=\"\",\"\",IF(VLOOKUP(AK69,Sifranti!V:Y,3,FALSE)=\"\",\"\",VLOOKUP(AK69,Sifranti!V:Y,3,FALSE)))","v":""},{"$f":"IF(AK69=\"\",\"\",VLOOKUP(AK69,Sifranti!V:Y,4,FALSE))","v":""}]
[{"$f":"IF(B70=\"\",\"\",VLOOKUP(B70,Sifranti!K:L,2,FALSE))","v":""},null,null,null,null,null,null,null,null,"",{"$f":"IF(L70=\"\",\"\",VLOOKUP(L70,Sifranti!A:B,2,FALSE))","v":""},null,{"$f":"IF(N70=\"\",\"\",VLOOKUP(N70,Sifranti!D:F,3,FALSE))","v":""},null,{"$f":"IF(P70=\"\",\"\",VLOOKUP(P70,Sifranti!H:I,2,FALSE))","v":""},null,null,null,null,null,null,null,null,null,null,null,null,null,null,null,null,null,null,null,null,null,null,null,null,null,{"$f":"IF(AN70=\"\",\"\",IF(LEN(VLOOKUP(AN70,Sifranti!BY:BZ,2,FALSE))=0,\"\",VLOOKUP(AN70,Sifranti!BY:BZ,2,FALSE)))","v":""},{"$f":"IF(C70=\"\",\"\",VLOOKUP(C70,Sifranti!P:R,2,FALSE))","v":""},"","",{"$f":"IF(C70=\"\",\"\",VLOOKUP(C70,Sifranti!P:R,3,FALSE))","v":""},{"$f":"IF(N70=\"\",\"\",VLOOKUP(N70,Sifranti!D:F,2,FALSE))","v":""},{"$f":"IF(AK70=\"\",\"\",VLOOKUP(AK70,Sifranti!V:Y,2,FALSE))","v":""},{"$f":"IF(AK70=\"\",\"\",IF(VLOOKUP(AK70,Sifranti!V:Y,3,FALSE)=\"\",\"\",VLOOKUP(AK70,Sifranti!V:Y,3,FALSE)))","v":""},{"$f":"IF(AK70=\"\",\"\",VLOOKUP(AK70,Sifranti!V:Y,4,FALSE))","v":""}]
[{"$f":"IF(B71=\"\",\"\",VLOOKUP(B71,Sifranti!K:L,2,FALSE))","v":""},null,null,null,null,null,null,null,null,"",{"$f":"IF(L71=\"\",\"\",VLOOKUP(L71,Sifranti!A:B,2,FALSE))","v":""},null,{"$f":"IF(N71=\"\",\"\",VLOOKUP(N71,Sifranti!D:F,3,FALSE))","v":""},null,{"$f":"IF(P71=\"\",\"\",VLOOKUP(P71,Sifranti!H:I,2,FALSE))","v":""},null,null,null,null,null,null,null,null,null,null,null,null,null,null,null,null,null,null,null,null,null,null,null,null,null,{"$f":"IF(AN71=\"\",\"\",IF(LEN(VLOOKUP(AN71,Sifranti!BY:BZ,2,FALSE))=0,\"\",VLOOKUP(AN71,Sifranti!BY:BZ,2,FALSE)))","v":""},{"$f":"IF(C71=\"\",\"\",VLOOKUP(C71,Sifranti!P:R,2,FALSE))","v":""},"","",{"$f":"IF(C71=\"\",\"\",VLOOKUP(C71,Sifranti!P:R,3,FALSE))","v":""},{"$f":"IF(N71=\"\",\"\",VLOOKUP(N71,Sifranti!D:F,2,FALSE))","v":""},{"$f":"IF(AK71=\"\",\"\",VLOOKUP(AK71,Sifranti!V:Y,2,FALSE))","v":""},{"$f":"IF(AK71=\"\",\"\",IF(VLOOKUP(AK71,Sifranti!V:Y,3,FALSE)=\"\",\"\",VLOOKUP(AK71,Sifranti!V:Y,3,FALSE)))","v":""},{"$f":"IF(AK71=\"\",\"\",VLOOKUP(AK71,Sifranti!V:Y,4,FALSE))","v":""}]
[{"$f":"IF(B72=\"\",\"\",VLOOKUP(B72,Sifranti!K:L,2,FALSE))","v":""},null,null,null,null,null,null,null,null,"",{"$f":"IF(L72=\"\",\"\",VLOOKUP(L72,Sifranti!A:B,2,FALSE))","v":""},null,{"$f":"IF(N72=\"\",\"\",VLOOKUP(N72,Sifranti!D:F,3,FALSE))","v":""},null,{"$f":"IF(P72=\"\",\"\",VLOOKUP(P72,Sifranti!H:I,2,FALSE))","v":""},null,null,null,null,null,null,null,null,null,null,null,null,null,null,null,null,null,null,null,null,null,null,null,null,null,{"$f":"IF(AN72=\"\",\"\",IF(LEN(VLOOKUP(AN72,Sifranti!BY:BZ,2,FALSE))=0,\"\",VLOOKUP(AN72,Sifranti!BY:BZ,2,FALSE)))","v":""},{"$f":"IF(C72=\"\",\"\",VLOOKUP(C72,Sifranti!P:R,2,FALSE))","v":""},"","",{"$f":"IF(C72=\"\",\"\",VLOOKUP(C72,Sifranti!P:R,3,FALSE))","v":""},{"$f":"IF(N72=\"\",\"\",VLOOKUP(N72,Sifranti!D:F,2,FALSE))","v":""},{"$f":"IF(AK72=\"\",\"\",VLOOKUP(AK72,Sifranti!V:Y,2,FALSE))","v":""},{"$f":"IF(AK72=\"\",\"\",IF(VLOOKUP(AK72,Sifranti!V:Y,3,FALSE)=\"\",\"\",VLOOKUP(AK72,Sifranti!V:Y,3,FALSE)))","v":""},{"$f":"IF(AK72=\"\",\"\",VLOOKUP(AK72,Sifranti!V:Y,4,FALSE))","v":""}]
[{"$f":"IF(B73=\"\",\"\",VLOOKUP(B73,Sifranti!K:L,2,FALSE))","v":""},null,null,null,null,null,null,null,null,"",{"$f":"IF(L73=\"\",\"\",VLOOKUP(L73,Sifranti!A:B,2,FALSE))","v":""},null,{"$f":"IF(N73=\"\",\"\",VLOOKUP(N73,Sifranti!D:F,3,FALSE))","v":""},null,{"$f":"IF(P73=\"\",\"\",VLOOKUP(P73,Sifranti!H:I,2,FALSE))","v":""},null,null,null,null,null,null,null,null,null,null,null,null,null,null,null,null,null,null,null,null,null,null,null,null,null,{"$f":"IF(AN73=\"\",\"\",IF(LEN(VLOOKUP(AN73,Sifranti!BY:BZ,2,FALSE))=0,\"\",VLOOKUP(AN73,Sifranti!BY:BZ,2,FALSE)))","v":""},{"$f":"IF(C73=\"\",\"\",VLOOKUP(C73,Sifranti!P:R,2,FALSE))","v":""},"","",{"$f":"IF(C73=\"\",\"\",VLOOKUP(C73,Sifranti!P:R,3,FALSE))","v":""},{"$f":"IF(N73=\"\",\"\",VLOOKUP(N73,Sifranti!D:F,2,FALSE))","v":""},{"$f":"IF(AK73=\"\",\"\",VLOOKUP(AK73,Sifranti!V:Y,2,FALSE))","v":""},{"$f":"IF(AK73=\"\",\"\",IF(VLOOKUP(AK73,Sifranti!V:Y,3,FALSE)=\"\",\"\",VLOOKUP(AK73,Sifranti!V:Y,3,FALSE)))","v":""},{"$f":"IF(AK73=\"\",\"\",VLOOKUP(AK73,Sifranti!V:Y,4,FALSE))","v":""}]
[{"$f":"IF(B74=\"\",\"\",VLOOKUP(B74,Sifranti!K:L,2,FALSE))","v":""},null,null,null,null,null,null,null,null,"",{"$f":"IF(L74=\"\",\"\",VLOOKUP(L74,Sifranti!A:B,2,FALSE))","v":""},null,{"$f":"IF(N74=\"\",\"\",VLOOKUP(N74,Sifranti!D:F,3,FALSE))","v":""},null,{"$f":"IF(P74=\"\",\"\",VLOOKUP(P74,Sifranti!H:I,2,FALSE))","v":""},null,null,null,null,null,null,null,null,null,null,null,null,null,null,null,null,null,null,null,null,null,null,null,null,null,{"$f":"IF(AN74=\"\",\"\",IF(LEN(VLOOKUP(AN74,Sifranti!BY:BZ,2,FALSE))=0,\"\",VLOOKUP(AN74,Sifranti!BY:BZ,2,FALSE)))","v":""},{"$f":"IF(C74=\"\",\"\",VLOOKUP(C74,Sifranti!P:R,2,FALSE))","v":""},"","",{"$f":"IF(C74=\"\",\"\",VLOOKUP(C74,Sifranti!P:R,3,FALSE))","v":""},{"$f":"IF(N74=\"\",\"\",VLOOKUP(N74,Sifranti!D:F,2,FALSE))","v":""},{"$f":"IF(AK74=\"\",\"\",VLOOKUP(AK74,Sifranti!V:Y,2,FALSE))","v":""},{"$f":"IF(AK74=\"\",\"\",IF(VLOOKUP(AK74,Sifranti!V:Y,3,FALSE)=\"\",\"\",VLOOKUP(AK74,Sifranti!V:Y,3,FALSE)))","v":""},{"$f":"IF(AK74=\"\",\"\",VLOOKUP(AK74,Sifranti!V:Y,4,FALSE))","v":""}]
[{"$f":"IF(B75=\"\",\"\",VLOOKUP(B75,Sifranti!K:L,2,FALSE))","v":""},null,null,null,null,null,null,null,null,"",{"$f":"IF(L75=\"\",\"\",VLOOKUP(L75,Sifranti!A:B,2,FALSE))","v":""},null,{"$f":"IF(N75=\"\",\"\",VLOOKUP(N75,Sifranti!D:F,3,FALSE))","v":""},null,{"$f":"IF(P75=\"\",\"\",VLOOKUP(P75,Sifranti!H:I,2,FALSE))","v":""},null,null,null,null,null,null,null,null,null,null,null,null,null,null,null,null,null,null,null,null,null,null,null,null,null,{"$f":"IF(AN75=\"\",\"\",IF(LEN(VLOOKUP(AN75,Sifranti!BY:BZ,2,FALSE))=0,\"\",VLOOKUP(AN75,Sifranti!BY:BZ,2,FALSE)))","v":""},{"$f":"IF(C75=\"\",\"\",VLOOKUP(C75,Sifranti!P:R,2,FALSE))","v":""},"","",{"$f":"IF(C75=\"\",\"\",VLOOKUP(C75,Sifranti!P:R,3,FALSE))","v":""},{"$f":"IF(N75=\"\",\"\",VLOOKUP(N75,Sifranti!D:F,2,FALSE))","v":""},{"$f":"IF(AK75=\"\",\"\",VLOOKUP(AK75,Sifranti!V:Y,2,FALSE))","v":""},{"$f":"IF(AK75=\"\",\"\",IF(VLOOKUP(AK75,Sifranti!V:Y,3,FALSE)=\"\",\"\",VLOOKUP(AK75,Sifranti!V:Y,3,FALSE)))","v":""},{"$f":"IF(AK75=\"\",\"\",VLOOKUP(AK75,Sifranti!V:Y,4,FALSE))","v":""}]
[{"$f":"IF(B76=\"\",\"\",VLOOKUP(B76,Sifranti!K:L,2,FALSE))","v":""},null,null,null,null,null,null,null,null,"",{"$f":"IF(L76=\"\",\"\",VLOOKUP(L76,Sifranti!A:B,2,FALSE))","v":""},null,{"$f":"IF(N76=\"\",\"\",VLOOKUP(N76,Sifranti!D:F,3,FALSE))","v":""},null,{"$f":"IF(P76=\"\",\"\",VLOOKUP(P76,Sifranti!H:I,2,FALSE))","v":""},null,null,null,null,null,null,null,null,null,null,null,null,null,null,null,null,null,null,null,null,null,null,null,null,null,{"$f":"IF(AN76=\"\",\"\",IF(LEN(VLOOKUP(AN76,Sifranti!BY:BZ,2,FALSE))=0,\"\",VLOOKUP(AN76,Sifranti!BY:BZ,2,FALSE)))","v":""},{"$f":"IF(C76=\"\",\"\",VLOOKUP(C76,Sifranti!P:R,2,FALSE))","v":""},"","",{"$f":"IF(C76=\"\",\"\",VLOOKUP(C76,Sifranti!P:R,3,FALSE))","v":""},{"$f":"IF(N76=\"\",\"\",VLOOKUP(N76,Sifranti!D:F,2,FALSE))","v":""},{"$f":"IF(AK76=\"\",\"\",VLOOKUP(AK76,Sifranti!V:Y,2,FALSE))","v":""},{"$f":"IF(AK76=\"\",\"\",IF(VLOOKUP(AK76,Sifranti!V:Y,3,FALSE)=\"\",\"\",VLOOKUP(AK76,Sifranti!V:Y,3,FALSE)))","v":""},{"$f":"IF(AK76=\"\",\"\",VLOOKUP(AK76,Sifranti!V:Y,4,FALSE))","v":""}]
[{"$f":"IF(B77=\"\",\"\",VLOOKUP(B77,Sifranti!K:L,2,FALSE))","v":""},null,null,null,null,null,null,null,null,"",{"$f":"IF(L77=\"\",\"\",VLOOKUP(L77,Sifranti!A:B,2,FALSE))","v":""},null,{"$f":"IF(N77=\"\",\"\",VLOOKUP(N77,Sifranti!D:F,3,FALSE))","v":""},null,{"$f":"IF(P77=\"\",\"\",VLOOKUP(P77,Sifranti!H:I,2,FALSE))","v":""},null,null,null,null,null,null,null,null,null,null,null,null,null,null,null,null,null,null,null,null,null,null,null,null,null,{"$f":"IF(AN77=\"\",\"\",IF(LEN(VLOOKUP(AN77,Sifranti!BY:BZ,2,FALSE))=0,\"\",VLOOKUP(AN77,Sifranti!BY:BZ,2,FALSE)))","v":""},{"$f":"IF(C77=\"\",\"\",VLOOKUP(C77,Sifranti!P:R,2,FALSE))","v":""},"","",{"$f":"IF(C77=\"\",\"\",VLOOKUP(C77,Sifranti!P:R,3,FALSE))","v":""},{"$f":"IF(N77=\"\",\"\",VLOOKUP(N77,Sifranti!D:F,2,FALSE))","v":""},{"$f":"IF(AK77=\"\",\"\",VLOOKUP(AK77,Sifranti!V:Y,2,FALSE))","v":""},{"$f":"IF(AK77=\"\",\"\",IF(VLOOKUP(AK77,Sifranti!V:Y,3,FALSE)=\"\",\"\",VLOOKUP(AK77,Sifranti!V:Y,3,FALSE)))","v":""},{"$f":"IF(AK77=\"\",\"\",VLOOKUP(AK77,Sifranti!V:Y,4,FALSE))","v":""}]
[{"$f":"IF(B78=\"\",\"\",VLOOKUP(B78,Sifranti!K:L,2,FALSE))","v":""},null,null,null,null,null,null,null,null,"",{"$f":"IF(L78=\"\",\"\",VLOOKUP(L78,Sifranti!A:B,2,FALSE))","v":""},null,{"$f":"IF(N78=\"\",\"\",VLOOKUP(N78,Sifranti!D:F,3,FALSE))","v":""},null,{"$f":"IF(P78=\"\",\"\",VLOOKUP(P78,Sifranti!H:I,2,FALSE))","v":""},null,null,null,null,null,null,null,null,null,null,null,null,null,null,null,null,null,null,null,null,null,null,null,null,null,{"$f":"IF(AN78=\"\",\"\",IF(LEN(VLOOKUP(AN78,Sifranti!BY:BZ,2,FALSE))=0,\"\",VLOOKUP(AN78,Sifranti!BY:BZ,2,FALSE)))","v":""},{"$f":"IF(C78=\"\",\"\",VLOOKUP(C78,Sifranti!P:R,2,FALSE))","v":""},"","",{"$f":"IF(C78=\"\",\"\",VLOOKUP(C78,Sifranti!P:R,3,FALSE))","v":""},{"$f":"IF(N78=\"\",\"\",VLOOKUP(N78,Sifranti!D:F,2,FALSE))","v":""},{"$f":"IF(AK78=\"\",\"\",VLOOKUP(AK78,Sifranti!V:Y,2,FALSE))","v":""},{"$f":"IF(AK78=\"\",\"\",IF(VLOOKUP(AK78,Sifranti!V:Y,3,FALSE)=\"\",\"\",VLOOKUP(AK78,Sifranti!V:Y,3,FALSE)))","v":""},{"$f":"IF(AK78=\"\",\"\",VLOOKUP(AK78,Sifranti!V:Y,4,FALSE))","v":""}]
[{"$f":"IF(B79=\"\",\"\",VLOOKUP(B79,Sifranti!K:L,2,FALSE))","v":""},null,null,null,null,null,null,null,null,"",{"$f":"IF(L79=\"\",\"\",VLOOKUP(L79,Sifranti!A:B,2,FALSE))","v":""},null,{"$f":"IF(N79=\"\",\"\",VLOOKUP(N79,Sifranti!D:F,3,FALSE))","v":""},null,{"$f":"IF(P79=\"\",\"\",VLOOKUP(P79,Sifranti!H:I,2,FALSE))","v":""},null,null,null,null,null,null,null,null,null,null,null,null,null,null,null,null,null,null,null,null,null,null,null,null,null,{"$f":"IF(AN79=\"\",\"\",IF(LEN(VLOOKUP(AN79,Sifranti!BY:BZ,2,FALSE))=0,\"\",VLOOKUP(AN79,Sifranti!BY:BZ,2,FALSE)))","v":""},{"$f":"IF(C79=\"\",\"\",VLOOKUP(C79,Sifranti!P:R,2,FALSE))","v":""},"","",{"$f":"IF(C79=\"\",\"\",VLOOKUP(C79,Sifranti!P:R,3,FALSE))","v":""},{"$f":"IF(N79=\"\",\"\",VLOOKUP(N79,Sifranti!D:F,2,FALSE))","v":""},{"$f":"IF(AK79=\"\",\"\",VLOOKUP(AK79,Sifranti!V:Y,2,FALSE))","v":""},{"$f":"IF(AK79=\"\",\"\",IF(VLOOKUP(AK79,Sifranti!V:Y,3,FALSE)=\"\",\"\",VLOOKUP(AK79,Sifranti!V:Y,3,FALSE)))","v":""},{"$f":"IF(AK79=\"\",\"\",VLOOKUP(AK79,Sifranti!V:Y,4,FALSE))","v":""}]
[{"$f":"IF(B80=\"\",\"\",VLOOKUP(B80,Sifranti!K:L,2,FALSE))","v":""},null,null,null,null,null,null,null,null,"",{"$f":"IF(L80=\"\",\"\",VLOOKUP(L80,Sifranti!A:B,2,FALSE))","v":""},null,{"$f":"IF(N80=\"\",\"\",VLOOKUP(N80,Sifranti!D:F,3,FALSE))","v":""},null,{"$f":"IF(P80=\"\",\"\",VLOOKUP(P80,Sifranti!H:I,2,FALSE))","v":""},null,null,null,null,null,null,null,null,null,null,null,null,null,null,null,null,null,null,null,null,null,null,null,null,null,{"$f":"IF(AN80=\"\",\"\",IF(LEN(VLOOKUP(AN80,Sifranti!BY:BZ,2,FALSE))=0,\"\",VLOOKUP(AN80,Sifranti!BY:BZ,2,FALSE)))","v":""},{"$f":"IF(C80=\"\",\"\",VLOOKUP(C80,Sifranti!P:R,2,FALSE))","v":""},"","",{"$f":"IF(C80=\"\",\"\",VLOOKUP(C80,Sifranti!P:R,3,FALSE))","v":""},{"$f":"IF(N80=\"\",\"\",VLOOKUP(N80,Sifranti!D:F,2,FALSE))","v":""},{"$f":"IF(AK80=\"\",\"\",VLOOKUP(AK80,Sifranti!V:Y,2,FALSE))","v":""},{"$f":"IF(AK80=\"\",\"\",IF(VLOOKUP(AK80,Sifranti!V:Y,3,FALSE)=\"\",\"\",VLOOKUP(AK80,Sifranti!V:Y,3,FALSE)))","v":""},{"$f":"IF(AK80=\"\",\"\",VLOOKUP(AK80,Sifranti!V:Y,4,FALSE))","v":""}]
[{"$f":"IF(B81=\"\",\"\",VLOOKUP(B81,Sifranti!K:L,2,FALSE))","v":""},null,null,null,null,null,null,null,null,"",{"$f":"IF(L81=\"\",\"\",VLOOKUP(L81,Sifranti!A:B,2,FALSE))","v":""},null,{"$f":"IF(N81=\"\",\"\",VLOOKUP(N81,Sifranti!D:F,3,FALSE))","v":""},null,{"$f":"IF(P81=\"\",\"\",VLOOKUP(P81,Sifranti!H:I,2,FALSE))","v":""},null,null,null,null,null,null,null,null,null,null,null,null,null,null,null,null,null,null,null,null,null,null,null,null,null,{"$f":"IF(AN81=\"\",\"\",IF(LEN(VLOOKUP(AN81,Sifranti!BY:BZ,2,FALSE))=0,\"\",VLOOKUP(AN81,Sifranti!BY:BZ,2,FALSE)))","v":""},{"$f":"IF(C81=\"\",\"\",VLOOKUP(C81,Sifranti!P:R,2,FALSE))","v":""},"","",{"$f":"IF(C81=\"\",\"\",VLOOKUP(C81,Sifranti!P:R,3,FALSE))","v":""},{"$f":"IF(N81=\"\",\"\",VLOOKUP(N81,Sifranti!D:F,2,FALSE))","v":""},{"$f":"IF(AK81=\"\",\"\",VLOOKUP(AK81,Sifranti!V:Y,2,FALSE))","v":""},{"$f":"IF(AK81=\"\",\"\",IF(VLOOKUP(AK81,Sifranti!V:Y,3,FALSE)=\"\",\"\",VLOOKUP(AK81,Sifranti!V:Y,3,FALSE)))","v":""},{"$f":"IF(AK81=\"\",\"\",VLOOKUP(AK81,Sifranti!V:Y,4,FALSE))","v":""}]
[{"$f":"IF(B82=\"\",\"\",VLOOKUP(B82,Sifranti!K:L,2,FALSE))","v":""},null,null,null,null,null,null,null,null,"",{"$f":"IF(L82=\"\",\"\",VLOOKUP(L82,Sifranti!A:B,2,FALSE))","v":""},null,{"$f":"IF(N82=\"\",\"\",VLOOKUP(N82,Sifranti!D:F,3,FALSE))","v":""},null,{"$f":"IF(P82=\"\",\"\",VLOOKUP(P82,Sifranti!H:I,2,FALSE))","v":""},null,null,null,null,null,null,null,null,null,null,null,null,null,null,null,null,null,null,null,null,null,null,null,null,null,{"$f":"IF(AN82=\"\",\"\",IF(LEN(VLOOKUP(AN82,Sifranti!BY:BZ,2,FALSE))=0,\"\",VLOOKUP(AN82,Sifranti!BY:BZ,2,FALSE)))","v":""},{"$f":"IF(C82=\"\",\"\",VLOOKUP(C82,Sifranti!P:R,2,FALSE))","v":""},"","",{"$f":"IF(C82=\"\",\"\",VLOOKUP(C82,Sifranti!P:R,3,FALSE))","v":""},{"$f":"IF(N82=\"\",\"\",VLOOKUP(N82,Sifranti!D:F,2,FALSE))","v":""},{"$f":"IF(AK82=\"\",\"\",VLOOKUP(AK82,Sifranti!V:Y,2,FALSE))","v":""},{"$f":"IF(AK82=\"\",\"\",IF(VLOOKUP(AK82,Sifranti!V:Y,3,FALSE)=\"\",\"\",VLOOKUP(AK82,Sifranti!V:Y,3,FALSE)))","v":""},{"$f":"IF(AK82=\"\",\"\",VLOOKUP(AK82,Sifranti!V:Y,4,FALSE))","v":""}]
[{"$f":"IF(B83=\"\",\"\",VLOOKUP(B83,Sifranti!K:L,2,FALSE))","v":""},null,null,null,null,null,null,null,null,"",{"$f":"IF(L83=\"\",\"\",VLOOKUP(L83,Sifranti!A:B,2,FALSE))","v":""},null,{"$f":"IF(N83=\"\",\"\",VLOOKUP(N83,Sifranti!D:F,3,FALSE))","v":""},null,{"$f":"IF(P83=\"\",\"\",VLOOKUP(P83,Sifranti!H:I,2,FALSE))","v":""},null,null,null,null,null,null,null,null,null,null,null,null,null,null,null,null,null,null,null,null,null,null,null,null,null,{"$f":"IF(AN83=\"\",\"\",IF(LEN(VLOOKUP(AN83,Sifranti!BY:BZ,2,FALSE))=0,\"\",VLOOKUP(AN83,Sifranti!BY:BZ,2,FALSE)))","v":""},{"$f":"IF(C83=\"\",\"\",VLOOKUP(C83,Sifranti!P:R,2,FALSE))","v":""},"","",{"$f":"IF(C83=\"\",\"\",VLOOKUP(C83,Sifranti!P:R,3,FALSE))","v":""},{"$f":"IF(N83=\"\",\"\",VLOOKUP(N83,Sifranti!D:F,2,FALSE))","v":""},{"$f":"IF(AK83=\"\",\"\",VLOOKUP(AK83,Sifranti!V:Y,2,FALSE))","v":""},{"$f":"IF(AK83=\"\",\"\",IF(VLOOKUP(AK83,Sifranti!V:Y,3,FALSE)=\"\",\"\",VLOOKUP(AK83,Sifranti!V:Y,3,FALSE)))","v":""},{"$f":"IF(AK83=\"\",\"\",VLOOKUP(AK83,Sifranti!V:Y,4,FALSE))","v":""}]
[{"$f":"IF(B84=\"\",\"\",VLOOKUP(B84,Sifranti!K:L,2,FALSE))","v":""},null,null,null,null,null,null,null,null,"",{"$f":"IF(L84=\"\",\"\",VLOOKUP(L84,Sifranti!A:B,2,FALSE))","v":""},null,{"$f":"IF(N84=\"\",\"\",VLOOKUP(N84,Sifranti!D:F,3,FALSE))","v":""},null,{"$f":"IF(P84=\"\",\"\",VLOOKUP(P84,Sifranti!H:I,2,FALSE))","v":""},null,null,null,null,null,null,null,null,null,null,null,null,null,null,null,null,null,null,null,null,null,null,null,null,null,{"$f":"IF(AN84=\"\",\"\",IF(LEN(VLOOKUP(AN84,Sifranti!BY:BZ,2,FALSE))=0,\"\",VLOOKUP(AN84,Sifranti!BY:BZ,2,FALSE)))","v":""},{"$f":"IF(C84=\"\",\"\",VLOOKUP(C84,Sifranti!P:R,2,FALSE))","v":""},"","",{"$f":"IF(C84=\"\",\"\",VLOOKUP(C84,Sifranti!P:R,3,FALSE))","v":""},{"$f":"IF(N84=\"\",\"\",VLOOKUP(N84,Sifranti!D:F,2,FALSE))","v":""},{"$f":"IF(AK84=\"\",\"\",VLOOKUP(AK84,Sifranti!V:Y,2,FALSE))","v":""},{"$f":"IF(AK84=\"\",\"\",IF(VLOOKUP(AK84,Sifranti!V:Y,3,FALSE)=\"\",\"\",VLOOKUP(AK84,Sifranti!V:Y,3,FALSE)))","v":""},{"$f":"IF(AK84=\"\",\"\",VLOOKUP(AK84,Sifranti!V:Y,4,FALSE))","v":""}]
[{"$f":"IF(B85=\"\",\"\",VLOOKUP(B85,Sifranti!K:L,2,FALSE))","v":""},null,null,null,null,null,null,null,null,"",{"$f":"IF(L85=\"\",\"\",VLOOKUP(L85,Sifranti!A:B,2,FALSE))","v":""},null,{"$f":"IF(N85=\"\",\"\",VLOOKUP(N85,Sifranti!D:F,3,FALSE))","v":""},null,{"$f":"IF(P85=\"\",\"\",VLOOKUP(P85,Sifranti!H:I,2,FALSE))","v":""},null,null,null,null,null,null,null,null,null,null,null,null,null,null,null,null,null,null,null,null,null,null,null,null,null,{"$f":"IF(AN85=\"\",\"\",IF(LEN(VLOOKUP(AN85,Sifranti!BY:BZ,2,FALSE))=0,\"\",VLOOKUP(AN85,Sifranti!BY:BZ,2,FALSE)))","v":""},{"$f":"IF(C85=\"\",\"\",VLOOKUP(C85,Sifranti!P:R,2,FALSE))","v":""},"","",{"$f":"IF(C85=\"\",\"\",VLOOKUP(C85,Sifranti!P:R,3,FALSE))","v":""},{"$f":"IF(N85=\"\",\"\",VLOOKUP(N85,Sifranti!D:F,2,FALSE))","v":""},{"$f":"IF(AK85=\"\",\"\",VLOOKUP(AK85,Sifranti!V:Y,2,FALSE))","v":""},{"$f":"IF(AK85=\"\",\"\",IF(VLOOKUP(AK85,Sifranti!V:Y,3,FALSE)=\"\",\"\",VLOOKUP(AK85,Sifranti!V:Y,3,FALSE)))","v":""},{"$f":"IF(AK85=\"\",\"\",VLOOKUP(AK85,Sifranti!V:Y,4,FALSE))","v":""}]
[{"$f":"IF(B86=\"\",\"\",VLOOKUP(B86,Sifranti!K:L,2,FALSE))","v":""},null,null,null,null,null,null,null,null,"",{"$f":"IF(L86=\"\",\"\",VLOOKUP(L86,Sifranti!A:B,2,FALSE))","v":""},null,{"$f":"IF(N86=\"\",\"\",VLOOKUP(N86,Sifranti!D:F,3,FALSE))","v":""},null,{"$f":"IF(P86=\"\",\"\",VLOOKUP(P86,Sifranti!H:I,2,FALSE))","v":""},null,null,null,null,null,null,null,null,null,null,null,null,null,null,null,null,null,null,null,null,null,null,null,null,null,{"$f":"IF(AN86=\"\",\"\",IF(LEN(VLOOKUP(AN86,Sifranti!BY:BZ,2,FALSE))=0,\"\",VLOOKUP(AN86,Sifranti!BY:BZ,2,FALSE)))","v":""},{"$f":"IF(C86=\"\",\"\",VLOOKUP(C86,Sifranti!P:R,2,FALSE))","v":""},"","",{"$f":"IF(C86=\"\",\"\",VLOOKUP(C86,Sifranti!P:R,3,FALSE))","v":""},{"$f":"IF(N86=\"\",\"\",VLOOKUP(N86,Sifranti!D:F,2,FALSE))","v":""},{"$f":"IF(AK86=\"\",\"\",VLOOKUP(AK86,Sifranti!V:Y,2,FALSE))","v":""},{"$f":"IF(AK86=\"\",\"\",IF(VLOOKUP(AK86,Sifranti!V:Y,3,FALSE)=\"\",\"\",VLOOKUP(AK86,Sifranti!V:Y,3,FALSE)))","v":""},{"$f":"IF(AK86=\"\",\"\",VLOOKUP(AK86,Sifranti!V:Y,4,FALSE))","v":""}]
[{"$f":"IF(B87=\"\",\"\",VLOOKUP(B87,Sifranti!K:L,2,FALSE))","v":""},null,null,null,null,null,null,null,null,"",{"$f":"IF(L87=\"\",\"\",VLOOKUP(L87,Sifranti!A:B,2,FALSE))","v":""},null,{"$f":"IF(N87=\"\",\"\",VLOOKUP(N87,Sifranti!D:F,3,FALSE))","v":""},null,{"$f":"IF(P87=\"\",\"\",VLOOKUP(P87,Sifranti!H:I,2,FALSE))","v":""},null,null,null,null,null,null,null,null,null,null,null,null,null,null,null,null,null,null,null,null,null,null,null,null,null,{"$f":"IF(AN87=\"\",\"\",IF(LEN(VLOOKUP(AN87,Sifranti!BY:BZ,2,FALSE))=0,\"\",VLOOKUP(AN87,Sifranti!BY:BZ,2,FALSE)))","v":""},{"$f":"IF(C87=\"\",\"\",VLOOKUP(C87,Sifranti!P:R,2,FALSE))","v":""},"","",{"$f":"IF(C87=\"\",\"\",VLOOKUP(C87,Sifranti!P:R,3,FALSE))","v":""},{"$f":"IF(N87=\"\",\"\",VLOOKUP(N87,Sifranti!D:F,2,FALSE))","v":""},{"$f":"IF(AK87=\"\",\"\",VLOOKUP(AK87,Sifranti!V:Y,2,FALSE))","v":""},{"$f":"IF(AK87=\"\",\"\",IF(VLOOKUP(AK87,Sifranti!V:Y,3,FALSE)=\"\",\"\",VLOOKUP(AK87,Sifranti!V:Y,3,FALSE)))","v":""},{"$f":"IF(AK87=\"\",\"\",VLOOKUP(AK87,Sifranti!V:Y,4,FALSE))","v":""}]
[{"$f":"IF(B88=\"\",\"\",VLOOKUP(B88,Sifranti!K:L,2,FALSE))","v":""},null,null,null,null,null,null,null,null,"",{"$f":"IF(L88=\"\",\"\",VLOOKUP(L88,Sifranti!A:B,2,FALSE))","v":""},null,{"$f":"IF(N88=\"\",\"\",VLOOKUP(N88,Sifranti!D:F,3,FALSE))","v":""},null,{"$f":"IF(P88=\"\",\"\",VLOOKUP(P88,Sifranti!H:I,2,FALSE))","v":""},null,null,null,null,null,null,null,null,null,null,null,null,null,null,null,null,null,null,null,null,null,null,null,null,null,{"$f":"IF(AN88=\"\",\"\",IF(LEN(VLOOKUP(AN88,Sifranti!BY:BZ,2,FALSE))=0,\"\",VLOOKUP(AN88,Sifranti!BY:BZ,2,FALSE)))","v":""},{"$f":"IF(C88=\"\",\"\",VLOOKUP(C88,Sifranti!P:R,2,FALSE))","v":""},"","",{"$f":"IF(C88=\"\",\"\",VLOOKUP(C88,Sifranti!P:R,3,FALSE))","v":""},{"$f":"IF(N88=\"\",\"\",VLOOKUP(N88,Sifranti!D:F,2,FALSE))","v":""},{"$f":"IF(AK88=\"\",\"\",VLOOKUP(AK88,Sifranti!V:Y,2,FALSE))","v":""},{"$f":"IF(AK88=\"\",\"\",IF(VLOOKUP(AK88,Sifranti!V:Y,3,FALSE)=\"\",\"\",VLOOKUP(AK88,Sifranti!V:Y,3,FALSE)))","v":""},{"$f":"IF(AK88=\"\",\"\",VLOOKUP(AK88,Sifranti!V:Y,4,FALSE))","v":""}]
[{"$f":"IF(B89=\"\",\"\",VLOOKUP(B89,Sifranti!K:L,2,FALSE))","v":""},null,null,null,null,null,null,null,null,"",{"$f":"IF(L89=\"\",\"\",VLOOKUP(L89,Sifranti!A:B,2,FALSE))","v":""},null,{"$f":"IF(N89=\"\",\"\",VLOOKUP(N89,Sifranti!D:F,3,FALSE))","v":""},null,{"$f":"IF(P89=\"\",\"\",VLOOKUP(P89,Sifranti!H:I,2,FALSE))","v":""},null,null,null,null,null,null,null,null,null,null,null,null,null,null,null,null,null,null,null,null,null,null,null,null,null,{"$f":"IF(AN89=\"\",\"\",IF(LEN(VLOOKUP(AN89,Sifranti!BY:BZ,2,FALSE))=0,\"\",VLOOKUP(AN89,Sifranti!BY:BZ,2,FALSE)))","v":""},{"$f":"IF(C89=\"\",\"\",VLOOKUP(C89,Sifranti!P:R,2,FALSE))","v":""},"","",{"$f":"IF(C89=\"\",\"\",VLOOKUP(C89,Sifranti!P:R,3,FALSE))","v":""},{"$f":"IF(N89=\"\",\"\",VLOOKUP(N89,Sifranti!D:F,2,FALSE))","v":""},{"$f":"IF(AK89=\"\",\"\",VLOOKUP(AK89,Sifranti!V:Y,2,FALSE))","v":""},{"$f":"IF(AK89=\"\",\"\",IF(VLOOKUP(AK89,Sifranti!V:Y,3,FALSE)=\"\",\"\",VLOOKUP(AK89,Sifranti!V:Y,3,FALSE)))","v":""},{"$f":"IF(AK89=\"\",\"\",VLOOKUP(AK89,Sifranti!V:Y,4,FALSE))","v":""}]
[{"$f":"IF(B90=\"\",\"\",VLOOKUP(B90,Sifranti!K:L,2,FALSE))","v":""},null,null,null,null,null,null,null,null,"",{"$f":"IF(L90=\"\",\"\",VLOOKUP(L90,Sifranti!A:B,2,FALSE))","v":""},null,{"$f":"IF(N90=\"\",\"\",VLOOKUP(N90,Sifranti!D:F,3,FALSE))","v":""},null,{"$f":"IF(P90=\"\",\"\",VLOOKUP(P90,Sifranti!H:I,2,FALSE))","v":""},null,null,null,null,null,null,null,null,null,null,null,null,null,null,null,null,null,null,null,null,null,null,null,null,null,{"$f":"IF(AN90=\"\",\"\",IF(LEN(VLOOKUP(AN90,Sifranti!BY:BZ,2,FALSE))=0,\"\",VLOOKUP(AN90,Sifranti!BY:BZ,2,FALSE)))","v":""},{"$f":"IF(C90=\"\",\"\",VLOOKUP(C90,Sifranti!P:R,2,FALSE))","v":""},"","",{"$f":"IF(C90=\"\",\"\",VLOOKUP(C90,Sifranti!P:R,3,FALSE))","v":""},{"$f":"IF(N90=\"\",\"\",VLOOKUP(N90,Sifranti!D:F,2,FALSE))","v":""},{"$f":"IF(AK90=\"\",\"\",VLOOKUP(AK90,Sifranti!V:Y,2,FALSE))","v":""},{"$f":"IF(AK90=\"\",\"\",IF(VLOOKUP(AK90,Sifranti!V:Y,3,FALSE)=\"\",\"\",VLOOKUP(AK90,Sifranti!V:Y,3,FALSE)))","v":""},{"$f":"IF(AK90=\"\",\"\",VLOOKUP(AK90,Sifranti!V:Y,4,FALSE))","v":""}]
[{"$f":"IF(B91=\"\",\"\",VLOOKUP(B91,Sifranti!K:L,2,FALSE))","v":""},null,null,null,null,null,null,null,null,"",{"$f":"IF(L91=\"\",\"\",VLOOKUP(L91,Sifranti!A:B,2,FALSE))","v":""},null,{"$f":"IF(N91=\"\",\"\",VLOOKUP(N91,Sifranti!D:F,3,FALSE))","v":""},null,{"$f":"IF(P91=\"\",\"\",VLOOKUP(P91,Sifranti!H:I,2,FALSE))","v":""},null,null,null,null,null,null,null,null,null,null,null,null,null,null,null,null,null,null,null,null,null,null,null,null,null,{"$f":"IF(AN91=\"\",\"\",IF(LEN(VLOOKUP(AN91,Sifranti!BY:BZ,2,FALSE))=0,\"\",VLOOKUP(AN91,Sifranti!BY:BZ,2,FALSE)))","v":""},{"$f":"IF(C91=\"\",\"\",VLOOKUP(C91,Sifranti!P:R,2,FALSE))","v":""},"","",{"$f":"IF(C91=\"\",\"\",VLOOKUP(C91,Sifranti!P:R,3,FALSE))","v":""},{"$f":"IF(N91=\"\",\"\",VLOOKUP(N91,Sifranti!D:F,2,FALSE))","v":""},{"$f":"IF(AK91=\"\",\"\",VLOOKUP(AK91,Sifranti!V:Y,2,FALSE))","v":""},{"$f":"IF(AK91=\"\",\"\",IF(VLOOKUP(AK91,Sifranti!V:Y,3,FALSE)=\"\",\"\",VLOOKUP(AK91,Sifranti!V:Y,3,FALSE)))","v":""},{"$f":"IF(AK91=\"\",\"\",VLOOKUP(AK91,Sifranti!V:Y,4,FALSE))","v":""}]
[{"$f":"IF(B92=\"\",\"\",VLOOKUP(B92,Sifranti!K:L,2,FALSE))","v":""},null,null,null,null,null,null,null,null,"",{"$f":"IF(L92=\"\",\"\",VLOOKUP(L92,Sifranti!A:B,2,FALSE))","v":""},null,{"$f":"IF(N92=\"\",\"\",VLOOKUP(N92,Sifranti!D:F,3,FALSE))","v":""},null,{"$f":"IF(P92=\"\",\"\",VLOOKUP(P92,Sifranti!H:I,2,FALSE))","v":""},null,null,null,null,null,null,null,null,null,null,null,null,null,null,null,null,null,null,null,null,null,null,null,null,null,{"$f":"IF(AN92=\"\",\"\",IF(LEN(VLOOKUP(AN92,Sifranti!BY:BZ,2,FALSE))=0,\"\",VLOOKUP(AN92,Sifranti!BY:BZ,2,FALSE)))","v":""},{"$f":"IF(C92=\"\",\"\",VLOOKUP(C92,Sifranti!P:R,2,FALSE))","v":""},"","",{"$f":"IF(C92=\"\",\"\",VLOOKUP(C92,Sifranti!P:R,3,FALSE))","v":""},{"$f":"IF(N92=\"\",\"\",VLOOKUP(N92,Sifranti!D:F,2,FALSE))","v":""},{"$f":"IF(AK92=\"\",\"\",VLOOKUP(AK92,Sifranti!V:Y,2,FALSE))","v":""},{"$f":"IF(AK92=\"\",\"\",IF(VLOOKUP(AK92,Sifranti!V:Y,3,FALSE)=\"\",\"\",VLOOKUP(AK92,Sifranti!V:Y,3,FALSE)))","v":""},{"$f":"IF(AK92=\"\",\"\",VLOOKUP(AK92,Sifranti!V:Y,4,FALSE))","v":""}]
[{"$f":"IF(B93=\"\",\"\",VLOOKUP(B93,Sifranti!K:L,2,FALSE))","v":""},null,null,null,null,null,null,null,null,"",{"$f":"IF(L93=\"\",\"\",VLOOKUP(L93,Sifranti!A:B,2,FALSE))","v":""},null,{"$f":"IF(N93=\"\",\"\",VLOOKUP(N93,Sifranti!D:F,3,FALSE))","v":""},null,{"$f":"IF(P93=\"\",\"\",VLOOKUP(P93,Sifranti!H:I,2,FALSE))","v":""},null,null,null,null,null,null,null,null,null,null,null,null,null,null,null,null,null,null,null,null,null,null,null,null,null,{"$f":"IF(AN93=\"\",\"\",IF(LEN(VLOOKUP(AN93,Sifranti!BY:BZ,2,FALSE))=0,\"\",VLOOKUP(AN93,Sifranti!BY:BZ,2,FALSE)))","v":""},{"$f":"IF(C93=\"\",\"\",VLOOKUP(C93,Sifranti!P:R,2,FALSE))","v":""},"","",{"$f":"IF(C93=\"\",\"\",VLOOKUP(C93,Sifranti!P:R,3,FALSE))","v":""},{"$f":"IF(N93=\"\",\"\",VLOOKUP(N93,Sifranti!D:F,2,FALSE))","v":""},{"$f":"IF(AK93=\"\",\"\",VLOOKUP(AK93,Sifranti!V:Y,2,FALSE))","v":""},{"$f":"IF(AK93=\"\",\"\",IF(VLOOKUP(AK93,Sifranti!V:Y,3,FALSE)=\"\",\"\",VLOOKUP(AK93,Sifranti!V:Y,3,FALSE)))","v":""},{"$f":"IF(AK93=\"\",\"\",VLOOKUP(AK93,Sifranti!V:Y,4,FALSE))","v":""}]
[{"$f":"IF(B94=\"\",\"\",VLOOKUP(B94,Sifranti!K:L,2,FALSE))","v":""},null,null,null,null,null,null,null,null,"",{"$f":"IF(L94=\"\",\"\",VLOOKUP(L94,Sifranti!A:B,2,FALSE))","v":""},null,{"$f":"IF(N94=\"\",\"\",VLOOKUP(N94,Sifranti!D:F,3,FALSE))","v":""},null,{"$f":"IF(P94=\"\",\"\",VLOOKUP(P94,Sifranti!H:I,2,FALSE))","v":""},null,null,null,null,null,null,null,null,null,null,null,null,null,null,null,null,null,null,null,null,null,null,null,null,null,{"$f":"IF(AN94=\"\",\"\",IF(LEN(VLOOKUP(AN94,Sifranti!BY:BZ,2,FALSE))=0,\"\",VLOOKUP(AN94,Sifranti!BY:BZ,2,FALSE)))","v":""},{"$f":"IF(C94=\"\",\"\",VLOOKUP(C94,Sifranti!P:R,2,FALSE))","v":""},"","",{"$f":"IF(C94=\"\",\"\",VLOOKUP(C94,Sifranti!P:R,3,FALSE))","v":""},{"$f":"IF(N94=\"\",\"\",VLOOKUP(N94,Sifranti!D:F,2,FALSE))","v":""},{"$f":"IF(AK94=\"\",\"\",VLOOKUP(AK94,Sifranti!V:Y,2,FALSE))","v":""},{"$f":"IF(AK94=\"\",\"\",IF(VLOOKUP(AK94,Sifranti!V:Y,3,FALSE)=\"\",\"\",VLOOKUP(AK94,Sifranti!V:Y,3,FALSE)))","v":""},{"$f":"IF(AK94=\"\",\"\",VLOOKUP(AK94,Sifranti!V:Y,4,FALSE))","v":""}]
[{"$f":"IF(B95=\"\",\"\",VLOOKUP(B95,Sifranti!K:L,2,FALSE))","v":""},null,null,null,null,null,null,null,null,"",{"$f":"IF(L95=\"\",\"\",VLOOKUP(L95,Sifranti!A:B,2,FALSE))","v":""},null,{"$f":"IF(N95=\"\",\"\",VLOOKUP(N95,Sifranti!D:F,3,FALSE))","v":""},null,{"$f":"IF(P95=\"\",\"\",VLOOKUP(P95,Sifranti!H:I,2,FALSE))","v":""},null,null,null,null,null,null,null,null,null,null,null,null,null,null,null,null,null,null,null,null,null,null,null,null,null,{"$f":"IF(AN95=\"\",\"\",IF(LEN(VLOOKUP(AN95,Sifranti!BY:BZ,2,FALSE))=0,\"\",VLOOKUP(AN95,Sifranti!BY:BZ,2,FALSE)))","v":""},{"$f":"IF(C95=\"\",\"\",VLOOKUP(C95,Sifranti!P:R,2,FALSE))","v":""},"","",{"$f":"IF(C95=\"\",\"\",VLOOKUP(C95,Sifranti!P:R,3,FALSE))","v":""},{"$f":"IF(N95=\"\",\"\",VLOOKUP(N95,Sifranti!D:F,2,FALSE))","v":""},{"$f":"IF(AK95=\"\",\"\",VLOOKUP(AK95,Sifranti!V:Y,2,FALSE))","v":""},{"$f":"IF(AK95=\"\",\"\",IF(VLOOKUP(AK95,Sifranti!V:Y,3,FALSE)=\"\",\"\",VLOOKUP(AK95,Sifranti!V:Y,3,FALSE)))","v":""},{"$f":"IF(AK95=\"\",\"\",VLOOKUP(AK95,Sifranti!V:Y,4,FALSE))","v":""}]
[{"$f":"IF(B96=\"\",\"\",VLOOKUP(B96,Sifranti!K:L,2,FALSE))","v":""},null,null,null,null,null,null,null,null,"",{"$f":"IF(L96=\"\",\"\",VLOOKUP(L96,Sifranti!A:B,2,FALSE))","v":""},null,{"$f":"IF(N96=\"\",\"\",VLOOKUP(N96,Sifranti!D:F,3,FALSE))","v":""},null,{"$f":"IF(P96=\"\",\"\",VLOOKUP(P96,Sifranti!H:I,2,FALSE))","v":""},null,null,null,null,null,null,null,null,null,null,null,null,null,null,null,null,null,null,null,null,null,null,null,null,null,{"$f":"IF(AN96=\"\",\"\",IF(LEN(VLOOKUP(AN96,Sifranti!BY:BZ,2,FALSE))=0,\"\",VLOOKUP(AN96,Sifranti!BY:BZ,2,FALSE)))","v":""},{"$f":"IF(C96=\"\",\"\",VLOOKUP(C96,Sifranti!P:R,2,FALSE))","v":""},"","",{"$f":"IF(C96=\"\",\"\",VLOOKUP(C96,Sifranti!P:R,3,FALSE))","v":""},{"$f":"IF(N96=\"\",\"\",VLOOKUP(N96,Sifranti!D:F,2,FALSE))","v":""},{"$f":"IF(AK96=\"\",\"\",VLOOKUP(AK96,Sifranti!V:Y,2,FALSE))","v":""},{"$f":"IF(AK96=\"\",\"\",IF(VLOOKUP(AK96,Sifranti!V:Y,3,FALSE)=\"\",\"\",VLOOKUP(AK96,Sifranti!V:Y,3,FALSE)))","v":""},{"$f":"IF(AK96=\"\",\"\",VLOOKUP(AK96,Sifranti!V:Y,4,FALSE))","v":""}]
[{"$f":"IF(B97=\"\",\"\",VLOOKUP(B97,Sifranti!K:L,2,FALSE))","v":""},null,null,null,null,null,null,null,null,"",{"$f":"IF(L97=\"\",\"\",VLOOKUP(L97,Sifranti!A:B,2,FALSE))","v":""},null,{"$f":"IF(N97=\"\",\"\",VLOOKUP(N97,Sifranti!D:F,3,FALSE))","v":""},null,{"$f":"IF(P97=\"\",\"\",VLOOKUP(P97,Sifranti!H:I,2,FALSE))","v":""},null,null,null,null,null,null,null,null,null,null,null,null,null,null,null,null,null,null,null,null,null,null,null,null,null,{"$f":"IF(AN97=\"\",\"\",IF(LEN(VLOOKUP(AN97,Sifranti!BY:BZ,2,FALSE))=0,\"\",VLOOKUP(AN97,Sifranti!BY:BZ,2,FALSE)))","v":""},{"$f":"IF(C97=\"\",\"\",VLOOKUP(C97,Sifranti!P:R,2,FALSE))","v":""},"","",{"$f":"IF(C97=\"\",\"\",VLOOKUP(C97,Sifranti!P:R,3,FALSE))","v":""},{"$f":"IF(N97=\"\",\"\",VLOOKUP(N97,Sifranti!D:F,2,FALSE))","v":""},{"$f":"IF(AK97=\"\",\"\",VLOOKUP(AK97,Sifranti!V:Y,2,FALSE))","v":""},{"$f":"IF(AK97=\"\",\"\",IF(VLOOKUP(AK97,Sifranti!V:Y,3,FALSE)=\"\",\"\",VLOOKUP(AK97,Sifranti!V:Y,3,FALSE)))","v":""},{"$f":"IF(AK97=\"\",\"\",VLOOKUP(AK97,Sifranti!V:Y,4,FALSE))","v":""}]
[{"$f":"IF(B98=\"\",\"\",VLOOKUP(B98,Sifranti!K:L,2,FALSE))","v":""},null,null,null,null,null,null,null,null,"",{"$f":"IF(L98=\"\",\"\",VLOOKUP(L98,Sifranti!A:B,2,FALSE))","v":""},null,{"$f":"IF(N98=\"\",\"\",VLOOKUP(N98,Sifranti!D:F,3,FALSE))","v":""},null,{"$f":"IF(P98=\"\",\"\",VLOOKUP(P98,Sifranti!H:I,2,FALSE))","v":""},null,null,null,null,null,null,null,null,null,null,null,null,null,null,null,null,null,null,null,null,null,null,null,null,null,{"$f":"IF(AN98=\"\",\"\",IF(LEN(VLOOKUP(AN98,Sifranti!BY:BZ,2,FALSE))=0,\"\",VLOOKUP(AN98,Sifranti!BY:BZ,2,FALSE)))","v":""},{"$f":"IF(C98=\"\",\"\",VLOOKUP(C98,Sifranti!P:R,2,FALSE))","v":""},"","",{"$f":"IF(C98=\"\",\"\",VLOOKUP(C98,Sifranti!P:R,3,FALSE))","v":""},{"$f":"IF(N98=\"\",\"\",VLOOKUP(N98,Sifranti!D:F,2,FALSE))","v":""},{"$f":"IF(AK98=\"\",\"\",VLOOKUP(AK98,Sifranti!V:Y,2,FALSE))","v":""},{"$f":"IF(AK98=\"\",\"\",IF(VLOOKUP(AK98,Sifranti!V:Y,3,FALSE)=\"\",\"\",VLOOKUP(AK98,Sifranti!V:Y,3,FALSE)))","v":""},{"$f":"IF(AK98=\"\",\"\",VLOOKUP(AK98,Sifranti!V:Y,4,FALSE))","v":""}]
[{"$f":"IF(B99=\"\",\"\",VLOOKUP(B99,Sifranti!K:L,2,FALSE))","v":""},null,null,null,null,null,null,null,null,"",{"$f":"IF(L99=\"\",\"\",VLOOKUP(L99,Sifranti!A:B,2,FALSE))","v":""},null,{"$f":"IF(N99=\"\",\"\",VLOOKUP(N99,Sifranti!D:F,3,FALSE))","v":""},null,{"$f":"IF(P99=\"\",\"\",VLOOKUP(P99,Sifranti!H:I,2,FALSE))","v":""},null,null,null,null,null,null,null,null,null,null,null,null,null,null,null,null,null,null,null,null,null,null,null,null,null,{"$f":"IF(AN99=\"\",\"\",IF(LEN(VLOOKUP(AN99,Sifranti!BY:BZ,2,FALSE))=0,\"\",VLOOKUP(AN99,Sifranti!BY:BZ,2,FALSE)))","v":""},{"$f":"IF(C99=\"\",\"\",VLOOKUP(C99,Sifranti!P:R,2,FALSE))","v":""},"","",{"$f":"IF(C99=\"\",\"\",VLOOKUP(C99,Sifranti!P:R,3,FALSE))","v":""},{"$f":"IF(N99=\"\",\"\",VLOOKUP(N99,Sifranti!D:F,2,FALSE))","v":""},{"$f":"IF(AK99=\"\",\"\",VLOOKUP(AK99,Sifranti!V:Y,2,FALSE))","v":""},{"$f":"IF(AK99=\"\",\"\",IF(VLOOKUP(AK99,Sifranti!V:Y,3,FALSE)=\"\",\"\",VLOOKUP(AK99,Sifranti!V:Y,3,FALSE)))","v":""},{"$f":"IF(AK99=\"\",\"\",VLOOKUP(AK99,Sifranti!V:Y,4,FALSE))","v":""}]
[{"$f":"IF(B100=\"\",\"\",VLOOKUP(B100,Sifranti!K:L,2,FALSE))","v":""},null,null,null,null,null,null,null,null,"",{"$f":"IF(L100=\"\",\"\",VLOOKUP(L100,Sifranti!A:B,2,FALSE))","v":""},null,{"$f":"IF(N100=\"\",\"\",VLOOKUP(N100,Sifranti!D:F,3,FALSE))","v":""},null,{"$f":"IF(P100=\"\",\"\",VLOOKUP(P100,Sifranti!H:I,2,FALSE))","v":""},null,null,null,null,null,null,null,null,null,null,null,null,null,null,null,null,null,null,null,null,null,null,null,null,null,{"$f":"IF(AN100=\"\",\"\",IF(LEN(VLOOKUP(AN100,Sifranti!BY:BZ,2,FALSE))=0,\"\",VLOOKUP(AN100,Sifranti!BY:BZ,2,FALSE)))","v":""},{"$f":"IF(C100=\"\",\"\",VLOOKUP(C100,Sifranti!P:R,2,FALSE))","v":""},"","",{"$f":"IF(C100=\"\",\"\",VLOOKUP(C100,Sifranti!P:R,3,FALSE))","v":""},{"$f":"IF(N100=\"\",\"\",VLOOKUP(N100,Sifranti!D:F,2,FALSE))","v":""},{"$f":"IF(AK100=\"\",\"\",VLOOKUP(AK100,Sifranti!V:Y,2,FALSE))","v":""},{"$f":"IF(AK100=\"\",\"\",IF(VLOOKUP(AK100,Sifranti!V:Y,3,FALSE)=\"\",\"\",VLOOKUP(AK100,Sifranti!V:Y,3,FALSE)))","v":""},{"$f":"IF(AK100=\"\",\"\",VLOOKUP(AK100,Sifranti!V:Y,4,FALSE))","v":""}]
[{"$f":"IF(B101=\"\",\"\",VLOOKUP(B101,Sifranti!K:L,2,FALSE))","v":""},null,null,null,null,null,null,null,null,"",{"$f":"IF(L101=\"\",\"\",VLOOKUP(L101,Sifranti!A:B,2,FALSE))","v":""},null,{"$f":"IF(N101=\"\",\"\",VLOOKUP(N101,Sifranti!D:F,3,FALSE))","v":""},null,{"$f":"IF(P101=\"\",\"\",VLOOKUP(P101,Sifranti!H:I,2,FALSE))","v":""},null,null,null,null,null,null,null,null,null,null,null,null,null,null,null,null,null,null,null,null,null,null,null,null,null,{"$f":"IF(AN101=\"\",\"\",IF(LEN(VLOOKUP(AN101,Sifranti!BY:BZ,2,FALSE))=0,\"\",VLOOKUP(AN101,Sifranti!BY:BZ,2,FALSE)))","v":""},{"$f":"IF(C101=\"\",\"\",VLOOKUP(C101,Sifranti!P:R,2,FALSE))","v":""},"","",{"$f":"IF(C101=\"\",\"\",VLOOKUP(C101,Sifranti!P:R,3,FALSE))","v":""},{"$f":"IF(N101=\"\",\"\",VLOOKUP(N101,Sifranti!D:F,2,FALSE))","v":""},{"$f":"IF(AK101=\"\",\"\",VLOOKUP(AK101,Sifranti!V:Y,2,FALSE))","v":""},{"$f":"IF(AK101=\"\",\"\",IF(VLOOKUP(AK101,Sifranti!V:Y,3,FALSE)=\"\",\"\",VLOOKUP(AK101,Sifranti!V:Y,3,FALSE)))","v":""},{"$f":"IF(AK101=\"\",\"\",VLOOKUP(AK101,Sifranti!V:Y,4,FALSE))","v":""}]
[{"$f":"IF(B102=\"\",\"\",VLOOKUP(B102,Sifranti!K:L,2,FALSE))","v":""},null,null,null,null,null,null,null,null,"",{"$f":"IF(L102=\"\",\"\",VLOOKUP(L102,Sifranti!A:B,2,FALSE))","v":""},null,{"$f":"IF(N102=\"\",\"\",VLOOKUP(N102,Sifranti!D:F,3,FALSE))","v":""},null,{"$f":"IF(P102=\"\",\"\",VLOOKUP(P102,Sifranti!H:I,2,FALSE))","v":""},null,null,null,null,null,null,null,null,null,null,null,null,null,null,null,null,null,null,null,null,null,null,null,null,null,{"$f":"IF(AN102=\"\",\"\",IF(LEN(VLOOKUP(AN102,Sifranti!BY:BZ,2,FALSE))=0,\"\",VLOOKUP(AN102,Sifranti!BY:BZ,2,FALSE)))","v":""},{"$f":"IF(C102=\"\",\"\",VLOOKUP(C102,Sifranti!P:R,2,FALSE))","v":""},"","",{"$f":"IF(C102=\"\",\"\",VLOOKUP(C102,Sifranti!P:R,3,FALSE))","v":""},{"$f":"IF(N102=\"\",\"\",VLOOKUP(N102,Sifranti!D:F,2,FALSE))","v":""},{"$f":"IF(AK102=\"\",\"\",VLOOKUP(AK102,Sifranti!V:Y,2,FALSE))","v":""},{"$f":"IF(AK102=\"\",\"\",IF(VLOOKUP(AK102,Sifranti!V:Y,3,FALSE)=\"\",\"\",VLOOKUP(AK102,Sifranti!V:Y,3,FALSE)))","v":""},{"$f":"IF(AK102=\"\",\"\",VLOOKUP(AK102,Sifranti!V:Y,4,FALSE))","v":""}]
[{"$f":"IF(B103=\"\",\"\",VLOOKUP(B103,Sifranti!K:L,2,FALSE))","v":""},null,null,null,null,null,null,null,null,"",{"$f":"IF(L103=\"\",\"\",VLOOKUP(L103,Sifranti!A:B,2,FALSE))","v":""},null,{"$f":"IF(N103=\"\",\"\",VLOOKUP(N103,Sifranti!D:F,3,FALSE))","v":""},null,{"$f":"IF(P103=\"\",\"\",VLOOKUP(P103,Sifranti!H:I,2,FALSE))","v":""},null,null,null,null,null,null,null,null,null,null,null,null,null,null,null,null,null,null,null,null,null,null,null,null,null,{"$f":"IF(AN103=\"\",\"\",IF(LEN(VLOOKUP(AN103,Sifranti!BY:BZ,2,FALSE))=0,\"\",VLOOKUP(AN103,Sifranti!BY:BZ,2,FALSE)))","v":""},{"$f":"IF(C103=\"\",\"\",VLOOKUP(C103,Sifranti!P:R,2,FALSE))","v":""},"","",{"$f":"IF(C103=\"\",\"\",VLOOKUP(C103,Sifranti!P:R,3,FALSE))","v":""},{"$f":"IF(N103=\"\",\"\",VLOOKUP(N103,Sifranti!D:F,2,FALSE))","v":""},{"$f":"IF(AK103=\"\",\"\",VLOOKUP(AK103,Sifranti!V:Y,2,FALSE))","v":""},{"$f":"IF(AK103=\"\",\"\",IF(VLOOKUP(AK103,Sifranti!V:Y,3,FALSE)=\"\",\"\",VLOOKUP(AK103,Sifranti!V:Y,3,FALSE)))","v":""},{"$f":"IF(AK103=\"\",\"\",VLOOKUP(AK103,Sifranti!V:Y,4,FALSE))","v":""}]
[{"$f":"IF(B104=\"\",\"\",VLOOKUP(B104,Sifranti!K:L,2,FALSE))","v":""},null,null,null,null,null,null,null,null,"",{"$f":"IF(L104=\"\",\"\",VLOOKUP(L104,Sifranti!A:B,2,FALSE))","v":""},null,{"$f":"IF(N104=\"\",\"\",VLOOKUP(N104,Sifranti!D:F,3,FALSE))","v":""},null,{"$f":"IF(P104=\"\",\"\",VLOOKUP(P104,Sifranti!H:I,2,FALSE))","v":""},null,null,null,null,null,null,null,null,null,null,null,null,null,null,null,null,null,null,null,null,null,null,null,null,null,{"$f":"IF(AN104=\"\",\"\",IF(LEN(VLOOKUP(AN104,Sifranti!BY:BZ,2,FALSE))=0,\"\",VLOOKUP(AN104,Sifranti!BY:BZ,2,FALSE)))","v":""},{"$f":"IF(C104=\"\",\"\",VLOOKUP(C104,Sifranti!P:R,2,FALSE))","v":""},"","",{"$f":"IF(C104=\"\",\"\",VLOOKUP(C104,Sifranti!P:R,3,FALSE))","v":""},{"$f":"IF(N104=\"\",\"\",VLOOKUP(N104,Sifranti!D:F,2,FALSE))","v":""},{"$f":"IF(AK104=\"\",\"\",VLOOKUP(AK104,Sifranti!V:Y,2,FALSE))","v":""},{"$f":"IF(AK104=\"\",\"\",IF(VLOOKUP(AK104,Sifranti!V:Y,3,FALSE)=\"\",\"\",VLOOKUP(AK104,Sifranti!V:Y,3,FALSE)))","v":""},{"$f":"IF(AK104=\"\",\"\",VLOOKUP(AK104,Sifranti!V:Y,4,FALSE))","v":""}]
[{"$f":"IF(B105=\"\",\"\",VLOOKUP(B105,Sifranti!K:L,2,FALSE))","v":""},null,null,null,null,null,null,null,null,"",{"$f":"IF(L105=\"\",\"\",VLOOKUP(L105,Sifranti!A:B,2,FALSE))","v":""},null,{"$f":"IF(N105=\"\",\"\",VLOOKUP(N105,Sifranti!D:F,3,FALSE))","v":""},null,{"$f":"IF(P105=\"\",\"\",VLOOKUP(P105,Sifranti!H:I,2,FALSE))","v":""},null,null,null,null,null,null,null,null,null,null,null,null,null,null,null,null,null,null,null,null,null,null,null,null,null,{"$f":"IF(AN105=\"\",\"\",IF(LEN(VLOOKUP(AN105,Sifranti!BY:BZ,2,FALSE))=0,\"\",VLOOKUP(AN105,Sifranti!BY:BZ,2,FALSE)))","v":""},{"$f":"IF(C105=\"\",\"\",VLOOKUP(C105,Sifranti!P:R,2,FALSE))","v":""},"","",{"$f":"IF(C105=\"\",\"\",VLOOKUP(C105,Sifranti!P:R,3,FALSE))","v":""},{"$f":"IF(N105=\"\",\"\",VLOOKUP(N105,Sifranti!D:F,2,FALSE))","v":""},{"$f":"IF(AK105=\"\",\"\",VLOOKUP(AK105,Sifranti!V:Y,2,FALSE))","v":""},{"$f":"IF(AK105=\"\",\"\",IF(VLOOKUP(AK105,Sifranti!V:Y,3,FALSE)=\"\",\"\",VLOOKUP(AK105,Sifranti!V:Y,3,FALSE)))","v":""},{"$f":"IF(AK105=\"\",\"\",VLOOKUP(AK105,Sifranti!V:Y,4,FALSE))","v":""}]
[{"$f":"IF(B106=\"\",\"\",VLOOKUP(B106,Sifranti!K:L,2,FALSE))","v":""},null,null,null,null,null,null,null,null,"",{"$f":"IF(L106=\"\",\"\",VLOOKUP(L106,Sifranti!A:B,2,FALSE))","v":""},null,{"$f":"IF(N106=\"\",\"\",VLOOKUP(N106,Sifranti!D:F,3,FALSE))","v":""},null,{"$f":"IF(P106=\"\",\"\",VLOOKUP(P106,Sifranti!H:I,2,FALSE))","v":""},null,null,null,null,null,null,null,null,null,null,null,null,null,null,null,null,null,null,null,null,null,null,null,null,null,{"$f":"IF(AN106=\"\",\"\",IF(LEN(VLOOKUP(AN106,Sifranti!BY:BZ,2,FALSE))=0,\"\",VLOOKUP(AN106,Sifranti!BY:BZ,2,FALSE)))","v":""},{"$f":"IF(C106=\"\",\"\",VLOOKUP(C106,Sifranti!P:R,2,FALSE))","v":""},"","",{"$f":"IF(C106=\"\",\"\",VLOOKUP(C106,Sifranti!P:R,3,FALSE))","v":""},{"$f":"IF(N106=\"\",\"\",VLOOKUP(N106,Sifranti!D:F,2,FALSE))","v":""},{"$f":"IF(AK106=\"\",\"\",VLOOKUP(AK106,Sifranti!V:Y,2,FALSE))","v":""},{"$f":"IF(AK106=\"\",\"\",IF(VLOOKUP(AK106,Sifranti!V:Y,3,FALSE)=\"\",\"\",VLOOKUP(AK106,Sifranti!V:Y,3,FALSE)))","v":""},{"$f":"IF(AK106=\"\",\"\",VLOOKUP(AK106,Sifranti!V:Y,4,FALSE))","v":""}]
[{"$f":"IF(B107=\"\",\"\",VLOOKUP(B107,Sifranti!K:L,2,FALSE))","v":""},null,null,null,null,null,null,null,null,"",{"$f":"IF(L107=\"\",\"\",VLOOKUP(L107,Sifranti!A:B,2,FALSE))","v":""},null,{"$f":"IF(N107=\"\",\"\",VLOOKUP(N107,Sifranti!D:F,3,FALSE))","v":""},null,{"$f":"IF(P107=\"\",\"\",VLOOKUP(P107,Sifranti!H:I,2,FALSE))","v":""},null,null,null,null,null,null,null,null,null,null,null,null,null,null,null,null,null,null,null,null,null,null,null,null,null,{"$f":"IF(AN107=\"\",\"\",IF(LEN(VLOOKUP(AN107,Sifranti!BY:BZ,2,FALSE))=0,\"\",VLOOKUP(AN107,Sifranti!BY:BZ,2,FALSE)))","v":""},{"$f":"IF(C107=\"\",\"\",VLOOKUP(C107,Sifranti!P:R,2,FALSE))","v":""},"","",{"$f":"IF(C107=\"\",\"\",VLOOKUP(C107,Sifranti!P:R,3,FALSE))","v":""},{"$f":"IF(N107=\"\",\"\",VLOOKUP(N107,Sifranti!D:F,2,FALSE))","v":""},{"$f":"IF(AK107=\"\",\"\",VLOOKUP(AK107,Sifranti!V:Y,2,FALSE))","v":""},{"$f":"IF(AK107=\"\",\"\",IF(VLOOKUP(AK107,Sifranti!V:Y,3,FALSE)=\"\",\"\",VLOOKUP(AK107,Sifranti!V:Y,3,FALSE)))","v":""},{"$f":"IF(AK107=\"\",\"\",VLOOKUP(AK107,Sifranti!V:Y,4,FALSE))","v":""}]
[{"$f":"IF(B108=\"\",\"\",VLOOKUP(B108,Sifranti!K:L,2,FALSE))","v":""},null,null,null,null,null,null,null,null,"",{"$f":"IF(L108=\"\",\"\",VLOOKUP(L108,Sifranti!A:B,2,FALSE))","v":""},null,{"$f":"IF(N108=\"\",\"\",VLOOKUP(N108,Sifranti!D:F,3,FALSE))","v":""},null,{"$f":"IF(P108=\"\",\"\",VLOOKUP(P108,Sifranti!H:I,2,FALSE))","v":""},null,null,null,null,null,null,null,null,null,null,null,null,null,null,null,null,null,null,null,null,null,null,null,null,null,{"$f":"IF(AN108=\"\",\"\",IF(LEN(VLOOKUP(AN108,Sifranti!BY:BZ,2,FALSE))=0,\"\",VLOOKUP(AN108,Sifranti!BY:BZ,2,FALSE)))","v":""},{"$f":"IF(C108=\"\",\"\",VLOOKUP(C108,Sifranti!P:R,2,FALSE))","v":""},"","",{"$f":"IF(C108=\"\",\"\",VLOOKUP(C108,Sifranti!P:R,3,FALSE))","v":""},{"$f":"IF(N108=\"\",\"\",VLOOKUP(N108,Sifranti!D:F,2,FALSE))","v":""},{"$f":"IF(AK108=\"\",\"\",VLOOKUP(AK108,Sifranti!V:Y,2,FALSE))","v":""},{"$f":"IF(AK108=\"\",\"\",IF(VLOOKUP(AK108,Sifranti!V:Y,3,FALSE)=\"\",\"\",VLOOKUP(AK108,Sifranti!V:Y,3,FALSE)))","v":""},{"$f":"IF(AK108=\"\",\"\",VLOOKUP(AK108,Sifranti!V:Y,4,FALSE))","v":""}]
[{"$f":"IF(B109=\"\",\"\",VLOOKUP(B109,Sifranti!K:L,2,FALSE))","v":""},null,null,null,null,null,null,null,null,"",{"$f":"IF(L109=\"\",\"\",VLOOKUP(L109,Sifranti!A:B,2,FALSE))","v":""},null,{"$f":"IF(N109=\"\",\"\",VLOOKUP(N109,Sifranti!D:F,3,FALSE))","v":""},null,{"$f":"IF(P109=\"\",\"\",VLOOKUP(P109,Sifranti!H:I,2,FALSE))","v":""},null,null,null,null,null,null,null,null,null,null,null,null,null,null,null,null,null,null,null,null,null,null,null,null,null,{"$f":"IF(AN109=\"\",\"\",IF(LEN(VLOOKUP(AN109,Sifranti!BY:BZ,2,FALSE))=0,\"\",VLOOKUP(AN109,Sifranti!BY:BZ,2,FALSE)))","v":""},{"$f":"IF(C109=\"\",\"\",VLOOKUP(C109,Sifranti!P:R,2,FALSE))","v":""},"","",{"$f":"IF(C109=\"\",\"\",VLOOKUP(C109,Sifranti!P:R,3,FALSE))","v":""},{"$f":"IF(N109=\"\",\"\",VLOOKUP(N109,Sifranti!D:F,2,FALSE))","v":""},{"$f":"IF(AK109=\"\",\"\",VLOOKUP(AK109,Sifranti!V:Y,2,FALSE))","v":""},{"$f":"IF(AK109=\"\",\"\",IF(VLOOKUP(AK109,Sifranti!V:Y,3,FALSE)=\"\",\"\",VLOOKUP(AK109,Sifranti!V:Y,3,FALSE)))","v":""},{"$f":"IF(AK109=\"\",\"\",VLOOKUP(AK109,Sifranti!V:Y,4,FALSE))","v":""}]
[{"$f":"IF(B110=\"\",\"\",VLOOKUP(B110,Sifranti!K:L,2,FALSE))","v":""},null,null,null,null,null,null,null,null,"",{"$f":"IF(L110=\"\",\"\",VLOOKUP(L110,Sifranti!A:B,2,FALSE))","v":""},null,{"$f":"IF(N110=\"\",\"\",VLOOKUP(N110,Sifranti!D:F,3,FALSE))","v":""},null,{"$f":"IF(P110=\"\",\"\",VLOOKUP(P110,Sifranti!H:I,2,FALSE))","v":""},null,null,null,null,null,null,null,null,null,null,null,null,null,null,null,null,null,null,null,null,null,null,null,null,null,{"$f":"IF(AN110=\"\",\"\",IF(LEN(VLOOKUP(AN110,Sifranti!BY:BZ,2,FALSE))=0,\"\",VLOOKUP(AN110,Sifranti!BY:BZ,2,FALSE)))","v":""},{"$f":"IF(C110=\"\",\"\",VLOOKUP(C110,Sifranti!P:R,2,FALSE))","v":""},"","",{"$f":"IF(C110=\"\",\"\",VLOOKUP(C110,Sifranti!P:R,3,FALSE))","v":""},{"$f":"IF(N110=\"\",\"\",VLOOKUP(N110,Sifranti!D:F,2,FALSE))","v":""},{"$f":"IF(AK110=\"\",\"\",VLOOKUP(AK110,Sifranti!V:Y,2,FALSE))","v":""},{"$f":"IF(AK110=\"\",\"\",IF(VLOOKUP(AK110,Sifranti!V:Y,3,FALSE)=\"\",\"\",VLOOKUP(AK110,Sifranti!V:Y,3,FALSE)))","v":""},{"$f":"IF(AK110=\"\",\"\",VLOOKUP(AK110,Sifranti!V:Y,4,FALSE))","v":""}]
[{"$f":"IF(B111=\"\",\"\",VLOOKUP(B111,Sifranti!K:L,2,FALSE))","v":""},null,null,null,null,null,null,null,null,"",{"$f":"IF(L111=\"\",\"\",VLOOKUP(L111,Sifranti!A:B,2,FALSE))","v":""},null,{"$f":"IF(N111=\"\",\"\",VLOOKUP(N111,Sifranti!D:F,3,FALSE))","v":""},null,{"$f":"IF(P111=\"\",\"\",VLOOKUP(P111,Sifranti!H:I,2,FALSE))","v":""},null,null,null,null,null,null,null,null,null,null,null,null,null,null,null,null,null,null,null,null,null,null,null,null,null,{"$f":"IF(AN111=\"\",\"\",IF(LEN(VLOOKUP(AN111,Sifranti!BY:BZ,2,FALSE))=0,\"\",VLOOKUP(AN111,Sifranti!BY:BZ,2,FALSE)))","v":""},{"$f":"IF(C111=\"\",\"\",VLOOKUP(C111,Sifranti!P:R,2,FALSE))","v":""},"","",{"$f":"IF(C111=\"\",\"\",VLOOKUP(C111,Sifranti!P:R,3,FALSE))","v":""},{"$f":"IF(N111=\"\",\"\",VLOOKUP(N111,Sifranti!D:F,2,FALSE))","v":""},{"$f":"IF(AK111=\"\",\"\",VLOOKUP(AK111,Sifranti!V:Y,2,FALSE))","v":""},{"$f":"IF(AK111=\"\",\"\",IF(VLOOKUP(AK111,Sifranti!V:Y,3,FALSE)=\"\",\"\",VLOOKUP(AK111,Sifranti!V:Y,3,FALSE)))","v":""},{"$f":"IF(AK111=\"\",\"\",VLOOKUP(AK111,Sifranti!V:Y,4,FALSE))","v":""}]
[{"$f":"IF(B112=\"\",\"\",VLOOKUP(B112,Sifranti!K:L,2,FALSE))","v":""},null,null,null,null,null,null,null,null,"",{"$f":"IF(L112=\"\",\"\",VLOOKUP(L112,Sifranti!A:B,2,FALSE))","v":""},null,{"$f":"IF(N112=\"\",\"\",VLOOKUP(N112,Sifranti!D:F,3,FALSE))","v":""},null,{"$f":"IF(P112=\"\",\"\",VLOOKUP(P112,Sifranti!H:I,2,FALSE))","v":""},null,null,null,null,null,null,null,null,null,null,null,null,null,null,null,null,null,null,null,null,null,null,null,null,null,{"$f":"IF(AN112=\"\",\"\",IF(LEN(VLOOKUP(AN112,Sifranti!BY:BZ,2,FALSE))=0,\"\",VLOOKUP(AN112,Sifranti!BY:BZ,2,FALSE)))","v":""},{"$f":"IF(C112=\"\",\"\",VLOOKUP(C112,Sifranti!P:R,2,FALSE))","v":""},"","",{"$f":"IF(C112=\"\",\"\",VLOOKUP(C112,Sifranti!P:R,3,FALSE))","v":""},{"$f":"IF(N112=\"\",\"\",VLOOKUP(N112,Sifranti!D:F,2,FALSE))","v":""},{"$f":"IF(AK112=\"\",\"\",VLOOKUP(AK112,Sifranti!V:Y,2,FALSE))","v":""},{"$f":"IF(AK112=\"\",\"\",IF(VLOOKUP(AK112,Sifranti!V:Y,3,FALSE)=\"\",\"\",VLOOKUP(AK112,Sifranti!V:Y,3,FALSE)))","v":""},{"$f":"IF(AK112=\"\",\"\",VLOOKUP(AK112,Sifranti!V:Y,4,FALSE))","v":""}]
[{"$f":"IF(B113=\"\",\"\",VLOOKUP(B113,Sifranti!K:L,2,FALSE))","v":""},null,null,null,null,null,null,null,null,"",{"$f":"IF(L113=\"\",\"\",VLOOKUP(L113,Sifranti!A:B,2,FALSE))","v":""},null,{"$f":"IF(N113=\"\",\"\",VLOOKUP(N113,Sifranti!D:F,3,FALSE))","v":""},null,{"$f":"IF(P113=\"\",\"\",VLOOKUP(P113,Sifranti!H:I,2,FALSE))","v":""},null,null,null,null,null,null,null,null,null,null,null,null,null,null,null,null,null,null,null,null,null,null,null,null,null,{"$f":"IF(AN113=\"\",\"\",IF(LEN(VLOOKUP(AN113,Sifranti!BY:BZ,2,FALSE))=0,\"\",VLOOKUP(AN113,Sifranti!BY:BZ,2,FALSE)))","v":""},{"$f":"IF(C113=\"\",\"\",VLOOKUP(C113,Sifranti!P:R,2,FALSE))","v":""},"","",{"$f":"IF(C113=\"\",\"\",VLOOKUP(C113,Sifranti!P:R,3,FALSE))","v":""},{"$f":"IF(N113=\"\",\"\",VLOOKUP(N113,Sifranti!D:F,2,FALSE))","v":""},{"$f":"IF(AK113=\"\",\"\",VLOOKUP(AK113,Sifranti!V:Y,2,FALSE))","v":""},{"$f":"IF(AK113=\"\",\"\",IF(VLOOKUP(AK113,Sifranti!V:Y,3,FALSE)=\"\",\"\",VLOOKUP(AK113,Sifranti!V:Y,3,FALSE)))","v":""},{"$f":"IF(AK113=\"\",\"\",VLOOKUP(AK113,Sifranti!V:Y,4,FALSE))","v":""}]
[{"$f":"IF(B114=\"\",\"\",VLOOKUP(B114,Sifranti!K:L,2,FALSE))","v":""},null,null,null,null,null,null,null,null,"",{"$f":"IF(L114=\"\",\"\",VLOOKUP(L114,Sifranti!A:B,2,FALSE))","v":""},null,{"$f":"IF(N114=\"\",\"\",VLOOKUP(N114,Sifranti!D:F,3,FALSE))","v":""},null,{"$f":"IF(P114=\"\",\"\",VLOOKUP(P114,Sifranti!H:I,2,FALSE))","v":""},null,null,null,null,null,null,null,null,null,null,null,null,null,null,null,null,null,null,null,null,null,null,null,null,null,{"$f":"IF(AN114=\"\",\"\",IF(LEN(VLOOKUP(AN114,Sifranti!BY:BZ,2,FALSE))=0,\"\",VLOOKUP(AN114,Sifranti!BY:BZ,2,FALSE)))","v":""},{"$f":"IF(C114=\"\",\"\",VLOOKUP(C114,Sifranti!P:R,2,FALSE))","v":""},"","",{"$f":"IF(C114=\"\",\"\",VLOOKUP(C114,Sifranti!P:R,3,FALSE))","v":""},{"$f":"IF(N114=\"\",\"\",VLOOKUP(N114,Sifranti!D:F,2,FALSE))","v":""},{"$f":"IF(AK114=\"\",\"\",VLOOKUP(AK114,Sifranti!V:Y,2,FALSE))","v":""},{"$f":"IF(AK114=\"\",\"\",IF(VLOOKUP(AK114,Sifranti!V:Y,3,FALSE)=\"\",\"\",VLOOKUP(AK114,Sifranti!V:Y,3,FALSE)))","v":""},{"$f":"IF(AK114=\"\",\"\",VLOOKUP(AK114,Sifranti!V:Y,4,FALSE))","v":""}]
[{"$f":"IF(B115=\"\",\"\",VLOOKUP(B115,Sifranti!K:L,2,FALSE))","v":""},null,null,null,null,null,null,null,null,"",{"$f":"IF(L115=\"\",\"\",VLOOKUP(L115,Sifranti!A:B,2,FALSE))","v":""},null,{"$f":"IF(N115=\"\",\"\",VLOOKUP(N115,Sifranti!D:F,3,FALSE))","v":""},null,{"$f":"IF(P115=\"\",\"\",VLOOKUP(P115,Sifranti!H:I,2,FALSE))","v":""},null,null,null,null,null,null,null,null,null,null,null,null,null,null,null,null,null,null,null,null,null,null,null,null,null,{"$f":"IF(AN115=\"\",\"\",IF(LEN(VLOOKUP(AN115,Sifranti!BY:BZ,2,FALSE))=0,\"\",VLOOKUP(AN115,Sifranti!BY:BZ,2,FALSE)))","v":""},{"$f":"IF(C115=\"\",\"\",VLOOKUP(C115,Sifranti!P:R,2,FALSE))","v":""},"","",{"$f":"IF(C115=\"\",\"\",VLOOKUP(C115,Sifranti!P:R,3,FALSE))","v":""},{"$f":"IF(N115=\"\",\"\",VLOOKUP(N115,Sifranti!D:F,2,FALSE))","v":""},{"$f":"IF(AK115=\"\",\"\",VLOOKUP(AK115,Sifranti!V:Y,2,FALSE))","v":""},{"$f":"IF(AK115=\"\",\"\",IF(VLOOKUP(AK115,Sifranti!V:Y,3,FALSE)=\"\",\"\",VLOOKUP(AK115,Sifranti!V:Y,3,FALSE)))","v":""},{"$f":"IF(AK115=\"\",\"\",VLOOKUP(AK115,Sifranti!V:Y,4,FALSE))","v":""}]
[{"$f":"IF(B116=\"\",\"\",VLOOKUP(B116,Sifranti!K:L,2,FALSE))","v":""},null,null,null,null,null,null,null,null,"",{"$f":"IF(L116=\"\",\"\",VLOOKUP(L116,Sifranti!A:B,2,FALSE))","v":""},null,{"$f":"IF(N116=\"\",\"\",VLOOKUP(N116,Sifranti!D:F,3,FALSE))","v":""},null,{"$f":"IF(P116=\"\",\"\",VLOOKUP(P116,Sifranti!H:I,2,FALSE))","v":""},null,null,null,null,null,null,null,null,null,null,null,null,null,null,null,null,null,null,null,null,null,null,null,null,null,{"$f":"IF(AN116=\"\",\"\",IF(LEN(VLOOKUP(AN116,Sifranti!BY:BZ,2,FALSE))=0,\"\",VLOOKUP(AN116,Sifranti!BY:BZ,2,FALSE)))","v":""},{"$f":"IF(C116=\"\",\"\",VLOOKUP(C116,Sifranti!P:R,2,FALSE))","v":""},"","",{"$f":"IF(C116=\"\",\"\",VLOOKUP(C116,Sifranti!P:R,3,FALSE))","v":""},{"$f":"IF(N116=\"\",\"\",VLOOKUP(N116,Sifranti!D:F,2,FALSE))","v":""},{"$f":"IF(AK116=\"\",\"\",VLOOKUP(AK116,Sifranti!V:Y,2,FALSE))","v":""},{"$f":"IF(AK116=\"\",\"\",IF(VLOOKUP(AK116,Sifranti!V:Y,3,FALSE)=\"\",\"\",VLOOKUP(AK116,Sifranti!V:Y,3,FALSE)))","v":""},{"$f":"IF(AK116=\"\",\"\",VLOOKUP(AK116,Sifranti!V:Y,4,FALSE))","v":""}]
[{"$f":"IF(B117=\"\",\"\",VLOOKUP(B117,Sifranti!K:L,2,FALSE))","v":""},null,null,null,null,null,null,null,null,"",{"$f":"IF(L117=\"\",\"\",VLOOKUP(L117,Sifranti!A:B,2,FALSE))","v":""},null,{"$f":"IF(N117=\"\",\"\",VLOOKUP(N117,Sifranti!D:F,3,FALSE))","v":""},null,{"$f":"IF(P117=\"\",\"\",VLOOKUP(P117,Sifranti!H:I,2,FALSE))","v":""},null,null,null,null,null,null,null,null,null,null,null,null,null,null,null,null,null,null,null,null,null,null,null,null,null,{"$f":"IF(AN117=\"\",\"\",IF(LEN(VLOOKUP(AN117,Sifranti!BY:BZ,2,FALSE))=0,\"\",VLOOKUP(AN117,Sifranti!BY:BZ,2,FALSE)))","v":""},{"$f":"IF(C117=\"\",\"\",VLOOKUP(C117,Sifranti!P:R,2,FALSE))","v":""},"","",{"$f":"IF(C117=\"\",\"\",VLOOKUP(C117,Sifranti!P:R,3,FALSE))","v":""},{"$f":"IF(N117=\"\",\"\",VLOOKUP(N117,Sifranti!D:F,2,FALSE))","v":""},{"$f":"IF(AK117=\"\",\"\",VLOOKUP(AK117,Sifranti!V:Y,2,FALSE))","v":""},{"$f":"IF(AK117=\"\",\"\",IF(VLOOKUP(AK117,Sifranti!V:Y,3,FALSE)=\"\",\"\",VLOOKUP(AK117,Sifranti!V:Y,3,FALSE)))","v":""},{"$f":"IF(AK117=\"\",\"\",VLOOKUP(AK117,Sifranti!V:Y,4,FALSE))","v":""}]
[{"$f":"IF(B118=\"\",\"\",VLOOKUP(B118,Sifranti!K:L,2,FALSE))","v":""},null,null,null,null,null,null,null,null,"",{"$f":"IF(L118=\"\",\"\",VLOOKUP(L118,Sifranti!A:B,2,FALSE))","v":""},null,{"$f":"IF(N118=\"\",\"\",VLOOKUP(N118,Sifranti!D:F,3,FALSE))","v":""},null,{"$f":"IF(P118=\"\",\"\",VLOOKUP(P118,Sifranti!H:I,2,FALSE))","v":""},null,null,null,null,null,null,null,null,null,null,null,null,null,null,null,null,null,null,null,null,null,null,null,null,null,{"$f":"IF(AN118=\"\",\"\",IF(LEN(VLOOKUP(AN118,Sifranti!BY:BZ,2,FALSE))=0,\"\",VLOOKUP(AN118,Sifranti!BY:BZ,2,FALSE)))","v":""},{"$f":"IF(C118=\"\",\"\",VLOOKUP(C118,Sifranti!P:R,2,FALSE))","v":""},"","",{"$f":"IF(C118=\"\",\"\",VLOOKUP(C118,Sifranti!P:R,3,FALSE))","v":""},{"$f":"IF(N118=\"\",\"\",VLOOKUP(N118,Sifranti!D:F,2,FALSE))","v":""},{"$f":"IF(AK118=\"\",\"\",VLOOKUP(AK118,Sifranti!V:Y,2,FALSE))","v":""},{"$f":"IF(AK118=\"\",\"\",IF(VLOOKUP(AK118,Sifranti!V:Y,3,FALSE)=\"\",\"\",VLOOKUP(AK118,Sifranti!V:Y,3,FALSE)))","v":""},{"$f":"IF(AK118=\"\",\"\",VLOOKUP(AK118,Sifranti!V:Y,4,FALSE))","v":""}]
[{"$f":"IF(B119=\"\",\"\",VLOOKUP(B119,Sifranti!K:L,2,FALSE))","v":""},null,null,null,null,null,null,null,null,"",{"$f":"IF(L119=\"\",\"\",VLOOKUP(L119,Sifranti!A:B,2,FALSE))","v":""},null,{"$f":"IF(N119=\"\",\"\",VLOOKUP(N119,Sifranti!D:F,3,FALSE))","v":""},null,{"$f":"IF(P119=\"\",\"\",VLOOKUP(P119,Sifranti!H:I,2,FALSE))","v":""},null,null,null,null,null,null,null,null,null,null,null,null,null,null,null,null,null,null,null,null,null,null,null,null,null,{"$f":"IF(AN119=\"\",\"\",IF(LEN(VLOOKUP(AN119,Sifranti!BY:BZ,2,FALSE))=0,\"\",VLOOKUP(AN119,Sifranti!BY:BZ,2,FALSE)))","v":""},{"$f":"IF(C119=\"\",\"\",VLOOKUP(C119,Sifranti!P:R,2,FALSE))","v":""},"","",{"$f":"IF(C119=\"\",\"\",VLOOKUP(C119,Sifranti!P:R,3,FALSE))","v":""},{"$f":"IF(N119=\"\",\"\",VLOOKUP(N119,Sifranti!D:F,2,FALSE))","v":""},{"$f":"IF(AK119=\"\",\"\",VLOOKUP(AK119,Sifranti!V:Y,2,FALSE))","v":""},{"$f":"IF(AK119=\"\",\"\",IF(VLOOKUP(AK119,Sifranti!V:Y,3,FALSE)=\"\",\"\",VLOOKUP(AK119,Sifranti!V:Y,3,FALSE)))","v":""},{"$f":"IF(AK119=\"\",\"\",VLOOKUP(AK119,Sifranti!V:Y,4,FALSE))","v":""}]
[{"$f":"IF(B120=\"\",\"\",VLOOKUP(B120,Sifranti!K:L,2,FALSE))","v":""},null,null,null,null,null,null,null,null,"",{"$f":"IF(L120=\"\",\"\",VLOOKUP(L120,Sifranti!A:B,2,FALSE))","v":""},null,{"$f":"IF(N120=\"\",\"\",VLOOKUP(N120,Sifranti!D:F,3,FALSE))","v":""},null,{"$f":"IF(P120=\"\",\"\",VLOOKUP(P120,Sifranti!H:I,2,FALSE))","v":""},null,null,null,null,null,null,null,null,null,null,null,null,null,null,null,null,null,null,null,null,null,null,null,null,null,{"$f":"IF(AN120=\"\",\"\",IF(LEN(VLOOKUP(AN120,Sifranti!BY:BZ,2,FALSE))=0,\"\",VLOOKUP(AN120,Sifranti!BY:BZ,2,FALSE)))","v":""},{"$f":"IF(C120=\"\",\"\",VLOOKUP(C120,Sifranti!P:R,2,FALSE))","v":""},"","",{"$f":"IF(C120=\"\",\"\",VLOOKUP(C120,Sifranti!P:R,3,FALSE))","v":""},{"$f":"IF(N120=\"\",\"\",VLOOKUP(N120,Sifranti!D:F,2,FALSE))","v":""},{"$f":"IF(AK120=\"\",\"\",VLOOKUP(AK120,Sifranti!V:Y,2,FALSE))","v":""},{"$f":"IF(AK120=\"\",\"\",IF(VLOOKUP(AK120,Sifranti!V:Y,3,FALSE)=\"\",\"\",VLOOKUP(AK120,Sifranti!V:Y,3,FALSE)))","v":""},{"$f":"IF(AK120=\"\",\"\",VLOOKUP(AK120,Sifranti!V:Y,4,FALSE))","v":""}]
[{"$f":"IF(B121=\"\",\"\",VLOOKUP(B121,Sifranti!K:L,2,FALSE))","v":""},null,null,null,null,null,null,null,null,"",{"$f":"IF(L121=\"\",\"\",VLOOKUP(L121,Sifranti!A:B,2,FALSE))","v":""},null,{"$f":"IF(N121=\"\",\"\",VLOOKUP(N121,Sifranti!D:F,3,FALSE))","v":""},null,{"$f":"IF(P121=\"\",\"\",VLOOKUP(P121,Sifranti!H:I,2,FALSE))","v":""},null,null,null,null,null,null,null,null,null,null,null,null,null,null,null,null,null,null,null,null,null,null,null,null,null,{"$f":"IF(AN121=\"\",\"\",IF(LEN(VLOOKUP(AN121,Sifranti!BY:BZ,2,FALSE))=0,\"\",VLOOKUP(AN121,Sifranti!BY:BZ,2,FALSE)))","v":""},{"$f":"IF(C121=\"\",\"\",VLOOKUP(C121,Sifranti!P:R,2,FALSE))","v":""},"","",{"$f":"IF(C121=\"\",\"\",VLOOKUP(C121,Sifranti!P:R,3,FALSE))","v":""},{"$f":"IF(N121=\"\",\"\",VLOOKUP(N121,Sifranti!D:F,2,FALSE))","v":""},{"$f":"IF(AK121=\"\",\"\",VLOOKUP(AK121,Sifranti!V:Y,2,FALSE))","v":""},{"$f":"IF(AK121=\"\",\"\",IF(VLOOKUP(AK121,Sifranti!V:Y,3,FALSE)=\"\",\"\",VLOOKUP(AK121,Sifranti!V:Y,3,FALSE)))","v":""},{"$f":"IF(AK121=\"\",\"\",VLOOKUP(AK121,Sifranti!V:Y,4,FALSE))","v":""}]
[{"$f":"IF(B122=\"\",\"\",VLOOKUP(B122,Sifranti!K:L,2,FALSE))","v":""},null,null,null,null,null,null,null,null,"",{"$f":"IF(L122=\"\",\"\",VLOOKUP(L122,Sifranti!A:B,2,FALSE))","v":""},null,{"$f":"IF(N122=\"\",\"\",VLOOKUP(N122,Sifranti!D:F,3,FALSE))","v":""},null,{"$f":"IF(P122=\"\",\"\",VLOOKUP(P122,Sifranti!H:I,2,FALSE))","v":""},null,null,null,null,null,null,null,null,null,null,null,null,null,null,null,null,null,null,null,null,null,null,null,null,null,{"$f":"IF(AN122=\"\",\"\",IF(LEN(VLOOKUP(AN122,Sifranti!BY:BZ,2,FALSE))=0,\"\",VLOOKUP(AN122,Sifranti!BY:BZ,2,FALSE)))","v":""},{"$f":"IF(C122=\"\",\"\",VLOOKUP(C122,Sifranti!P:R,2,FALSE))","v":""},"","",{"$f":"IF(C122=\"\",\"\",VLOOKUP(C122,Sifranti!P:R,3,FALSE))","v":""},{"$f":"IF(N122=\"\",\"\",VLOOKUP(N122,Sifranti!D:F,2,FALSE))","v":""},{"$f":"IF(AK122=\"\",\"\",VLOOKUP(AK122,Sifranti!V:Y,2,FALSE))","v":""},{"$f":"IF(AK122=\"\",\"\",IF(VLOOKUP(AK122,Sifranti!V:Y,3,FALSE)=\"\",\"\",VLOOKUP(AK122,Sifranti!V:Y,3,FALSE)))","v":""},{"$f":"IF(AK122=\"\",\"\",VLOOKUP(AK122,Sifranti!V:Y,4,FALSE))","v":""}]
[{"$f":"IF(B123=\"\",\"\",VLOOKUP(B123,Sifranti!K:L,2,FALSE))","v":""},null,null,null,null,null,null,null,null,"",{"$f":"IF(L123=\"\",\"\",VLOOKUP(L123,Sifranti!A:B,2,FALSE))","v":""},null,{"$f":"IF(N123=\"\",\"\",VLOOKUP(N123,Sifranti!D:F,3,FALSE))","v":""},null,{"$f":"IF(P123=\"\",\"\",VLOOKUP(P123,Sifranti!H:I,2,FALSE))","v":""},null,null,null,null,null,null,null,null,null,null,null,null,null,null,null,null,null,null,null,null,null,null,null,null,null,{"$f":"IF(AN123=\"\",\"\",IF(LEN(VLOOKUP(AN123,Sifranti!BY:BZ,2,FALSE))=0,\"\",VLOOKUP(AN123,Sifranti!BY:BZ,2,FALSE)))","v":""},{"$f":"IF(C123=\"\",\"\",VLOOKUP(C123,Sifranti!P:R,2,FALSE))","v":""},"","",{"$f":"IF(C123=\"\",\"\",VLOOKUP(C123,Sifranti!P:R,3,FALSE))","v":""},{"$f":"IF(N123=\"\",\"\",VLOOKUP(N123,Sifranti!D:F,2,FALSE))","v":""},{"$f":"IF(AK123=\"\",\"\",VLOOKUP(AK123,Sifranti!V:Y,2,FALSE))","v":""},{"$f":"IF(AK123=\"\",\"\",IF(VLOOKUP(AK123,Sifranti!V:Y,3,FALSE)=\"\",\"\",VLOOKUP(AK123,Sifranti!V:Y,3,FALSE)))","v":""},{"$f":"IF(AK123=\"\",\"\",VLOOKUP(AK123,Sifranti!V:Y,4,FALSE))","v":""}]
[{"$f":"IF(B124=\"\",\"\",VLOOKUP(B124,Sifranti!K:L,2,FALSE))","v":""},null,null,null,null,null,null,null,null,"",{"$f":"IF(L124=\"\",\"\",VLOOKUP(L124,Sifranti!A:B,2,FALSE))","v":""},null,{"$f":"IF(N124=\"\",\"\",VLOOKUP(N124,Sifranti!D:F,3,FALSE))","v":""},null,{"$f":"IF(P124=\"\",\"\",VLOOKUP(P124,Sifranti!H:I,2,FALSE))","v":""},null,null,null,null,null,null,null,null,null,null,null,null,null,null,null,null,null,null,null,null,null,null,null,null,null,{"$f":"IF(AN124=\"\",\"\",IF(LEN(VLOOKUP(AN124,Sifranti!BY:BZ,2,FALSE))=0,\"\",VLOOKUP(AN124,Sifranti!BY:BZ,2,FALSE)))","v":""},{"$f":"IF(C124=\"\",\"\",VLOOKUP(C124,Sifranti!P:R,2,FALSE))","v":""},"","",{"$f":"IF(C124=\"\",\"\",VLOOKUP(C124,Sifranti!P:R,3,FALSE))","v":""},{"$f":"IF(N124=\"\",\"\",VLOOKUP(N124,Sifranti!D:F,2,FALSE))","v":""},{"$f":"IF(AK124=\"\",\"\",VLOOKUP(AK124,Sifranti!V:Y,2,FALSE))","v":""},{"$f":"IF(AK124=\"\",\"\",IF(VLOOKUP(AK124,Sifranti!V:Y,3,FALSE)=\"\",\"\",VLOOKUP(AK124,Sifranti!V:Y,3,FALSE)))","v":""},{"$f":"IF(AK124=\"\",\"\",VLOOKUP(AK124,Sifranti!V:Y,4,FALSE))","v":""}]
[{"$f":"IF(B125=\"\",\"\",VLOOKUP(B125,Sifranti!K:L,2,FALSE))","v":""},null,null,null,null,null,null,null,null,"",{"$f":"IF(L125=\"\",\"\",VLOOKUP(L125,Sifranti!A:B,2,FALSE))","v":""},null,{"$f":"IF(N125=\"\",\"\",VLOOKUP(N125,Sifranti!D:F,3,FALSE))","v":""},null,{"$f":"IF(P125=\"\",\"\",VLOOKUP(P125,Sifranti!H:I,2,FALSE))","v":""},null,null,null,null,null,null,null,null,null,null,null,null,null,null,null,null,null,null,null,null,null,null,null,null,null,{"$f":"IF(AN125=\"\",\"\",IF(LEN(VLOOKUP(AN125,Sifranti!BY:BZ,2,FALSE))=0,\"\",VLOOKUP(AN125,Sifranti!BY:BZ,2,FALSE)))","v":""},{"$f":"IF(C125=\"\",\"\",VLOOKUP(C125,Sifranti!P:R,2,FALSE))","v":""},"","",{"$f":"IF(C125=\"\",\"\",VLOOKUP(C125,Sifranti!P:R,3,FALSE))","v":""},{"$f":"IF(N125=\"\",\"\",VLOOKUP(N125,Sifranti!D:F,2,FALSE))","v":""},{"$f":"IF(AK125=\"\",\"\",VLOOKUP(AK125,Sifranti!V:Y,2,FALSE))","v":""},{"$f":"IF(AK125=\"\",\"\",IF(VLOOKUP(AK125,Sifranti!V:Y,3,FALSE)=\"\",\"\",VLOOKUP(AK125,Sifranti!V:Y,3,FALSE)))","v":""},{"$f":"IF(AK125=\"\",\"\",VLOOKUP(AK125,Sifranti!V:Y,4,FALSE))","v":""}]
[{"$f":"IF(B126=\"\",\"\",VLOOKUP(B126,Sifranti!K:L,2,FALSE))","v":""},null,null,null,null,null,null,null,null,"",{"$f":"IF(L126=\"\",\"\",VLOOKUP(L126,Sifranti!A:B,2,FALSE))","v":""},null,{"$f":"IF(N126=\"\",\"\",VLOOKUP(N126,Sifranti!D:F,3,FALSE))","v":""},null,{"$f":"IF(P126=\"\",\"\",VLOOKUP(P126,Sifranti!H:I,2,FALSE))","v":""},null,null,null,null,null,null,null,null,null,null,null,null,null,null,null,null,null,null,null,null,null,null,null,null,null,{"$f":"IF(AN126=\"\",\"\",IF(LEN(VLOOKUP(AN126,Sifranti!BY:BZ,2,FALSE))=0,\"\",VLOOKUP(AN126,Sifranti!BY:BZ,2,FALSE)))","v":""},{"$f":"IF(C126=\"\",\"\",VLOOKUP(C126,Sifranti!P:R,2,FALSE))","v":""},"","",{"$f":"IF(C126=\"\",\"\",VLOOKUP(C126,Sifranti!P:R,3,FALSE))","v":""},{"$f":"IF(N126=\"\",\"\",VLOOKUP(N126,Sifranti!D:F,2,FALSE))","v":""},{"$f":"IF(AK126=\"\",\"\",VLOOKUP(AK126,Sifranti!V:Y,2,FALSE))","v":""},{"$f":"IF(AK126=\"\",\"\",IF(VLOOKUP(AK126,Sifranti!V:Y,3,FALSE)=\"\",\"\",VLOOKUP(AK126,Sifranti!V:Y,3,FALSE)))","v":""},{"$f":"IF(AK126=\"\",\"\",VLOOKUP(AK126,Sifranti!V:Y,4,FALSE))","v":""}]
[{"$f":"IF(B127=\"\",\"\",VLOOKUP(B127,Sifranti!K:L,2,FALSE))","v":""},null,null,null,null,null,null,null,null,"",{"$f":"IF(L127=\"\",\"\",VLOOKUP(L127,Sifranti!A:B,2,FALSE))","v":""},null,{"$f":"IF(N127=\"\",\"\",VLOOKUP(N127,Sifranti!D:F,3,FALSE))","v":""},null,{"$f":"IF(P127=\"\",\"\",VLOOKUP(P127,Sifranti!H:I,2,FALSE))","v":""},null,null,null,null,null,null,null,null,null,null,null,null,null,null,null,null,null,null,null,null,null,null,null,null,null,{"$f":"IF(AN127=\"\",\"\",IF(LEN(VLOOKUP(AN127,Sifranti!BY:BZ,2,FALSE))=0,\"\",VLOOKUP(AN127,Sifranti!BY:BZ,2,FALSE)))","v":""},{"$f":"IF(C127=\"\",\"\",VLOOKUP(C127,Sifranti!P:R,2,FALSE))","v":""},"","",{"$f":"IF(C127=\"\",\"\",VLOOKUP(C127,Sifranti!P:R,3,FALSE))","v":""},{"$f":"IF(N127=\"\",\"\",VLOOKUP(N127,Sifranti!D:F,2,FALSE))","v":""},{"$f":"IF(AK127=\"\",\"\",VLOOKUP(AK127,Sifranti!V:Y,2,FALSE))","v":""},{"$f":"IF(AK127=\"\",\"\",IF(VLOOKUP(AK127,Sifranti!V:Y,3,FALSE)=\"\",\"\",VLOOKUP(AK127,Sifranti!V:Y,3,FALSE)))","v":""},{"$f":"IF(AK127=\"\",\"\",VLOOKUP(AK127,Sifranti!V:Y,4,FALSE))","v":""}]
[{"$f":"IF(B128=\"\",\"\",VLOOKUP(B128,Sifranti!K:L,2,FALSE))","v":""},null,null,null,null,null,null,null,null,"",{"$f":"IF(L128=\"\",\"\",VLOOKUP(L128,Sifranti!A:B,2,FALSE))","v":""},null,{"$f":"IF(N128=\"\",\"\",VLOOKUP(N128,Sifranti!D:F,3,FALSE))","v":""},null,{"$f":"IF(P128=\"\",\"\",VLOOKUP(P128,Sifranti!H:I,2,FALSE))","v":""},null,null,null,null,null,null,null,null,null,null,null,null,null,null,null,null,null,null,null,null,null,null,null,null,null,{"$f":"IF(AN128=\"\",\"\",IF(LEN(VLOOKUP(AN128,Sifranti!BY:BZ,2,FALSE))=0,\"\",VLOOKUP(AN128,Sifranti!BY:BZ,2,FALSE)))","v":""},{"$f":"IF(C128=\"\",\"\",VLOOKUP(C128,Sifranti!P:R,2,FALSE))","v":""},"","",{"$f":"IF(C128=\"\",\"\",VLOOKUP(C128,Sifranti!P:R,3,FALSE))","v":""},{"$f":"IF(N128=\"\",\"\",VLOOKUP(N128,Sifranti!D:F,2,FALSE))","v":""},{"$f":"IF(AK128=\"\",\"\",VLOOKUP(AK128,Sifranti!V:Y,2,FALSE))","v":""},{"$f":"IF(AK128=\"\",\"\",IF(VLOOKUP(AK128,Sifranti!V:Y,3,FALSE)=\"\",\"\",VLOOKUP(AK128,Sifranti!V:Y,3,FALSE)))","v":""},{"$f":"IF(AK128=\"\",\"\",VLOOKUP(AK128,Sifranti!V:Y,4,FALSE))","v":""}]
[{"$f":"IF(B129=\"\",\"\",VLOOKUP(B129,Sifranti!K:L,2,FALSE))","v":""},null,null,null,null,null,null,null,null,"",{"$f":"IF(L129=\"\",\"\",VLOOKUP(L129,Sifranti!A:B,2,FALSE))","v":""},null,{"$f":"IF(N129=\"\",\"\",VLOOKUP(N129,Sifranti!D:F,3,FALSE))","v":""},null,{"$f":"IF(P129=\"\",\"\",VLOOKUP(P129,Sifranti!H:I,2,FALSE))","v":""},null,null,null,null,null,null,null,null,null,null,null,null,null,null,null,null,null,null,null,null,null,null,null,null,null,{"$f":"IF(AN129=\"\",\"\",IF(LEN(VLOOKUP(AN129,Sifranti!BY:BZ,2,FALSE))=0,\"\",VLOOKUP(AN129,Sifranti!BY:BZ,2,FALSE)))","v":""},{"$f":"IF(C129=\"\",\"\",VLOOKUP(C129,Sifranti!P:R,2,FALSE))","v":""},"","",{"$f":"IF(C129=\"\",\"\",VLOOKUP(C129,Sifranti!P:R,3,FALSE))","v":""},{"$f":"IF(N129=\"\",\"\",VLOOKUP(N129,Sifranti!D:F,2,FALSE))","v":""},{"$f":"IF(AK129=\"\",\"\",VLOOKUP(AK129,Sifranti!V:Y,2,FALSE))","v":""},{"$f":"IF(AK129=\"\",\"\",IF(VLOOKUP(AK129,Sifranti!V:Y,3,FALSE)=\"\",\"\",VLOOKUP(AK129,Sifranti!V:Y,3,FALSE)))","v":""},{"$f":"IF(AK129=\"\",\"\",VLOOKUP(AK129,Sifranti!V:Y,4,FALSE))","v":""}]
[{"$f":"IF(B130=\"\",\"\",VLOOKUP(B130,Sifranti!K:L,2,FALSE))","v":""},null,null,null,null,null,null,null,null,{"$f":"IF(H130=\"\",\"\",YEAR(H130))","v":""},{"$f":"IF(L130=\"\",\"\",VLOOKUP(L130,Sifranti!A:B,2,FALSE))","v":""},null,{"$f":"IF(N130=\"\",\"\",VLOOKUP(N130,Sifranti!D:F,3,FALSE))","v":""},null,{"$f":"IF(P130=\"\",\"\",VLOOKUP(P130,Sifranti!H:I,2,FALSE))","v":""},null,null,null,null,null,null,null,null,null,null,null,null,null,null,null,null,null,null,null,null,null,null,null,null,null,{"$f":"IF(AN130=\"\",\"\",IF(LEN(VLOOKUP(AN130,Sifranti!BY:BZ,2,FALSE))=0,\"\",VLOOKUP(AN130,Sifranti!BY:BZ,2,FALSE)))","v":""},{"$f":"IF(C130=\"\",\"\",VLOOKUP(C130,Sifranti!P:R,2,FALSE))","v":""},{"$f":"IF(V130>0,IF(AS130=\"de minimis\",T130/S130*100,U130/AD130*100),\"\")","v":""},{"$f":"IF(AE130>0,AE130/U130*100,\"\")","v":""},{"$f":"IF(C130=\"\",\"\",VLOOKUP(C130,Sifranti!P:R,3,FALSE))","v":""},{"$f":"IF(N130=\"\",\"\",VLOOKUP(N130,Sifranti!D:F,2,FALSE))","v":""},{"$f":"IF(AK130=\"\",\"\",VLOOKUP(AK130,Sifranti!V:Y,2,FALSE))","v":""},{"$f":"IF(AK130=\"\",\"\",IF(VLOOKUP(AK130,Sifranti!V:Y,3,FALSE)=\"\",\"\",VLOOKUP(AK130,Sifranti!V:Y,3,FALSE)))","v":""},{"$f":"IF(AK130=\"\",\"\",VLOOKUP(AK130,Sifranti!V:Y,4,FALSE))","v":""}]
[{"$f":"IF(B131=\"\",\"\",VLOOKUP(B131,Sifranti!K:L,2,FALSE))","v":""},null,null,null,null,null,null,null,null,"",{"$f":"IF(L131=\"\",\"\",VLOOKUP(L131,Sifranti!A:B,2,FALSE))","v":""},null,{"$f":"IF(N131=\"\",\"\",VLOOKUP(N131,Sifranti!D:F,3,FALSE))","v":""},null,{"$f":"IF(P131=\"\",\"\",VLOOKUP(P131,Sifranti!H:I,2,FALSE))","v":""},null,null,null,null,null,null,null,null,null,null,null,null,null,null,null,null,null,null,null,null,null,null,null,null,null,{"$f":"IF(AN131=\"\",\"\",IF(LEN(VLOOKUP(AN131,Sifranti!BY:BZ,2,FALSE))=0,\"\",VLOOKUP(AN131,Sifranti!BY:BZ,2,FALSE)))","v":""},{"$f":"IF(C131=\"\",\"\",VLOOKUP(C131,Sifranti!P:R,2,FALSE))","v":""},"","",{"$f":"IF(C131=\"\",\"\",VLOOKUP(C131,Sifranti!P:R,3,FALSE))","v":""},{"$f":"IF(N131=\"\",\"\",VLOOKUP(N131,Sifranti!D:F,2,FALSE))","v":""},{"$f":"IF(AK131=\"\",\"\",VLOOKUP(AK131,Sifranti!V:Y,2,FALSE))","v":""},{"$f":"IF(AK131=\"\",\"\",IF(VLOOKUP(AK131,Sifranti!V:Y,3,FALSE)=\"\",\"\",VLOOKUP(AK131,Sifranti!V:Y,3,FALSE)))","v":""},{"$f":"IF(AK131=\"\",\"\",VLOOKUP(AK131,Sifranti!V:Y,4,FALSE))","v":""}]
[{"$f":"IF(B132=\"\",\"\",VLOOKUP(B132,Sifranti!K:L,2,FALSE))","v":""},null,null,null,null,null,null,null,null,"",{"$f":"IF(L132=\"\",\"\",VLOOKUP(L132,Sifranti!A:B,2,FALSE))","v":""},null,{"$f":"IF(N132=\"\",\"\",VLOOKUP(N132,Sifranti!D:F,3,FALSE))","v":""},null,{"$f":"IF(P132=\"\",\"\",VLOOKUP(P132,Sifranti!H:I,2,FALSE))","v":""},null,null,null,null,null,null,null,null,null,null,null,null,null,null,null,null,null,null,null,null,null,null,null,null,null,{"$f":"IF(AN132=\"\",\"\",IF(LEN(VLOOKUP(AN132,Sifranti!BY:BZ,2,FALSE))=0,\"\",VLOOKUP(AN132,Sifranti!BY:BZ,2,FALSE)))","v":""},{"$f":"IF(C132=\"\",\"\",VLOOKUP(C132,Sifranti!P:R,2,FALSE))","v":""},"","",{"$f":"IF(C132=\"\",\"\",VLOOKUP(C132,Sifranti!P:R,3,FALSE))","v":""},{"$f":"IF(N132=\"\",\"\",VLOOKUP(N132,Sifranti!D:F,2,FALSE))","v":""},{"$f":"IF(AK132=\"\",\"\",VLOOKUP(AK132,Sifranti!V:Y,2,FALSE))","v":""},{"$f":"IF(AK132=\"\",\"\",IF(VLOOKUP(AK132,Sifranti!V:Y,3,FALSE)=\"\",\"\",VLOOKUP(AK132,Sifranti!V:Y,3,FALSE)))","v":""},{"$f":"IF(AK132=\"\",\"\",VLOOKUP(AK132,Sifranti!V:Y,4,FALSE))","v":""}]
[{"$f":"IF(B133=\"\",\"\",VLOOKUP(B133,Sifranti!K:L,2,FALSE))","v":""},null,null,null,null,null,null,null,null,"",{"$f":"IF(L133=\"\",\"\",VLOOKUP(L133,Sifranti!A:B,2,FALSE))","v":""},null,{"$f":"IF(N133=\"\",\"\",VLOOKUP(N133,Sifranti!D:F,3,FALSE))","v":""},null,{"$f":"IF(P133=\"\",\"\",VLOOKUP(P133,Sifranti!H:I,2,FALSE))","v":""},null,null,null,null,null,null,null,null,null,null,null,null,null,null,null,null,null,null,null,null,null,null,null,null,null,{"$f":"IF(AN133=\"\",\"\",IF(LEN(VLOOKUP(AN133,Sifranti!BY:BZ,2,FALSE))=0,\"\",VLOOKUP(AN133,Sifranti!BY:BZ,2,FALSE)))","v":""},{"$f":"IF(C133=\"\",\"\",VLOOKUP(C133,Sifranti!P:R,2,FALSE))","v":""},"","",{"$f":"IF(C133=\"\",\"\",VLOOKUP(C133,Sifranti!P:R,3,FALSE))","v":""},{"$f":"IF(N133=\"\",\"\",VLOOKUP(N133,Sifranti!D:F,2,FALSE))","v":""},{"$f":"IF(AK133=\"\",\"\",VLOOKUP(AK133,Sifranti!V:Y,2,FALSE))","v":""},{"$f":"IF(AK133=\"\",\"\",IF(VLOOKUP(AK133,Sifranti!V:Y,3,FALSE)=\"\",\"\",VLOOKUP(AK133,Sifranti!V:Y,3,FALSE)))","v":""},{"$f":"IF(AK133=\"\",\"\",VLOOKUP(AK133,Sifranti!V:Y,4,FALSE))","v":""}]
[{"$f":"IF(B134=\"\",\"\",VLOOKUP(B134,Sifranti!K:L,2,FALSE))","v":""},null,null,null,null,null,null,null,null,"",{"$f":"IF(L134=\"\",\"\",VLOOKUP(L134,Sifranti!A:B,2,FALSE))","v":""},null,{"$f":"IF(N134=\"\",\"\",VLOOKUP(N134,Sifranti!D:F,3,FALSE))","v":""},null,{"$f":"IF(P134=\"\",\"\",VLOOKUP(P134,Sifranti!H:I,2,FALSE))","v":""},null,null,null,null,null,null,null,null,null,null,null,null,null,null,null,null,null,null,null,null,null,null,null,null,null,{"$f":"IF(AN134=\"\",\"\",IF(LEN(VLOOKUP(AN134,Sifranti!BY:BZ,2,FALSE))=0,\"\",VLOOKUP(AN134,Sifranti!BY:BZ,2,FALSE)))","v":""},{"$f":"IF(C134=\"\",\"\",VLOOKUP(C134,Sifranti!P:R,2,FALSE))","v":""},"","",{"$f":"IF(C134=\"\",\"\",VLOOKUP(C134,Sifranti!P:R,3,FALSE))","v":""},{"$f":"IF(N134=\"\",\"\",VLOOKUP(N134,Sifranti!D:F,2,FALSE))","v":""},{"$f":"IF(AK134=\"\",\"\",VLOOKUP(AK134,Sifranti!V:Y,2,FALSE))","v":""},{"$f":"IF(AK134=\"\",\"\",IF(VLOOKUP(AK134,Sifranti!V:Y,3,FALSE)=\"\",\"\",VLOOKUP(AK134,Sifranti!V:Y,3,FALSE)))","v":""},{"$f":"IF(AK134=\"\",\"\",VLOOKUP(AK134,Sifranti!V:Y,4,FALSE))","v":""}]
[{"$f":"IF(B135=\"\",\"\",VLOOKUP(B135,Sifranti!K:L,2,FALSE))","v":""},null,null,null,null,null,null,null,null,"",{"$f":"IF(L135=\"\",\"\",VLOOKUP(L135,Sifranti!A:B,2,FALSE))","v":""},null,{"$f":"IF(N135=\"\",\"\",VLOOKUP(N135,Sifranti!D:F,3,FALSE))","v":""},null,{"$f":"IF(P135=\"\",\"\",VLOOKUP(P135,Sifranti!H:I,2,FALSE))","v":""},null,null,null,null,null,null,null,null,null,null,null,null,null,null,null,null,null,null,null,null,null,null,null,null,null,{"$f":"IF(AN135=\"\",\"\",IF(LEN(VLOOKUP(AN135,Sifranti!BY:BZ,2,FALSE))=0,\"\",VLOOKUP(AN135,Sifranti!BY:BZ,2,FALSE)))","v":""},{"$f":"IF(C135=\"\",\"\",VLOOKUP(C135,Sifranti!P:R,2,FALSE))","v":""},"","",{"$f":"IF(C135=\"\",\"\",VLOOKUP(C135,Sifranti!P:R,3,FALSE))","v":""},{"$f":"IF(N135=\"\",\"\",VLOOKUP(N135,Sifranti!D:F,2,FALSE))","v":""},{"$f":"IF(AK135=\"\",\"\",VLOOKUP(AK135,Sifranti!V:Y,2,FALSE))","v":""},{"$f":"IF(AK135=\"\",\"\",IF(VLOOKUP(AK135,Sifranti!V:Y,3,FALSE)=\"\",\"\",VLOOKUP(AK135,Sifranti!V:Y,3,FALSE)))","v":""},{"$f":"IF(AK135=\"\",\"\",VLOOKUP(AK135,Sifranti!V:Y,4,FALSE))","v":""}]
[{"$f":"IF(B136=\"\",\"\",VLOOKUP(B136,Sifranti!K:L,2,FALSE))","v":""},null,null,null,null,null,null,null,null,"",{"$f":"IF(L136=\"\",\"\",VLOOKUP(L136,Sifranti!A:B,2,FALSE))","v":""},null,{"$f":"IF(N136=\"\",\"\",VLOOKUP(N136,Sifranti!D:F,3,FALSE))","v":""},null,{"$f":"IF(P136=\"\",\"\",VLOOKUP(P136,Sifranti!H:I,2,FALSE))","v":""},null,null,null,null,null,null,null,null,null,null,null,null,null,null,null,null,null,null,null,null,null,null,null,null,null,{"$f":"IF(AN136=\"\",\"\",IF(LEN(VLOOKUP(AN136,Sifranti!BY:BZ,2,FALSE))=0,\"\",VLOOKUP(AN136,Sifranti!BY:BZ,2,FALSE)))","v":""},{"$f":"IF(C136=\"\",\"\",VLOOKUP(C136,Sifranti!P:R,2,FALSE))","v":""},"","",{"$f":"IF(C136=\"\",\"\",VLOOKUP(C136,Sifranti!P:R,3,FALSE))","v":""},{"$f":"IF(N136=\"\",\"\",VLOOKUP(N136,Sifranti!D:F,2,FALSE))","v":""},{"$f":"IF(AK136=\"\",\"\",VLOOKUP(AK136,Sifranti!V:Y,2,FALSE))","v":""},{"$f":"IF(AK136=\"\",\"\",IF(VLOOKUP(AK136,Sifranti!V:Y,3,FALSE)=\"\",\"\",VLOOKUP(AK136,Sifranti!V:Y,3,FALSE)))","v":""},{"$f":"IF(AK136=\"\",\"\",VLOOKUP(AK136,Sifranti!V:Y,4,FALSE))","v":""}]
[{"$f":"IF(B137=\"\",\"\",VLOOKUP(B137,Sifranti!K:L,2,FALSE))","v":""},null,null,null,null,null,null,null,null,"",{"$f":"IF(L137=\"\",\"\",VLOOKUP(L137,Sifranti!A:B,2,FALSE))","v":""},null,{"$f":"IF(N137=\"\",\"\",VLOOKUP(N137,Sifranti!D:F,3,FALSE))","v":""},null,{"$f":"IF(P137=\"\",\"\",VLOOKUP(P137,Sifranti!H:I,2,FALSE))","v":""},null,null,null,null,null,null,null,null,null,null,null,null,null,null,null,null,null,null,null,null,null,null,null,null,null,{"$f":"IF(AN137=\"\",\"\",IF(LEN(VLOOKUP(AN137,Sifranti!BY:BZ,2,FALSE))=0,\"\",VLOOKUP(AN137,Sifranti!BY:BZ,2,FALSE)))","v":""},{"$f":"IF(C137=\"\",\"\",VLOOKUP(C137,Sifranti!P:R,2,FALSE))","v":""},"","",{"$f":"IF(C137=\"\",\"\",VLOOKUP(C137,Sifranti!P:R,3,FALSE))","v":""},{"$f":"IF(N137=\"\",\"\",VLOOKUP(N137,Sifranti!D:F,2,FALSE))","v":""},{"$f":"IF(AK137=\"\",\"\",VLOOKUP(AK137,Sifranti!V:Y,2,FALSE))","v":""},{"$f":"IF(AK137=\"\",\"\",IF(VLOOKUP(AK137,Sifranti!V:Y,3,FALSE)=\"\",\"\",VLOOKUP(AK137,Sifranti!V:Y,3,FALSE)))","v":""},{"$f":"IF(AK137=\"\",\"\",VLOOKUP(AK137,Sifranti!V:Y,4,FALSE))","v":""}]
[{"$f":"IF(B138=\"\",\"\",VLOOKUP(B138,Sifranti!K:L,2,FALSE))","v":""},null,null,null,null,null,null,null,null,"",{"$f":"IF(L138=\"\",\"\",VLOOKUP(L138,Sifranti!A:B,2,FALSE))","v":""},null,{"$f":"IF(N138=\"\",\"\",VLOOKUP(N138,Sifranti!D:F,3,FALSE))","v":""},null,{"$f":"IF(P138=\"\",\"\",VLOOKUP(P138,Sifranti!H:I,2,FALSE))","v":""},null,null,null,null,null,null,null,null,null,null,null,null,null,null,null,null,null,null,null,null,null,null,null,null,null,{"$f":"IF(AN138=\"\",\"\",IF(LEN(VLOOKUP(AN138,Sifranti!BY:BZ,2,FALSE))=0,\"\",VLOOKUP(AN138,Sifranti!BY:BZ,2,FALSE)))","v":""},{"$f":"IF(C138=\"\",\"\",VLOOKUP(C138,Sifranti!P:R,2,FALSE))","v":""},"","",{"$f":"IF(C138=\"\",\"\",VLOOKUP(C138,Sifranti!P:R,3,FALSE))","v":""},{"$f":"IF(N138=\"\",\"\",VLOOKUP(N138,Sifranti!D:F,2,FALSE))","v":""},{"$f":"IF(AK138=\"\",\"\",VLOOKUP(AK138,Sifranti!V:Y,2,FALSE))","v":""},{"$f":"IF(AK138=\"\",\"\",IF(VLOOKUP(AK138,Sifranti!V:Y,3,FALSE)=\"\",\"\",VLOOKUP(AK138,Sifranti!V:Y,3,FALSE)))","v":""},{"$f":"IF(AK138=\"\",\"\",VLOOKUP(AK138,Sifranti!V:Y,4,FALSE))","v":""}]
[{"$f":"IF(B139=\"\",\"\",VLOOKUP(B139,Sifranti!K:L,2,FALSE))","v":""},null,null,null,null,null,null,null,null,"",{"$f":"IF(L139=\"\",\"\",VLOOKUP(L139,Sifranti!A:B,2,FALSE))","v":""},null,{"$f":"IF(N139=\"\",\"\",VLOOKUP(N139,Sifranti!D:F,3,FALSE))","v":""},null,{"$f":"IF(P139=\"\",\"\",VLOOKUP(P139,Sifranti!H:I,2,FALSE))","v":""},null,null,null,null,null,null,null,null,null,null,null,null,null,null,null,null,null,null,null,null,null,null,null,null,null,{"$f":"IF(AN139=\"\",\"\",IF(LEN(VLOOKUP(AN139,Sifranti!BY:BZ,2,FALSE))=0,\"\",VLOOKUP(AN139,Sifranti!BY:BZ,2,FALSE)))","v":""},{"$f":"IF(C139=\"\",\"\",VLOOKUP(C139,Sifranti!P:R,2,FALSE))","v":""},"","",{"$f":"IF(C139=\"\",\"\",VLOOKUP(C139,Sifranti!P:R,3,FALSE))","v":""},{"$f":"IF(N139=\"\",\"\",VLOOKUP(N139,Sifranti!D:F,2,FALSE))","v":""},{"$f":"IF(AK139=\"\",\"\",VLOOKUP(AK139,Sifranti!V:Y,2,FALSE))","v":""},{"$f":"IF(AK139=\"\",\"\",IF(VLOOKUP(AK139,Sifranti!V:Y,3,FALSE)=\"\",\"\",VLOOKUP(AK139,Sifranti!V:Y,3,FALSE)))","v":""},{"$f":"IF(AK139=\"\",\"\",VLOOKUP(AK139,Sifranti!V:Y,4,FALSE))","v":""}]
[{"$f":"IF(B140=\"\",\"\",VLOOKUP(B140,Sifranti!K:L,2,FALSE))","v":""},null,null,null,null,null,null,null,null,"",{"$f":"IF(L140=\"\",\"\",VLOOKUP(L140,Sifranti!A:B,2,FALSE))","v":""},null,{"$f":"IF(N140=\"\",\"\",VLOOKUP(N140,Sifranti!D:F,3,FALSE))","v":""},null,{"$f":"IF(P140=\"\",\"\",VLOOKUP(P140,Sifranti!H:I,2,FALSE))","v":""},null,null,null,null,null,null,null,null,null,null,null,null,null,null,null,null,null,null,null,null,null,null,null,null,null,{"$f":"IF(AN140=\"\",\"\",IF(LEN(VLOOKUP(AN140,Sifranti!BY:BZ,2,FALSE))=0,\"\",VLOOKUP(AN140,Sifranti!BY:BZ,2,FALSE)))","v":""},{"$f":"IF(C140=\"\",\"\",VLOOKUP(C140,Sifranti!P:R,2,FALSE))","v":""},"","",{"$f":"IF(C140=\"\",\"\",VLOOKUP(C140,Sifranti!P:R,3,FALSE))","v":""},{"$f":"IF(N140=\"\",\"\",VLOOKUP(N140,Sifranti!D:F,2,FALSE))","v":""},{"$f":"IF(AK140=\"\",\"\",VLOOKUP(AK140,Sifranti!V:Y,2,FALSE))","v":""},{"$f":"IF(AK140=\"\",\"\",IF(VLOOKUP(AK140,Sifranti!V:Y,3,FALSE)=\"\",\"\",VLOOKUP(AK140,Sifranti!V:Y,3,FALSE)))","v":""},{"$f":"IF(AK140=\"\",\"\",VLOOKUP(AK140,Sifranti!V:Y,4,FALSE))","v":""}]
[{"$f":"IF(B141=\"\",\"\",VLOOKUP(B141,Sifranti!K:L,2,FALSE))","v":""},null,null,null,null,null,null,null,null,"",{"$f":"IF(L141=\"\",\"\",VLOOKUP(L141,Sifranti!A:B,2,FALSE))","v":""},null,{"$f":"IF(N141=\"\",\"\",VLOOKUP(N141,Sifranti!D:F,3,FALSE))","v":""},null,{"$f":"IF(P141=\"\",\"\",VLOOKUP(P141,Sifranti!H:I,2,FALSE))","v":""},null,null,null,null,null,null,null,null,null,null,null,null,null,null,null,null,null,null,null,null,null,null,null,null,null,{"$f":"IF(AN141=\"\",\"\",IF(LEN(VLOOKUP(AN141,Sifranti!BY:BZ,2,FALSE))=0,\"\",VLOOKUP(AN141,Sifranti!BY:BZ,2,FALSE)))","v":""},{"$f":"IF(C141=\"\",\"\",VLOOKUP(C141,Sifranti!P:R,2,FALSE))","v":""},"","",{"$f":"IF(C141=\"\",\"\",VLOOKUP(C141,Sifranti!P:R,3,FALSE))","v":""},{"$f":"IF(N141=\"\",\"\",VLOOKUP(N141,Sifranti!D:F,2,FALSE))","v":""},{"$f":"IF(AK141=\"\",\"\",VLOOKUP(AK141,Sifranti!V:Y,2,FALSE))","v":""},{"$f":"IF(AK141=\"\",\"\",IF(VLOOKUP(AK141,Sifranti!V:Y,3,FALSE)=\"\",\"\",VLOOKUP(AK141,Sifranti!V:Y,3,FALSE)))","v":""},{"$f":"IF(AK141=\"\",\"\",VLOOKUP(AK141,Sifranti!V:Y,4,FALSE))","v":""}]
[{"$f":"IF(B142=\"\",\"\",VLOOKUP(B142,Sifranti!K:L,2,FALSE))","v":""},null,null,null,null,null,null,null,null,"",{"$f":"IF(L142=\"\",\"\",VLOOKUP(L142,Sifranti!A:B,2,FALSE))","v":""},null,{"$f":"IF(N142=\"\",\"\",VLOOKUP(N142,Sifranti!D:F,3,FALSE))","v":""},null,{"$f":"IF(P142=\"\",\"\",VLOOKUP(P142,Sifranti!H:I,2,FALSE))","v":""},null,null,null,null,null,null,null,null,null,null,null,null,null,null,null,null,null,null,null,null,null,null,null,null,null,{"$f":"IF(AN142=\"\",\"\",IF(LEN(VLOOKUP(AN142,Sifranti!BY:BZ,2,FALSE))=0,\"\",VLOOKUP(AN142,Sifranti!BY:BZ,2,FALSE)))","v":""},{"$f":"IF(C142=\"\",\"\",VLOOKUP(C142,Sifranti!P:R,2,FALSE))","v":""},"","",{"$f":"IF(C142=\"\",\"\",VLOOKUP(C142,Sifranti!P:R,3,FALSE))","v":""},{"$f":"IF(N142=\"\",\"\",VLOOKUP(N142,Sifranti!D:F,2,FALSE))","v":""},{"$f":"IF(AK142=\"\",\"\",VLOOKUP(AK142,Sifranti!V:Y,2,FALSE))","v":""},{"$f":"IF(AK142=\"\",\"\",IF(VLOOKUP(AK142,Sifranti!V:Y,3,FALSE)=\"\",\"\",VLOOKUP(AK142,Sifranti!V:Y,3,FALSE)))","v":""},{"$f":"IF(AK142=\"\",\"\",VLOOKUP(AK142,Sifranti!V:Y,4,FALSE))","v":""}]
[{"$f":"IF(B143=\"\",\"\",VLOOKUP(B143,Sifranti!K:L,2,FALSE))","v":""},null,null,null,null,null,null,null,null,"",{"$f":"IF(L143=\"\",\"\",VLOOKUP(L143,Sifranti!A:B,2,FALSE))","v":""},null,{"$f":"IF(N143=\"\",\"\",VLOOKUP(N143,Sifranti!D:F,3,FALSE))","v":""},null,{"$f":"IF(P143=\"\",\"\",VLOOKUP(P143,Sifranti!H:I,2,FALSE))","v":""},null,null,null,null,null,null,null,null,null,null,null,null,null,null,null,null,null,null,null,null,null,null,null,null,null,{"$f":"IF(AN143=\"\",\"\",IF(LEN(VLOOKUP(AN143,Sifranti!BY:BZ,2,FALSE))=0,\"\",VLOOKUP(AN143,Sifranti!BY:BZ,2,FALSE)))","v":""},{"$f":"IF(C143=\"\",\"\",VLOOKUP(C143,Sifranti!P:R,2,FALSE))","v":""},"","",{"$f":"IF(C143=\"\",\"\",VLOOKUP(C143,Sifranti!P:R,3,FALSE))","v":""},{"$f":"IF(N143=\"\",\"\",VLOOKUP(N143,Sifranti!D:F,2,FALSE))","v":""},{"$f":"IF(AK143=\"\",\"\",VLOOKUP(AK143,Sifranti!V:Y,2,FALSE))","v":""},{"$f":"IF(AK143=\"\",\"\",IF(VLOOKUP(AK143,Sifranti!V:Y,3,FALSE)=\"\",\"\",VLOOKUP(AK143,Sifranti!V:Y,3,FALSE)))","v":""},{"$f":"IF(AK143=\"\",\"\",VLOOKUP(AK143,Sifranti!V:Y,4,FALSE))","v":""}]
[{"$f":"IF(B144=\"\",\"\",VLOOKUP(B144,Sifranti!K:L,2,FALSE))","v":""},null,null,null,null,null,null,null,null,"",{"$f":"IF(L144=\"\",\"\",VLOOKUP(L144,Sifranti!A:B,2,FALSE))","v":""},null,{"$f":"IF(N144=\"\",\"\",VLOOKUP(N144,Sifranti!D:F,3,FALSE))","v":""},null,{"$f":"IF(P144=\"\",\"\",VLOOKUP(P144,Sifranti!H:I,2,FALSE))","v":""},null,null,null,null,null,null,null,null,null,null,null,null,null,null,null,null,null,null,null,null,null,null,null,null,null,{"$f":"IF(AN144=\"\",\"\",IF(LEN(VLOOKUP(AN144,Sifranti!BY:BZ,2,FALSE))=0,\"\",VLOOKUP(AN144,Sifranti!BY:BZ,2,FALSE)))","v":""},{"$f":"IF(C144=\"\",\"\",VLOOKUP(C144,Sifranti!P:R,2,FALSE))","v":""},"","",{"$f":"IF(C144=\"\",\"\",VLOOKUP(C144,Sifranti!P:R,3,FALSE))","v":""},{"$f":"IF(N144=\"\",\"\",VLOOKUP(N144,Sifranti!D:F,2,FALSE))","v":""},{"$f":"IF(AK144=\"\",\"\",VLOOKUP(AK144,Sifranti!V:Y,2,FALSE))","v":""},{"$f":"IF(AK144=\"\",\"\",IF(VLOOKUP(AK144,Sifranti!V:Y,3,FALSE)=\"\",\"\",VLOOKUP(AK144,Sifranti!V:Y,3,FALSE)))","v":""},{"$f":"IF(AK144=\"\",\"\",VLOOKUP(AK144,Sifranti!V:Y,4,FALSE))","v":""}]
[{"$f":"IF(B145=\"\",\"\",VLOOKUP(B145,Sifranti!K:L,2,FALSE))","v":""},null,null,null,null,null,null,null,null,"",{"$f":"IF(L145=\"\",\"\",VLOOKUP(L145,Sifranti!A:B,2,FALSE))","v":""},null,{"$f":"IF(N145=\"\",\"\",VLOOKUP(N145,Sifranti!D:F,3,FALSE))","v":""},null,{"$f":"IF(P145=\"\",\"\",VLOOKUP(P145,Sifranti!H:I,2,FALSE))","v":""},null,null,null,null,null,null,null,null,null,null,null,null,null,null,null,null,null,null,null,null,null,null,null,null,null,{"$f":"IF(AN145=\"\",\"\",IF(LEN(VLOOKUP(AN145,Sifranti!BY:BZ,2,FALSE))=0,\"\",VLOOKUP(AN145,Sifranti!BY:BZ,2,FALSE)))","v":""},{"$f":"IF(C145=\"\",\"\",VLOOKUP(C145,Sifranti!P:R,2,FALSE))","v":""},"","",{"$f":"IF(C145=\"\",\"\",VLOOKUP(C145,Sifranti!P:R,3,FALSE))","v":""},{"$f":"IF(N145=\"\",\"\",VLOOKUP(N145,Sifranti!D:F,2,FALSE))","v":""},{"$f":"IF(AK145=\"\",\"\",VLOOKUP(AK145,Sifranti!V:Y,2,FALSE))","v":""},{"$f":"IF(AK145=\"\",\"\",IF(VLOOKUP(AK145,Sifranti!V:Y,3,FALSE)=\"\",\"\",VLOOKUP(AK145,Sifranti!V:Y,3,FALSE)))","v":""},{"$f":"IF(AK145=\"\",\"\",VLOOKUP(AK145,Sifranti!V:Y,4,FALSE))","v":""}]
[{"$f":"IF(B146=\"\",\"\",VLOOKUP(B146,Sifranti!K:L,2,FALSE))","v":""},null,null,null,null,null,null,null,null,"",{"$f":"IF(L146=\"\",\"\",VLOOKUP(L146,Sifranti!A:B,2,FALSE))","v":""},null,{"$f":"IF(N146=\"\",\"\",VLOOKUP(N146,Sifranti!D:F,3,FALSE))","v":""},null,{"$f":"IF(P146=\"\",\"\",VLOOKUP(P146,Sifranti!H:I,2,FALSE))","v":""},null,null,null,null,null,null,null,null,null,null,null,null,null,null,null,null,null,null,null,null,null,null,null,null,null,{"$f":"IF(AN146=\"\",\"\",IF(LEN(VLOOKUP(AN146,Sifranti!BY:BZ,2,FALSE))=0,\"\",VLOOKUP(AN146,Sifranti!BY:BZ,2,FALSE)))","v":""},{"$f":"IF(C146=\"\",\"\",VLOOKUP(C146,Sifranti!P:R,2,FALSE))","v":""},"","",{"$f":"IF(C146=\"\",\"\",VLOOKUP(C146,Sifranti!P:R,3,FALSE))","v":""},{"$f":"IF(N146=\"\",\"\",VLOOKUP(N146,Sifranti!D:F,2,FALSE))","v":""},{"$f":"IF(AK146=\"\",\"\",VLOOKUP(AK146,Sifranti!V:Y,2,FALSE))","v":""},{"$f":"IF(AK146=\"\",\"\",IF(VLOOKUP(AK146,Sifranti!V:Y,3,FALSE)=\"\",\"\",VLOOKUP(AK146,Sifranti!V:Y,3,FALSE)))","v":""},{"$f":"IF(AK146=\"\",\"\",VLOOKUP(AK146,Sifranti!V:Y,4,FALSE))","v":""}]
[{"$f":"IF(B147=\"\",\"\",VLOOKUP(B147,Sifranti!K:L,2,FALSE))","v":""},null,null,null,null,null,null,null,null,"",{"$f":"IF(L147=\"\",\"\",VLOOKUP(L147,Sifranti!A:B,2,FALSE))","v":""},null,{"$f":"IF(N147=\"\",\"\",VLOOKUP(N147,Sifranti!D:F,3,FALSE))","v":""},null,{"$f":"IF(P147=\"\",\"\",VLOOKUP(P147,Sifranti!H:I,2,FALSE))","v":""},null,null,null,null,null,null,null,null,null,null,null,null,null,null,null,null,null,null,null,null,null,null,null,null,null,{"$f":"IF(AN147=\"\",\"\",IF(LEN(VLOOKUP(AN147,Sifranti!BY:BZ,2,FALSE))=0,\"\",VLOOKUP(AN147,Sifranti!BY:BZ,2,FALSE)))","v":""},{"$f":"IF(C147=\"\",\"\",VLOOKUP(C147,Sifranti!P:R,2,FALSE))","v":""},"","",{"$f":"IF(C147=\"\",\"\",VLOOKUP(C147,Sifranti!P:R,3,FALSE))","v":""},{"$f":"IF(N147=\"\",\"\",VLOOKUP(N147,Sifranti!D:F,2,FALSE))","v":""},{"$f":"IF(AK147=\"\",\"\",VLOOKUP(AK147,Sifranti!V:Y,2,FALSE))","v":""},{"$f":"IF(AK147=\"\",\"\",IF(VLOOKUP(AK147,Sifranti!V:Y,3,FALSE)=\"\",\"\",VLOOKUP(AK147,Sifranti!V:Y,3,FALSE)))","v":""},{"$f":"IF(AK147=\"\",\"\",VLOOKUP(AK147,Sifranti!V:Y,4,FALSE))","v":""}]
[{"$f":"IF(B148=\"\",\"\",VLOOKUP(B148,Sifranti!K:L,2,FALSE))","v":""},null,null,null,null,null,null,null,null,"",{"$f":"IF(L148=\"\",\"\",VLOOKUP(L148,Sifranti!A:B,2,FALSE))","v":""},null,{"$f":"IF(N148=\"\",\"\",VLOOKUP(N148,Sifranti!D:F,3,FALSE))","v":""},null,{"$f":"IF(P148=\"\",\"\",VLOOKUP(P148,Sifranti!H:I,2,FALSE))","v":""},null,null,null,null,null,null,null,null,null,null,null,null,null,null,null,null,null,null,null,null,null,null,null,null,null,{"$f":"IF(AN148=\"\",\"\",IF(LEN(VLOOKUP(AN148,Sifranti!BY:BZ,2,FALSE))=0,\"\",VLOOKUP(AN148,Sifranti!BY:BZ,2,FALSE)))","v":""},{"$f":"IF(C148=\"\",\"\",VLOOKUP(C148,Sifranti!P:R,2,FALSE))","v":""},"","",{"$f":"IF(C148=\"\",\"\",VLOOKUP(C148,Sifranti!P:R,3,FALSE))","v":""},{"$f":"IF(N148=\"\",\"\",VLOOKUP(N148,Sifranti!D:F,2,FALSE))","v":""},{"$f":"IF(AK148=\"\",\"\",VLOOKUP(AK148,Sifranti!V:Y,2,FALSE))","v":""},{"$f":"IF(AK148=\"\",\"\",IF(VLOOKUP(AK148,Sifranti!V:Y,3,FALSE)=\"\",\"\",VLOOKUP(AK148,Sifranti!V:Y,3,FALSE)))","v":""},{"$f":"IF(AK148=\"\",\"\",VLOOKUP(AK148,Sifranti!V:Y,4,FALSE))","v":""}]
[{"$f":"IF(B149=\"\",\"\",VLOOKUP(B149,Sifranti!K:L,2,FALSE))","v":""},null,null,null,null,null,null,null,null,"",{"$f":"IF(L149=\"\",\"\",VLOOKUP(L149,Sifranti!A:B,2,FALSE))","v":""},null,{"$f":"IF(N149=\"\",\"\",VLOOKUP(N149,Sifranti!D:F,3,FALSE))","v":""},null,{"$f":"IF(P149=\"\",\"\",VLOOKUP(P149,Sifranti!H:I,2,FALSE))","v":""},null,null,null,null,null,null,null,null,null,null,null,null,null,null,null,null,null,null,null,null,null,null,null,null,null,{"$f":"IF(AN149=\"\",\"\",IF(LEN(VLOOKUP(AN149,Sifranti!BY:BZ,2,FALSE))=0,\"\",VLOOKUP(AN149,Sifranti!BY:BZ,2,FALSE)))","v":""},{"$f":"IF(C149=\"\",\"\",VLOOKUP(C149,Sifranti!P:R,2,FALSE))","v":""},"","",{"$f":"IF(C149=\"\",\"\",VLOOKUP(C149,Sifranti!P:R,3,FALSE))","v":""},{"$f":"IF(N149=\"\",\"\",VLOOKUP(N149,Sifranti!D:F,2,FALSE))","v":""},{"$f":"IF(AK149=\"\",\"\",VLOOKUP(AK149,Sifranti!V:Y,2,FALSE))","v":""},{"$f":"IF(AK149=\"\",\"\",IF(VLOOKUP(AK149,Sifranti!V:Y,3,FALSE)=\"\",\"\",VLOOKUP(AK149,Sifranti!V:Y,3,FALSE)))","v":""},{"$f":"IF(AK149=\"\",\"\",VLOOKUP(AK149,Sifranti!V:Y,4,FALSE))","v":""}]
[{"$f":"IF(B150=\"\",\"\",VLOOKUP(B150,Sifranti!K:L,2,FALSE))","v":""},null,null,null,null,null,null,null,null,"",{"$f":"IF(L150=\"\",\"\",VLOOKUP(L150,Sifranti!A:B,2,FALSE))","v":""},null,{"$f":"IF(N150=\"\",\"\",VLOOKUP(N150,Sifranti!D:F,3,FALSE))","v":""},null,{"$f":"IF(P150=\"\",\"\",VLOOKUP(P150,Sifranti!H:I,2,FALSE))","v":""},null,null,null,null,null,null,null,null,null,null,null,null,null,null,null,null,null,null,null,null,null,null,null,null,null,{"$f":"IF(AN150=\"\",\"\",IF(LEN(VLOOKUP(AN150,Sifranti!BY:BZ,2,FALSE))=0,\"\",VLOOKUP(AN150,Sifranti!BY:BZ,2,FALSE)))","v":""},{"$f":"IF(C150=\"\",\"\",VLOOKUP(C150,Sifranti!P:R,2,FALSE))","v":""},"","",{"$f":"IF(C150=\"\",\"\",VLOOKUP(C150,Sifranti!P:R,3,FALSE))","v":""},{"$f":"IF(N150=\"\",\"\",VLOOKUP(N150,Sifranti!D:F,2,FALSE))","v":""},{"$f":"IF(AK150=\"\",\"\",VLOOKUP(AK150,Sifranti!V:Y,2,FALSE))","v":""},{"$f":"IF(AK150=\"\",\"\",IF(VLOOKUP(AK150,Sifranti!V:Y,3,FALSE)=\"\",\"\",VLOOKUP(AK150,Sifranti!V:Y,3,FALSE)))","v":""},{"$f":"IF(AK150=\"\",\"\",VLOOKUP(AK150,Sifranti!V:Y,4,FALSE))","v":""}]
[{"$f":"IF(B151=\"\",\"\",VLOOKUP(B151,Sifranti!K:L,2,FALSE))","v":""},null,null,null,null,null,null,null,null,"",{"$f":"IF(L151=\"\",\"\",VLOOKUP(L151,Sifranti!A:B,2,FALSE))","v":""},null,{"$f":"IF(N151=\"\",\"\",VLOOKUP(N151,Sifranti!D:F,3,FALSE))","v":""},null,{"$f":"IF(P151=\"\",\"\",VLOOKUP(P151,Sifranti!H:I,2,FALSE))","v":""},null,null,null,null,null,null,null,null,null,null,null,null,null,null,null,null,null,null,null,null,null,null,null,null,null,{"$f":"IF(AN151=\"\",\"\",IF(LEN(VLOOKUP(AN151,Sifranti!BY:BZ,2,FALSE))=0,\"\",VLOOKUP(AN151,Sifranti!BY:BZ,2,FALSE)))","v":""},{"$f":"IF(C151=\"\",\"\",VLOOKUP(C151,Sifranti!P:R,2,FALSE))","v":""},"","",{"$f":"IF(C151=\"\",\"\",VLOOKUP(C151,Sifranti!P:R,3,FALSE))","v":""},{"$f":"IF(N151=\"\",\"\",VLOOKUP(N151,Sifranti!D:F,2,FALSE))","v":""},{"$f":"IF(AK151=\"\",\"\",VLOOKUP(AK151,Sifranti!V:Y,2,FALSE))","v":""},{"$f":"IF(AK151=\"\",\"\",IF(VLOOKUP(AK151,Sifranti!V:Y,3,FALSE)=\"\",\"\",VLOOKUP(AK151,Sifranti!V:Y,3,FALSE)))","v":""},{"$f":"IF(AK151=\"\",\"\",VLOOKUP(AK151,Sifranti!V:Y,4,FALSE))","v":""}]
[{"$f":"IF(B152=\"\",\"\",VLOOKUP(B152,Sifranti!K:L,2,FALSE))","v":""},null,null,null,null,null,null,null,null,"",{"$f":"IF(L152=\"\",\"\",VLOOKUP(L152,Sifranti!A:B,2,FALSE))","v":""},null,{"$f":"IF(N152=\"\",\"\",VLOOKUP(N152,Sifranti!D:F,3,FALSE))","v":""},null,{"$f":"IF(P152=\"\",\"\",VLOOKUP(P152,Sifranti!H:I,2,FALSE))","v":""},null,null,null,null,null,null,null,null,null,null,null,null,null,null,null,null,null,null,null,null,null,null,null,null,null,{"$f":"IF(AN152=\"\",\"\",IF(LEN(VLOOKUP(AN152,Sifranti!BY:BZ,2,FALSE))=0,\"\",VLOOKUP(AN152,Sifranti!BY:BZ,2,FALSE)))","v":""},{"$f":"IF(C152=\"\",\"\",VLOOKUP(C152,Sifranti!P:R,2,FALSE))","v":""},"","",{"$f":"IF(C152=\"\",\"\",VLOOKUP(C152,Sifranti!P:R,3,FALSE))","v":""},{"$f":"IF(N152=\"\",\"\",VLOOKUP(N152,Sifranti!D:F,2,FALSE))","v":""},{"$f":"IF(AK152=\"\",\"\",VLOOKUP(AK152,Sifranti!V:Y,2,FALSE))","v":""},{"$f":"IF(AK152=\"\",\"\",IF(VLOOKUP(AK152,Sifranti!V:Y,3,FALSE)=\"\",\"\",VLOOKUP(AK152,Sifranti!V:Y,3,FALSE)))","v":""},{"$f":"IF(AK152=\"\",\"\",VLOOKUP(AK152,Sifranti!V:Y,4,FALSE))","v":""}]
[{"$f":"IF(B153=\"\",\"\",VLOOKUP(B153,Sifranti!K:L,2,FALSE))","v":""},null,null,null,null,null,null,null,null,"",{"$f":"IF(L153=\"\",\"\",VLOOKUP(L153,Sifranti!A:B,2,FALSE))","v":""},null,{"$f":"IF(N153=\"\",\"\",VLOOKUP(N153,Sifranti!D:F,3,FALSE))","v":""},null,{"$f":"IF(P153=\"\",\"\",VLOOKUP(P153,Sifranti!H:I,2,FALSE))","v":""},null,null,null,null,null,null,null,null,null,null,null,null,null,null,null,null,null,null,null,null,null,null,null,null,null,{"$f":"IF(AN153=\"\",\"\",IF(LEN(VLOOKUP(AN153,Sifranti!BY:BZ,2,FALSE))=0,\"\",VLOOKUP(AN153,Sifranti!BY:BZ,2,FALSE)))","v":""},{"$f":"IF(C153=\"\",\"\",VLOOKUP(C153,Sifranti!P:R,2,FALSE))","v":""},"","",{"$f":"IF(C153=\"\",\"\",VLOOKUP(C153,Sifranti!P:R,3,FALSE))","v":""},{"$f":"IF(N153=\"\",\"\",VLOOKUP(N153,Sifranti!D:F,2,FALSE))","v":""},{"$f":"IF(AK153=\"\",\"\",VLOOKUP(AK153,Sifranti!V:Y,2,FALSE))","v":""},{"$f":"IF(AK153=\"\",\"\",IF(VLOOKUP(AK153,Sifranti!V:Y,3,FALSE)=\"\",\"\",VLOOKUP(AK153,Sifranti!V:Y,3,FALSE)))","v":""},{"$f":"IF(AK153=\"\",\"\",VLOOKUP(AK153,Sifranti!V:Y,4,FALSE))","v":""}]
[{"$f":"IF(B154=\"\",\"\",VLOOKUP(B154,Sifranti!K:L,2,FALSE))","v":""},null,null,null,null,null,null,null,null,"",{"$f":"IF(L154=\"\",\"\",VLOOKUP(L154,Sifranti!A:B,2,FALSE))","v":""},null,{"$f":"IF(N154=\"\",\"\",VLOOKUP(N154,Sifranti!D:F,3,FALSE))","v":""},null,{"$f":"IF(P154=\"\",\"\",VLOOKUP(P154,Sifranti!H:I,2,FALSE))","v":""},null,null,null,null,null,null,null,null,null,null,null,null,null,null,null,null,null,null,null,null,null,null,null,null,null,{"$f":"IF(AN154=\"\",\"\",IF(LEN(VLOOKUP(AN154,Sifranti!BY:BZ,2,FALSE))=0,\"\",VLOOKUP(AN154,Sifranti!BY:BZ,2,FALSE)))","v":""},{"$f":"IF(C154=\"\",\"\",VLOOKUP(C154,Sifranti!P:R,2,FALSE))","v":""},"","",{"$f":"IF(C154=\"\",\"\",VLOOKUP(C154,Sifranti!P:R,3,FALSE))","v":""},{"$f":"IF(N154=\"\",\"\",VLOOKUP(N154,Sifranti!D:F,2,FALSE))","v":""},{"$f":"IF(AK154=\"\",\"\",VLOOKUP(AK154,Sifranti!V:Y,2,FALSE))","v":""},{"$f":"IF(AK154=\"\",\"\",IF(VLOOKUP(AK154,Sifranti!V:Y,3,FALSE)=\"\",\"\",VLOOKUP(AK154,Sifranti!V:Y,3,FALSE)))","v":""},{"$f":"IF(AK154=\"\",\"\",VLOOKUP(AK154,Sifranti!V:Y,4,FALSE))","v":""}]
[{"$f":"IF(B155=\"\",\"\",VLOOKUP(B155,Sifranti!K:L,2,FALSE))","v":""},null,null,null,null,null,null,null,null,"",{"$f":"IF(L155=\"\",\"\",VLOOKUP(L155,Sifranti!A:B,2,FALSE))","v":""},null,{"$f":"IF(N155=\"\",\"\",VLOOKUP(N155,Sifranti!D:F,3,FALSE))","v":""},null,{"$f":"IF(P155=\"\",\"\",VLOOKUP(P155,Sifranti!H:I,2,FALSE))","v":""},null,null,null,null,null,null,null,null,null,null,null,null,null,null,null,null,null,null,null,null,null,null,null,null,null,{"$f":"IF(AN155=\"\",\"\",IF(LEN(VLOOKUP(AN155,Sifranti!BY:BZ,2,FALSE))=0,\"\",VLOOKUP(AN155,Sifranti!BY:BZ,2,FALSE)))","v":""},{"$f":"IF(C155=\"\",\"\",VLOOKUP(C155,Sifranti!P:R,2,FALSE))","v":""},"","",{"$f":"IF(C155=\"\",\"\",VLOOKUP(C155,Sifranti!P:R,3,FALSE))","v":""},{"$f":"IF(N155=\"\",\"\",VLOOKUP(N155,Sifranti!D:F,2,FALSE))","v":""},{"$f":"IF(AK155=\"\",\"\",VLOOKUP(AK155,Sifranti!V:Y,2,FALSE))","v":""},{"$f":"IF(AK155=\"\",\"\",IF(VLOOKUP(AK155,Sifranti!V:Y,3,FALSE)=\"\",\"\",VLOOKUP(AK155,Sifranti!V:Y,3,FALSE)))","v":""},{"$f":"IF(AK155=\"\",\"\",VLOOKUP(AK155,Sifranti!V:Y,4,FALSE))","v":""}]
[{"$f":"IF(B156=\"\",\"\",VLOOKUP(B156,Sifranti!K:L,2,FALSE))","v":""},null,null,null,null,null,null,null,null,"",{"$f":"IF(L156=\"\",\"\",VLOOKUP(L156,Sifranti!A:B,2,FALSE))","v":""},null,{"$f":"IF(N156=\"\",\"\",VLOOKUP(N156,Sifranti!D:F,3,FALSE))","v":""},null,{"$f":"IF(P156=\"\",\"\",VLOOKUP(P156,Sifranti!H:I,2,FALSE))","v":""},null,null,null,null,null,null,null,null,null,null,null,null,null,null,null,null,null,null,null,null,null,null,null,null,null,{"$f":"IF(AN156=\"\",\"\",IF(LEN(VLOOKUP(AN156,Sifranti!BY:BZ,2,FALSE))=0,\"\",VLOOKUP(AN156,Sifranti!BY:BZ,2,FALSE)))","v":""},{"$f":"IF(C156=\"\",\"\",VLOOKUP(C156,Sifranti!P:R,2,FALSE))","v":""},"","",{"$f":"IF(C156=\"\",\"\",VLOOKUP(C156,Sifranti!P:R,3,FALSE))","v":""},{"$f":"IF(N156=\"\",\"\",VLOOKUP(N156,Sifranti!D:F,2,FALSE))","v":""},{"$f":"IF(AK156=\"\",\"\",VLOOKUP(AK156,Sifranti!V:Y,2,FALSE))","v":""},{"$f":"IF(AK156=\"\",\"\",IF(VLOOKUP(AK156,Sifranti!V:Y,3,FALSE)=\"\",\"\",VLOOKUP(AK156,Sifranti!V:Y,3,FALSE)))","v":""},{"$f":"IF(AK156=\"\",\"\",VLOOKUP(AK156,Sifranti!V:Y,4,FALSE))","v":""}]
[{"$f":"IF(B157=\"\",\"\",VLOOKUP(B157,Sifranti!K:L,2,FALSE))","v":""},null,null,null,null,null,null,null,null,"",{"$f":"IF(L157=\"\",\"\",VLOOKUP(L157,Sifranti!A:B,2,FALSE))","v":""},null,{"$f":"IF(N157=\"\",\"\",VLOOKUP(N157,Sifranti!D:F,3,FALSE))","v":""},null,{"$f":"IF(P157=\"\",\"\",VLOOKUP(P157,Sifranti!H:I,2,FALSE))","v":""},null,null,null,null,null,null,null,null,null,null,null,null,null,null,null,null,null,null,null,null,null,null,null,null,null,{"$f":"IF(AN157=\"\",\"\",IF(LEN(VLOOKUP(AN157,Sifranti!BY:BZ,2,FALSE))=0,\"\",VLOOKUP(AN157,Sifranti!BY:BZ,2,FALSE)))","v":""},{"$f":"IF(C157=\"\",\"\",VLOOKUP(C157,Sifranti!P:R,2,FALSE))","v":""},"","",{"$f":"IF(C157=\"\",\"\",VLOOKUP(C157,Sifranti!P:R,3,FALSE))","v":""},{"$f":"IF(N157=\"\",\"\",VLOOKUP(N157,Sifranti!D:F,2,FALSE))","v":""},{"$f":"IF(AK157=\"\",\"\",VLOOKUP(AK157,Sifranti!V:Y,2,FALSE))","v":""},{"$f":"IF(AK157=\"\",\"\",IF(VLOOKUP(AK157,Sifranti!V:Y,3,FALSE)=\"\",\"\",VLOOKUP(AK157,Sifranti!V:Y,3,FALSE)))","v":""},{"$f":"IF(AK157=\"\",\"\",VLOOKUP(AK157,Sifranti!V:Y,4,FALSE))","v":""}]
[{"$f":"IF(B158=\"\",\"\",VLOOKUP(B158,Sifranti!K:L,2,FALSE))","v":""},null,null,null,null,null,null,null,null,"",{"$f":"IF(L158=\"\",\"\",VLOOKUP(L158,Sifranti!A:B,2,FALSE))","v":""},null,{"$f":"IF(N158=\"\",\"\",VLOOKUP(N158,Sifranti!D:F,3,FALSE))","v":""},null,{"$f":"IF(P158=\"\",\"\",VLOOKUP(P158,Sifranti!H:I,2,FALSE))","v":""},null,null,null,null,null,null,null,null,null,null,null,null,null,null,null,null,null,null,null,null,null,null,null,null,null,{"$f":"IF(AN158=\"\",\"\",IF(LEN(VLOOKUP(AN158,Sifranti!BY:BZ,2,FALSE))=0,\"\",VLOOKUP(AN158,Sifranti!BY:BZ,2,FALSE)))","v":""},{"$f":"IF(C158=\"\",\"\",VLOOKUP(C158,Sifranti!P:R,2,FALSE))","v":""},"","",{"$f":"IF(C158=\"\",\"\",VLOOKUP(C158,Sifranti!P:R,3,FALSE))","v":""},{"$f":"IF(N158=\"\",\"\",VLOOKUP(N158,Sifranti!D:F,2,FALSE))","v":""},{"$f":"IF(AK158=\"\",\"\",VLOOKUP(AK158,Sifranti!V:Y,2,FALSE))","v":""},{"$f":"IF(AK158=\"\",\"\",IF(VLOOKUP(AK158,Sifranti!V:Y,3,FALSE)=\"\",\"\",VLOOKUP(AK158,Sifranti!V:Y,3,FALSE)))","v":""},{"$f":"IF(AK158=\"\",\"\",VLOOKUP(AK158,Sifranti!V:Y,4,FALSE))","v":""}]
[{"$f":"IF(B159=\"\",\"\",VLOOKUP(B159,Sifranti!K:L,2,FALSE))","v":""},null,null,null,null,null,null,null,null,"",{"$f":"IF(L159=\"\",\"\",VLOOKUP(L159,Sifranti!A:B,2,FALSE))","v":""},null,{"$f":"IF(N159=\"\",\"\",VLOOKUP(N159,Sifranti!D:F,3,FALSE))","v":""},null,{"$f":"IF(P159=\"\",\"\",VLOOKUP(P159,Sifranti!H:I,2,FALSE))","v":""},null,null,null,null,null,null,null,null,null,null,null,null,null,null,null,null,null,null,null,null,null,null,null,null,null,{"$f":"IF(AN159=\"\",\"\",IF(LEN(VLOOKUP(AN159,Sifranti!BY:BZ,2,FALSE))=0,\"\",VLOOKUP(AN159,Sifranti!BY:BZ,2,FALSE)))","v":""},{"$f":"IF(C159=\"\",\"\",VLOOKUP(C159,Sifranti!P:R,2,FALSE))","v":""},"","",{"$f":"IF(C159=\"\",\"\",VLOOKUP(C159,Sifranti!P:R,3,FALSE))","v":""},{"$f":"IF(N159=\"\",\"\",VLOOKUP(N159,Sifranti!D:F,2,FALSE))","v":""},{"$f":"IF(AK159=\"\",\"\",VLOOKUP(AK159,Sifranti!V:Y,2,FALSE))","v":""},{"$f":"IF(AK159=\"\",\"\",IF(VLOOKUP(AK159,Sifranti!V:Y,3,FALSE)=\"\",\"\",VLOOKUP(AK159,Sifranti!V:Y,3,FALSE)))","v":""},{"$f":"IF(AK159=\"\",\"\",VLOOKUP(AK159,Sifranti!V:Y,4,FALSE))","v":""}]
[{"$f":"IF(B160=\"\",\"\",VLOOKUP(B160,Sifranti!K:L,2,FALSE))","v":""},null,null,null,null,null,null,null,null,"",{"$f":"IF(L160=\"\",\"\",VLOOKUP(L160,Sifranti!A:B,2,FALSE))","v":""},null,{"$f":"IF(N160=\"\",\"\",VLOOKUP(N160,Sifranti!D:F,3,FALSE))","v":""},null,{"$f":"IF(P160=\"\",\"\",VLOOKUP(P160,Sifranti!H:I,2,FALSE))","v":""},null,null,null,null,null,null,null,null,null,null,null,null,null,null,null,null,null,null,null,null,null,null,null,null,null,{"$f":"IF(AN160=\"\",\"\",IF(LEN(VLOOKUP(AN160,Sifranti!BY:BZ,2,FALSE))=0,\"\",VLOOKUP(AN160,Sifranti!BY:BZ,2,FALSE)))","v":""},{"$f":"IF(C160=\"\",\"\",VLOOKUP(C160,Sifranti!P:R,2,FALSE))","v":""},"","",{"$f":"IF(C160=\"\",\"\",VLOOKUP(C160,Sifranti!P:R,3,FALSE))","v":""},{"$f":"IF(N160=\"\",\"\",VLOOKUP(N160,Sifranti!D:F,2,FALSE))","v":""},{"$f":"IF(AK160=\"\",\"\",VLOOKUP(AK160,Sifranti!V:Y,2,FALSE))","v":""},{"$f":"IF(AK160=\"\",\"\",IF(VLOOKUP(AK160,Sifranti!V:Y,3,FALSE)=\"\",\"\",VLOOKUP(AK160,Sifranti!V:Y,3,FALSE)))","v":""},{"$f":"IF(AK160=\"\",\"\",VLOOKUP(AK160,Sifranti!V:Y,4,FALSE))","v":""}]
[{"$f":"IF(B161=\"\",\"\",VLOOKUP(B161,Sifranti!K:L,2,FALSE))","v":""},null,null,null,null,null,null,null,null,"",{"$f":"IF(L161=\"\",\"\",VLOOKUP(L161,Sifranti!A:B,2,FALSE))","v":""},null,{"$f":"IF(N161=\"\",\"\",VLOOKUP(N161,Sifranti!D:F,3,FALSE))","v":""},null,{"$f":"IF(P161=\"\",\"\",VLOOKUP(P161,Sifranti!H:I,2,FALSE))","v":""},null,null,null,null,null,null,null,null,null,null,null,null,null,null,null,null,null,null,null,null,null,null,null,null,null,{"$f":"IF(AN161=\"\",\"\",IF(LEN(VLOOKUP(AN161,Sifranti!BY:BZ,2,FALSE))=0,\"\",VLOOKUP(AN161,Sifranti!BY:BZ,2,FALSE)))","v":""},{"$f":"IF(C161=\"\",\"\",VLOOKUP(C161,Sifranti!P:R,2,FALSE))","v":""},"","",{"$f":"IF(C161=\"\",\"\",VLOOKUP(C161,Sifranti!P:R,3,FALSE))","v":""},{"$f":"IF(N161=\"\",\"\",VLOOKUP(N161,Sifranti!D:F,2,FALSE))","v":""},{"$f":"IF(AK161=\"\",\"\",VLOOKUP(AK161,Sifranti!V:Y,2,FALSE))","v":""},{"$f":"IF(AK161=\"\",\"\",IF(VLOOKUP(AK161,Sifranti!V:Y,3,FALSE)=\"\",\"\",VLOOKUP(AK161,Sifranti!V:Y,3,FALSE)))","v":""},{"$f":"IF(AK161=\"\",\"\",VLOOKUP(AK161,Sifranti!V:Y,4,FALSE))","v":""}]
[{"$f":"IF(B162=\"\",\"\",VLOOKUP(B162,Sifranti!K:L,2,FALSE))","v":""},null,null,null,null,null,null,null,null,"",{"$f":"IF(L162=\"\",\"\",VLOOKUP(L162,Sifranti!A:B,2,FALSE))","v":""},null,{"$f":"IF(N162=\"\",\"\",VLOOKUP(N162,Sifranti!D:F,3,FALSE))","v":""},null,{"$f":"IF(P162=\"\",\"\",VLOOKUP(P162,Sifranti!H:I,2,FALSE))","v":""},null,null,null,null,null,null,null,null,null,null,null,null,null,null,null,null,null,null,null,null,null,null,null,null,null,{"$f":"IF(AN162=\"\",\"\",IF(LEN(VLOOKUP(AN162,Sifranti!BY:BZ,2,FALSE))=0,\"\",VLOOKUP(AN162,Sifranti!BY:BZ,2,FALSE)))","v":""},{"$f":"IF(C162=\"\",\"\",VLOOKUP(C162,Sifranti!P:R,2,FALSE))","v":""},"","",{"$f":"IF(C162=\"\",\"\",VLOOKUP(C162,Sifranti!P:R,3,FALSE))","v":""},{"$f":"IF(N162=\"\",\"\",VLOOKUP(N162,Sifranti!D:F,2,FALSE))","v":""},{"$f":"IF(AK162=\"\",\"\",VLOOKUP(AK162,Sifranti!V:Y,2,FALSE))","v":""},{"$f":"IF(AK162=\"\",\"\",IF(VLOOKUP(AK162,Sifranti!V:Y,3,FALSE)=\"\",\"\",VLOOKUP(AK162,Sifranti!V:Y,3,FALSE)))","v":""},{"$f":"IF(AK162=\"\",\"\",VLOOKUP(AK162,Sifranti!V:Y,4,FALSE))","v":""}]
[{"$f":"IF(B163=\"\",\"\",VLOOKUP(B163,Sifranti!K:L,2,FALSE))","v":""},null,null,null,null,null,null,null,null,"",{"$f":"IF(L163=\"\",\"\",VLOOKUP(L163,Sifranti!A:B,2,FALSE))","v":""},null,{"$f":"IF(N163=\"\",\"\",VLOOKUP(N163,Sifranti!D:F,3,FALSE))","v":""},null,{"$f":"IF(P163=\"\",\"\",VLOOKUP(P163,Sifranti!H:I,2,FALSE))","v":""},null,null,null,null,null,null,null,null,null,null,null,null,null,null,null,null,null,null,null,null,null,null,null,null,null,{"$f":"IF(AN163=\"\",\"\",IF(LEN(VLOOKUP(AN163,Sifranti!BY:BZ,2,FALSE))=0,\"\",VLOOKUP(AN163,Sifranti!BY:BZ,2,FALSE)))","v":""},{"$f":"IF(C163=\"\",\"\",VLOOKUP(C163,Sifranti!P:R,2,FALSE))","v":""},"","",{"$f":"IF(C163=\"\",\"\",VLOOKUP(C163,Sifranti!P:R,3,FALSE))","v":""},{"$f":"IF(N163=\"\",\"\",VLOOKUP(N163,Sifranti!D:F,2,FALSE))","v":""},{"$f":"IF(AK163=\"\",\"\",VLOOKUP(AK163,Sifranti!V:Y,2,FALSE))","v":""},{"$f":"IF(AK163=\"\",\"\",IF(VLOOKUP(AK163,Sifranti!V:Y,3,FALSE)=\"\",\"\",VLOOKUP(AK163,Sifranti!V:Y,3,FALSE)))","v":""},{"$f":"IF(AK163=\"\",\"\",VLOOKUP(AK163,Sifranti!V:Y,4,FALSE))","v":""}]
[{"$f":"IF(B164=\"\",\"\",VLOOKUP(B164,Sifranti!K:L,2,FALSE))","v":""},null,null,null,null,null,null,null,null,"",{"$f":"IF(L164=\"\",\"\",VLOOKUP(L164,Sifranti!A:B,2,FALSE))","v":""},null,{"$f":"IF(N164=\"\",\"\",VLOOKUP(N164,Sifranti!D:F,3,FALSE))","v":""},null,{"$f":"IF(P164=\"\",\"\",VLOOKUP(P164,Sifranti!H:I,2,FALSE))","v":""},null,null,null,null,null,null,null,null,null,null,null,null,null,null,null,null,null,null,null,null,null,null,null,null,null,{"$f":"IF(AN164=\"\",\"\",IF(LEN(VLOOKUP(AN164,Sifranti!BY:BZ,2,FALSE))=0,\"\",VLOOKUP(AN164,Sifranti!BY:BZ,2,FALSE)))","v":""},{"$f":"IF(C164=\"\",\"\",VLOOKUP(C164,Sifranti!P:R,2,FALSE))","v":""},"","",{"$f":"IF(C164=\"\",\"\",VLOOKUP(C164,Sifranti!P:R,3,FALSE))","v":""},{"$f":"IF(N164=\"\",\"\",VLOOKUP(N164,Sifranti!D:F,2,FALSE))","v":""},{"$f":"IF(AK164=\"\",\"\",VLOOKUP(AK164,Sifranti!V:Y,2,FALSE))","v":""},{"$f":"IF(AK164=\"\",\"\",IF(VLOOKUP(AK164,Sifranti!V:Y,3,FALSE)=\"\",\"\",VLOOKUP(AK164,Sifranti!V:Y,3,FALSE)))","v":""},{"$f":"IF(AK164=\"\",\"\",VLOOKUP(AK164,Sifranti!V:Y,4,FALSE))","v":""}]
[{"$f":"IF(B165=\"\",\"\",VLOOKUP(B165,Sifranti!K:L,2,FALSE))","v":""},null,null,null,null,null,null,null,null,"",{"$f":"IF(L165=\"\",\"\",VLOOKUP(L165,Sifranti!A:B,2,FALSE))","v":""},null,{"$f":"IF(N165=\"\",\"\",VLOOKUP(N165,Sifranti!D:F,3,FALSE))","v":""},null,{"$f":"IF(P165=\"\",\"\",VLOOKUP(P165,Sifranti!H:I,2,FALSE))","v":""},null,null,null,null,null,null,null,null,null,null,null,null,null,null,null,null,null,null,null,null,null,null,null,null,null,{"$f":"IF(AN165=\"\",\"\",IF(LEN(VLOOKUP(AN165,Sifranti!BY:BZ,2,FALSE))=0,\"\",VLOOKUP(AN165,Sifranti!BY:BZ,2,FALSE)))","v":""},{"$f":"IF(C165=\"\",\"\",VLOOKUP(C165,Sifranti!P:R,2,FALSE))","v":""},"","",{"$f":"IF(C165=\"\",\"\",VLOOKUP(C165,Sifranti!P:R,3,FALSE))","v":""},{"$f":"IF(N165=\"\",\"\",VLOOKUP(N165,Sifranti!D:F,2,FALSE))","v":""},{"$f":"IF(AK165=\"\",\"\",VLOOKUP(AK165,Sifranti!V:Y,2,FALSE))","v":""},{"$f":"IF(AK165=\"\",\"\",IF(VLOOKUP(AK165,Sifranti!V:Y,3,FALSE)=\"\",\"\",VLOOKUP(AK165,Sifranti!V:Y,3,FALSE)))","v":""},{"$f":"IF(AK165=\"\",\"\",VLOOKUP(AK165,Sifranti!V:Y,4,FALSE))","v":""}]
[{"$f":"IF(B166=\"\",\"\",VLOOKUP(B166,Sifranti!K:L,2,FALSE))","v":""},null,null,null,null,null,null,null,null,"",{"$f":"IF(L166=\"\",\"\",VLOOKUP(L166,Sifranti!A:B,2,FALSE))","v":""},null,{"$f":"IF(N166=\"\",\"\",VLOOKUP(N166,Sifranti!D:F,3,FALSE))","v":""},null,{"$f":"IF(P166=\"\",\"\",VLOOKUP(P166,Sifranti!H:I,2,FALSE))","v":""},null,null,null,null,null,null,null,null,null,null,null,null,null,null,null,null,null,null,null,null,null,null,null,null,null,{"$f":"IF(AN166=\"\",\"\",IF(LEN(VLOOKUP(AN166,Sifranti!BY:BZ,2,FALSE))=0,\"\",VLOOKUP(AN166,Sifranti!BY:BZ,2,FALSE)))","v":""},{"$f":"IF(C166=\"\",\"\",VLOOKUP(C166,Sifranti!P:R,2,FALSE))","v":""},"","",{"$f":"IF(C166=\"\",\"\",VLOOKUP(C166,Sifranti!P:R,3,FALSE))","v":""},{"$f":"IF(N166=\"\",\"\",VLOOKUP(N166,Sifranti!D:F,2,FALSE))","v":""},{"$f":"IF(AK166=\"\",\"\",VLOOKUP(AK166,Sifranti!V:Y,2,FALSE))","v":""},{"$f":"IF(AK166=\"\",\"\",IF(VLOOKUP(AK166,Sifranti!V:Y,3,FALSE)=\"\",\"\",VLOOKUP(AK166,Sifranti!V:Y,3,FALSE)))","v":""},{"$f":"IF(AK166=\"\",\"\",VLOOKUP(AK166,Sifranti!V:Y,4,FALSE))","v":""}]
[{"$f":"IF(B167=\"\",\"\",VLOOKUP(B167,Sifranti!K:L,2,FALSE))","v":""},null,null,null,null,null,null,null,null,"",{"$f":"IF(L167=\"\",\"\",VLOOKUP(L167,Sifranti!A:B,2,FALSE))","v":""},null,{"$f":"IF(N167=\"\",\"\",VLOOKUP(N167,Sifranti!D:F,3,FALSE))","v":""},null,{"$f":"IF(P167=\"\",\"\",VLOOKUP(P167,Sifranti!H:I,2,FALSE))","v":""},null,null,null,null,null,null,null,null,null,null,null,null,null,null,null,null,null,null,null,null,null,null,null,null,null,{"$f":"IF(AN167=\"\",\"\",IF(LEN(VLOOKUP(AN167,Sifranti!BY:BZ,2,FALSE))=0,\"\",VLOOKUP(AN167,Sifranti!BY:BZ,2,FALSE)))","v":""},{"$f":"IF(C167=\"\",\"\",VLOOKUP(C167,Sifranti!P:R,2,FALSE))","v":""},"","",{"$f":"IF(C167=\"\",\"\",VLOOKUP(C167,Sifranti!P:R,3,FALSE))","v":""},{"$f":"IF(N167=\"\",\"\",VLOOKUP(N167,Sifranti!D:F,2,FALSE))","v":""},{"$f":"IF(AK167=\"\",\"\",VLOOKUP(AK167,Sifranti!V:Y,2,FALSE))","v":""},{"$f":"IF(AK167=\"\",\"\",IF(VLOOKUP(AK167,Sifranti!V:Y,3,FALSE)=\"\",\"\",VLOOKUP(AK167,Sifranti!V:Y,3,FALSE)))","v":""},{"$f":"IF(AK167=\"\",\"\",VLOOKUP(AK167,Sifranti!V:Y,4,FALSE))","v":""}]
[{"$f":"IF(B168=\"\",\"\",VLOOKUP(B168,Sifranti!K:L,2,FALSE))","v":""},null,null,null,null,null,null,null,null,"",{"$f":"IF(L168=\"\",\"\",VLOOKUP(L168,Sifranti!A:B,2,FALSE))","v":""},null,{"$f":"IF(N168=\"\",\"\",VLOOKUP(N168,Sifranti!D:F,3,FALSE))","v":""},null,{"$f":"IF(P168=\"\",\"\",VLOOKUP(P168,Sifranti!H:I,2,FALSE))","v":""},null,null,null,null,null,null,null,null,null,null,null,null,null,null,null,null,null,null,null,null,null,null,null,null,null,{"$f":"IF(AN168=\"\",\"\",IF(LEN(VLOOKUP(AN168,Sifranti!BY:BZ,2,FALSE))=0,\"\",VLOOKUP(AN168,Sifranti!BY:BZ,2,FALSE)))","v":""},{"$f":"IF(C168=\"\",\"\",VLOOKUP(C168,Sifranti!P:R,2,FALSE))","v":""},"","",{"$f":"IF(C168=\"\",\"\",VLOOKUP(C168,Sifranti!P:R,3,FALSE))","v":""},{"$f":"IF(N168=\"\",\"\",VLOOKUP(N168,Sifranti!D:F,2,FALSE))","v":""},{"$f":"IF(AK168=\"\",\"\",VLOOKUP(AK168,Sifranti!V:Y,2,FALSE))","v":""},{"$f":"IF(AK168=\"\",\"\",IF(VLOOKUP(AK168,Sifranti!V:Y,3,FALSE)=\"\",\"\",VLOOKUP(AK168,Sifranti!V:Y,3,FALSE)))","v":""},{"$f":"IF(AK168=\"\",\"\",VLOOKUP(AK168,Sifranti!V:Y,4,FALSE))","v":""}]
[{"$f":"IF(B169=\"\",\"\",VLOOKUP(B169,Sifranti!K:L,2,FALSE))","v":""},null,null,null,null,null,null,null,null,"",{"$f":"IF(L169=\"\",\"\",VLOOKUP(L169,Sifranti!A:B,2,FALSE))","v":""},null,{"$f":"IF(N169=\"\",\"\",VLOOKUP(N169,Sifranti!D:F,3,FALSE))","v":""},null,{"$f":"IF(P169=\"\",\"\",VLOOKUP(P169,Sifranti!H:I,2,FALSE))","v":""},null,null,null,null,null,null,null,null,null,null,null,null,null,null,null,null,null,null,null,null,null,null,null,null,null,{"$f":"IF(AN169=\"\",\"\",IF(LEN(VLOOKUP(AN169,Sifranti!BY:BZ,2,FALSE))=0,\"\",VLOOKUP(AN169,Sifranti!BY:BZ,2,FALSE)))","v":""},{"$f":"IF(C169=\"\",\"\",VLOOKUP(C169,Sifranti!P:R,2,FALSE))","v":""},"","",{"$f":"IF(C169=\"\",\"\",VLOOKUP(C169,Sifranti!P:R,3,FALSE))","v":""},{"$f":"IF(N169=\"\",\"\",VLOOKUP(N169,Sifranti!D:F,2,FALSE))","v":""},{"$f":"IF(AK169=\"\",\"\",VLOOKUP(AK169,Sifranti!V:Y,2,FALSE))","v":""},{"$f":"IF(AK169=\"\",\"\",IF(VLOOKUP(AK169,Sifranti!V:Y,3,FALSE)=\"\",\"\",VLOOKUP(AK169,Sifranti!V:Y,3,FALSE)))","v":""},{"$f":"IF(AK169=\"\",\"\",VLOOKUP(AK169,Sifranti!V:Y,4,FALSE))","v":""}]
[{"$f":"IF(B170=\"\",\"\",VLOOKUP(B170,Sifranti!K:L,2,FALSE))","v":""},null,null,null,null,null,null,null,null,"",{"$f":"IF(L170=\"\",\"\",VLOOKUP(L170,Sifranti!A:B,2,FALSE))","v":""},null,{"$f":"IF(N170=\"\",\"\",VLOOKUP(N170,Sifranti!D:F,3,FALSE))","v":""},null,{"$f":"IF(P170=\"\",\"\",VLOOKUP(P170,Sifranti!H:I,2,FALSE))","v":""},null,null,null,null,null,null,null,null,null,null,null,null,null,null,null,null,null,null,null,null,null,null,null,null,null,{"$f":"IF(AN170=\"\",\"\",IF(LEN(VLOOKUP(AN170,Sifranti!BY:BZ,2,FALSE))=0,\"\",VLOOKUP(AN170,Sifranti!BY:BZ,2,FALSE)))","v":""},{"$f":"IF(C170=\"\",\"\",VLOOKUP(C170,Sifranti!P:R,2,FALSE))","v":""},"","",{"$f":"IF(C170=\"\",\"\",VLOOKUP(C170,Sifranti!P:R,3,FALSE))","v":""},{"$f":"IF(N170=\"\",\"\",VLOOKUP(N170,Sifranti!D:F,2,FALSE))","v":""},{"$f":"IF(AK170=\"\",\"\",VLOOKUP(AK170,Sifranti!V:Y,2,FALSE))","v":""},{"$f":"IF(AK170=\"\",\"\",IF(VLOOKUP(AK170,Sifranti!V:Y,3,FALSE)=\"\",\"\",VLOOKUP(AK170,Sifranti!V:Y,3,FALSE)))","v":""},{"$f":"IF(AK170=\"\",\"\",VLOOKUP(AK170,Sifranti!V:Y,4,FALSE))","v":""}]
[{"$f":"IF(B171=\"\",\"\",VLOOKUP(B171,Sifranti!K:L,2,FALSE))","v":""},null,null,null,null,null,null,null,null,"",{"$f":"IF(L171=\"\",\"\",VLOOKUP(L171,Sifranti!A:B,2,FALSE))","v":""},null,{"$f":"IF(N171=\"\",\"\",VLOOKUP(N171,Sifranti!D:F,3,FALSE))","v":""},null,{"$f":"IF(P171=\"\",\"\",VLOOKUP(P171,Sifranti!H:I,2,FALSE))","v":""},null,null,null,null,null,null,null,null,null,null,null,null,null,null,null,null,null,null,null,null,null,null,null,null,null,{"$f":"IF(AN171=\"\",\"\",IF(LEN(VLOOKUP(AN171,Sifranti!BY:BZ,2,FALSE))=0,\"\",VLOOKUP(AN171,Sifranti!BY:BZ,2,FALSE)))","v":""},{"$f":"IF(C171=\"\",\"\",VLOOKUP(C171,Sifranti!P:R,2,FALSE))","v":""},"","",{"$f":"IF(C171=\"\",\"\",VLOOKUP(C171,Sifranti!P:R,3,FALSE))","v":""},{"$f":"IF(N171=\"\",\"\",VLOOKUP(N171,Sifranti!D:F,2,FALSE))","v":""},{"$f":"IF(AK171=\"\",\"\",VLOOKUP(AK171,Sifranti!V:Y,2,FALSE))","v":""},{"$f":"IF(AK171=\"\",\"\",IF(VLOOKUP(AK171,Sifranti!V:Y,3,FALSE)=\"\",\"\",VLOOKUP(AK171,Sifranti!V:Y,3,FALSE)))","v":""},{"$f":"IF(AK171=\"\",\"\",VLOOKUP(AK171,Sifranti!V:Y,4,FALSE))","v":""}]
[{"$f":"IF(B172=\"\",\"\",VLOOKUP(B172,Sifranti!K:L,2,FALSE))","v":""},null,null,null,null,null,null,null,null,"",{"$f":"IF(L172=\"\",\"\",VLOOKUP(L172,Sifranti!A:B,2,FALSE))","v":""},null,{"$f":"IF(N172=\"\",\"\",VLOOKUP(N172,Sifranti!D:F,3,FALSE))","v":""},null,{"$f":"IF(P172=\"\",\"\",VLOOKUP(P172,Sifranti!H:I,2,FALSE))","v":""},null,null,null,null,null,null,null,null,null,null,null,null,null,null,null,null,null,null,null,null,null,null,null,null,null,{"$f":"IF(AN172=\"\",\"\",IF(LEN(VLOOKUP(AN172,Sifranti!BY:BZ,2,FALSE))=0,\"\",VLOOKUP(AN172,Sifranti!BY:BZ,2,FALSE)))","v":""},{"$f":"IF(C172=\"\",\"\",VLOOKUP(C172,Sifranti!P:R,2,FALSE))","v":""},"","",{"$f":"IF(C172=\"\",\"\",VLOOKUP(C172,Sifranti!P:R,3,FALSE))","v":""},{"$f":"IF(N172=\"\",\"\",VLOOKUP(N172,Sifranti!D:F,2,FALSE))","v":""},{"$f":"IF(AK172=\"\",\"\",VLOOKUP(AK172,Sifranti!V:Y,2,FALSE))","v":""},{"$f":"IF(AK172=\"\",\"\",IF(VLOOKUP(AK172,Sifranti!V:Y,3,FALSE)=\"\",\"\",VLOOKUP(AK172,Sifranti!V:Y,3,FALSE)))","v":""},{"$f":"IF(AK172=\"\",\"\",VLOOKUP(AK172,Sifranti!V:Y,4,FALSE))","v":""}]
[{"$f":"IF(B173=\"\",\"\",VLOOKUP(B173,Sifranti!K:L,2,FALSE))","v":""},null,null,null,null,null,null,null,null,"",{"$f":"IF(L173=\"\",\"\",VLOOKUP(L173,Sifranti!A:B,2,FALSE))","v":""},null,{"$f":"IF(N173=\"\",\"\",VLOOKUP(N173,Sifranti!D:F,3,FALSE))","v":""},null,{"$f":"IF(P173=\"\",\"\",VLOOKUP(P173,Sifranti!H:I,2,FALSE))","v":""},null,null,null,null,null,null,null,null,null,null,null,null,null,null,null,null,null,null,null,null,null,null,null,null,null,{"$f":"IF(AN173=\"\",\"\",IF(LEN(VLOOKUP(AN173,Sifranti!BY:BZ,2,FALSE))=0,\"\",VLOOKUP(AN173,Sifranti!BY:BZ,2,FALSE)))","v":""},{"$f":"IF(C173=\"\",\"\",VLOOKUP(C173,Sifranti!P:R,2,FALSE))","v":""},"","",{"$f":"IF(C173=\"\",\"\",VLOOKUP(C173,Sifranti!P:R,3,FALSE))","v":""},{"$f":"IF(N173=\"\",\"\",VLOOKUP(N173,Sifranti!D:F,2,FALSE))","v":""},{"$f":"IF(AK173=\"\",\"\",VLOOKUP(AK173,Sifranti!V:Y,2,FALSE))","v":""},{"$f":"IF(AK173=\"\",\"\",IF(VLOOKUP(AK173,Sifranti!V:Y,3,FALSE)=\"\",\"\",VLOOKUP(AK173,Sifranti!V:Y,3,FALSE)))","v":""},{"$f":"IF(AK173=\"\",\"\",VLOOKUP(AK173,Sifranti!V:Y,4,FALSE))","v":""}]
[{"$f":"IF(B174=\"\",\"\",VLOOKUP(B174,Sifranti!K:L,2,FALSE))","v":""},null,null,null,null,null,null,null,null,"",{"$f":"IF(L174=\"\",\"\",VLOOKUP(L174,Sifranti!A:B,2,FALSE))","v":""},null,{"$f":"IF(N174=\"\",\"\",VLOOKUP(N174,Sifranti!D:F,3,FALSE))","v":""},null,{"$f":"IF(P174=\"\",\"\",VLOOKUP(P174,Sifranti!H:I,2,FALSE))","v":""},null,null,null,null,null,null,null,null,null,null,null,null,null,null,null,null,null,null,null,null,null,null,null,null,null,{"$f":"IF(AN174=\"\",\"\",IF(LEN(VLOOKUP(AN174,Sifranti!BY:BZ,2,FALSE))=0,\"\",VLOOKUP(AN174,Sifranti!BY:BZ,2,FALSE)))","v":""},{"$f":"IF(C174=\"\",\"\",VLOOKUP(C174,Sifranti!P:R,2,FALSE))","v":""},"","",{"$f":"IF(C174=\"\",\"\",VLOOKUP(C174,Sifranti!P:R,3,FALSE))","v":""},{"$f":"IF(N174=\"\",\"\",VLOOKUP(N174,Sifranti!D:F,2,FALSE))","v":""},{"$f":"IF(AK174=\"\",\"\",VLOOKUP(AK174,Sifranti!V:Y,2,FALSE))","v":""},{"$f":"IF(AK174=\"\",\"\",IF(VLOOKUP(AK174,Sifranti!V:Y,3,FALSE)=\"\",\"\",VLOOKUP(AK174,Sifranti!V:Y,3,FALSE)))","v":""},{"$f":"IF(AK174=\"\",\"\",VLOOKUP(AK174,Sifranti!V:Y,4,FALSE))","v":""}]
[{"$f":"IF(B175=\"\",\"\",VLOOKUP(B175,Sifranti!K:L,2,FALSE))","v":""},null,null,null,null,null,null,null,null,"",{"$f":"IF(L175=\"\",\"\",VLOOKUP(L175,Sifranti!A:B,2,FALSE))","v":""},null,{"$f":"IF(N175=\"\",\"\",VLOOKUP(N175,Sifranti!D:F,3,FALSE))","v":""},null,{"$f":"IF(P175=\"\",\"\",VLOOKUP(P175,Sifranti!H:I,2,FALSE))","v":""},null,null,null,null,null,null,null,null,null,null,null,null,null,null,null,null,null,null,null,null,null,null,null,null,null,{"$f":"IF(AN175=\"\",\"\",IF(LEN(VLOOKUP(AN175,Sifranti!BY:BZ,2,FALSE))=0,\"\",VLOOKUP(AN175,Sifranti!BY:BZ,2,FALSE)))","v":""},{"$f":"IF(C175=\"\",\"\",VLOOKUP(C175,Sifranti!P:R,2,FALSE))","v":""},"","",{"$f":"IF(C175=\"\",\"\",VLOOKUP(C175,Sifranti!P:R,3,FALSE))","v":""},{"$f":"IF(N175=\"\",\"\",VLOOKUP(N175,Sifranti!D:F,2,FALSE))","v":""},{"$f":"IF(AK175=\"\",\"\",VLOOKUP(AK175,Sifranti!V:Y,2,FALSE))","v":""},{"$f":"IF(AK175=\"\",\"\",IF(VLOOKUP(AK175,Sifranti!V:Y,3,FALSE)=\"\",\"\",VLOOKUP(AK175,Sifranti!V:Y,3,FALSE)))","v":""},{"$f":"IF(AK175=\"\",\"\",VLOOKUP(AK175,Sifranti!V:Y,4,FALSE))","v":""}]
[{"$f":"IF(B176=\"\",\"\",VLOOKUP(B176,Sifranti!K:L,2,FALSE))","v":""},null,null,null,null,null,null,null,null,"",{"$f":"IF(L176=\"\",\"\",VLOOKUP(L176,Sifranti!A:B,2,FALSE))","v":""},null,{"$f":"IF(N176=\"\",\"\",VLOOKUP(N176,Sifranti!D:F,3,FALSE))","v":""},null,{"$f":"IF(P176=\"\",\"\",VLOOKUP(P176,Sifranti!H:I,2,FALSE))","v":""},null,null,null,null,null,null,null,null,null,null,null,null,null,null,null,null,null,null,null,null,null,null,null,null,null,{"$f":"IF(AN176=\"\",\"\",IF(LEN(VLOOKUP(AN176,Sifranti!BY:BZ,2,FALSE))=0,\"\",VLOOKUP(AN176,Sifranti!BY:BZ,2,FALSE)))","v":""},{"$f":"IF(C176=\"\",\"\",VLOOKUP(C176,Sifranti!P:R,2,FALSE))","v":""},"","",{"$f":"IF(C176=\"\",\"\",VLOOKUP(C176,Sifranti!P:R,3,FALSE))","v":""},{"$f":"IF(N176=\"\",\"\",VLOOKUP(N176,Sifranti!D:F,2,FALSE))","v":""},{"$f":"IF(AK176=\"\",\"\",VLOOKUP(AK176,Sifranti!V:Y,2,FALSE))","v":""},{"$f":"IF(AK176=\"\",\"\",IF(VLOOKUP(AK176,Sifranti!V:Y,3,FALSE)=\"\",\"\",VLOOKUP(AK176,Sifranti!V:Y,3,FALSE)))","v":""},{"$f":"IF(AK176=\"\",\"\",VLOOKUP(AK176,Sifranti!V:Y,4,FALSE))","v":""}]
[{"$f":"IF(B177=\"\",\"\",VLOOKUP(B177,Sifranti!K:L,2,FALSE))","v":""},null,null,null,null,null,null,null,null,"",{"$f":"IF(L177=\"\",\"\",VLOOKUP(L177,Sifranti!A:B,2,FALSE))","v":""},null,{"$f":"IF(N177=\"\",\"\",VLOOKUP(N177,Sifranti!D:F,3,FALSE))","v":""},null,{"$f":"IF(P177=\"\",\"\",VLOOKUP(P177,Sifranti!H:I,2,FALSE))","v":""},null,null,null,null,null,null,null,null,null,null,null,null,null,null,null,null,null,null,null,null,null,null,null,null,null,{"$f":"IF(AN177=\"\",\"\",IF(LEN(VLOOKUP(AN177,Sifranti!BY:BZ,2,FALSE))=0,\"\",VLOOKUP(AN177,Sifranti!BY:BZ,2,FALSE)))","v":""},{"$f":"IF(C177=\"\",\"\",VLOOKUP(C177,Sifranti!P:R,2,FALSE))","v":""},"","",{"$f":"IF(C177=\"\",\"\",VLOOKUP(C177,Sifranti!P:R,3,FALSE))","v":""},{"$f":"IF(N177=\"\",\"\",VLOOKUP(N177,Sifranti!D:F,2,FALSE))","v":""},{"$f":"IF(AK177=\"\",\"\",VLOOKUP(AK177,Sifranti!V:Y,2,FALSE))","v":""},{"$f":"IF(AK177=\"\",\"\",IF(VLOOKUP(AK177,Sifranti!V:Y,3,FALSE)=\"\",\"\",VLOOKUP(AK177,Sifranti!V:Y,3,FALSE)))","v":""},{"$f":"IF(AK177=\"\",\"\",VLOOKUP(AK177,Sifranti!V:Y,4,FALSE))","v":""}]
[{"$f":"IF(B178=\"\",\"\",VLOOKUP(B178,Sifranti!K:L,2,FALSE))","v":""},null,null,null,null,null,null,null,null,"",{"$f":"IF(L178=\"\",\"\",VLOOKUP(L178,Sifranti!A:B,2,FALSE))","v":""},null,{"$f":"IF(N178=\"\",\"\",VLOOKUP(N178,Sifranti!D:F,3,FALSE))","v":""},null,{"$f":"IF(P178=\"\",\"\",VLOOKUP(P178,Sifranti!H:I,2,FALSE))","v":""},null,null,null,null,null,null,null,null,null,null,null,null,null,null,null,null,null,null,null,null,null,null,null,null,null,{"$f":"IF(AN178=\"\",\"\",IF(LEN(VLOOKUP(AN178,Sifranti!BY:BZ,2,FALSE))=0,\"\",VLOOKUP(AN178,Sifranti!BY:BZ,2,FALSE)))","v":""},{"$f":"IF(C178=\"\",\"\",VLOOKUP(C178,Sifranti!P:R,2,FALSE))","v":""},"","",{"$f":"IF(C178=\"\",\"\",VLOOKUP(C178,Sifranti!P:R,3,FALSE))","v":""},{"$f":"IF(N178=\"\",\"\",VLOOKUP(N178,Sifranti!D:F,2,FALSE))","v":""},{"$f":"IF(AK178=\"\",\"\",VLOOKUP(AK178,Sifranti!V:Y,2,FALSE))","v":""},{"$f":"IF(AK178=\"\",\"\",IF(VLOOKUP(AK178,Sifranti!V:Y,3,FALSE)=\"\",\"\",VLOOKUP(AK178,Sifranti!V:Y,3,FALSE)))","v":""},{"$f":"IF(AK178=\"\",\"\",VLOOKUP(AK178,Sifranti!V:Y,4,FALSE))","v":""}]
[{"$f":"IF(B179=\"\",\"\",VLOOKUP(B179,Sifranti!K:L,2,FALSE))","v":""},null,null,null,null,null,null,null,null,"",{"$f":"IF(L179=\"\",\"\",VLOOKUP(L179,Sifranti!A:B,2,FALSE))","v":""},null,{"$f":"IF(N179=\"\",\"\",VLOOKUP(N179,Sifranti!D:F,3,FALSE))","v":""},null,{"$f":"IF(P179=\"\",\"\",VLOOKUP(P179,Sifranti!H:I,2,FALSE))","v":""},null,null,null,null,null,null,null,null,null,null,null,null,null,null,null,null,null,null,null,null,null,null,null,null,null,{"$f":"IF(AN179=\"\",\"\",IF(LEN(VLOOKUP(AN179,Sifranti!BY:BZ,2,FALSE))=0,\"\",VLOOKUP(AN179,Sifranti!BY:BZ,2,FALSE)))","v":""},{"$f":"IF(C179=\"\",\"\",VLOOKUP(C179,Sifranti!P:R,2,FALSE))","v":""},"","",{"$f":"IF(C179=\"\",\"\",VLOOKUP(C179,Sifranti!P:R,3,FALSE))","v":""},{"$f":"IF(N179=\"\",\"\",VLOOKUP(N179,Sifranti!D:F,2,FALSE))","v":""},{"$f":"IF(AK179=\"\",\"\",VLOOKUP(AK179,Sifranti!V:Y,2,FALSE))","v":""},{"$f":"IF(AK179=\"\",\"\",IF(VLOOKUP(AK179,Sifranti!V:Y,3,FALSE)=\"\",\"\",VLOOKUP(AK179,Sifranti!V:Y,3,FALSE)))","v":""},{"$f":"IF(AK179=\"\",\"\",VLOOKUP(AK179,Sifranti!V:Y,4,FALSE))","v":""}]
[{"$f":"IF(B180=\"\",\"\",VLOOKUP(B180,Sifranti!K:L,2,FALSE))","v":""},null,null,null,null,null,null,null,null,"",{"$f":"IF(L180=\"\",\"\",VLOOKUP(L180,Sifranti!A:B,2,FALSE))","v":""},null,{"$f":"IF(N180=\"\",\"\",VLOOKUP(N180,Sifranti!D:F,3,FALSE))","v":""},null,{"$f":"IF(P180=\"\",\"\",VLOOKUP(P180,Sifranti!H:I,2,FALSE))","v":""},null,null,null,null,null,null,null,null,null,null,null,null,null,null,null,null,null,null,null,null,null,null,null,null,null,{"$f":"IF(AN180=\"\",\"\",IF(LEN(VLOOKUP(AN180,Sifranti!BY:BZ,2,FALSE))=0,\"\",VLOOKUP(AN180,Sifranti!BY:BZ,2,FALSE)))","v":""},{"$f":"IF(C180=\"\",\"\",VLOOKUP(C180,Sifranti!P:R,2,FALSE))","v":""},"","",{"$f":"IF(C180=\"\",\"\",VLOOKUP(C180,Sifranti!P:R,3,FALSE))","v":""},{"$f":"IF(N180=\"\",\"\",VLOOKUP(N180,Sifranti!D:F,2,FALSE))","v":""},{"$f":"IF(AK180=\"\",\"\",VLOOKUP(AK180,Sifranti!V:Y,2,FALSE))","v":""},{"$f":"IF(AK180=\"\",\"\",IF(VLOOKUP(AK180,Sifranti!V:Y,3,FALSE)=\"\",\"\",VLOOKUP(AK180,Sifranti!V:Y,3,FALSE)))","v":""},{"$f":"IF(AK180=\"\",\"\",VLOOKUP(AK180,Sifranti!V:Y,4,FALSE))","v":""}]
[{"$f":"IF(B181=\"\",\"\",VLOOKUP(B181,Sifranti!K:L,2,FALSE))","v":""},null,null,null,null,null,null,null,null,"",{"$f":"IF(L181=\"\",\"\",VLOOKUP(L181,Sifranti!A:B,2,FALSE))","v":""},null,{"$f":"IF(N181=\"\",\"\",VLOOKUP(N181,Sifranti!D:F,3,FALSE))","v":""},null,{"$f":"IF(P181=\"\",\"\",VLOOKUP(P181,Sifranti!H:I,2,FALSE))","v":""},null,null,null,null,null,null,null,null,null,null,null,null,null,null,null,null,null,null,null,null,null,null,null,null,null,{"$f":"IF(AN181=\"\",\"\",IF(LEN(VLOOKUP(AN181,Sifranti!BY:BZ,2,FALSE))=0,\"\",VLOOKUP(AN181,Sifranti!BY:BZ,2,FALSE)))","v":""},{"$f":"IF(C181=\"\",\"\",VLOOKUP(C181,Sifranti!P:R,2,FALSE))","v":""},"","",{"$f":"IF(C181=\"\",\"\",VLOOKUP(C181,Sifranti!P:R,3,FALSE))","v":""},{"$f":"IF(N181=\"\",\"\",VLOOKUP(N181,Sifranti!D:F,2,FALSE))","v":""},{"$f":"IF(AK181=\"\",\"\",VLOOKUP(AK181,Sifranti!V:Y,2,FALSE))","v":""},{"$f":"IF(AK181=\"\",\"\",IF(VLOOKUP(AK181,Sifranti!V:Y,3,FALSE)=\"\",\"\",VLOOKUP(AK181,Sifranti!V:Y,3,FALSE)))","v":""},{"$f":"IF(AK181=\"\",\"\",VLOOKUP(AK181,Sifranti!V:Y,4,FALSE))","v":""}]
[{"$f":"IF(B182=\"\",\"\",VLOOKUP(B182,Sifranti!K:L,2,FALSE))","v":""},null,null,null,null,null,null,null,null,"",{"$f":"IF(L182=\"\",\"\",VLOOKUP(L182,Sifranti!A:B,2,FALSE))","v":""},null,{"$f":"IF(N182=\"\",\"\",VLOOKUP(N182,Sifranti!D:F,3,FALSE))","v":""},null,{"$f":"IF(P182=\"\",\"\",VLOOKUP(P182,Sifranti!H:I,2,FALSE))","v":""},null,null,null,null,null,null,null,null,null,null,null,null,null,null,null,null,null,null,null,null,null,null,null,null,null,{"$f":"IF(AN182=\"\",\"\",IF(LEN(VLOOKUP(AN182,Sifranti!BY:BZ,2,FALSE))=0,\"\",VLOOKUP(AN182,Sifranti!BY:BZ,2,FALSE)))","v":""},{"$f":"IF(C182=\"\",\"\",VLOOKUP(C182,Sifranti!P:R,2,FALSE))","v":""},"","",{"$f":"IF(C182=\"\",\"\",VLOOKUP(C182,Sifranti!P:R,3,FALSE))","v":""},{"$f":"IF(N182=\"\",\"\",VLOOKUP(N182,Sifranti!D:F,2,FALSE))","v":""},{"$f":"IF(AK182=\"\",\"\",VLOOKUP(AK182,Sifranti!V:Y,2,FALSE))","v":""},{"$f":"IF(AK182=\"\",\"\",IF(VLOOKUP(AK182,Sifranti!V:Y,3,FALSE)=\"\",\"\",VLOOKUP(AK182,Sifranti!V:Y,3,FALSE)))","v":""},{"$f":"IF(AK182=\"\",\"\",VLOOKUP(AK182,Sifranti!V:Y,4,FALSE))","v":""}]
[{"$f":"IF(B183=\"\",\"\",VLOOKUP(B183,Sifranti!K:L,2,FALSE))","v":""},null,null,null,null,null,null,null,null,"",{"$f":"IF(L183=\"\",\"\",VLOOKUP(L183,Sifranti!A:B,2,FALSE))","v":""},null,{"$f":"IF(N183=\"\",\"\",VLOOKUP(N183,Sifranti!D:F,3,FALSE))","v":""},null,{"$f":"IF(P183=\"\",\"\",VLOOKUP(P183,Sifranti!H:I,2,FALSE))","v":""},null,null,null,null,null,null,null,null,null,null,null,null,null,null,null,null,null,null,null,null,null,null,null,null,null,{"$f":"IF(AN183=\"\",\"\",IF(LEN(VLOOKUP(AN183,Sifranti!BY:BZ,2,FALSE))=0,\"\",VLOOKUP(AN183,Sifranti!BY:BZ,2,FALSE)))","v":""},{"$f":"IF(C183=\"\",\"\",VLOOKUP(C183,Sifranti!P:R,2,FALSE))","v":""},"","",{"$f":"IF(C183=\"\",\"\",VLOOKUP(C183,Sifranti!P:R,3,FALSE))","v":""},{"$f":"IF(N183=\"\",\"\",VLOOKUP(N183,Sifranti!D:F,2,FALSE))","v":""},{"$f":"IF(AK183=\"\",\"\",VLOOKUP(AK183,Sifranti!V:Y,2,FALSE))","v":""},{"$f":"IF(AK183=\"\",\"\",IF(VLOOKUP(AK183,Sifranti!V:Y,3,FALSE)=\"\",\"\",VLOOKUP(AK183,Sifranti!V:Y,3,FALSE)))","v":""},{"$f":"IF(AK183=\"\",\"\",VLOOKUP(AK183,Sifranti!V:Y,4,FALSE))","v":""}]
[{"$f":"IF(B184=\"\",\"\",VLOOKUP(B184,Sifranti!K:L,2,FALSE))","v":""},null,null,null,null,null,null,null,null,"",{"$f":"IF(L184=\"\",\"\",VLOOKUP(L184,Sifranti!A:B,2,FALSE))","v":""},null,{"$f":"IF(N184=\"\",\"\",VLOOKUP(N184,Sifranti!D:F,3,FALSE))","v":""},null,{"$f":"IF(P184=\"\",\"\",VLOOKUP(P184,Sifranti!H:I,2,FALSE))","v":""},null,null,null,null,null,null,null,null,null,null,null,null,null,null,null,null,null,null,null,null,null,null,null,null,null,{"$f":"IF(AN184=\"\",\"\",IF(LEN(VLOOKUP(AN184,Sifranti!BY:BZ,2,FALSE))=0,\"\",VLOOKUP(AN184,Sifranti!BY:BZ,2,FALSE)))","v":""},{"$f":"IF(C184=\"\",\"\",VLOOKUP(C184,Sifranti!P:R,2,FALSE))","v":""},"","",{"$f":"IF(C184=\"\",\"\",VLOOKUP(C184,Sifranti!P:R,3,FALSE))","v":""},{"$f":"IF(N184=\"\",\"\",VLOOKUP(N184,Sifranti!D:F,2,FALSE))","v":""},{"$f":"IF(AK184=\"\",\"\",VLOOKUP(AK184,Sifranti!V:Y,2,FALSE))","v":""},{"$f":"IF(AK184=\"\",\"\",IF(VLOOKUP(AK184,Sifranti!V:Y,3,FALSE)=\"\",\"\",VLOOKUP(AK184,Sifranti!V:Y,3,FALSE)))","v":""},{"$f":"IF(AK184=\"\",\"\",VLOOKUP(AK184,Sifranti!V:Y,4,FALSE))","v":""}]
[{"$f":"IF(B185=\"\",\"\",VLOOKUP(B185,Sifranti!K:L,2,FALSE))","v":""},null,null,null,null,null,null,null,null,"",{"$f":"IF(L185=\"\",\"\",VLOOKUP(L185,Sifranti!A:B,2,FALSE))","v":""},null,{"$f":"IF(N185=\"\",\"\",VLOOKUP(N185,Sifranti!D:F,3,FALSE))","v":""},null,{"$f":"IF(P185=\"\",\"\",VLOOKUP(P185,Sifranti!H:I,2,FALSE))","v":""},null,null,null,null,null,null,null,null,null,null,null,null,null,null,null,null,null,null,null,null,null,null,null,null,null,{"$f":"IF(AN185=\"\",\"\",IF(LEN(VLOOKUP(AN185,Sifranti!BY:BZ,2,FALSE))=0,\"\",VLOOKUP(AN185,Sifranti!BY:BZ,2,FALSE)))","v":""},{"$f":"IF(C185=\"\",\"\",VLOOKUP(C185,Sifranti!P:R,2,FALSE))","v":""},"","",{"$f":"IF(C185=\"\",\"\",VLOOKUP(C185,Sifranti!P:R,3,FALSE))","v":""},{"$f":"IF(N185=\"\",\"\",VLOOKUP(N185,Sifranti!D:F,2,FALSE))","v":""},{"$f":"IF(AK185=\"\",\"\",VLOOKUP(AK185,Sifranti!V:Y,2,FALSE))","v":""},{"$f":"IF(AK185=\"\",\"\",IF(VLOOKUP(AK185,Sifranti!V:Y,3,FALSE)=\"\",\"\",VLOOKUP(AK185,Sifranti!V:Y,3,FALSE)))","v":""},{"$f":"IF(AK185=\"\",\"\",VLOOKUP(AK185,Sifranti!V:Y,4,FALSE))","v":""}]
[{"$f":"IF(B186=\"\",\"\",VLOOKUP(B186,Sifranti!K:L,2,FALSE))","v":""},null,null,null,null,null,null,null,null,"",{"$f":"IF(L186=\"\",\"\",VLOOKUP(L186,Sifranti!A:B,2,FALSE))","v":""},null,{"$f":"IF(N186=\"\",\"\",VLOOKUP(N186,Sifranti!D:F,3,FALSE))","v":""},null,{"$f":"IF(P186=\"\",\"\",VLOOKUP(P186,Sifranti!H:I,2,FALSE))","v":""},null,null,null,null,null,null,null,null,null,null,null,null,null,null,null,null,null,null,null,null,null,null,null,null,null,{"$f":"IF(AN186=\"\",\"\",IF(LEN(VLOOKUP(AN186,Sifranti!BY:BZ,2,FALSE))=0,\"\",VLOOKUP(AN186,Sifranti!BY:BZ,2,FALSE)))","v":""},{"$f":"IF(C186=\"\",\"\",VLOOKUP(C186,Sifranti!P:R,2,FALSE))","v":""},"","",{"$f":"IF(C186=\"\",\"\",VLOOKUP(C186,Sifranti!P:R,3,FALSE))","v":""},{"$f":"IF(N186=\"\",\"\",VLOOKUP(N186,Sifranti!D:F,2,FALSE))","v":""},{"$f":"IF(AK186=\"\",\"\",VLOOKUP(AK186,Sifranti!V:Y,2,FALSE))","v":""},{"$f":"IF(AK186=\"\",\"\",IF(VLOOKUP(AK186,Sifranti!V:Y,3,FALSE)=\"\",\"\",VLOOKUP(AK186,Sifranti!V:Y,3,FALSE)))","v":""},{"$f":"IF(AK186=\"\",\"\",VLOOKUP(AK186,Sifranti!V:Y,4,FALSE))","v":""}]
[{"$f":"IF(B187=\"\",\"\",VLOOKUP(B187,Sifranti!K:L,2,FALSE))","v":""},null,null,null,null,null,null,null,null,"",{"$f":"IF(L187=\"\",\"\",VLOOKUP(L187,Sifranti!A:B,2,FALSE))","v":""},null,{"$f":"IF(N187=\"\",\"\",VLOOKUP(N187,Sifranti!D:F,3,FALSE))","v":""},null,{"$f":"IF(P187=\"\",\"\",VLOOKUP(P187,Sifranti!H:I,2,FALSE))","v":""},null,null,null,null,null,null,null,null,null,null,null,null,null,null,null,null,null,null,null,null,null,null,null,null,null,{"$f":"IF(AN187=\"\",\"\",IF(LEN(VLOOKUP(AN187,Sifranti!BY:BZ,2,FALSE))=0,\"\",VLOOKUP(AN187,Sifranti!BY:BZ,2,FALSE)))","v":""},{"$f":"IF(C187=\"\",\"\",VLOOKUP(C187,Sifranti!P:R,2,FALSE))","v":""},"","",{"$f":"IF(C187=\"\",\"\",VLOOKUP(C187,Sifranti!P:R,3,FALSE))","v":""},{"$f":"IF(N187=\"\",\"\",VLOOKUP(N187,Sifranti!D:F,2,FALSE))","v":""},{"$f":"IF(AK187=\"\",\"\",VLOOKUP(AK187,Sifranti!V:Y,2,FALSE))","v":""},{"$f":"IF(AK187=\"\",\"\",IF(VLOOKUP(AK187,Sifranti!V:Y,3,FALSE)=\"\",\"\",VLOOKUP(AK187,Sifranti!V:Y,3,FALSE)))","v":""},{"$f":"IF(AK187=\"\",\"\",VLOOKUP(AK187,Sifranti!V:Y,4,FALSE))","v":""}]
[{"$f":"IF(B188=\"\",\"\",VLOOKUP(B188,Sifranti!K:L,2,FALSE))","v":""},null,null,null,null,null,null,null,null,"",{"$f":"IF(L188=\"\",\"\",VLOOKUP(L188,Sifranti!A:B,2,FALSE))","v":""},null,{"$f":"IF(N188=\"\",\"\",VLOOKUP(N188,Sifranti!D:F,3,FALSE))","v":""},null,{"$f":"IF(P188=\"\",\"\",VLOOKUP(P188,Sifranti!H:I,2,FALSE))","v":""},null,null,null,null,null,null,null,null,null,null,null,null,null,null,null,null,null,null,null,null,null,null,null,null,null,{"$f":"IF(AN188=\"\",\"\",IF(LEN(VLOOKUP(AN188,Sifranti!BY:BZ,2,FALSE))=0,\"\",VLOOKUP(AN188,Sifranti!BY:BZ,2,FALSE)))","v":""},{"$f":"IF(C188=\"\",\"\",VLOOKUP(C188,Sifranti!P:R,2,FALSE))","v":""},"","",{"$f":"IF(C188=\"\",\"\",VLOOKUP(C188,Sifranti!P:R,3,FALSE))","v":""},{"$f":"IF(N188=\"\",\"\",VLOOKUP(N188,Sifranti!D:F,2,FALSE))","v":""},{"$f":"IF(AK188=\"\",\"\",VLOOKUP(AK188,Sifranti!V:Y,2,FALSE))","v":""},{"$f":"IF(AK188=\"\",\"\",IF(VLOOKUP(AK188,Sifranti!V:Y,3,FALSE)=\"\",\"\",VLOOKUP(AK188,Sifranti!V:Y,3,FALSE)))","v":""},{"$f":"IF(AK188=\"\",\"\",VLOOKUP(AK188,Sifranti!V:Y,4,FALSE))","v":""}]
[{"$f":"IF(B189=\"\",\"\",VLOOKUP(B189,Sifranti!K:L,2,FALSE))","v":""},null,null,null,null,null,null,null,null,"",{"$f":"IF(L189=\"\",\"\",VLOOKUP(L189,Sifranti!A:B,2,FALSE))","v":""},null,{"$f":"IF(N189=\"\",\"\",VLOOKUP(N189,Sifranti!D:F,3,FALSE))","v":""},null,{"$f":"IF(P189=\"\",\"\",VLOOKUP(P189,Sifranti!H:I,2,FALSE))","v":""},null,null,null,null,null,null,null,null,null,null,null,null,null,null,null,null,null,null,null,null,null,null,null,null,null,{"$f":"IF(AN189=\"\",\"\",IF(LEN(VLOOKUP(AN189,Sifranti!BY:BZ,2,FALSE))=0,\"\",VLOOKUP(AN189,Sifranti!BY:BZ,2,FALSE)))","v":""},{"$f":"IF(C189=\"\",\"\",VLOOKUP(C189,Sifranti!P:R,2,FALSE))","v":""},"","",{"$f":"IF(C189=\"\",\"\",VLOOKUP(C189,Sifranti!P:R,3,FALSE))","v":""},{"$f":"IF(N189=\"\",\"\",VLOOKUP(N189,Sifranti!D:F,2,FALSE))","v":""},{"$f":"IF(AK189=\"\",\"\",VLOOKUP(AK189,Sifranti!V:Y,2,FALSE))","v":""},{"$f":"IF(AK189=\"\",\"\",IF(VLOOKUP(AK189,Sifranti!V:Y,3,FALSE)=\"\",\"\",VLOOKUP(AK189,Sifranti!V:Y,3,FALSE)))","v":""},{"$f":"IF(AK189=\"\",\"\",VLOOKUP(AK189,Sifranti!V:Y,4,FALSE))","v":""}]
[{"$f":"IF(B190=\"\",\"\",VLOOKUP(B190,Sifranti!K:L,2,FALSE))","v":""},null,null,null,null,null,null,null,null,"",{"$f":"IF(L190=\"\",\"\",VLOOKUP(L190,Sifranti!A:B,2,FALSE))","v":""},null,{"$f":"IF(N190=\"\",\"\",VLOOKUP(N190,Sifranti!D:F,3,FALSE))","v":""},null,{"$f":"IF(P190=\"\",\"\",VLOOKUP(P190,Sifranti!H:I,2,FALSE))","v":""},null,null,null,null,null,null,null,null,null,null,null,null,null,null,null,null,null,null,null,null,null,null,null,null,null,{"$f":"IF(AN190=\"\",\"\",IF(LEN(VLOOKUP(AN190,Sifranti!BY:BZ,2,FALSE))=0,\"\",VLOOKUP(AN190,Sifranti!BY:BZ,2,FALSE)))","v":""},{"$f":"IF(C190=\"\",\"\",VLOOKUP(C190,Sifranti!P:R,2,FALSE))","v":""},"","",{"$f":"IF(C190=\"\",\"\",VLOOKUP(C190,Sifranti!P:R,3,FALSE))","v":""},{"$f":"IF(N190=\"\",\"\",VLOOKUP(N190,Sifranti!D:F,2,FALSE))","v":""},{"$f":"IF(AK190=\"\",\"\",VLOOKUP(AK190,Sifranti!V:Y,2,FALSE))","v":""},{"$f":"IF(AK190=\"\",\"\",IF(VLOOKUP(AK190,Sifranti!V:Y,3,FALSE)=\"\",\"\",VLOOKUP(AK190,Sifranti!V:Y,3,FALSE)))","v":""},{"$f":"IF(AK190=\"\",\"\",VLOOKUP(AK190,Sifranti!V:Y,4,FALSE))","v":""}]
[{"$f":"IF(B191=\"\",\"\",VLOOKUP(B191,Sifranti!K:L,2,FALSE))","v":""},null,null,null,null,null,null,null,null,"",{"$f":"IF(L191=\"\",\"\",VLOOKUP(L191,Sifranti!A:B,2,FALSE))","v":""},null,{"$f":"IF(N191=\"\",\"\",VLOOKUP(N191,Sifranti!D:F,3,FALSE))","v":""},null,{"$f":"IF(P191=\"\",\"\",VLOOKUP(P191,Sifranti!H:I,2,FALSE))","v":""},null,null,null,null,null,null,null,null,null,null,null,null,null,null,null,null,null,null,null,null,null,null,null,null,null,{"$f":"IF(AN191=\"\",\"\",IF(LEN(VLOOKUP(AN191,Sifranti!BY:BZ,2,FALSE))=0,\"\",VLOOKUP(AN191,Sifranti!BY:BZ,2,FALSE)))","v":""},{"$f":"IF(C191=\"\",\"\",VLOOKUP(C191,Sifranti!P:R,2,FALSE))","v":""},"","",{"$f":"IF(C191=\"\",\"\",VLOOKUP(C191,Sifranti!P:R,3,FALSE))","v":""},{"$f":"IF(N191=\"\",\"\",VLOOKUP(N191,Sifranti!D:F,2,FALSE))","v":""},{"$f":"IF(AK191=\"\",\"\",VLOOKUP(AK191,Sifranti!V:Y,2,FALSE))","v":""},{"$f":"IF(AK191=\"\",\"\",IF(VLOOKUP(AK191,Sifranti!V:Y,3,FALSE)=\"\",\"\",VLOOKUP(AK191,Sifranti!V:Y,3,FALSE)))","v":""},{"$f":"IF(AK191=\"\",\"\",VLOOKUP(AK191,Sifranti!V:Y,4,FALSE))","v":""}]
[{"$f":"IF(B192=\"\",\"\",VLOOKUP(B192,Sifranti!K:L,2,FALSE))","v":""},null,null,null,null,null,null,null,null,"",{"$f":"IF(L192=\"\",\"\",VLOOKUP(L192,Sifranti!A:B,2,FALSE))","v":""},null,{"$f":"IF(N192=\"\",\"\",VLOOKUP(N192,Sifranti!D:F,3,FALSE))","v":""},null,{"$f":"IF(P192=\"\",\"\",VLOOKUP(P192,Sifranti!H:I,2,FALSE))","v":""},null,null,null,null,null,null,null,null,null,null,null,null,null,null,null,null,null,null,null,null,null,null,null,null,null,{"$f":"IF(AN192=\"\",\"\",IF(LEN(VLOOKUP(AN192,Sifranti!BY:BZ,2,FALSE))=0,\"\",VLOOKUP(AN192,Sifranti!BY:BZ,2,FALSE)))","v":""},{"$f":"IF(C192=\"\",\"\",VLOOKUP(C192,Sifranti!P:R,2,FALSE))","v":""},"","",{"$f":"IF(C192=\"\",\"\",VLOOKUP(C192,Sifranti!P:R,3,FALSE))","v":""},{"$f":"IF(N192=\"\",\"\",VLOOKUP(N192,Sifranti!D:F,2,FALSE))","v":""},{"$f":"IF(AK192=\"\",\"\",VLOOKUP(AK192,Sifranti!V:Y,2,FALSE))","v":""},{"$f":"IF(AK192=\"\",\"\",IF(VLOOKUP(AK192,Sifranti!V:Y,3,FALSE)=\"\",\"\",VLOOKUP(AK192,Sifranti!V:Y,3,FALSE)))","v":""},{"$f":"IF(AK192=\"\",\"\",VLOOKUP(AK192,Sifranti!V:Y,4,FALSE))","v":""}]
[{"$f":"IF(B193=\"\",\"\",VLOOKUP(B193,Sifranti!K:L,2,FALSE))","v":""},null,null,null,null,null,null,null,null,"",{"$f":"IF(L193=\"\",\"\",VLOOKUP(L193,Sifranti!A:B,2,FALSE))","v":""},null,{"$f":"IF(N193=\"\",\"\",VLOOKUP(N193,Sifranti!D:F,3,FALSE))","v":""},null,{"$f":"IF(P193=\"\",\"\",VLOOKUP(P193,Sifranti!H:I,2,FALSE))","v":""},null,null,null,null,null,null,null,null,null,null,null,null,null,null,null,null,null,null,null,null,null,null,null,null,null,{"$f":"IF(AN193=\"\",\"\",IF(LEN(VLOOKUP(AN193,Sifranti!BY:BZ,2,FALSE))=0,\"\",VLOOKUP(AN193,Sifranti!BY:BZ,2,FALSE)))","v":""},{"$f":"IF(C193=\"\",\"\",VLOOKUP(C193,Sifranti!P:R,2,FALSE))","v":""},"","",{"$f":"IF(C193=\"\",\"\",VLOOKUP(C193,Sifranti!P:R,3,FALSE))","v":""},{"$f":"IF(N193=\"\",\"\",VLOOKUP(N193,Sifranti!D:F,2,FALSE))","v":""},{"$f":"IF(AK193=\"\",\"\",VLOOKUP(AK193,Sifranti!V:Y,2,FALSE))","v":""},{"$f":"IF(AK193=\"\",\"\",IF(VLOOKUP(AK193,Sifranti!V:Y,3,FALSE)=\"\",\"\",VLOOKUP(AK193,Sifranti!V:Y,3,FALSE)))","v":""},{"$f":"IF(AK193=\"\",\"\",VLOOKUP(AK193,Sifranti!V:Y,4,FALSE))","v":""}]
[{"$f":"IF(B194=\"\",\"\",VLOOKUP(B194,Sifranti!K:L,2,FALSE))","v":""},null,null,null,null,null,null,null,null,{"$f":"IF(H194=\"\",\"\",YEAR(H194))","v":""},{"$f":"IF(L194=\"\",\"\",VLOOKUP(L194,Sifranti!A:B,2,FALSE))","v":""},null,{"$f":"IF(N194=\"\",\"\",VLOOKUP(N194,Sifranti!D:F,3,FALSE))","v":""},null,{"$f":"IF(P194=\"\",\"\",VLOOKUP(P194,Sifranti!H:I,2,FALSE))","v":""},null,null,null,null,null,null,null,null,null,null,null,null,null,null,null,null,null,null,null,null,null,null,null,null,null,{"$f":"IF(AN194=\"\",\"\",IF(LEN(VLOOKUP(AN194,Sifranti!BY:BZ,2,FALSE))=0,\"\",VLOOKUP(AN194,Sifranti!BY:BZ,2,FALSE)))","v":""},{"$f":"IF(C194=\"\",\"\",VLOOKUP(C194,Sifranti!P:R,2,FALSE))","v":""},{"$f":"IF(V194>0,IF(AS194=\"de minimis\",T194/S194*100,U194/AD194*100),\"\")","v":""},{"$f":"IF(AE194>0,AE194/U194*100,\"\")","v":""},{"$f":"IF(C194=\"\",\"\",VLOOKUP(C194,Sifranti!P:R,3,FALSE))","v":""},{"$f":"IF(N194=\"\",\"\",VLOOKUP(N194,Sifranti!D:F,2,FALSE))","v":""},{"$f":"IF(AK194=\"\",\"\",VLOOKUP(AK194,Sifranti!V:Y,2,FALSE))","v":""},{"$f":"IF(AK194=\"\",\"\",IF(VLOOKUP(AK194,Sifranti!V:Y,3,FALSE)=\"\",\"\",VLOOKUP(AK194,Sifranti!V:Y,3,FALSE)))","v":""},{"$f":"IF(AK194=\"\",\"\",VLOOKUP(AK194,Sifranti!V:Y,4,FALSE))","v":""}]
[{"$f":"IF(B195=\"\",\"\",VLOOKUP(B195,Sifranti!K:L,2,FALSE))","v":""},null,null,null,null,null,null,null,null,"",{"$f":"IF(L195=\"\",\"\",VLOOKUP(L195,Sifranti!A:B,2,FALSE))","v":""},null,{"$f":"IF(N195=\"\",\"\",VLOOKUP(N195,Sifranti!D:F,3,FALSE))","v":""},null,{"$f":"IF(P195=\"\",\"\",VLOOKUP(P195,Sifranti!H:I,2,FALSE))","v":""},null,null,null,null,null,null,null,null,null,null,null,null,null,null,null,null,null,null,null,null,null,null,null,null,null,{"$f":"IF(AN195=\"\",\"\",IF(LEN(VLOOKUP(AN195,Sifranti!BY:BZ,2,FALSE))=0,\"\",VLOOKUP(AN195,Sifranti!BY:BZ,2,FALSE)))","v":""},{"$f":"IF(C195=\"\",\"\",VLOOKUP(C195,Sifranti!P:R,2,FALSE))","v":""},"","",{"$f":"IF(C195=\"\",\"\",VLOOKUP(C195,Sifranti!P:R,3,FALSE))","v":""},{"$f":"IF(N195=\"\",\"\",VLOOKUP(N195,Sifranti!D:F,2,FALSE))","v":""},{"$f":"IF(AK195=\"\",\"\",VLOOKUP(AK195,Sifranti!V:Y,2,FALSE))","v":""},{"$f":"IF(AK195=\"\",\"\",IF(VLOOKUP(AK195,Sifranti!V:Y,3,FALSE)=\"\",\"\",VLOOKUP(AK195,Sifranti!V:Y,3,FALSE)))","v":""},{"$f":"IF(AK195=\"\",\"\",VLOOKUP(AK195,Sifranti!V:Y,4,FALSE))","v":""}]
[{"$f":"IF(B196=\"\",\"\",VLOOKUP(B196,Sifranti!K:L,2,FALSE))","v":""},null,null,null,null,null,null,null,null,"",{"$f":"IF(L196=\"\",\"\",VLOOKUP(L196,Sifranti!A:B,2,FALSE))","v":""},null,{"$f":"IF(N196=\"\",\"\",VLOOKUP(N196,Sifranti!D:F,3,FALSE))","v":""},null,{"$f":"IF(P196=\"\",\"\",VLOOKUP(P196,Sifranti!H:I,2,FALSE))","v":""},null,null,null,null,null,null,null,null,null,null,null,null,null,null,null,null,null,null,null,null,null,null,null,null,null,{"$f":"IF(AN196=\"\",\"\",IF(LEN(VLOOKUP(AN196,Sifranti!BY:BZ,2,FALSE))=0,\"\",VLOOKUP(AN196,Sifranti!BY:BZ,2,FALSE)))","v":""},{"$f":"IF(C196=\"\",\"\",VLOOKUP(C196,Sifranti!P:R,2,FALSE))","v":""},"","",{"$f":"IF(C196=\"\",\"\",VLOOKUP(C196,Sifranti!P:R,3,FALSE))","v":""},{"$f":"IF(N196=\"\",\"\",VLOOKUP(N196,Sifranti!D:F,2,FALSE))","v":""},{"$f":"IF(AK196=\"\",\"\",VLOOKUP(AK196,Sifranti!V:Y,2,FALSE))","v":""},{"$f":"IF(AK196=\"\",\"\",IF(VLOOKUP(AK196,Sifranti!V:Y,3,FALSE)=\"\",\"\",VLOOKUP(AK196,Sifranti!V:Y,3,FALSE)))","v":""},{"$f":"IF(AK196=\"\",\"\",VLOOKUP(AK196,Sifranti!V:Y,4,FALSE))","v":""}]
[{"$f":"IF(B197=\"\",\"\",VLOOKUP(B197,Sifranti!K:L,2,FALSE))","v":""},null,null,null,null,null,null,null,null,"",{"$f":"IF(L197=\"\",\"\",VLOOKUP(L197,Sifranti!A:B,2,FALSE))","v":""},null,{"$f":"IF(N197=\"\",\"\",VLOOKUP(N197,Sifranti!D:F,3,FALSE))","v":""},null,{"$f":"IF(P197=\"\",\"\",VLOOKUP(P197,Sifranti!H:I,2,FALSE))","v":""},null,null,null,null,null,null,null,null,null,null,null,null,null,null,null,null,null,null,null,null,null,null,null,null,null,{"$f":"IF(AN197=\"\",\"\",IF(LEN(VLOOKUP(AN197,Sifranti!BY:BZ,2,FALSE))=0,\"\",VLOOKUP(AN197,Sifranti!BY:BZ,2,FALSE)))","v":""},{"$f":"IF(C197=\"\",\"\",VLOOKUP(C197,Sifranti!P:R,2,FALSE))","v":""},"","",{"$f":"IF(C197=\"\",\"\",VLOOKUP(C197,Sifranti!P:R,3,FALSE))","v":""},{"$f":"IF(N197=\"\",\"\",VLOOKUP(N197,Sifranti!D:F,2,FALSE))","v":""},{"$f":"IF(AK197=\"\",\"\",VLOOKUP(AK197,Sifranti!V:Y,2,FALSE))","v":""},{"$f":"IF(AK197=\"\",\"\",IF(VLOOKUP(AK197,Sifranti!V:Y,3,FALSE)=\"\",\"\",VLOOKUP(AK197,Sifranti!V:Y,3,FALSE)))","v":""},{"$f":"IF(AK197=\"\",\"\",VLOOKUP(AK197,Sifranti!V:Y,4,FALSE))","v":""}]
[{"$f":"IF(B198=\"\",\"\",VLOOKUP(B198,Sifranti!K:L,2,FALSE))","v":""},null,null,null,null,null,null,null,null,"",{"$f":"IF(L198=\"\",\"\",VLOOKUP(L198,Sifranti!A:B,2,FALSE))","v":""},null,{"$f":"IF(N198=\"\",\"\",VLOOKUP(N198,Sifranti!D:F,3,FALSE))","v":""},null,{"$f":"IF(P198=\"\",\"\",VLOOKUP(P198,Sifranti!H:I,2,FALSE))","v":""},null,null,null,null,null,null,null,null,null,null,null,null,null,null,null,null,null,null,null,null,null,null,null,null,null,{"$f":"IF(AN198=\"\",\"\",IF(LEN(VLOOKUP(AN198,Sifranti!BY:BZ,2,FALSE))=0,\"\",VLOOKUP(AN198,Sifranti!BY:BZ,2,FALSE)))","v":""},{"$f":"IF(C198=\"\",\"\",VLOOKUP(C198,Sifranti!P:R,2,FALSE))","v":""},"","",{"$f":"IF(C198=\"\",\"\",VLOOKUP(C198,Sifranti!P:R,3,FALSE))","v":""},{"$f":"IF(N198=\"\",\"\",VLOOKUP(N198,Sifranti!D:F,2,FALSE))","v":""},{"$f":"IF(AK198=\"\",\"\",VLOOKUP(AK198,Sifranti!V:Y,2,FALSE))","v":""},{"$f":"IF(AK198=\"\",\"\",IF(VLOOKUP(AK198,Sifranti!V:Y,3,FALSE)=\"\",\"\",VLOOKUP(AK198,Sifranti!V:Y,3,FALSE)))","v":""},{"$f":"IF(AK198=\"\",\"\",VLOOKUP(AK198,Sifranti!V:Y,4,FALSE))","v":""}]
[{"$f":"IF(B199=\"\",\"\",VLOOKUP(B199,Sifranti!K:L,2,FALSE))","v":""},null,null,null,null,null,null,null,null,"",{"$f":"IF(L199=\"\",\"\",VLOOKUP(L199,Sifranti!A:B,2,FALSE))","v":""},null,{"$f":"IF(N199=\"\",\"\",VLOOKUP(N199,Sifranti!D:F,3,FALSE))","v":""},null,{"$f":"IF(P199=\"\",\"\",VLOOKUP(P199,Sifranti!H:I,2,FALSE))","v":""},null,null,null,null,null,null,null,null,null,null,null,null,null,null,null,null,null,null,null,null,null,null,null,null,null,{"$f":"IF(AN199=\"\",\"\",IF(LEN(VLOOKUP(AN199,Sifranti!BY:BZ,2,FALSE))=0,\"\",VLOOKUP(AN199,Sifranti!BY:BZ,2,FALSE)))","v":""},{"$f":"IF(C199=\"\",\"\",VLOOKUP(C199,Sifranti!P:R,2,FALSE))","v":""},"","",{"$f":"IF(C199=\"\",\"\",VLOOKUP(C199,Sifranti!P:R,3,FALSE))","v":""},{"$f":"IF(N199=\"\",\"\",VLOOKUP(N199,Sifranti!D:F,2,FALSE))","v":""},{"$f":"IF(AK199=\"\",\"\",VLOOKUP(AK199,Sifranti!V:Y,2,FALSE))","v":""},{"$f":"IF(AK199=\"\",\"\",IF(VLOOKUP(AK199,Sifranti!V:Y,3,FALSE)=\"\",\"\",VLOOKUP(AK199,Sifranti!V:Y,3,FALSE)))","v":""},{"$f":"IF(AK199=\"\",\"\",VLOOKUP(AK199,Sifranti!V:Y,4,FALSE))","v":""}]
[{"$f":"IF(B200=\"\",\"\",VLOOKUP(B200,Sifranti!K:L,2,FALSE))","v":""},null,null,null,null,null,null,null,null,"",{"$f":"IF(L200=\"\",\"\",VLOOKUP(L200,Sifranti!A:B,2,FALSE))","v":""},null,{"$f":"IF(N200=\"\",\"\",VLOOKUP(N200,Sifranti!D:F,3,FALSE))","v":""},null,{"$f":"IF(P200=\"\",\"\",VLOOKUP(P200,Sifranti!H:I,2,FALSE))","v":""},null,null,null,null,null,null,null,null,null,null,null,null,null,null,null,null,null,null,null,null,null,null,null,null,null,{"$f":"IF(AN200=\"\",\"\",IF(LEN(VLOOKUP(AN200,Sifranti!BY:BZ,2,FALSE))=0,\"\",VLOOKUP(AN200,Sifranti!BY:BZ,2,FALSE)))","v":""},{"$f":"IF(C200=\"\",\"\",VLOOKUP(C200,Sifranti!P:R,2,FALSE))","v":""},"","",{"$f":"IF(C200=\"\",\"\",VLOOKUP(C200,Sifranti!P:R,3,FALSE))","v":""},{"$f":"IF(N200=\"\",\"\",VLOOKUP(N200,Sifranti!D:F,2,FALSE))","v":""},{"$f":"IF(AK200=\"\",\"\",VLOOKUP(AK200,Sifranti!V:Y,2,FALSE))","v":""},{"$f":"IF(AK200=\"\",\"\",IF(VLOOKUP(AK200,Sifranti!V:Y,3,FALSE)=\"\",\"\",VLOOKUP(AK200,Sifranti!V:Y,3,FALSE)))","v":""},{"$f":"IF(AK200=\"\",\"\",VLOOKUP(AK200,Sifranti!V:Y,4,FALSE))","v":""}]
[{"$f":"IF(B201=\"\",\"\",VLOOKUP(B201,Sifranti!K:L,2,FALSE))","v":""},null,null,null,null,null,null,null,null,"",{"$f":"IF(L201=\"\",\"\",VLOOKUP(L201,Sifranti!A:B,2,FALSE))","v":""},null,{"$f":"IF(N201=\"\",\"\",VLOOKUP(N201,Sifranti!D:F,3,FALSE))","v":""},null,{"$f":"IF(P201=\"\",\"\",VLOOKUP(P201,Sifranti!H:I,2,FALSE))","v":""},null,null,null,null,null,null,null,null,null,null,null,null,null,null,null,null,null,null,null,null,null,null,null,null,null,{"$f":"IF(AN201=\"\",\"\",IF(LEN(VLOOKUP(AN201,Sifranti!BY:BZ,2,FALSE))=0,\"\",VLOOKUP(AN201,Sifranti!BY:BZ,2,FALSE)))","v":""},{"$f":"IF(C201=\"\",\"\",VLOOKUP(C201,Sifranti!P:R,2,FALSE))","v":""},"","",{"$f":"IF(C201=\"\",\"\",VLOOKUP(C201,Sifranti!P:R,3,FALSE))","v":""},{"$f":"IF(N201=\"\",\"\",VLOOKUP(N201,Sifranti!D:F,2,FALSE))","v":""},{"$f":"IF(AK201=\"\",\"\",VLOOKUP(AK201,Sifranti!V:Y,2,FALSE))","v":""},{"$f":"IF(AK201=\"\",\"\",IF(VLOOKUP(AK201,Sifranti!V:Y,3,FALSE)=\"\",\"\",VLOOKUP(AK201,Sifranti!V:Y,3,FALSE)))","v":""},{"$f":"IF(AK201=\"\",\"\",VLOOKUP(AK201,Sifranti!V:Y,4,FALSE))","v":""}]
[{"$f":"IF(B202=\"\",\"\",VLOOKUP(B202,Sifranti!K:L,2,FALSE))","v":""},null,null,null,null,null,null,null,null,"",{"$f":"IF(L202=\"\",\"\",VLOOKUP(L202,Sifranti!A:B,2,FALSE))","v":""},null,{"$f":"IF(N202=\"\",\"\",VLOOKUP(N202,Sifranti!D:F,3,FALSE))","v":""},null,{"$f":"IF(P202=\"\",\"\",VLOOKUP(P202,Sifranti!H:I,2,FALSE))","v":""},null,null,null,null,null,null,null,null,null,null,null,null,null,null,null,null,null,null,null,null,null,null,null,null,null,{"$f":"IF(AN202=\"\",\"\",IF(LEN(VLOOKUP(AN202,Sifranti!BY:BZ,2,FALSE))=0,\"\",VLOOKUP(AN202,Sifranti!BY:BZ,2,FALSE)))","v":""},{"$f":"IF(C202=\"\",\"\",VLOOKUP(C202,Sifranti!P:R,2,FALSE))","v":""},"","",{"$f":"IF(C202=\"\",\"\",VLOOKUP(C202,Sifranti!P:R,3,FALSE))","v":""},{"$f":"IF(N202=\"\",\"\",VLOOKUP(N202,Sifranti!D:F,2,FALSE))","v":""},{"$f":"IF(AK202=\"\",\"\",VLOOKUP(AK202,Sifranti!V:Y,2,FALSE))","v":""},{"$f":"IF(AK202=\"\",\"\",IF(VLOOKUP(AK202,Sifranti!V:Y,3,FALSE)=\"\",\"\",VLOOKUP(AK202,Sifranti!V:Y,3,FALSE)))","v":""},{"$f":"IF(AK202=\"\",\"\",VLOOKUP(AK202,Sifranti!V:Y,4,FALSE))","v":""}]
[{"$f":"IF(B203=\"\",\"\",VLOOKUP(B203,Sifranti!K:L,2,FALSE))","v":""},null,null,null,null,null,null,null,null,"",{"$f":"IF(L203=\"\",\"\",VLOOKUP(L203,Sifranti!A:B,2,FALSE))","v":""},null,{"$f":"IF(N203=\"\",\"\",VLOOKUP(N203,Sifranti!D:F,3,FALSE))","v":""},null,{"$f":"IF(P203=\"\",\"\",VLOOKUP(P203,Sifranti!H:I,2,FALSE))","v":""},null,null,null,null,null,null,null,null,null,null,null,null,null,null,null,null,null,null,null,null,null,null,null,null,null,{"$f":"IF(AN203=\"\",\"\",IF(LEN(VLOOKUP(AN203,Sifranti!BY:BZ,2,FALSE))=0,\"\",VLOOKUP(AN203,Sifranti!BY:BZ,2,FALSE)))","v":""},{"$f":"IF(C203=\"\",\"\",VLOOKUP(C203,Sifranti!P:R,2,FALSE))","v":""},"","",{"$f":"IF(C203=\"\",\"\",VLOOKUP(C203,Sifranti!P:R,3,FALSE))","v":""},{"$f":"IF(N203=\"\",\"\",VLOOKUP(N203,Sifranti!D:F,2,FALSE))","v":""},{"$f":"IF(AK203=\"\",\"\",VLOOKUP(AK203,Sifranti!V:Y,2,FALSE))","v":""},{"$f":"IF(AK203=\"\",\"\",IF(VLOOKUP(AK203,Sifranti!V:Y,3,FALSE)=\"\",\"\",VLOOKUP(AK203,Sifranti!V:Y,3,FALSE)))","v":""},{"$f":"IF(AK203=\"\",\"\",VLOOKUP(AK203,Sifranti!V:Y,4,FALSE))","v":""}]
[{"$f":"IF(B204=\"\",\"\",VLOOKUP(B204,Sifranti!K:L,2,FALSE))","v":""},null,null,null,null,null,null,null,null,"",{"$f":"IF(L204=\"\",\"\",VLOOKUP(L204,Sifranti!A:B,2,FALSE))","v":""},null,{"$f":"IF(N204=\"\",\"\",VLOOKUP(N204,Sifranti!D:F,3,FALSE))","v":""},null,{"$f":"IF(P204=\"\",\"\",VLOOKUP(P204,Sifranti!H:I,2,FALSE))","v":""},null,null,null,null,null,null,null,null,null,null,null,null,null,null,null,null,null,null,null,null,null,null,null,null,null,{"$f":"IF(AN204=\"\",\"\",IF(LEN(VLOOKUP(AN204,Sifranti!BY:BZ,2,FALSE))=0,\"\",VLOOKUP(AN204,Sifranti!BY:BZ,2,FALSE)))","v":""},{"$f":"IF(C204=\"\",\"\",VLOOKUP(C204,Sifranti!P:R,2,FALSE))","v":""},"","",{"$f":"IF(C204=\"\",\"\",VLOOKUP(C204,Sifranti!P:R,3,FALSE))","v":""},{"$f":"IF(N204=\"\",\"\",VLOOKUP(N204,Sifranti!D:F,2,FALSE))","v":""},{"$f":"IF(AK204=\"\",\"\",VLOOKUP(AK204,Sifranti!V:Y,2,FALSE))","v":""},{"$f":"IF(AK204=\"\",\"\",IF(VLOOKUP(AK204,Sifranti!V:Y,3,FALSE)=\"\",\"\",VLOOKUP(AK204,Sifranti!V:Y,3,FALSE)))","v":""},{"$f":"IF(AK204=\"\",\"\",VLOOKUP(AK204,Sifranti!V:Y,4,FALSE))","v":""}]
[{"$f":"IF(B205=\"\",\"\",VLOOKUP(B205,Sifranti!K:L,2,FALSE))","v":""},null,null,null,null,null,null,null,null,"",{"$f":"IF(L205=\"\",\"\",VLOOKUP(L205,Sifranti!A:B,2,FALSE))","v":""},null,{"$f":"IF(N205=\"\",\"\",VLOOKUP(N205,Sifranti!D:F,3,FALSE))","v":""},null,{"$f":"IF(P205=\"\",\"\",VLOOKUP(P205,Sifranti!H:I,2,FALSE))","v":""},null,null,null,null,null,null,null,null,null,null,null,null,null,null,null,null,null,null,null,null,null,null,null,null,null,{"$f":"IF(AN205=\"\",\"\",IF(LEN(VLOOKUP(AN205,Sifranti!BY:BZ,2,FALSE))=0,\"\",VLOOKUP(AN205,Sifranti!BY:BZ,2,FALSE)))","v":""},{"$f":"IF(C205=\"\",\"\",VLOOKUP(C205,Sifranti!P:R,2,FALSE))","v":""},"","",{"$f":"IF(C205=\"\",\"\",VLOOKUP(C205,Sifranti!P:R,3,FALSE))","v":""},{"$f":"IF(N205=\"\",\"\",VLOOKUP(N205,Sifranti!D:F,2,FALSE))","v":""},{"$f":"IF(AK205=\"\",\"\",VLOOKUP(AK205,Sifranti!V:Y,2,FALSE))","v":""},{"$f":"IF(AK205=\"\",\"\",IF(VLOOKUP(AK205,Sifranti!V:Y,3,FALSE)=\"\",\"\",VLOOKUP(AK205,Sifranti!V:Y,3,FALSE)))","v":""},{"$f":"IF(AK205=\"\",\"\",VLOOKUP(AK205,Sifranti!V:Y,4,FALSE))","v":""}]
[{"$f":"IF(B206=\"\",\"\",VLOOKUP(B206,Sifranti!K:L,2,FALSE))","v":""},null,null,null,null,null,null,null,null,"",{"$f":"IF(L206=\"\",\"\",VLOOKUP(L206,Sifranti!A:B,2,FALSE))","v":""},null,{"$f":"IF(N206=\"\",\"\",VLOOKUP(N206,Sifranti!D:F,3,FALSE))","v":""},null,{"$f":"IF(P206=\"\",\"\",VLOOKUP(P206,Sifranti!H:I,2,FALSE))","v":""},null,null,null,null,null,null,null,null,null,null,null,null,null,null,null,null,null,null,null,null,null,null,null,null,null,{"$f":"IF(AN206=\"\",\"\",IF(LEN(VLOOKUP(AN206,Sifranti!BY:BZ,2,FALSE))=0,\"\",VLOOKUP(AN206,Sifranti!BY:BZ,2,FALSE)))","v":""},{"$f":"IF(C206=\"\",\"\",VLOOKUP(C206,Sifranti!P:R,2,FALSE))","v":""},"","",{"$f":"IF(C206=\"\",\"\",VLOOKUP(C206,Sifranti!P:R,3,FALSE))","v":""},{"$f":"IF(N206=\"\",\"\",VLOOKUP(N206,Sifranti!D:F,2,FALSE))","v":""},{"$f":"IF(AK206=\"\",\"\",VLOOKUP(AK206,Sifranti!V:Y,2,FALSE))","v":""},{"$f":"IF(AK206=\"\",\"\",IF(VLOOKUP(AK206,Sifranti!V:Y,3,FALSE)=\"\",\"\",VLOOKUP(AK206,Sifranti!V:Y,3,FALSE)))","v":""},{"$f":"IF(AK206=\"\",\"\",VLOOKUP(AK206,Sifranti!V:Y,4,FALSE))","v":""}]
[{"$f":"IF(B207=\"\",\"\",VLOOKUP(B207,Sifranti!K:L,2,FALSE))","v":""},null,null,null,null,null,null,null,null,"",{"$f":"IF(L207=\"\",\"\",VLOOKUP(L207,Sifranti!A:B,2,FALSE))","v":""},null,{"$f":"IF(N207=\"\",\"\",VLOOKUP(N207,Sifranti!D:F,3,FALSE))","v":""},null,{"$f":"IF(P207=\"\",\"\",VLOOKUP(P207,Sifranti!H:I,2,FALSE))","v":""},null,null,null,null,null,null,null,null,null,null,null,null,null,null,null,null,null,null,null,null,null,null,null,null,null,{"$f":"IF(AN207=\"\",\"\",IF(LEN(VLOOKUP(AN207,Sifranti!BY:BZ,2,FALSE))=0,\"\",VLOOKUP(AN207,Sifranti!BY:BZ,2,FALSE)))","v":""},{"$f":"IF(C207=\"\",\"\",VLOOKUP(C207,Sifranti!P:R,2,FALSE))","v":""},"","",{"$f":"IF(C207=\"\",\"\",VLOOKUP(C207,Sifranti!P:R,3,FALSE))","v":""},{"$f":"IF(N207=\"\",\"\",VLOOKUP(N207,Sifranti!D:F,2,FALSE))","v":""},{"$f":"IF(AK207=\"\",\"\",VLOOKUP(AK207,Sifranti!V:Y,2,FALSE))","v":""},{"$f":"IF(AK207=\"\",\"\",IF(VLOOKUP(AK207,Sifranti!V:Y,3,FALSE)=\"\",\"\",VLOOKUP(AK207,Sifranti!V:Y,3,FALSE)))","v":""},{"$f":"IF(AK207=\"\",\"\",VLOOKUP(AK207,Sifranti!V:Y,4,FALSE))","v":""}]
[{"$f":"IF(B208=\"\",\"\",VLOOKUP(B208,Sifranti!K:L,2,FALSE))","v":""},null,null,null,null,null,null,null,null,"",{"$f":"IF(L208=\"\",\"\",VLOOKUP(L208,Sifranti!A:B,2,FALSE))","v":""},null,{"$f":"IF(N208=\"\",\"\",VLOOKUP(N208,Sifranti!D:F,3,FALSE))","v":""},null,{"$f":"IF(P208=\"\",\"\",VLOOKUP(P208,Sifranti!H:I,2,FALSE))","v":""},null,null,null,null,null,null,null,null,null,null,null,null,null,null,null,null,null,null,null,null,null,null,null,null,null,{"$f":"IF(AN208=\"\",\"\",IF(LEN(VLOOKUP(AN208,Sifranti!BY:BZ,2,FALSE))=0,\"\",VLOOKUP(AN208,Sifranti!BY:BZ,2,FALSE)))","v":""},{"$f":"IF(C208=\"\",\"\",VLOOKUP(C208,Sifranti!P:R,2,FALSE))","v":""},"","",{"$f":"IF(C208=\"\",\"\",VLOOKUP(C208,Sifranti!P:R,3,FALSE))","v":""},{"$f":"IF(N208=\"\",\"\",VLOOKUP(N208,Sifranti!D:F,2,FALSE))","v":""},{"$f":"IF(AK208=\"\",\"\",VLOOKUP(AK208,Sifranti!V:Y,2,FALSE))","v":""},{"$f":"IF(AK208=\"\",\"\",IF(VLOOKUP(AK208,Sifranti!V:Y,3,FALSE)=\"\",\"\",VLOOKUP(AK208,Sifranti!V:Y,3,FALSE)))","v":""},{"$f":"IF(AK208=\"\",\"\",VLOOKUP(AK208,Sifranti!V:Y,4,FALSE))","v":""}]
[{"$f":"IF(B209=\"\",\"\",VLOOKUP(B209,Sifranti!K:L,2,FALSE))","v":""},null,null,null,null,null,null,null,null,"",{"$f":"IF(L209=\"\",\"\",VLOOKUP(L209,Sifranti!A:B,2,FALSE))","v":""},null,{"$f":"IF(N209=\"\",\"\",VLOOKUP(N209,Sifranti!D:F,3,FALSE))","v":""},null,{"$f":"IF(P209=\"\",\"\",VLOOKUP(P209,Sifranti!H:I,2,FALSE))","v":""},null,null,null,null,null,null,null,null,null,null,null,null,null,null,null,null,null,null,null,null,null,null,null,null,null,{"$f":"IF(AN209=\"\",\"\",IF(LEN(VLOOKUP(AN209,Sifranti!BY:BZ,2,FALSE))=0,\"\",VLOOKUP(AN209,Sifranti!BY:BZ,2,FALSE)))","v":""},{"$f":"IF(C209=\"\",\"\",VLOOKUP(C209,Sifranti!P:R,2,FALSE))","v":""},"","",{"$f":"IF(C209=\"\",\"\",VLOOKUP(C209,Sifranti!P:R,3,FALSE))","v":""},{"$f":"IF(N209=\"\",\"\",VLOOKUP(N209,Sifranti!D:F,2,FALSE))","v":""},{"$f":"IF(AK209=\"\",\"\",VLOOKUP(AK209,Sifranti!V:Y,2,FALSE))","v":""},{"$f":"IF(AK209=\"\",\"\",IF(VLOOKUP(AK209,Sifranti!V:Y,3,FALSE)=\"\",\"\",VLOOKUP(AK209,Sifranti!V:Y,3,FALSE)))","v":""},{"$f":"IF(AK209=\"\",\"\",VLOOKUP(AK209,Sifranti!V:Y,4,FALSE))","v":""}]
[{"$f":"IF(B210=\"\",\"\",VLOOKUP(B210,Sifranti!K:L,2,FALSE))","v":""},null,null,null,null,null,null,null,null,"",{"$f":"IF(L210=\"\",\"\",VLOOKUP(L210,Sifranti!A:B,2,FALSE))","v":""},null,{"$f":"IF(N210=\"\",\"\",VLOOKUP(N210,Sifranti!D:F,3,FALSE))","v":""},null,{"$f":"IF(P210=\"\",\"\",VLOOKUP(P210,Sifranti!H:I,2,FALSE))","v":""},null,null,null,null,null,null,null,null,null,null,null,null,null,null,null,null,null,null,null,null,null,null,null,null,null,{"$f":"IF(AN210=\"\",\"\",IF(LEN(VLOOKUP(AN210,Sifranti!BY:BZ,2,FALSE))=0,\"\",VLOOKUP(AN210,Sifranti!BY:BZ,2,FALSE)))","v":""},{"$f":"IF(C210=\"\",\"\",VLOOKUP(C210,Sifranti!P:R,2,FALSE))","v":""},"","",{"$f":"IF(C210=\"\",\"\",VLOOKUP(C210,Sifranti!P:R,3,FALSE))","v":""},{"$f":"IF(N210=\"\",\"\",VLOOKUP(N210,Sifranti!D:F,2,FALSE))","v":""},{"$f":"IF(AK210=\"\",\"\",VLOOKUP(AK210,Sifranti!V:Y,2,FALSE))","v":""},{"$f":"IF(AK210=\"\",\"\",IF(VLOOKUP(AK210,Sifranti!V:Y,3,FALSE)=\"\",\"\",VLOOKUP(AK210,Sifranti!V:Y,3,FALSE)))","v":""},{"$f":"IF(AK210=\"\",\"\",VLOOKUP(AK210,Sifranti!V:Y,4,FALSE))","v":""}]
[{"$f":"IF(B211=\"\",\"\",VLOOKUP(B211,Sifranti!K:L,2,FALSE))","v":""},null,null,null,null,null,null,null,null,"",{"$f":"IF(L211=\"\",\"\",VLOOKUP(L211,Sifranti!A:B,2,FALSE))","v":""},null,{"$f":"IF(N211=\"\",\"\",VLOOKUP(N211,Sifranti!D:F,3,FALSE))","v":""},null,{"$f":"IF(P211=\"\",\"\",VLOOKUP(P211,Sifranti!H:I,2,FALSE))","v":""},null,null,null,null,null,null,null,null,null,null,null,null,null,null,null,null,null,null,null,null,null,null,null,null,null,{"$f":"IF(AN211=\"\",\"\",IF(LEN(VLOOKUP(AN211,Sifranti!BY:BZ,2,FALSE))=0,\"\",VLOOKUP(AN211,Sifranti!BY:BZ,2,FALSE)))","v":""},{"$f":"IF(C211=\"\",\"\",VLOOKUP(C211,Sifranti!P:R,2,FALSE))","v":""},"","",{"$f":"IF(C211=\"\",\"\",VLOOKUP(C211,Sifranti!P:R,3,FALSE))","v":""},{"$f":"IF(N211=\"\",\"\",VLOOKUP(N211,Sifranti!D:F,2,FALSE))","v":""},{"$f":"IF(AK211=\"\",\"\",VLOOKUP(AK211,Sifranti!V:Y,2,FALSE))","v":""},{"$f":"IF(AK211=\"\",\"\",IF(VLOOKUP(AK211,Sifranti!V:Y,3,FALSE)=\"\",\"\",VLOOKUP(AK211,Sifranti!V:Y,3,FALSE)))","v":""},{"$f":"IF(AK211=\"\",\"\",VLOOKUP(AK211,Sifranti!V:Y,4,FALSE))","v":""}]
[{"$f":"IF(B212=\"\",\"\",VLOOKUP(B212,Sifranti!K:L,2,FALSE))","v":""},null,null,null,null,null,null,null,null,"",{"$f":"IF(L212=\"\",\"\",VLOOKUP(L212,Sifranti!A:B,2,FALSE))","v":""},null,{"$f":"IF(N212=\"\",\"\",VLOOKUP(N212,Sifranti!D:F,3,FALSE))","v":""},null,{"$f":"IF(P212=\"\",\"\",VLOOKUP(P212,Sifranti!H:I,2,FALSE))","v":""},null,null,null,null,null,null,null,null,null,null,null,null,null,null,null,null,null,null,null,null,null,null,null,null,null,{"$f":"IF(AN212=\"\",\"\",IF(LEN(VLOOKUP(AN212,Sifranti!BY:BZ,2,FALSE))=0,\"\",VLOOKUP(AN212,Sifranti!BY:BZ,2,FALSE)))","v":""},{"$f":"IF(C212=\"\",\"\",VLOOKUP(C212,Sifranti!P:R,2,FALSE))","v":""},"","",{"$f":"IF(C212=\"\",\"\",VLOOKUP(C212,Sifranti!P:R,3,FALSE))","v":""},{"$f":"IF(N212=\"\",\"\",VLOOKUP(N212,Sifranti!D:F,2,FALSE))","v":""},{"$f":"IF(AK212=\"\",\"\",VLOOKUP(AK212,Sifranti!V:Y,2,FALSE))","v":""},{"$f":"IF(AK212=\"\",\"\",IF(VLOOKUP(AK212,Sifranti!V:Y,3,FALSE)=\"\",\"\",VLOOKUP(AK212,Sifranti!V:Y,3,FALSE)))","v":""},{"$f":"IF(AK212=\"\",\"\",VLOOKUP(AK212,Sifranti!V:Y,4,FALSE))","v":""}]
[{"$f":"IF(B213=\"\",\"\",VLOOKUP(B213,Sifranti!K:L,2,FALSE))","v":""},null,null,null,null,null,null,null,null,"",{"$f":"IF(L213=\"\",\"\",VLOOKUP(L213,Sifranti!A:B,2,FALSE))","v":""},null,{"$f":"IF(N213=\"\",\"\",VLOOKUP(N213,Sifranti!D:F,3,FALSE))","v":""},null,{"$f":"IF(P213=\"\",\"\",VLOOKUP(P213,Sifranti!H:I,2,FALSE))","v":""},null,null,null,null,null,null,null,null,null,null,null,null,null,null,null,null,null,null,null,null,null,null,null,null,null,{"$f":"IF(AN213=\"\",\"\",IF(LEN(VLOOKUP(AN213,Sifranti!BY:BZ,2,FALSE))=0,\"\",VLOOKUP(AN213,Sifranti!BY:BZ,2,FALSE)))","v":""},{"$f":"IF(C213=\"\",\"\",VLOOKUP(C213,Sifranti!P:R,2,FALSE))","v":""},"","",{"$f":"IF(C213=\"\",\"\",VLOOKUP(C213,Sifranti!P:R,3,FALSE))","v":""},{"$f":"IF(N213=\"\",\"\",VLOOKUP(N213,Sifranti!D:F,2,FALSE))","v":""},{"$f":"IF(AK213=\"\",\"\",VLOOKUP(AK213,Sifranti!V:Y,2,FALSE))","v":""},{"$f":"IF(AK213=\"\",\"\",IF(VLOOKUP(AK213,Sifranti!V:Y,3,FALSE)=\"\",\"\",VLOOKUP(AK213,Sifranti!V:Y,3,FALSE)))","v":""},{"$f":"IF(AK213=\"\",\"\",VLOOKUP(AK213,Sifranti!V:Y,4,FALSE))","v":""}]
[{"$f":"IF(B214=\"\",\"\",VLOOKUP(B214,Sifranti!K:L,2,FALSE))","v":""},null,null,null,null,null,null,null,null,"",{"$f":"IF(L214=\"\",\"\",VLOOKUP(L214,Sifranti!A:B,2,FALSE))","v":""},null,{"$f":"IF(N214=\"\",\"\",VLOOKUP(N214,Sifranti!D:F,3,FALSE))","v":""},null,{"$f":"IF(P214=\"\",\"\",VLOOKUP(P214,Sifranti!H:I,2,FALSE))","v":""},null,null,null,null,null,null,null,null,null,null,null,null,null,null,null,null,null,null,null,null,null,null,null,null,null,{"$f":"IF(AN214=\"\",\"\",IF(LEN(VLOOKUP(AN214,Sifranti!BY:BZ,2,FALSE))=0,\"\",VLOOKUP(AN214,Sifranti!BY:BZ,2,FALSE)))","v":""},{"$f":"IF(C214=\"\",\"\",VLOOKUP(C214,Sifranti!P:R,2,FALSE))","v":""},"","",{"$f":"IF(C214=\"\",\"\",VLOOKUP(C214,Sifranti!P:R,3,FALSE))","v":""},{"$f":"IF(N214=\"\",\"\",VLOOKUP(N214,Sifranti!D:F,2,FALSE))","v":""},{"$f":"IF(AK214=\"\",\"\",VLOOKUP(AK214,Sifranti!V:Y,2,FALSE))","v":""},{"$f":"IF(AK214=\"\",\"\",IF(VLOOKUP(AK214,Sifranti!V:Y,3,FALSE)=\"\",\"\",VLOOKUP(AK214,Sifranti!V:Y,3,FALSE)))","v":""},{"$f":"IF(AK214=\"\",\"\",VLOOKUP(AK214,Sifranti!V:Y,4,FALSE))","v":""}]
[{"$f":"IF(B215=\"\",\"\",VLOOKUP(B215,Sifranti!K:L,2,FALSE))","v":""},null,null,null,null,null,null,null,null,"",{"$f":"IF(L215=\"\",\"\",VLOOKUP(L215,Sifranti!A:B,2,FALSE))","v":""},null,{"$f":"IF(N215=\"\",\"\",VLOOKUP(N215,Sifranti!D:F,3,FALSE))","v":""},null,{"$f":"IF(P215=\"\",\"\",VLOOKUP(P215,Sifranti!H:I,2,FALSE))","v":""},null,null,null,null,null,null,null,null,null,null,null,null,null,null,null,null,null,null,null,null,null,null,null,null,null,{"$f":"IF(AN215=\"\",\"\",IF(LEN(VLOOKUP(AN215,Sifranti!BY:BZ,2,FALSE))=0,\"\",VLOOKUP(AN215,Sifranti!BY:BZ,2,FALSE)))","v":""},{"$f":"IF(C215=\"\",\"\",VLOOKUP(C215,Sifranti!P:R,2,FALSE))","v":""},"","",{"$f":"IF(C215=\"\",\"\",VLOOKUP(C215,Sifranti!P:R,3,FALSE))","v":""},{"$f":"IF(N215=\"\",\"\",VLOOKUP(N215,Sifranti!D:F,2,FALSE))","v":""},{"$f":"IF(AK215=\"\",\"\",VLOOKUP(AK215,Sifranti!V:Y,2,FALSE))","v":""},{"$f":"IF(AK215=\"\",\"\",IF(VLOOKUP(AK215,Sifranti!V:Y,3,FALSE)=\"\",\"\",VLOOKUP(AK215,Sifranti!V:Y,3,FALSE)))","v":""},{"$f":"IF(AK215=\"\",\"\",VLOOKUP(AK215,Sifranti!V:Y,4,FALSE))","v":""}]
[{"$f":"IF(B216=\"\",\"\",VLOOKUP(B216,Sifranti!K:L,2,FALSE))","v":""},null,null,null,null,null,null,null,null,"",{"$f":"IF(L216=\"\",\"\",VLOOKUP(L216,Sifranti!A:B,2,FALSE))","v":""},null,{"$f":"IF(N216=\"\",\"\",VLOOKUP(N216,Sifranti!D:F,3,FALSE))","v":""},null,{"$f":"IF(P216=\"\",\"\",VLOOKUP(P216,Sifranti!H:I,2,FALSE))","v":""},null,null,null,null,null,null,null,null,null,null,null,null,null,null,null,null,null,null,null,null,null,null,null,null,null,{"$f":"IF(AN216=\"\",\"\",IF(LEN(VLOOKUP(AN216,Sifranti!BY:BZ,2,FALSE))=0,\"\",VLOOKUP(AN216,Sifranti!BY:BZ,2,FALSE)))","v":""},{"$f":"IF(C216=\"\",\"\",VLOOKUP(C216,Sifranti!P:R,2,FALSE))","v":""},"","",{"$f":"IF(C216=\"\",\"\",VLOOKUP(C216,Sifranti!P:R,3,FALSE))","v":""},{"$f":"IF(N216=\"\",\"\",VLOOKUP(N216,Sifranti!D:F,2,FALSE))","v":""},{"$f":"IF(AK216=\"\",\"\",VLOOKUP(AK216,Sifranti!V:Y,2,FALSE))","v":""},{"$f":"IF(AK216=\"\",\"\",IF(VLOOKUP(AK216,Sifranti!V:Y,3,FALSE)=\"\",\"\",VLOOKUP(AK216,Sifranti!V:Y,3,FALSE)))","v":""},{"$f":"IF(AK216=\"\",\"\",VLOOKUP(AK216,Sifranti!V:Y,4,FALSE))","v":""}]
[{"$f":"IF(B217=\"\",\"\",VLOOKUP(B217,Sifranti!K:L,2,FALSE))","v":""},null,null,null,null,null,null,null,null,"",{"$f":"IF(L217=\"\",\"\",VLOOKUP(L217,Sifranti!A:B,2,FALSE))","v":""},null,{"$f":"IF(N217=\"\",\"\",VLOOKUP(N217,Sifranti!D:F,3,FALSE))","v":""},null,{"$f":"IF(P217=\"\",\"\",VLOOKUP(P217,Sifranti!H:I,2,FALSE))","v":""},null,null,null,null,null,null,null,null,null,null,null,null,null,null,null,null,null,null,null,null,null,null,null,null,null,{"$f":"IF(AN217=\"\",\"\",IF(LEN(VLOOKUP(AN217,Sifranti!BY:BZ,2,FALSE))=0,\"\",VLOOKUP(AN217,Sifranti!BY:BZ,2,FALSE)))","v":""},{"$f":"IF(C217=\"\",\"\",VLOOKUP(C217,Sifranti!P:R,2,FALSE))","v":""},"","",{"$f":"IF(C217=\"\",\"\",VLOOKUP(C217,Sifranti!P:R,3,FALSE))","v":""},{"$f":"IF(N217=\"\",\"\",VLOOKUP(N217,Sifranti!D:F,2,FALSE))","v":""},{"$f":"IF(AK217=\"\",\"\",VLOOKUP(AK217,Sifranti!V:Y,2,FALSE))","v":""},{"$f":"IF(AK217=\"\",\"\",IF(VLOOKUP(AK217,Sifranti!V:Y,3,FALSE)=\"\",\"\",VLOOKUP(AK217,Sifranti!V:Y,3,FALSE)))","v":""},{"$f":"IF(AK217=\"\",\"\",VLOOKUP(AK217,Sifranti!V:Y,4,FALSE))","v":""}]
[{"$f":"IF(B218=\"\",\"\",VLOOKUP(B218,Sifranti!K:L,2,FALSE))","v":""},null,null,null,null,null,null,null,null,"",{"$f":"IF(L218=\"\",\"\",VLOOKUP(L218,Sifranti!A:B,2,FALSE))","v":""},null,{"$f":"IF(N218=\"\",\"\",VLOOKUP(N218,Sifranti!D:F,3,FALSE))","v":""},null,{"$f":"IF(P218=\"\",\"\",VLOOKUP(P218,Sifranti!H:I,2,FALSE))","v":""},null,null,null,null,null,null,null,null,null,null,null,null,null,null,null,null,null,null,null,null,null,null,null,null,null,{"$f":"IF(AN218=\"\",\"\",IF(LEN(VLOOKUP(AN218,Sifranti!BY:BZ,2,FALSE))=0,\"\",VLOOKUP(AN218,Sifranti!BY:BZ,2,FALSE)))","v":""},{"$f":"IF(C218=\"\",\"\",VLOOKUP(C218,Sifranti!P:R,2,FALSE))","v":""},"","",{"$f":"IF(C218=\"\",\"\",VLOOKUP(C218,Sifranti!P:R,3,FALSE))","v":""},{"$f":"IF(N218=\"\",\"\",VLOOKUP(N218,Sifranti!D:F,2,FALSE))","v":""},{"$f":"IF(AK218=\"\",\"\",VLOOKUP(AK218,Sifranti!V:Y,2,FALSE))","v":""},{"$f":"IF(AK218=\"\",\"\",IF(VLOOKUP(AK218,Sifranti!V:Y,3,FALSE)=\"\",\"\",VLOOKUP(AK218,Sifranti!V:Y,3,FALSE)))","v":""},{"$f":"IF(AK218=\"\",\"\",VLOOKUP(AK218,Sifranti!V:Y,4,FALSE))","v":""}]
[{"$f":"IF(B219=\"\",\"\",VLOOKUP(B219,Sifranti!K:L,2,FALSE))","v":""},null,null,null,null,null,null,null,null,"",{"$f":"IF(L219=\"\",\"\",VLOOKUP(L219,Sifranti!A:B,2,FALSE))","v":""},null,{"$f":"IF(N219=\"\",\"\",VLOOKUP(N219,Sifranti!D:F,3,FALSE))","v":""},null,{"$f":"IF(P219=\"\",\"\",VLOOKUP(P219,Sifranti!H:I,2,FALSE))","v":""},null,null,null,null,null,null,null,null,null,null,null,null,null,null,null,null,null,null,null,null,null,null,null,null,null,{"$f":"IF(AN219=\"\",\"\",IF(LEN(VLOOKUP(AN219,Sifranti!BY:BZ,2,FALSE))=0,\"\",VLOOKUP(AN219,Sifranti!BY:BZ,2,FALSE)))","v":""},{"$f":"IF(C219=\"\",\"\",VLOOKUP(C219,Sifranti!P:R,2,FALSE))","v":""},"","",{"$f":"IF(C219=\"\",\"\",VLOOKUP(C219,Sifranti!P:R,3,FALSE))","v":""},{"$f":"IF(N219=\"\",\"\",VLOOKUP(N219,Sifranti!D:F,2,FALSE))","v":""},{"$f":"IF(AK219=\"\",\"\",VLOOKUP(AK219,Sifranti!V:Y,2,FALSE))","v":""},{"$f":"IF(AK219=\"\",\"\",IF(VLOOKUP(AK219,Sifranti!V:Y,3,FALSE)=\"\",\"\",VLOOKUP(AK219,Sifranti!V:Y,3,FALSE)))","v":""},{"$f":"IF(AK219=\"\",\"\",VLOOKUP(AK219,Sifranti!V:Y,4,FALSE))","v":""}]
[{"$f":"IF(B220=\"\",\"\",VLOOKUP(B220,Sifranti!K:L,2,FALSE))","v":""},null,null,null,null,null,null,null,null,"",{"$f":"IF(L220=\"\",\"\",VLOOKUP(L220,Sifranti!A:B,2,FALSE))","v":""},null,{"$f":"IF(N220=\"\",\"\",VLOOKUP(N220,Sifranti!D:F,3,FALSE))","v":""},null,{"$f":"IF(P220=\"\",\"\",VLOOKUP(P220,Sifranti!H:I,2,FALSE))","v":""},null,null,null,null,null,null,null,null,null,null,null,null,null,null,null,null,null,null,null,null,null,null,null,null,null,{"$f":"IF(AN220=\"\",\"\",IF(LEN(VLOOKUP(AN220,Sifranti!BY:BZ,2,FALSE))=0,\"\",VLOOKUP(AN220,Sifranti!BY:BZ,2,FALSE)))","v":""},{"$f":"IF(C220=\"\",\"\",VLOOKUP(C220,Sifranti!P:R,2,FALSE))","v":""},"","",{"$f":"IF(C220=\"\",\"\",VLOOKUP(C220,Sifranti!P:R,3,FALSE))","v":""},{"$f":"IF(N220=\"\",\"\",VLOOKUP(N220,Sifranti!D:F,2,FALSE))","v":""},{"$f":"IF(AK220=\"\",\"\",VLOOKUP(AK220,Sifranti!V:Y,2,FALSE))","v":""},{"$f":"IF(AK220=\"\",\"\",IF(VLOOKUP(AK220,Sifranti!V:Y,3,FALSE)=\"\",\"\",VLOOKUP(AK220,Sifranti!V:Y,3,FALSE)))","v":""},{"$f":"IF(AK220=\"\",\"\",VLOOKUP(AK220,Sifranti!V:Y,4,FALSE))","v":""}]
[{"$f":"IF(B221=\"\",\"\",VLOOKUP(B221,Sifranti!K:L,2,FALSE))","v":""},null,null,null,null,null,null,null,null,"",{"$f":"IF(L221=\"\",\"\",VLOOKUP(L221,Sifranti!A:B,2,FALSE))","v":""},null,{"$f":"IF(N221=\"\",\"\",VLOOKUP(N221,Sifranti!D:F,3,FALSE))","v":""},null,{"$f":"IF(P221=\"\",\"\",VLOOKUP(P221,Sifranti!H:I,2,FALSE))","v":""},null,null,null,null,null,null,null,null,null,null,null,null,null,null,null,null,null,null,null,null,null,null,null,null,null,{"$f":"IF(AN221=\"\",\"\",IF(LEN(VLOOKUP(AN221,Sifranti!BY:BZ,2,FALSE))=0,\"\",VLOOKUP(AN221,Sifranti!BY:BZ,2,FALSE)))","v":""},{"$f":"IF(C221=\"\",\"\",VLOOKUP(C221,Sifranti!P:R,2,FALSE))","v":""},"","",{"$f":"IF(C221=\"\",\"\",VLOOKUP(C221,Sifranti!P:R,3,FALSE))","v":""},{"$f":"IF(N221=\"\",\"\",VLOOKUP(N221,Sifranti!D:F,2,FALSE))","v":""},{"$f":"IF(AK221=\"\",\"\",VLOOKUP(AK221,Sifranti!V:Y,2,FALSE))","v":""},{"$f":"IF(AK221=\"\",\"\",IF(VLOOKUP(AK221,Sifranti!V:Y,3,FALSE)=\"\",\"\",VLOOKUP(AK221,Sifranti!V:Y,3,FALSE)))","v":""},{"$f":"IF(AK221=\"\",\"\",VLOOKUP(AK221,Sifranti!V:Y,4,FALSE))","v":""}]
[{"$f":"IF(B222=\"\",\"\",VLOOKUP(B222,Sifranti!K:L,2,FALSE))","v":""},null,null,null,null,null,null,null,null,"",{"$f":"IF(L222=\"\",\"\",VLOOKUP(L222,Sifranti!A:B,2,FALSE))","v":""},null,{"$f":"IF(N222=\"\",\"\",VLOOKUP(N222,Sifranti!D:F,3,FALSE))","v":""},null,{"$f":"IF(P222=\"\",\"\",VLOOKUP(P222,Sifranti!H:I,2,FALSE))","v":""},null,null,null,null,null,null,null,null,null,null,null,null,null,null,null,null,null,null,null,null,null,null,null,null,null,{"$f":"IF(AN222=\"\",\"\",IF(LEN(VLOOKUP(AN222,Sifranti!BY:BZ,2,FALSE))=0,\"\",VLOOKUP(AN222,Sifranti!BY:BZ,2,FALSE)))","v":""},{"$f":"IF(C222=\"\",\"\",VLOOKUP(C222,Sifranti!P:R,2,FALSE))","v":""},"","",{"$f":"IF(C222=\"\",\"\",VLOOKUP(C222,Sifranti!P:R,3,FALSE))","v":""},{"$f":"IF(N222=\"\",\"\",VLOOKUP(N222,Sifranti!D:F,2,FALSE))","v":""},{"$f":"IF(AK222=\"\",\"\",VLOOKUP(AK222,Sifranti!V:Y,2,FALSE))","v":""},{"$f":"IF(AK222=\"\",\"\",IF(VLOOKUP(AK222,Sifranti!V:Y,3,FALSE)=\"\",\"\",VLOOKUP(AK222,Sifranti!V:Y,3,FALSE)))","v":""},{"$f":"IF(AK222=\"\",\"\",VLOOKUP(AK222,Sifranti!V:Y,4,FALSE))","v":""}]
[{"$f":"IF(B223=\"\",\"\",VLOOKUP(B223,Sifranti!K:L,2,FALSE))","v":""},null,null,null,null,null,null,null,null,"",{"$f":"IF(L223=\"\",\"\",VLOOKUP(L223,Sifranti!A:B,2,FALSE))","v":""},null,{"$f":"IF(N223=\"\",\"\",VLOOKUP(N223,Sifranti!D:F,3,FALSE))","v":""},null,{"$f":"IF(P223=\"\",\"\",VLOOKUP(P223,Sifranti!H:I,2,FALSE))","v":""},null,null,null,null,null,null,null,null,null,null,null,null,null,null,null,null,null,null,null,null,null,null,null,null,null,{"$f":"IF(AN223=\"\",\"\",IF(LEN(VLOOKUP(AN223,Sifranti!BY:BZ,2,FALSE))=0,\"\",VLOOKUP(AN223,Sifranti!BY:BZ,2,FALSE)))","v":""},{"$f":"IF(C223=\"\",\"\",VLOOKUP(C223,Sifranti!P:R,2,FALSE))","v":""},"","",{"$f":"IF(C223=\"\",\"\",VLOOKUP(C223,Sifranti!P:R,3,FALSE))","v":""},{"$f":"IF(N223=\"\",\"\",VLOOKUP(N223,Sifranti!D:F,2,FALSE))","v":""},{"$f":"IF(AK223=\"\",\"\",VLOOKUP(AK223,Sifranti!V:Y,2,FALSE))","v":""},{"$f":"IF(AK223=\"\",\"\",IF(VLOOKUP(AK223,Sifranti!V:Y,3,FALSE)=\"\",\"\",VLOOKUP(AK223,Sifranti!V:Y,3,FALSE)))","v":""},{"$f":"IF(AK223=\"\",\"\",VLOOKUP(AK223,Sifranti!V:Y,4,FALSE))","v":""}]
[{"$f":"IF(B224=\"\",\"\",VLOOKUP(B224,Sifranti!K:L,2,FALSE))","v":""},null,null,null,null,null,null,null,null,"",{"$f":"IF(L224=\"\",\"\",VLOOKUP(L224,Sifranti!A:B,2,FALSE))","v":""},null,{"$f":"IF(N224=\"\",\"\",VLOOKUP(N224,Sifranti!D:F,3,FALSE))","v":""},null,{"$f":"IF(P224=\"\",\"\",VLOOKUP(P224,Sifranti!H:I,2,FALSE))","v":""},null,null,null,null,null,null,null,null,null,null,null,null,null,null,null,null,null,null,null,null,null,null,null,null,null,{"$f":"IF(AN224=\"\",\"\",IF(LEN(VLOOKUP(AN224,Sifranti!BY:BZ,2,FALSE))=0,\"\",VLOOKUP(AN224,Sifranti!BY:BZ,2,FALSE)))","v":""},{"$f":"IF(C224=\"\",\"\",VLOOKUP(C224,Sifranti!P:R,2,FALSE))","v":""},"","",{"$f":"IF(C224=\"\",\"\",VLOOKUP(C224,Sifranti!P:R,3,FALSE))","v":""},{"$f":"IF(N224=\"\",\"\",VLOOKUP(N224,Sifranti!D:F,2,FALSE))","v":""},{"$f":"IF(AK224=\"\",\"\",VLOOKUP(AK224,Sifranti!V:Y,2,FALSE))","v":""},{"$f":"IF(AK224=\"\",\"\",IF(VLOOKUP(AK224,Sifranti!V:Y,3,FALSE)=\"\",\"\",VLOOKUP(AK224,Sifranti!V:Y,3,FALSE)))","v":""},{"$f":"IF(AK224=\"\",\"\",VLOOKUP(AK224,Sifranti!V:Y,4,FALSE))","v":""}]
[{"$f":"IF(B225=\"\",\"\",VLOOKUP(B225,Sifranti!K:L,2,FALSE))","v":""},null,null,null,null,null,null,null,null,"",{"$f":"IF(L225=\"\",\"\",VLOOKUP(L225,Sifranti!A:B,2,FALSE))","v":""},null,{"$f":"IF(N225=\"\",\"\",VLOOKUP(N225,Sifranti!D:F,3,FALSE))","v":""},null,{"$f":"IF(P225=\"\",\"\",VLOOKUP(P225,Sifranti!H:I,2,FALSE))","v":""},null,null,null,null,null,null,null,null,null,null,null,null,null,null,null,null,null,null,null,null,null,null,null,null,null,{"$f":"IF(AN225=\"\",\"\",IF(LEN(VLOOKUP(AN225,Sifranti!BY:BZ,2,FALSE))=0,\"\",VLOOKUP(AN225,Sifranti!BY:BZ,2,FALSE)))","v":""},{"$f":"IF(C225=\"\",\"\",VLOOKUP(C225,Sifranti!P:R,2,FALSE))","v":""},"","",{"$f":"IF(C225=\"\",\"\",VLOOKUP(C225,Sifranti!P:R,3,FALSE))","v":""},{"$f":"IF(N225=\"\",\"\",VLOOKUP(N225,Sifranti!D:F,2,FALSE))","v":""},{"$f":"IF(AK225=\"\",\"\",VLOOKUP(AK225,Sifranti!V:Y,2,FALSE))","v":""},{"$f":"IF(AK225=\"\",\"\",IF(VLOOKUP(AK225,Sifranti!V:Y,3,FALSE)=\"\",\"\",VLOOKUP(AK225,Sifranti!V:Y,3,FALSE)))","v":""},{"$f":"IF(AK225=\"\",\"\",VLOOKUP(AK225,Sifranti!V:Y,4,FALSE))","v":""}]
[{"$f":"IF(B226=\"\",\"\",VLOOKUP(B226,Sifranti!K:L,2,FALSE))","v":""},null,null,null,null,null,null,null,null,"",{"$f":"IF(L226=\"\",\"\",VLOOKUP(L226,Sifranti!A:B,2,FALSE))","v":""},null,{"$f":"IF(N226=\"\",\"\",VLOOKUP(N226,Sifranti!D:F,3,FALSE))","v":""},null,{"$f":"IF(P226=\"\",\"\",VLOOKUP(P226,Sifranti!H:I,2,FALSE))","v":""},null,null,null,null,null,null,null,null,null,null,null,null,null,null,null,null,null,null,null,null,null,null,null,null,null,{"$f":"IF(AN226=\"\",\"\",IF(LEN(VLOOKUP(AN226,Sifranti!BY:BZ,2,FALSE))=0,\"\",VLOOKUP(AN226,Sifranti!BY:BZ,2,FALSE)))","v":""},{"$f":"IF(C226=\"\",\"\",VLOOKUP(C226,Sifranti!P:R,2,FALSE))","v":""},"","",{"$f":"IF(C226=\"\",\"\",VLOOKUP(C226,Sifranti!P:R,3,FALSE))","v":""},{"$f":"IF(N226=\"\",\"\",VLOOKUP(N226,Sifranti!D:F,2,FALSE))","v":""},{"$f":"IF(AK226=\"\",\"\",VLOOKUP(AK226,Sifranti!V:Y,2,FALSE))","v":""},{"$f":"IF(AK226=\"\",\"\",IF(VLOOKUP(AK226,Sifranti!V:Y,3,FALSE)=\"\",\"\",VLOOKUP(AK226,Sifranti!V:Y,3,FALSE)))","v":""},{"$f":"IF(AK226=\"\",\"\",VLOOKUP(AK226,Sifranti!V:Y,4,FALSE))","v":""}]
[{"$f":"IF(B227=\"\",\"\",VLOOKUP(B227,Sifranti!K:L,2,FALSE))","v":""},null,null,null,null,null,null,null,null,"",{"$f":"IF(L227=\"\",\"\",VLOOKUP(L227,Sifranti!A:B,2,FALSE))","v":""},null,{"$f":"IF(N227=\"\",\"\",VLOOKUP(N227,Sifranti!D:F,3,FALSE))","v":""},null,{"$f":"IF(P227=\"\",\"\",VLOOKUP(P227,Sifranti!H:I,2,FALSE))","v":""},null,null,null,null,null,null,null,null,null,null,null,null,null,null,null,null,null,null,null,null,null,null,null,null,null,{"$f":"IF(AN227=\"\",\"\",IF(LEN(VLOOKUP(AN227,Sifranti!BY:BZ,2,FALSE))=0,\"\",VLOOKUP(AN227,Sifranti!BY:BZ,2,FALSE)))","v":""},{"$f":"IF(C227=\"\",\"\",VLOOKUP(C227,Sifranti!P:R,2,FALSE))","v":""},"","",{"$f":"IF(C227=\"\",\"\",VLOOKUP(C227,Sifranti!P:R,3,FALSE))","v":""},{"$f":"IF(N227=\"\",\"\",VLOOKUP(N227,Sifranti!D:F,2,FALSE))","v":""},{"$f":"IF(AK227=\"\",\"\",VLOOKUP(AK227,Sifranti!V:Y,2,FALSE))","v":""},{"$f":"IF(AK227=\"\",\"\",IF(VLOOKUP(AK227,Sifranti!V:Y,3,FALSE)=\"\",\"\",VLOOKUP(AK227,Sifranti!V:Y,3,FALSE)))","v":""},{"$f":"IF(AK227=\"\",\"\",VLOOKUP(AK227,Sifranti!V:Y,4,FALSE))","v":""}]
[{"$f":"IF(B228=\"\",\"\",VLOOKUP(B228,Sifranti!K:L,2,FALSE))","v":""},null,null,null,null,null,null,null,null,"",{"$f":"IF(L228=\"\",\"\",VLOOKUP(L228,Sifranti!A:B,2,FALSE))","v":""},null,{"$f":"IF(N228=\"\",\"\",VLOOKUP(N228,Sifranti!D:F,3,FALSE))","v":""},null,{"$f":"IF(P228=\"\",\"\",VLOOKUP(P228,Sifranti!H:I,2,FALSE))","v":""},null,null,null,null,null,null,null,null,null,null,null,null,null,null,null,null,null,null,null,null,null,null,null,null,null,{"$f":"IF(AN228=\"\",\"\",IF(LEN(VLOOKUP(AN228,Sifranti!BY:BZ,2,FALSE))=0,\"\",VLOOKUP(AN228,Sifranti!BY:BZ,2,FALSE)))","v":""},{"$f":"IF(C228=\"\",\"\",VLOOKUP(C228,Sifranti!P:R,2,FALSE))","v":""},"","",{"$f":"IF(C228=\"\",\"\",VLOOKUP(C228,Sifranti!P:R,3,FALSE))","v":""},{"$f":"IF(N228=\"\",\"\",VLOOKUP(N228,Sifranti!D:F,2,FALSE))","v":""},{"$f":"IF(AK228=\"\",\"\",VLOOKUP(AK228,Sifranti!V:Y,2,FALSE))","v":""},{"$f":"IF(AK228=\"\",\"\",IF(VLOOKUP(AK228,Sifranti!V:Y,3,FALSE)=\"\",\"\",VLOOKUP(AK228,Sifranti!V:Y,3,FALSE)))","v":""},{"$f":"IF(AK228=\"\",\"\",VLOOKUP(AK228,Sifranti!V:Y,4,FALSE))","v":""}]
[{"$f":"IF(B229=\"\",\"\",VLOOKUP(B229,Sifranti!K:L,2,FALSE))","v":""},null,null,null,null,null,null,null,null,"",{"$f":"IF(L229=\"\",\"\",VLOOKUP(L229,Sifranti!A:B,2,FALSE))","v":""},null,{"$f":"IF(N229=\"\",\"\",VLOOKUP(N229,Sifranti!D:F,3,FALSE))","v":""},null,{"$f":"IF(P229=\"\",\"\",VLOOKUP(P229,Sifranti!H:I,2,FALSE))","v":""},null,null,null,null,null,null,null,null,null,null,null,null,null,null,null,null,null,null,null,null,null,null,null,null,null,{"$f":"IF(AN229=\"\",\"\",IF(LEN(VLOOKUP(AN229,Sifranti!BY:BZ,2,FALSE))=0,\"\",VLOOKUP(AN229,Sifranti!BY:BZ,2,FALSE)))","v":""},{"$f":"IF(C229=\"\",\"\",VLOOKUP(C229,Sifranti!P:R,2,FALSE))","v":""},"","",{"$f":"IF(C229=\"\",\"\",VLOOKUP(C229,Sifranti!P:R,3,FALSE))","v":""},{"$f":"IF(N229=\"\",\"\",VLOOKUP(N229,Sifranti!D:F,2,FALSE))","v":""},{"$f":"IF(AK229=\"\",\"\",VLOOKUP(AK229,Sifranti!V:Y,2,FALSE))","v":""},{"$f":"IF(AK229=\"\",\"\",IF(VLOOKUP(AK229,Sifranti!V:Y,3,FALSE)=\"\",\"\",VLOOKUP(AK229,Sifranti!V:Y,3,FALSE)))","v":""},{"$f":"IF(AK229=\"\",\"\",VLOOKUP(AK229,Sifranti!V:Y,4,FALSE))","v":""}]
[{"$f":"IF(B230=\"\",\"\",VLOOKUP(B230,Sifranti!K:L,2,FALSE))","v":""},null,null,null,null,null,null,null,null,"",{"$f":"IF(L230=\"\",\"\",VLOOKUP(L230,Sifranti!A:B,2,FALSE))","v":""},null,{"$f":"IF(N230=\"\",\"\",VLOOKUP(N230,Sifranti!D:F,3,FALSE))","v":""},null,{"$f":"IF(P230=\"\",\"\",VLOOKUP(P230,Sifranti!H:I,2,FALSE))","v":""},null,null,null,null,null,null,null,null,null,null,null,null,null,null,null,null,null,null,null,null,null,null,null,null,null,{"$f":"IF(AN230=\"\",\"\",IF(LEN(VLOOKUP(AN230,Sifranti!BY:BZ,2,FALSE))=0,\"\",VLOOKUP(AN230,Sifranti!BY:BZ,2,FALSE)))","v":""},{"$f":"IF(C230=\"\",\"\",VLOOKUP(C230,Sifranti!P:R,2,FALSE))","v":""},"","",{"$f":"IF(C230=\"\",\"\",VLOOKUP(C230,Sifranti!P:R,3,FALSE))","v":""},{"$f":"IF(N230=\"\",\"\",VLOOKUP(N230,Sifranti!D:F,2,FALSE))","v":""},{"$f":"IF(AK230=\"\",\"\",VLOOKUP(AK230,Sifranti!V:Y,2,FALSE))","v":""},{"$f":"IF(AK230=\"\",\"\",IF(VLOOKUP(AK230,Sifranti!V:Y,3,FALSE)=\"\",\"\",VLOOKUP(AK230,Sifranti!V:Y,3,FALSE)))","v":""},{"$f":"IF(AK230=\"\",\"\",VLOOKUP(AK230,Sifranti!V:Y,4,FALSE))","v":""}]
[{"$f":"IF(B231=\"\",\"\",VLOOKUP(B231,Sifranti!K:L,2,FALSE))","v":""},null,null,null,null,null,null,null,null,"",{"$f":"IF(L231=\"\",\"\",VLOOKUP(L231,Sifranti!A:B,2,FALSE))","v":""},null,{"$f":"IF(N231=\"\",\"\",VLOOKUP(N231,Sifranti!D:F,3,FALSE))","v":""},null,{"$f":"IF(P231=\"\",\"\",VLOOKUP(P231,Sifranti!H:I,2,FALSE))","v":""},null,null,null,null,null,null,null,null,null,null,null,null,null,null,null,null,null,null,null,null,null,null,null,null,null,{"$f":"IF(AN231=\"\",\"\",IF(LEN(VLOOKUP(AN231,Sifranti!BY:BZ,2,FALSE))=0,\"\",VLOOKUP(AN231,Sifranti!BY:BZ,2,FALSE)))","v":""},{"$f":"IF(C231=\"\",\"\",VLOOKUP(C231,Sifranti!P:R,2,FALSE))","v":""},"","",{"$f":"IF(C231=\"\",\"\",VLOOKUP(C231,Sifranti!P:R,3,FALSE))","v":""},{"$f":"IF(N231=\"\",\"\",VLOOKUP(N231,Sifranti!D:F,2,FALSE))","v":""},{"$f":"IF(AK231=\"\",\"\",VLOOKUP(AK231,Sifranti!V:Y,2,FALSE))","v":""},{"$f":"IF(AK231=\"\",\"\",IF(VLOOKUP(AK231,Sifranti!V:Y,3,FALSE)=\"\",\"\",VLOOKUP(AK231,Sifranti!V:Y,3,FALSE)))","v":""},{"$f":"IF(AK231=\"\",\"\",VLOOKUP(AK231,Sifranti!V:Y,4,FALSE))","v":""}]
[{"$f":"IF(B232=\"\",\"\",VLOOKUP(B232,Sifranti!K:L,2,FALSE))","v":""},null,null,null,null,null,null,null,null,"",{"$f":"IF(L232=\"\",\"\",VLOOKUP(L232,Sifranti!A:B,2,FALSE))","v":""},null,{"$f":"IF(N232=\"\",\"\",VLOOKUP(N232,Sifranti!D:F,3,FALSE))","v":""},null,{"$f":"IF(P232=\"\",\"\",VLOOKUP(P232,Sifranti!H:I,2,FALSE))","v":""},null,null,null,null,null,null,null,null,null,null,null,null,null,null,null,null,null,null,null,null,null,null,null,null,null,{"$f":"IF(AN232=\"\",\"\",IF(LEN(VLOOKUP(AN232,Sifranti!BY:BZ,2,FALSE))=0,\"\",VLOOKUP(AN232,Sifranti!BY:BZ,2,FALSE)))","v":""},{"$f":"IF(C232=\"\",\"\",VLOOKUP(C232,Sifranti!P:R,2,FALSE))","v":""},"","",{"$f":"IF(C232=\"\",\"\",VLOOKUP(C232,Sifranti!P:R,3,FALSE))","v":""},{"$f":"IF(N232=\"\",\"\",VLOOKUP(N232,Sifranti!D:F,2,FALSE))","v":""},{"$f":"IF(AK232=\"\",\"\",VLOOKUP(AK232,Sifranti!V:Y,2,FALSE))","v":""},{"$f":"IF(AK232=\"\",\"\",IF(VLOOKUP(AK232,Sifranti!V:Y,3,FALSE)=\"\",\"\",VLOOKUP(AK232,Sifranti!V:Y,3,FALSE)))","v":""},{"$f":"IF(AK232=\"\",\"\",VLOOKUP(AK232,Sifranti!V:Y,4,FALSE))","v":""}]
[{"$f":"IF(B233=\"\",\"\",VLOOKUP(B233,Sifranti!K:L,2,FALSE))","v":""},null,null,null,null,null,null,null,null,"",{"$f":"IF(L233=\"\",\"\",VLOOKUP(L233,Sifranti!A:B,2,FALSE))","v":""},null,{"$f":"IF(N233=\"\",\"\",VLOOKUP(N233,Sifranti!D:F,3,FALSE))","v":""},null,{"$f":"IF(P233=\"\",\"\",VLOOKUP(P233,Sifranti!H:I,2,FALSE))","v":""},null,null,null,null,null,null,null,null,null,null,null,null,null,null,null,null,null,null,null,null,null,null,null,null,null,{"$f":"IF(AN233=\"\",\"\",IF(LEN(VLOOKUP(AN233,Sifranti!BY:BZ,2,FALSE))=0,\"\",VLOOKUP(AN233,Sifranti!BY:BZ,2,FALSE)))","v":""},{"$f":"IF(C233=\"\",\"\",VLOOKUP(C233,Sifranti!P:R,2,FALSE))","v":""},"","",{"$f":"IF(C233=\"\",\"\",VLOOKUP(C233,Sifranti!P:R,3,FALSE))","v":""},{"$f":"IF(N233=\"\",\"\",VLOOKUP(N233,Sifranti!D:F,2,FALSE))","v":""},{"$f":"IF(AK233=\"\",\"\",VLOOKUP(AK233,Sifranti!V:Y,2,FALSE))","v":""},{"$f":"IF(AK233=\"\",\"\",IF(VLOOKUP(AK233,Sifranti!V:Y,3,FALSE)=\"\",\"\",VLOOKUP(AK233,Sifranti!V:Y,3,FALSE)))","v":""},{"$f":"IF(AK233=\"\",\"\",VLOOKUP(AK233,Sifranti!V:Y,4,FALSE))","v":""}]
[{"$f":"IF(B234=\"\",\"\",VLOOKUP(B234,Sifranti!K:L,2,FALSE))","v":""},null,null,null,null,null,null,null,null,"",{"$f":"IF(L234=\"\",\"\",VLOOKUP(L234,Sifranti!A:B,2,FALSE))","v":""},null,{"$f":"IF(N234=\"\",\"\",VLOOKUP(N234,Sifranti!D:F,3,FALSE))","v":""},null,{"$f":"IF(P234=\"\",\"\",VLOOKUP(P234,Sifranti!H:I,2,FALSE))","v":""},null,null,null,null,null,null,null,null,null,null,null,null,null,null,null,null,null,null,null,null,null,null,null,null,null,{"$f":"IF(AN234=\"\",\"\",IF(LEN(VLOOKUP(AN234,Sifranti!BY:BZ,2,FALSE))=0,\"\",VLOOKUP(AN234,Sifranti!BY:BZ,2,FALSE)))","v":""},{"$f":"IF(C234=\"\",\"\",VLOOKUP(C234,Sifranti!P:R,2,FALSE))","v":""},"","",{"$f":"IF(C234=\"\",\"\",VLOOKUP(C234,Sifranti!P:R,3,FALSE))","v":""},{"$f":"IF(N234=\"\",\"\",VLOOKUP(N234,Sifranti!D:F,2,FALSE))","v":""},{"$f":"IF(AK234=\"\",\"\",VLOOKUP(AK234,Sifranti!V:Y,2,FALSE))","v":""},{"$f":"IF(AK234=\"\",\"\",IF(VLOOKUP(AK234,Sifranti!V:Y,3,FALSE)=\"\",\"\",VLOOKUP(AK234,Sifranti!V:Y,3,FALSE)))","v":""},{"$f":"IF(AK234=\"\",\"\",VLOOKUP(AK234,Sifranti!V:Y,4,FALSE))","v":""}]
[{"$f":"IF(B235=\"\",\"\",VLOOKUP(B235,Sifranti!K:L,2,FALSE))","v":""},null,null,null,null,null,null,null,null,"",{"$f":"IF(L235=\"\",\"\",VLOOKUP(L235,Sifranti!A:B,2,FALSE))","v":""},null,{"$f":"IF(N235=\"\",\"\",VLOOKUP(N235,Sifranti!D:F,3,FALSE))","v":""},null,{"$f":"IF(P235=\"\",\"\",VLOOKUP(P235,Sifranti!H:I,2,FALSE))","v":""},null,null,null,null,null,null,null,null,null,null,null,null,null,null,null,null,null,null,null,null,null,null,null,null,null,{"$f":"IF(AN235=\"\",\"\",IF(LEN(VLOOKUP(AN235,Sifranti!BY:BZ,2,FALSE))=0,\"\",VLOOKUP(AN235,Sifranti!BY:BZ,2,FALSE)))","v":""},{"$f":"IF(C235=\"\",\"\",VLOOKUP(C235,Sifranti!P:R,2,FALSE))","v":""},"","",{"$f":"IF(C235=\"\",\"\",VLOOKUP(C235,Sifranti!P:R,3,FALSE))","v":""},{"$f":"IF(N235=\"\",\"\",VLOOKUP(N235,Sifranti!D:F,2,FALSE))","v":""},{"$f":"IF(AK235=\"\",\"\",VLOOKUP(AK235,Sifranti!V:Y,2,FALSE))","v":""},{"$f":"IF(AK235=\"\",\"\",IF(VLOOKUP(AK235,Sifranti!V:Y,3,FALSE)=\"\",\"\",VLOOKUP(AK235,Sifranti!V:Y,3,FALSE)))","v":""},{"$f":"IF(AK235=\"\",\"\",VLOOKUP(AK235,Sifranti!V:Y,4,FALSE))","v":""}]
[{"$f":"IF(B236=\"\",\"\",VLOOKUP(B236,Sifranti!K:L,2,FALSE))","v":""},null,null,null,null,null,null,null,null,"",{"$f":"IF(L236=\"\",\"\",VLOOKUP(L236,Sifranti!A:B,2,FALSE))","v":""},null,{"$f":"IF(N236=\"\",\"\",VLOOKUP(N236,Sifranti!D:F,3,FALSE))","v":""},null,{"$f":"IF(P236=\"\",\"\",VLOOKUP(P236,Sifranti!H:I,2,FALSE))","v":""},null,null,null,null,null,null,null,null,null,null,null,null,null,null,null,null,null,null,null,null,null,null,null,null,null,{"$f":"IF(AN236=\"\",\"\",IF(LEN(VLOOKUP(AN236,Sifranti!BY:BZ,2,FALSE))=0,\"\",VLOOKUP(AN236,Sifranti!BY:BZ,2,FALSE)))","v":""},{"$f":"IF(C236=\"\",\"\",VLOOKUP(C236,Sifranti!P:R,2,FALSE))","v":""},"","",{"$f":"IF(C236=\"\",\"\",VLOOKUP(C236,Sifranti!P:R,3,FALSE))","v":""},{"$f":"IF(N236=\"\",\"\",VLOOKUP(N236,Sifranti!D:F,2,FALSE))","v":""},{"$f":"IF(AK236=\"\",\"\",VLOOKUP(AK236,Sifranti!V:Y,2,FALSE))","v":""},{"$f":"IF(AK236=\"\",\"\",IF(VLOOKUP(AK236,Sifranti!V:Y,3,FALSE)=\"\",\"\",VLOOKUP(AK236,Sifranti!V:Y,3,FALSE)))","v":""},{"$f":"IF(AK236=\"\",\"\",VLOOKUP(AK236,Sifranti!V:Y,4,FALSE))","v":""}]
[{"$f":"IF(B237=\"\",\"\",VLOOKUP(B237,Sifranti!K:L,2,FALSE))","v":""},null,null,null,null,null,null,null,null,"",{"$f":"IF(L237=\"\",\"\",VLOOKUP(L237,Sifranti!A:B,2,FALSE))","v":""},null,{"$f":"IF(N237=\"\",\"\",VLOOKUP(N237,Sifranti!D:F,3,FALSE))","v":""},null,{"$f":"IF(P237=\"\",\"\",VLOOKUP(P237,Sifranti!H:I,2,FALSE))","v":""},null,null,null,null,null,null,null,null,null,null,null,null,null,null,null,null,null,null,null,null,null,null,null,null,null,{"$f":"IF(AN237=\"\",\"\",IF(LEN(VLOOKUP(AN237,Sifranti!BY:BZ,2,FALSE))=0,\"\",VLOOKUP(AN237,Sifranti!BY:BZ,2,FALSE)))","v":""},{"$f":"IF(C237=\"\",\"\",VLOOKUP(C237,Sifranti!P:R,2,FALSE))","v":""},"","",{"$f":"IF(C237=\"\",\"\",VLOOKUP(C237,Sifranti!P:R,3,FALSE))","v":""},{"$f":"IF(N237=\"\",\"\",VLOOKUP(N237,Sifranti!D:F,2,FALSE))","v":""},{"$f":"IF(AK237=\"\",\"\",VLOOKUP(AK237,Sifranti!V:Y,2,FALSE))","v":""},{"$f":"IF(AK237=\"\",\"\",IF(VLOOKUP(AK237,Sifranti!V:Y,3,FALSE)=\"\",\"\",VLOOKUP(AK237,Sifranti!V:Y,3,FALSE)))","v":""},{"$f":"IF(AK237=\"\",\"\",VLOOKUP(AK237,Sifranti!V:Y,4,FALSE))","v":""}]
[{"$f":"IF(B238=\"\",\"\",VLOOKUP(B238,Sifranti!K:L,2,FALSE))","v":""},null,null,null,null,null,null,null,null,"",{"$f":"IF(L238=\"\",\"\",VLOOKUP(L238,Sifranti!A:B,2,FALSE))","v":""},null,{"$f":"IF(N238=\"\",\"\",VLOOKUP(N238,Sifranti!D:F,3,FALSE))","v":""},null,{"$f":"IF(P238=\"\",\"\",VLOOKUP(P238,Sifranti!H:I,2,FALSE))","v":""},null,null,null,null,null,null,null,null,null,null,null,null,null,null,null,null,null,null,null,null,null,null,null,null,null,{"$f":"IF(AN238=\"\",\"\",IF(LEN(VLOOKUP(AN238,Sifranti!BY:BZ,2,FALSE))=0,\"\",VLOOKUP(AN238,Sifranti!BY:BZ,2,FALSE)))","v":""},{"$f":"IF(C238=\"\",\"\",VLOOKUP(C238,Sifranti!P:R,2,FALSE))","v":""},"","",{"$f":"IF(C238=\"\",\"\",VLOOKUP(C238,Sifranti!P:R,3,FALSE))","v":""},{"$f":"IF(N238=\"\",\"\",VLOOKUP(N238,Sifranti!D:F,2,FALSE))","v":""},{"$f":"IF(AK238=\"\",\"\",VLOOKUP(AK238,Sifranti!V:Y,2,FALSE))","v":""},{"$f":"IF(AK238=\"\",\"\",IF(VLOOKUP(AK238,Sifranti!V:Y,3,FALSE)=\"\",\"\",VLOOKUP(AK238,Sifranti!V:Y,3,FALSE)))","v":""},{"$f":"IF(AK238=\"\",\"\",VLOOKUP(AK238,Sifranti!V:Y,4,FALSE))","v":""}]
[{"$f":"IF(B239=\"\",\"\",VLOOKUP(B239,Sifranti!K:L,2,FALSE))","v":""},null,null,null,null,null,null,null,null,"",{"$f":"IF(L239=\"\",\"\",VLOOKUP(L239,Sifranti!A:B,2,FALSE))","v":""},null,{"$f":"IF(N239=\"\",\"\",VLOOKUP(N239,Sifranti!D:F,3,FALSE))","v":""},null,{"$f":"IF(P239=\"\",\"\",VLOOKUP(P239,Sifranti!H:I,2,FALSE))","v":""},null,null,null,null,null,null,null,null,null,null,null,null,null,null,null,null,null,null,null,null,null,null,null,null,null,{"$f":"IF(AN239=\"\",\"\",IF(LEN(VLOOKUP(AN239,Sifranti!BY:BZ,2,FALSE))=0,\"\",VLOOKUP(AN239,Sifranti!BY:BZ,2,FALSE)))","v":""},{"$f":"IF(C239=\"\",\"\",VLOOKUP(C239,Sifranti!P:R,2,FALSE))","v":""},"","",{"$f":"IF(C239=\"\",\"\",VLOOKUP(C239,Sifranti!P:R,3,FALSE))","v":""},{"$f":"IF(N239=\"\",\"\",VLOOKUP(N239,Sifranti!D:F,2,FALSE))","v":""},{"$f":"IF(AK239=\"\",\"\",VLOOKUP(AK239,Sifranti!V:Y,2,FALSE))","v":""},{"$f":"IF(AK239=\"\",\"\",IF(VLOOKUP(AK239,Sifranti!V:Y,3,FALSE)=\"\",\"\",VLOOKUP(AK239,Sifranti!V:Y,3,FALSE)))","v":""},{"$f":"IF(AK239=\"\",\"\",VLOOKUP(AK239,Sifranti!V:Y,4,FALSE))","v":""}]
[{"$f":"IF(B240=\"\",\"\",VLOOKUP(B240,Sifranti!K:L,2,FALSE))","v":""},null,null,null,null,null,null,null,null,"",{"$f":"IF(L240=\"\",\"\",VLOOKUP(L240,Sifranti!A:B,2,FALSE))","v":""},null,{"$f":"IF(N240=\"\",\"\",VLOOKUP(N240,Sifranti!D:F,3,FALSE))","v":""},null,{"$f":"IF(P240=\"\",\"\",VLOOKUP(P240,Sifranti!H:I,2,FALSE))","v":""},null,null,null,null,null,null,null,null,null,null,null,null,null,null,null,null,null,null,null,null,null,null,null,null,null,{"$f":"IF(AN240=\"\",\"\",IF(LEN(VLOOKUP(AN240,Sifranti!BY:BZ,2,FALSE))=0,\"\",VLOOKUP(AN240,Sifranti!BY:BZ,2,FALSE)))","v":""},{"$f":"IF(C240=\"\",\"\",VLOOKUP(C240,Sifranti!P:R,2,FALSE))","v":""},"","",{"$f":"IF(C240=\"\",\"\",VLOOKUP(C240,Sifranti!P:R,3,FALSE))","v":""},{"$f":"IF(N240=\"\",\"\",VLOOKUP(N240,Sifranti!D:F,2,FALSE))","v":""},{"$f":"IF(AK240=\"\",\"\",VLOOKUP(AK240,Sifranti!V:Y,2,FALSE))","v":""},{"$f":"IF(AK240=\"\",\"\",IF(VLOOKUP(AK240,Sifranti!V:Y,3,FALSE)=\"\",\"\",VLOOKUP(AK240,Sifranti!V:Y,3,FALSE)))","v":""},{"$f":"IF(AK240=\"\",\"\",VLOOKUP(AK240,Sifranti!V:Y,4,FALSE))","v":""}]
[{"$f":"IF(B241=\"\",\"\",VLOOKUP(B241,Sifranti!K:L,2,FALSE))","v":""},null,null,null,null,null,null,null,null,"",{"$f":"IF(L241=\"\",\"\",VLOOKUP(L241,Sifranti!A:B,2,FALSE))","v":""},null,{"$f":"IF(N241=\"\",\"\",VLOOKUP(N241,Sifranti!D:F,3,FALSE))","v":""},null,{"$f":"IF(P241=\"\",\"\",VLOOKUP(P241,Sifranti!H:I,2,FALSE))","v":""},null,null,null,null,null,null,null,null,null,null,null,null,null,null,null,null,null,null,null,null,null,null,null,null,null,{"$f":"IF(AN241=\"\",\"\",IF(LEN(VLOOKUP(AN241,Sifranti!BY:BZ,2,FALSE))=0,\"\",VLOOKUP(AN241,Sifranti!BY:BZ,2,FALSE)))","v":""},{"$f":"IF(C241=\"\",\"\",VLOOKUP(C241,Sifranti!P:R,2,FALSE))","v":""},"","",{"$f":"IF(C241=\"\",\"\",VLOOKUP(C241,Sifranti!P:R,3,FALSE))","v":""},{"$f":"IF(N241=\"\",\"\",VLOOKUP(N241,Sifranti!D:F,2,FALSE))","v":""},{"$f":"IF(AK241=\"\",\"\",VLOOKUP(AK241,Sifranti!V:Y,2,FALSE))","v":""},{"$f":"IF(AK241=\"\",\"\",IF(VLOOKUP(AK241,Sifranti!V:Y,3,FALSE)=\"\",\"\",VLOOKUP(AK241,Sifranti!V:Y,3,FALSE)))","v":""},{"$f":"IF(AK241=\"\",\"\",VLOOKUP(AK241,Sifranti!V:Y,4,FALSE))","v":""}]
[{"$f":"IF(B242=\"\",\"\",VLOOKUP(B242,Sifranti!K:L,2,FALSE))","v":""},null,null,null,null,null,null,null,null,"",{"$f":"IF(L242=\"\",\"\",VLOOKUP(L242,Sifranti!A:B,2,FALSE))","v":""},null,{"$f":"IF(N242=\"\",\"\",VLOOKUP(N242,Sifranti!D:F,3,FALSE))","v":""},null,{"$f":"IF(P242=\"\",\"\",VLOOKUP(P242,Sifranti!H:I,2,FALSE))","v":""},null,null,null,null,null,null,null,null,null,null,null,null,null,null,null,null,null,null,null,null,null,null,null,null,null,{"$f":"IF(AN242=\"\",\"\",IF(LEN(VLOOKUP(AN242,Sifranti!BY:BZ,2,FALSE))=0,\"\",VLOOKUP(AN242,Sifranti!BY:BZ,2,FALSE)))","v":""},{"$f":"IF(C242=\"\",\"\",VLOOKUP(C242,Sifranti!P:R,2,FALSE))","v":""},"","",{"$f":"IF(C242=\"\",\"\",VLOOKUP(C242,Sifranti!P:R,3,FALSE))","v":""},{"$f":"IF(N242=\"\",\"\",VLOOKUP(N242,Sifranti!D:F,2,FALSE))","v":""},{"$f":"IF(AK242=\"\",\"\",VLOOKUP(AK242,Sifranti!V:Y,2,FALSE))","v":""},{"$f":"IF(AK242=\"\",\"\",IF(VLOOKUP(AK242,Sifranti!V:Y,3,FALSE)=\"\",\"\",VLOOKUP(AK242,Sifranti!V:Y,3,FALSE)))","v":""},{"$f":"IF(AK242=\"\",\"\",VLOOKUP(AK242,Sifranti!V:Y,4,FALSE))","v":""}]
[{"$f":"IF(B243=\"\",\"\",VLOOKUP(B243,Sifranti!K:L,2,FALSE))","v":""},null,null,null,null,null,null,null,null,"",{"$f":"IF(L243=\"\",\"\",VLOOKUP(L243,Sifranti!A:B,2,FALSE))","v":""},null,{"$f":"IF(N243=\"\",\"\",VLOOKUP(N243,Sifranti!D:F,3,FALSE))","v":""},null,{"$f":"IF(P243=\"\",\"\",VLOOKUP(P243,Sifranti!H:I,2,FALSE))","v":""},null,null,null,null,null,null,null,null,null,null,null,null,null,null,null,null,null,null,null,null,null,null,null,null,null,{"$f":"IF(AN243=\"\",\"\",IF(LEN(VLOOKUP(AN243,Sifranti!BY:BZ,2,FALSE))=0,\"\",VLOOKUP(AN243,Sifranti!BY:BZ,2,FALSE)))","v":""},{"$f":"IF(C243=\"\",\"\",VLOOKUP(C243,Sifranti!P:R,2,FALSE))","v":""},"","",{"$f":"IF(C243=\"\",\"\",VLOOKUP(C243,Sifranti!P:R,3,FALSE))","v":""},{"$f":"IF(N243=\"\",\"\",VLOOKUP(N243,Sifranti!D:F,2,FALSE))","v":""},{"$f":"IF(AK243=\"\",\"\",VLOOKUP(AK243,Sifranti!V:Y,2,FALSE))","v":""},{"$f":"IF(AK243=\"\",\"\",IF(VLOOKUP(AK243,Sifranti!V:Y,3,FALSE)=\"\",\"\",VLOOKUP(AK243,Sifranti!V:Y,3,FALSE)))","v":""},{"$f":"IF(AK243=\"\",\"\",VLOOKUP(AK243,Sifranti!V:Y,4,FALSE))","v":""}]
[{"$f":"IF(B244=\"\",\"\",VLOOKUP(B244,Sifranti!K:L,2,FALSE))","v":""},null,null,null,null,null,null,null,null,"",{"$f":"IF(L244=\"\",\"\",VLOOKUP(L244,Sifranti!A:B,2,FALSE))","v":""},null,{"$f":"IF(N244=\"\",\"\",VLOOKUP(N244,Sifranti!D:F,3,FALSE))","v":""},null,{"$f":"IF(P244=\"\",\"\",VLOOKUP(P244,Sifranti!H:I,2,FALSE))","v":""},null,null,null,null,null,null,null,null,null,null,null,null,null,null,null,null,null,null,null,null,null,null,null,null,null,{"$f":"IF(AN244=\"\",\"\",IF(LEN(VLOOKUP(AN244,Sifranti!BY:BZ,2,FALSE))=0,\"\",VLOOKUP(AN244,Sifranti!BY:BZ,2,FALSE)))","v":""},{"$f":"IF(C244=\"\",\"\",VLOOKUP(C244,Sifranti!P:R,2,FALSE))","v":""},"","",{"$f":"IF(C244=\"\",\"\",VLOOKUP(C244,Sifranti!P:R,3,FALSE))","v":""},{"$f":"IF(N244=\"\",\"\",VLOOKUP(N244,Sifranti!D:F,2,FALSE))","v":""},{"$f":"IF(AK244=\"\",\"\",VLOOKUP(AK244,Sifranti!V:Y,2,FALSE))","v":""},{"$f":"IF(AK244=\"\",\"\",IF(VLOOKUP(AK244,Sifranti!V:Y,3,FALSE)=\"\",\"\",VLOOKUP(AK244,Sifranti!V:Y,3,FALSE)))","v":""},{"$f":"IF(AK244=\"\",\"\",VLOOKUP(AK244,Sifranti!V:Y,4,FALSE))","v":""}]
[{"$f":"IF(B245=\"\",\"\",VLOOKUP(B245,Sifranti!K:L,2,FALSE))","v":""},null,null,null,null,null,null,null,null,"",{"$f":"IF(L245=\"\",\"\",VLOOKUP(L245,Sifranti!A:B,2,FALSE))","v":""},null,{"$f":"IF(N245=\"\",\"\",VLOOKUP(N245,Sifranti!D:F,3,FALSE))","v":""},null,{"$f":"IF(P245=\"\",\"\",VLOOKUP(P245,Sifranti!H:I,2,FALSE))","v":""},null,null,null,null,null,null,null,null,null,null,null,null,null,null,null,null,null,null,null,null,null,null,null,null,null,{"$f":"IF(AN245=\"\",\"\",IF(LEN(VLOOKUP(AN245,Sifranti!BY:BZ,2,FALSE))=0,\"\",VLOOKUP(AN245,Sifranti!BY:BZ,2,FALSE)))","v":""},{"$f":"IF(C245=\"\",\"\",VLOOKUP(C245,Sifranti!P:R,2,FALSE))","v":""},"","",{"$f":"IF(C245=\"\",\"\",VLOOKUP(C245,Sifranti!P:R,3,FALSE))","v":""},{"$f":"IF(N245=\"\",\"\",VLOOKUP(N245,Sifranti!D:F,2,FALSE))","v":""},{"$f":"IF(AK245=\"\",\"\",VLOOKUP(AK245,Sifranti!V:Y,2,FALSE))","v":""},{"$f":"IF(AK245=\"\",\"\",IF(VLOOKUP(AK245,Sifranti!V:Y,3,FALSE)=\"\",\"\",VLOOKUP(AK245,Sifranti!V:Y,3,FALSE)))","v":""},{"$f":"IF(AK245=\"\",\"\",VLOOKUP(AK245,Sifranti!V:Y,4,FALSE))","v":""}]
[{"$f":"IF(B246=\"\",\"\",VLOOKUP(B246,Sifranti!K:L,2,FALSE))","v":""},null,null,null,null,null,null,null,null,"",{"$f":"IF(L246=\"\",\"\",VLOOKUP(L246,Sifranti!A:B,2,FALSE))","v":""},null,{"$f":"IF(N246=\"\",\"\",VLOOKUP(N246,Sifranti!D:F,3,FALSE))","v":""},null,{"$f":"IF(P246=\"\",\"\",VLOOKUP(P246,Sifranti!H:I,2,FALSE))","v":""},null,null,null,null,null,null,null,null,null,null,null,null,null,null,null,null,null,null,null,null,null,null,null,null,null,{"$f":"IF(AN246=\"\",\"\",IF(LEN(VLOOKUP(AN246,Sifranti!BY:BZ,2,FALSE))=0,\"\",VLOOKUP(AN246,Sifranti!BY:BZ,2,FALSE)))","v":""},{"$f":"IF(C246=\"\",\"\",VLOOKUP(C246,Sifranti!P:R,2,FALSE))","v":""},"","",{"$f":"IF(C246=\"\",\"\",VLOOKUP(C246,Sifranti!P:R,3,FALSE))","v":""},{"$f":"IF(N246=\"\",\"\",VLOOKUP(N246,Sifranti!D:F,2,FALSE))","v":""},{"$f":"IF(AK246=\"\",\"\",VLOOKUP(AK246,Sifranti!V:Y,2,FALSE))","v":""},{"$f":"IF(AK246=\"\",\"\",IF(VLOOKUP(AK246,Sifranti!V:Y,3,FALSE)=\"\",\"\",VLOOKUP(AK246,Sifranti!V:Y,3,FALSE)))","v":""},{"$f":"IF(AK246=\"\",\"\",VLOOKUP(AK246,Sifranti!V:Y,4,FALSE))","v":""}]
[{"$f":"IF(B247=\"\",\"\",VLOOKUP(B247,Sifranti!K:L,2,FALSE))","v":""},null,null,null,null,null,null,null,null,"",{"$f":"IF(L247=\"\",\"\",VLOOKUP(L247,Sifranti!A:B,2,FALSE))","v":""},null,{"$f":"IF(N247=\"\",\"\",VLOOKUP(N247,Sifranti!D:F,3,FALSE))","v":""},null,{"$f":"IF(P247=\"\",\"\",VLOOKUP(P247,Sifranti!H:I,2,FALSE))","v":""},null,null,null,null,null,null,null,null,null,null,null,null,null,null,null,null,null,null,null,null,null,null,null,null,null,{"$f":"IF(AN247=\"\",\"\",IF(LEN(VLOOKUP(AN247,Sifranti!BY:BZ,2,FALSE))=0,\"\",VLOOKUP(AN247,Sifranti!BY:BZ,2,FALSE)))","v":""},{"$f":"IF(C247=\"\",\"\",VLOOKUP(C247,Sifranti!P:R,2,FALSE))","v":""},"","",{"$f":"IF(C247=\"\",\"\",VLOOKUP(C247,Sifranti!P:R,3,FALSE))","v":""},{"$f":"IF(N247=\"\",\"\",VLOOKUP(N247,Sifranti!D:F,2,FALSE))","v":""},{"$f":"IF(AK247=\"\",\"\",VLOOKUP(AK247,Sifranti!V:Y,2,FALSE))","v":""},{"$f":"IF(AK247=\"\",\"\",IF(VLOOKUP(AK247,Sifranti!V:Y,3,FALSE)=\"\",\"\",VLOOKUP(AK247,Sifranti!V:Y,3,FALSE)))","v":""},{"$f":"IF(AK247=\"\",\"\",VLOOKUP(AK247,Sifranti!V:Y,4,FALSE))","v":""}]
[{"$f":"IF(B248=\"\",\"\",VLOOKUP(B248,Sifranti!K:L,2,FALSE))","v":""},null,null,null,null,null,null,null,null,"",{"$f":"IF(L248=\"\",\"\",VLOOKUP(L248,Sifranti!A:B,2,FALSE))","v":""},null,{"$f":"IF(N248=\"\",\"\",VLOOKUP(N248,Sifranti!D:F,3,FALSE))","v":""},null,{"$f":"IF(P248=\"\",\"\",VLOOKUP(P248,Sifranti!H:I,2,FALSE))","v":""},null,null,null,null,null,null,null,null,null,null,null,null,null,null,null,null,null,null,null,null,null,null,null,null,null,{"$f":"IF(AN248=\"\",\"\",IF(LEN(VLOOKUP(AN248,Sifranti!BY:BZ,2,FALSE))=0,\"\",VLOOKUP(AN248,Sifranti!BY:BZ,2,FALSE)))","v":""},{"$f":"IF(C248=\"\",\"\",VLOOKUP(C248,Sifranti!P:R,2,FALSE))","v":""},"","",{"$f":"IF(C248=\"\",\"\",VLOOKUP(C248,Sifranti!P:R,3,FALSE))","v":""},{"$f":"IF(N248=\"\",\"\",VLOOKUP(N248,Sifranti!D:F,2,FALSE))","v":""},{"$f":"IF(AK248=\"\",\"\",VLOOKUP(AK248,Sifranti!V:Y,2,FALSE))","v":""},{"$f":"IF(AK248=\"\",\"\",IF(VLOOKUP(AK248,Sifranti!V:Y,3,FALSE)=\"\",\"\",VLOOKUP(AK248,Sifranti!V:Y,3,FALSE)))","v":""},{"$f":"IF(AK248=\"\",\"\",VLOOKUP(AK248,Sifranti!V:Y,4,FALSE))","v":""}]
[{"$f":"IF(B249=\"\",\"\",VLOOKUP(B249,Sifranti!K:L,2,FALSE))","v":""},null,null,null,null,null,null,null,null,"",{"$f":"IF(L249=\"\",\"\",VLOOKUP(L249,Sifranti!A:B,2,FALSE))","v":""},null,{"$f":"IF(N249=\"\",\"\",VLOOKUP(N249,Sifranti!D:F,3,FALSE))","v":""},null,{"$f":"IF(P249=\"\",\"\",VLOOKUP(P249,Sifranti!H:I,2,FALSE))","v":""},null,null,null,null,null,null,null,null,null,null,null,null,null,null,null,null,null,null,null,null,null,null,null,null,null,{"$f":"IF(AN249=\"\",\"\",IF(LEN(VLOOKUP(AN249,Sifranti!BY:BZ,2,FALSE))=0,\"\",VLOOKUP(AN249,Sifranti!BY:BZ,2,FALSE)))","v":""},{"$f":"IF(C249=\"\",\"\",VLOOKUP(C249,Sifranti!P:R,2,FALSE))","v":""},"","",{"$f":"IF(C249=\"\",\"\",VLOOKUP(C249,Sifranti!P:R,3,FALSE))","v":""},{"$f":"IF(N249=\"\",\"\",VLOOKUP(N249,Sifranti!D:F,2,FALSE))","v":""},{"$f":"IF(AK249=\"\",\"\",VLOOKUP(AK249,Sifranti!V:Y,2,FALSE))","v":""},{"$f":"IF(AK249=\"\",\"\",IF(VLOOKUP(AK249,Sifranti!V:Y,3,FALSE)=\"\",\"\",VLOOKUP(AK249,Sifranti!V:Y,3,FALSE)))","v":""},{"$f":"IF(AK249=\"\",\"\",VLOOKUP(AK249,Sifranti!V:Y,4,FALSE))","v":""}]
[{"$f":"IF(B250=\"\",\"\",VLOOKUP(B250,Sifranti!K:L,2,FALSE))","v":""},null,null,null,null,null,null,null,null,"",{"$f":"IF(L250=\"\",\"\",VLOOKUP(L250,Sifranti!A:B,2,FALSE))","v":""},null,{"$f":"IF(N250=\"\",\"\",VLOOKUP(N250,Sifranti!D:F,3,FALSE))","v":""},null,{"$f":"IF(P250=\"\",\"\",VLOOKUP(P250,Sifranti!H:I,2,FALSE))","v":""},null,null,null,null,null,null,null,null,null,null,null,null,null,null,null,null,null,null,null,null,null,null,null,null,null,{"$f":"IF(AN250=\"\",\"\",IF(LEN(VLOOKUP(AN250,Sifranti!BY:BZ,2,FALSE))=0,\"\",VLOOKUP(AN250,Sifranti!BY:BZ,2,FALSE)))","v":""},{"$f":"IF(C250=\"\",\"\",VLOOKUP(C250,Sifranti!P:R,2,FALSE))","v":""},"","",{"$f":"IF(C250=\"\",\"\",VLOOKUP(C250,Sifranti!P:R,3,FALSE))","v":""},{"$f":"IF(N250=\"\",\"\",VLOOKUP(N250,Sifranti!D:F,2,FALSE))","v":""},{"$f":"IF(AK250=\"\",\"\",VLOOKUP(AK250,Sifranti!V:Y,2,FALSE))","v":""},{"$f":"IF(AK250=\"\",\"\",IF(VLOOKUP(AK250,Sifranti!V:Y,3,FALSE)=\"\",\"\",VLOOKUP(AK250,Sifranti!V:Y,3,FALSE)))","v":""},{"$f":"IF(AK250=\"\",\"\",VLOOKUP(AK250,Sifranti!V:Y,4,FALSE))","v":""}]
[{"$f":"IF(B251=\"\",\"\",VLOOKUP(B251,Sifranti!K:L,2,FALSE))","v":""},null,null,null,null,null,null,null,null,"",{"$f":"IF(L251=\"\",\"\",VLOOKUP(L251,Sifranti!A:B,2,FALSE))","v":""},null,{"$f":"IF(N251=\"\",\"\",VLOOKUP(N251,Sifranti!D:F,3,FALSE))","v":""},null,{"$f":"IF(P251=\"\",\"\",VLOOKUP(P251,Sifranti!H:I,2,FALSE))","v":""},null,null,null,null,null,null,null,null,null,null,null,null,null,null,null,null,null,null,null,null,null,null,null,null,null,{"$f":"IF(AN251=\"\",\"\",IF(LEN(VLOOKUP(AN251,Sifranti!BY:BZ,2,FALSE))=0,\"\",VLOOKUP(AN251,Sifranti!BY:BZ,2,FALSE)))","v":""},{"$f":"IF(C251=\"\",\"\",VLOOKUP(C251,Sifranti!P:R,2,FALSE))","v":""},"","",{"$f":"IF(C251=\"\",\"\",VLOOKUP(C251,Sifranti!P:R,3,FALSE))","v":""},{"$f":"IF(N251=\"\",\"\",VLOOKUP(N251,Sifranti!D:F,2,FALSE))","v":""},{"$f":"IF(AK251=\"\",\"\",VLOOKUP(AK251,Sifranti!V:Y,2,FALSE))","v":""},{"$f":"IF(AK251=\"\",\"\",IF(VLOOKUP(AK251,Sifranti!V:Y,3,FALSE)=\"\",\"\",VLOOKUP(AK251,Sifranti!V:Y,3,FALSE)))","v":""},{"$f":"IF(AK251=\"\",\"\",VLOOKUP(AK251,Sifranti!V:Y,4,FALSE))","v":""}]
[{"$f":"IF(B252=\"\",\"\",VLOOKUP(B252,Sifranti!K:L,2,FALSE))","v":""},null,null,null,null,null,null,null,null,"",{"$f":"IF(L252=\"\",\"\",VLOOKUP(L252,Sifranti!A:B,2,FALSE))","v":""},null,{"$f":"IF(N252=\"\",\"\",VLOOKUP(N252,Sifranti!D:F,3,FALSE))","v":""},null,{"$f":"IF(P252=\"\",\"\",VLOOKUP(P252,Sifranti!H:I,2,FALSE))","v":""},null,null,null,null,null,null,null,null,null,null,null,null,null,null,null,null,null,null,null,null,null,null,null,null,null,{"$f":"IF(AN252=\"\",\"\",IF(LEN(VLOOKUP(AN252,Sifranti!BY:BZ,2,FALSE))=0,\"\",VLOOKUP(AN252,Sifranti!BY:BZ,2,FALSE)))","v":""},{"$f":"IF(C252=\"\",\"\",VLOOKUP(C252,Sifranti!P:R,2,FALSE))","v":""},"","",{"$f":"IF(C252=\"\",\"\",VLOOKUP(C252,Sifranti!P:R,3,FALSE))","v":""},{"$f":"IF(N252=\"\",\"\",VLOOKUP(N252,Sifranti!D:F,2,FALSE))","v":""},{"$f":"IF(AK252=\"\",\"\",VLOOKUP(AK252,Sifranti!V:Y,2,FALSE))","v":""},{"$f":"IF(AK252=\"\",\"\",IF(VLOOKUP(AK252,Sifranti!V:Y,3,FALSE)=\"\",\"\",VLOOKUP(AK252,Sifranti!V:Y,3,FALSE)))","v":""},{"$f":"IF(AK252=\"\",\"\",VLOOKUP(AK252,Sifranti!V:Y,4,FALSE))","v":""}]
[{"$f":"IF(B253=\"\",\"\",VLOOKUP(B253,Sifranti!K:L,2,FALSE))","v":""},null,null,null,null,null,null,null,null,"",{"$f":"IF(L253=\"\",\"\",VLOOKUP(L253,Sifranti!A:B,2,FALSE))","v":""},null,{"$f":"IF(N253=\"\",\"\",VLOOKUP(N253,Sifranti!D:F,3,FALSE))","v":""},null,{"$f":"IF(P253=\"\",\"\",VLOOKUP(P253,Sifranti!H:I,2,FALSE))","v":""},null,null,null,null,null,null,null,null,null,null,null,null,null,null,null,null,null,null,null,null,null,null,null,null,null,{"$f":"IF(AN253=\"\",\"\",IF(LEN(VLOOKUP(AN253,Sifranti!BY:BZ,2,FALSE))=0,\"\",VLOOKUP(AN253,Sifranti!BY:BZ,2,FALSE)))","v":""},{"$f":"IF(C253=\"\",\"\",VLOOKUP(C253,Sifranti!P:R,2,FALSE))","v":""},"","",{"$f":"IF(C253=\"\",\"\",VLOOKUP(C253,Sifranti!P:R,3,FALSE))","v":""},{"$f":"IF(N253=\"\",\"\",VLOOKUP(N253,Sifranti!D:F,2,FALSE))","v":""},{"$f":"IF(AK253=\"\",\"\",VLOOKUP(AK253,Sifranti!V:Y,2,FALSE))","v":""},{"$f":"IF(AK253=\"\",\"\",IF(VLOOKUP(AK253,Sifranti!V:Y,3,FALSE)=\"\",\"\",VLOOKUP(AK253,Sifranti!V:Y,3,FALSE)))","v":""},{"$f":"IF(AK253=\"\",\"\",VLOOKUP(AK253,Sifranti!V:Y,4,FALSE))","v":""}]
[{"$f":"IF(B254=\"\",\"\",VLOOKUP(B254,Sifranti!K:L,2,FALSE))","v":""},null,null,null,null,null,null,null,null,"",{"$f":"IF(L254=\"\",\"\",VLOOKUP(L254,Sifranti!A:B,2,FALSE))","v":""},null,{"$f":"IF(N254=\"\",\"\",VLOOKUP(N254,Sifranti!D:F,3,FALSE))","v":""},null,{"$f":"IF(P254=\"\",\"\",VLOOKUP(P254,Sifranti!H:I,2,FALSE))","v":""},null,null,null,null,null,null,null,null,null,null,null,null,null,null,null,null,null,null,null,null,null,null,null,null,null,{"$f":"IF(AN254=\"\",\"\",IF(LEN(VLOOKUP(AN254,Sifranti!BY:BZ,2,FALSE))=0,\"\",VLOOKUP(AN254,Sifranti!BY:BZ,2,FALSE)))","v":""},{"$f":"IF(C254=\"\",\"\",VLOOKUP(C254,Sifranti!P:R,2,FALSE))","v":""},"","",{"$f":"IF(C254=\"\",\"\",VLOOKUP(C254,Sifranti!P:R,3,FALSE))","v":""},{"$f":"IF(N254=\"\",\"\",VLOOKUP(N254,Sifranti!D:F,2,FALSE))","v":""},{"$f":"IF(AK254=\"\",\"\",VLOOKUP(AK254,Sifranti!V:Y,2,FALSE))","v":""},{"$f":"IF(AK254=\"\",\"\",IF(VLOOKUP(AK254,Sifranti!V:Y,3,FALSE)=\"\",\"\",VLOOKUP(AK254,Sifranti!V:Y,3,FALSE)))","v":""},{"$f":"IF(AK254=\"\",\"\",VLOOKUP(AK254,Sifranti!V:Y,4,FALSE))","v":""}]
[{"$f":"IF(B255=\"\",\"\",VLOOKUP(B255,Sifranti!K:L,2,FALSE))","v":""},null,null,null,null,null,null,null,null,"",{"$f":"IF(L255=\"\",\"\",VLOOKUP(L255,Sifranti!A:B,2,FALSE))","v":""},null,{"$f":"IF(N255=\"\",\"\",VLOOKUP(N255,Sifranti!D:F,3,FALSE))","v":""},null,{"$f":"IF(P255=\"\",\"\",VLOOKUP(P255,Sifranti!H:I,2,FALSE))","v":""},null,null,null,null,null,null,null,null,null,null,null,null,null,null,null,null,null,null,null,null,null,null,null,null,null,{"$f":"IF(AN255=\"\",\"\",IF(LEN(VLOOKUP(AN255,Sifranti!BY:BZ,2,FALSE))=0,\"\",VLOOKUP(AN255,Sifranti!BY:BZ,2,FALSE)))","v":""},{"$f":"IF(C255=\"\",\"\",VLOOKUP(C255,Sifranti!P:R,2,FALSE))","v":""},"","",{"$f":"IF(C255=\"\",\"\",VLOOKUP(C255,Sifranti!P:R,3,FALSE))","v":""},{"$f":"IF(N255=\"\",\"\",VLOOKUP(N255,Sifranti!D:F,2,FALSE))","v":""},{"$f":"IF(AK255=\"\",\"\",VLOOKUP(AK255,Sifranti!V:Y,2,FALSE))","v":""},{"$f":"IF(AK255=\"\",\"\",IF(VLOOKUP(AK255,Sifranti!V:Y,3,FALSE)=\"\",\"\",VLOOKUP(AK255,Sifranti!V:Y,3,FALSE)))","v":""},{"$f":"IF(AK255=\"\",\"\",VLOOKUP(AK255,Sifranti!V:Y,4,FALSE))","v":""}]
[{"$f":"IF(B256=\"\",\"\",VLOOKUP(B256,Sifranti!K:L,2,FALSE))","v":""},null,null,null,null,null,null,null,null,"",{"$f":"IF(L256=\"\",\"\",VLOOKUP(L256,Sifranti!A:B,2,FALSE))","v":""},null,{"$f":"IF(N256=\"\",\"\",VLOOKUP(N256,Sifranti!D:F,3,FALSE))","v":""},null,{"$f":"IF(P256=\"\",\"\",VLOOKUP(P256,Sifranti!H:I,2,FALSE))","v":""},null,null,null,null,null,null,null,null,null,null,null,null,null,null,null,null,null,null,null,null,null,null,null,null,null,{"$f":"IF(AN256=\"\",\"\",IF(LEN(VLOOKUP(AN256,Sifranti!BY:BZ,2,FALSE))=0,\"\",VLOOKUP(AN256,Sifranti!BY:BZ,2,FALSE)))","v":""},{"$f":"IF(C256=\"\",\"\",VLOOKUP(C256,Sifranti!P:R,2,FALSE))","v":""},"","",{"$f":"IF(C256=\"\",\"\",VLOOKUP(C256,Sifranti!P:R,3,FALSE))","v":""},{"$f":"IF(N256=\"\",\"\",VLOOKUP(N256,Sifranti!D:F,2,FALSE))","v":""},{"$f":"IF(AK256=\"\",\"\",VLOOKUP(AK256,Sifranti!V:Y,2,FALSE))","v":""},{"$f":"IF(AK256=\"\",\"\",IF(VLOOKUP(AK256,Sifranti!V:Y,3,FALSE)=\"\",\"\",VLOOKUP(AK256,Sifranti!V:Y,3,FALSE)))","v":""},{"$f":"IF(AK256=\"\",\"\",VLOOKUP(AK256,Sifranti!V:Y,4,FALSE))","v":""}]
[{"$f":"IF(B257=\"\",\"\",VLOOKUP(B257,Sifranti!K:L,2,FALSE))","v":""},null,null,null,null,null,null,null,null,"",{"$f":"IF(L257=\"\",\"\",VLOOKUP(L257,Sifranti!A:B,2,FALSE))","v":""},null,{"$f":"IF(N257=\"\",\"\",VLOOKUP(N257,Sifranti!D:F,3,FALSE))","v":""},null,{"$f":"IF(P257=\"\",\"\",VLOOKUP(P257,Sifranti!H:I,2,FALSE))","v":""},null,null,null,null,null,null,null,null,null,null,null,null,null,null,null,null,null,null,null,null,null,null,null,null,null,{"$f":"IF(AN257=\"\",\"\",IF(LEN(VLOOKUP(AN257,Sifranti!BY:BZ,2,FALSE))=0,\"\",VLOOKUP(AN257,Sifranti!BY:BZ,2,FALSE)))","v":""},{"$f":"IF(C257=\"\",\"\",VLOOKUP(C257,Sifranti!P:R,2,FALSE))","v":""},"","",{"$f":"IF(C257=\"\",\"\",VLOOKUP(C257,Sifranti!P:R,3,FALSE))","v":""},{"$f":"IF(N257=\"\",\"\",VLOOKUP(N257,Sifranti!D:F,2,FALSE))","v":""},{"$f":"IF(AK257=\"\",\"\",VLOOKUP(AK257,Sifranti!V:Y,2,FALSE))","v":""},{"$f":"IF(AK257=\"\",\"\",IF(VLOOKUP(AK257,Sifranti!V:Y,3,FALSE)=\"\",\"\",VLOOKUP(AK257,Sifranti!V:Y,3,FALSE)))","v":""},{"$f":"IF(AK257=\"\",\"\",VLOOKUP(AK257,Sifranti!V:Y,4,FALSE))","v":""}]
[{"$f":"IF(B258=\"\",\"\",VLOOKUP(B258,Sifranti!K:L,2,FALSE))","v":""},null,null,null,null,null,null,null,null,{"$f":"IF(H258=\"\",\"\",YEAR(H258))","v":""},{"$f":"IF(L258=\"\",\"\",VLOOKUP(L258,Sifranti!A:B,2,FALSE))","v":""},null,{"$f":"IF(N258=\"\",\"\",VLOOKUP(N258,Sifranti!D:F,3,FALSE))","v":""},null,{"$f":"IF(P258=\"\",\"\",VLOOKUP(P258,Sifranti!H:I,2,FALSE))","v":""},null,null,null,null,null,null,null,null,null,null,null,null,null,null,null,null,null,null,null,null,null,null,null,null,null,{"$f":"IF(AN258=\"\",\"\",IF(LEN(VLOOKUP(AN258,Sifranti!BY:BZ,2,FALSE))=0,\"\",VLOOKUP(AN258,Sifranti!BY:BZ,2,FALSE)))","v":""},{"$f":"IF(C258=\"\",\"\",VLOOKUP(C258,Sifranti!P:R,2,FALSE))","v":""},{"$f":"IF(V258>0,IF(AS258=\"de minimis\",T258/S258*100,U258/AD258*100),\"\")","v":""},{"$f":"IF(AE258>0,AE258/U258*100,\"\")","v":""},{"$f":"IF(C258=\"\",\"\",VLOOKUP(C258,Sifranti!P:R,3,FALSE))","v":""},{"$f":"IF(N258=\"\",\"\",VLOOKUP(N258,Sifranti!D:F,2,FALSE))","v":""},{"$f":"IF(AK258=\"\",\"\",VLOOKUP(AK258,Sifranti!V:Y,2,FALSE))","v":""},{"$f":"IF(AK258=\"\",\"\",IF(VLOOKUP(AK258,Sifranti!V:Y,3,FALSE)=\"\",\"\",VLOOKUP(AK258,Sifranti!V:Y,3,FALSE)))","v":""},{"$f":"IF(AK258=\"\",\"\",VLOOKUP(AK258,Sifranti!V:Y,4,FALSE))","v":""}]
[{"$f":"IF(B259=\"\",\"\",VLOOKUP(B259,Sifranti!K:L,2,FALSE))","v":""},null,null,null,null,null,null,null,null,"",{"$f":"IF(L259=\"\",\"\",VLOOKUP(L259,Sifranti!A:B,2,FALSE))","v":""},null,{"$f":"IF(N259=\"\",\"\",VLOOKUP(N259,Sifranti!D:F,3,FALSE))","v":""},null,{"$f":"IF(P259=\"\",\"\",VLOOKUP(P259,Sifranti!H:I,2,FALSE))","v":""},null,null,null,null,null,null,null,null,null,null,null,null,null,null,null,null,null,null,null,null,null,null,null,null,null,{"$f":"IF(AN259=\"\",\"\",IF(LEN(VLOOKUP(AN259,Sifranti!BY:BZ,2,FALSE))=0,\"\",VLOOKUP(AN259,Sifranti!BY:BZ,2,FALSE)))","v":""},{"$f":"IF(C259=\"\",\"\",VLOOKUP(C259,Sifranti!P:R,2,FALSE))","v":""},"","",{"$f":"IF(C259=\"\",\"\",VLOOKUP(C259,Sifranti!P:R,3,FALSE))","v":""},{"$f":"IF(N259=\"\",\"\",VLOOKUP(N259,Sifranti!D:F,2,FALSE))","v":""},{"$f":"IF(AK259=\"\",\"\",VLOOKUP(AK259,Sifranti!V:Y,2,FALSE))","v":""},{"$f":"IF(AK259=\"\",\"\",IF(VLOOKUP(AK259,Sifranti!V:Y,3,FALSE)=\"\",\"\",VLOOKUP(AK259,Sifranti!V:Y,3,FALSE)))","v":""},{"$f":"IF(AK259=\"\",\"\",VLOOKUP(AK259,Sifranti!V:Y,4,FALSE))","v":""}]
[{"$f":"IF(B260=\"\",\"\",VLOOKUP(B260,Sifranti!K:L,2,FALSE))","v":""},null,null,null,null,null,null,null,null,"",{"$f":"IF(L260=\"\",\"\",VLOOKUP(L260,Sifranti!A:B,2,FALSE))","v":""},null,{"$f":"IF(N260=\"\",\"\",VLOOKUP(N260,Sifranti!D:F,3,FALSE))","v":""},null,{"$f":"IF(P260=\"\",\"\",VLOOKUP(P260,Sifranti!H:I,2,FALSE))","v":""},null,null,null,null,null,null,null,null,null,null,null,null,null,null,null,null,null,null,null,null,null,null,null,null,null,{"$f":"IF(AN260=\"\",\"\",IF(LEN(VLOOKUP(AN260,Sifranti!BY:BZ,2,FALSE))=0,\"\",VLOOKUP(AN260,Sifranti!BY:BZ,2,FALSE)))","v":""},{"$f":"IF(C260=\"\",\"\",VLOOKUP(C260,Sifranti!P:R,2,FALSE))","v":""},"","",{"$f":"IF(C260=\"\",\"\",VLOOKUP(C260,Sifranti!P:R,3,FALSE))","v":""},{"$f":"IF(N260=\"\",\"\",VLOOKUP(N260,Sifranti!D:F,2,FALSE))","v":""},{"$f":"IF(AK260=\"\",\"\",VLOOKUP(AK260,Sifranti!V:Y,2,FALSE))","v":""},{"$f":"IF(AK260=\"\",\"\",IF(VLOOKUP(AK260,Sifranti!V:Y,3,FALSE)=\"\",\"\",VLOOKUP(AK260,Sifranti!V:Y,3,FALSE)))","v":""},{"$f":"IF(AK260=\"\",\"\",VLOOKUP(AK260,Sifranti!V:Y,4,FALSE))","v":""}]
[{"$f":"IF(B261=\"\",\"\",VLOOKUP(B261,Sifranti!K:L,2,FALSE))","v":""},null,null,null,null,null,null,null,null,"",{"$f":"IF(L261=\"\",\"\",VLOOKUP(L261,Sifranti!A:B,2,FALSE))","v":""},null,{"$f":"IF(N261=\"\",\"\",VLOOKUP(N261,Sifranti!D:F,3,FALSE))","v":""},null,{"$f":"IF(P261=\"\",\"\",VLOOKUP(P261,Sifranti!H:I,2,FALSE))","v":""},null,null,null,null,null,null,null,null,null,null,null,null,null,null,null,null,null,null,null,null,null,null,null,null,null,{"$f":"IF(AN261=\"\",\"\",IF(LEN(VLOOKUP(AN261,Sifranti!BY:BZ,2,FALSE))=0,\"\",VLOOKUP(AN261,Sifranti!BY:BZ,2,FALSE)))","v":""},{"$f":"IF(C261=\"\",\"\",VLOOKUP(C261,Sifranti!P:R,2,FALSE))","v":""},"","",{"$f":"IF(C261=\"\",\"\",VLOOKUP(C261,Sifranti!P:R,3,FALSE))","v":""},{"$f":"IF(N261=\"\",\"\",VLOOKUP(N261,Sifranti!D:F,2,FALSE))","v":""},{"$f":"IF(AK261=\"\",\"\",VLOOKUP(AK261,Sifranti!V:Y,2,FALSE))","v":""},{"$f":"IF(AK261=\"\",\"\",IF(VLOOKUP(AK261,Sifranti!V:Y,3,FALSE)=\"\",\"\",VLOOKUP(AK261,Sifranti!V:Y,3,FALSE)))","v":""},{"$f":"IF(AK261=\"\",\"\",VLOOKUP(AK261,Sifranti!V:Y,4,FALSE))","v":""}]
[{"$f":"IF(B262=\"\",\"\",VLOOKUP(B262,Sifranti!K:L,2,FALSE))","v":""},null,null,null,null,null,null,null,null,"",{"$f":"IF(L262=\"\",\"\",VLOOKUP(L262,Sifranti!A:B,2,FALSE))","v":""},null,{"$f":"IF(N262=\"\",\"\",VLOOKUP(N262,Sifranti!D:F,3,FALSE))","v":""},null,{"$f":"IF(P262=\"\",\"\",VLOOKUP(P262,Sifranti!H:I,2,FALSE))","v":""},null,null,null,null,null,null,null,null,null,null,null,null,null,null,null,null,null,null,null,null,null,null,null,null,null,{"$f":"IF(AN262=\"\",\"\",IF(LEN(VLOOKUP(AN262,Sifranti!BY:BZ,2,FALSE))=0,\"\",VLOOKUP(AN262,Sifranti!BY:BZ,2,FALSE)))","v":""},{"$f":"IF(C262=\"\",\"\",VLOOKUP(C262,Sifranti!P:R,2,FALSE))","v":""},"","",{"$f":"IF(C262=\"\",\"\",VLOOKUP(C262,Sifranti!P:R,3,FALSE))","v":""},{"$f":"IF(N262=\"\",\"\",VLOOKUP(N262,Sifranti!D:F,2,FALSE))","v":""},{"$f":"IF(AK262=\"\",\"\",VLOOKUP(AK262,Sifranti!V:Y,2,FALSE))","v":""},{"$f":"IF(AK262=\"\",\"\",IF(VLOOKUP(AK262,Sifranti!V:Y,3,FALSE)=\"\",\"\",VLOOKUP(AK262,Sifranti!V:Y,3,FALSE)))","v":""},{"$f":"IF(AK262=\"\",\"\",VLOOKUP(AK262,Sifranti!V:Y,4,FALSE))","v":""}]
[{"$f":"IF(B263=\"\",\"\",VLOOKUP(B263,Sifranti!K:L,2,FALSE))","v":""},null,null,null,null,null,null,null,null,"",{"$f":"IF(L263=\"\",\"\",VLOOKUP(L263,Sifranti!A:B,2,FALSE))","v":""},null,{"$f":"IF(N263=\"\",\"\",VLOOKUP(N263,Sifranti!D:F,3,FALSE))","v":""},null,{"$f":"IF(P263=\"\",\"\",VLOOKUP(P263,Sifranti!H:I,2,FALSE))","v":""},null,null,null,null,null,null,null,null,null,null,null,null,null,null,null,null,null,null,null,null,null,null,null,null,null,{"$f":"IF(AN263=\"\",\"\",IF(LEN(VLOOKUP(AN263,Sifranti!BY:BZ,2,FALSE))=0,\"\",VLOOKUP(AN263,Sifranti!BY:BZ,2,FALSE)))","v":""},{"$f":"IF(C263=\"\",\"\",VLOOKUP(C263,Sifranti!P:R,2,FALSE))","v":""},"","",{"$f":"IF(C263=\"\",\"\",VLOOKUP(C263,Sifranti!P:R,3,FALSE))","v":""},{"$f":"IF(N263=\"\",\"\",VLOOKUP(N263,Sifranti!D:F,2,FALSE))","v":""},{"$f":"IF(AK263=\"\",\"\",VLOOKUP(AK263,Sifranti!V:Y,2,FALSE))","v":""},{"$f":"IF(AK263=\"\",\"\",IF(VLOOKUP(AK263,Sifranti!V:Y,3,FALSE)=\"\",\"\",VLOOKUP(AK263,Sifranti!V:Y,3,FALSE)))","v":""},{"$f":"IF(AK263=\"\",\"\",VLOOKUP(AK263,Sifranti!V:Y,4,FALSE))","v":""}]
[{"$f":"IF(B264=\"\",\"\",VLOOKUP(B264,Sifranti!K:L,2,FALSE))","v":""},null,null,null,null,null,null,null,null,"",{"$f":"IF(L264=\"\",\"\",VLOOKUP(L264,Sifranti!A:B,2,FALSE))","v":""},null,{"$f":"IF(N264=\"\",\"\",VLOOKUP(N264,Sifranti!D:F,3,FALSE))","v":""},null,{"$f":"IF(P264=\"\",\"\",VLOOKUP(P264,Sifranti!H:I,2,FALSE))","v":""},null,null,null,null,null,null,null,null,null,null,null,null,null,null,null,null,null,null,null,null,null,null,null,null,null,{"$f":"IF(AN264=\"\",\"\",IF(LEN(VLOOKUP(AN264,Sifranti!BY:BZ,2,FALSE))=0,\"\",VLOOKUP(AN264,Sifranti!BY:BZ,2,FALSE)))","v":""},{"$f":"IF(C264=\"\",\"\",VLOOKUP(C264,Sifranti!P:R,2,FALSE))","v":""},"","",{"$f":"IF(C264=\"\",\"\",VLOOKUP(C264,Sifranti!P:R,3,FALSE))","v":""},{"$f":"IF(N264=\"\",\"\",VLOOKUP(N264,Sifranti!D:F,2,FALSE))","v":""},{"$f":"IF(AK264=\"\",\"\",VLOOKUP(AK264,Sifranti!V:Y,2,FALSE))","v":""},{"$f":"IF(AK264=\"\",\"\",IF(VLOOKUP(AK264,Sifranti!V:Y,3,FALSE)=\"\",\"\",VLOOKUP(AK264,Sifranti!V:Y,3,FALSE)))","v":""},{"$f":"IF(AK264=\"\",\"\",VLOOKUP(AK264,Sifranti!V:Y,4,FALSE))","v":""}]
[{"$f":"IF(B265=\"\",\"\",VLOOKUP(B265,Sifranti!K:L,2,FALSE))","v":""},null,null,null,null,null,null,null,null,"",{"$f":"IF(L265=\"\",\"\",VLOOKUP(L265,Sifranti!A:B,2,FALSE))","v":""},null,{"$f":"IF(N265=\"\",\"\",VLOOKUP(N265,Sifranti!D:F,3,FALSE))","v":""},null,{"$f":"IF(P265=\"\",\"\",VLOOKUP(P265,Sifranti!H:I,2,FALSE))","v":""},null,null,null,null,null,null,null,null,null,null,null,null,null,null,null,null,null,null,null,null,null,null,null,null,null,{"$f":"IF(AN265=\"\",\"\",IF(LEN(VLOOKUP(AN265,Sifranti!BY:BZ,2,FALSE))=0,\"\",VLOOKUP(AN265,Sifranti!BY:BZ,2,FALSE)))","v":""},{"$f":"IF(C265=\"\",\"\",VLOOKUP(C265,Sifranti!P:R,2,FALSE))","v":""},"","",{"$f":"IF(C265=\"\",\"\",VLOOKUP(C265,Sifranti!P:R,3,FALSE))","v":""},{"$f":"IF(N265=\"\",\"\",VLOOKUP(N265,Sifranti!D:F,2,FALSE))","v":""},{"$f":"IF(AK265=\"\",\"\",VLOOKUP(AK265,Sifranti!V:Y,2,FALSE))","v":""},{"$f":"IF(AK265=\"\",\"\",IF(VLOOKUP(AK265,Sifranti!V:Y,3,FALSE)=\"\",\"\",VLOOKUP(AK265,Sifranti!V:Y,3,FALSE)))","v":""},{"$f":"IF(AK265=\"\",\"\",VLOOKUP(AK265,Sifranti!V:Y,4,FALSE))","v":""}]
[{"$f":"IF(B266=\"\",\"\",VLOOKUP(B266,Sifranti!K:L,2,FALSE))","v":""},null,null,null,null,null,null,null,null,"",{"$f":"IF(L266=\"\",\"\",VLOOKUP(L266,Sifranti!A:B,2,FALSE))","v":""},null,{"$f":"IF(N266=\"\",\"\",VLOOKUP(N266,Sifranti!D:F,3,FALSE))","v":""},null,{"$f":"IF(P266=\"\",\"\",VLOOKUP(P266,Sifranti!H:I,2,FALSE))","v":""},null,null,null,null,null,null,null,null,null,null,null,null,null,null,null,null,null,null,null,null,null,null,null,null,null,{"$f":"IF(AN266=\"\",\"\",IF(LEN(VLOOKUP(AN266,Sifranti!BY:BZ,2,FALSE))=0,\"\",VLOOKUP(AN266,Sifranti!BY:BZ,2,FALSE)))","v":""},{"$f":"IF(C266=\"\",\"\",VLOOKUP(C266,Sifranti!P:R,2,FALSE))","v":""},"","",{"$f":"IF(C266=\"\",\"\",VLOOKUP(C266,Sifranti!P:R,3,FALSE))","v":""},{"$f":"IF(N266=\"\",\"\",VLOOKUP(N266,Sifranti!D:F,2,FALSE))","v":""},{"$f":"IF(AK266=\"\",\"\",VLOOKUP(AK266,Sifranti!V:Y,2,FALSE))","v":""},{"$f":"IF(AK266=\"\",\"\",IF(VLOOKUP(AK266,Sifranti!V:Y,3,FALSE)=\"\",\"\",VLOOKUP(AK266,Sifranti!V:Y,3,FALSE)))","v":""},{"$f":"IF(AK266=\"\",\"\",VLOOKUP(AK266,Sifranti!V:Y,4,FALSE))","v":""}]
[{"$f":"IF(B267=\"\",\"\",VLOOKUP(B267,Sifranti!K:L,2,FALSE))","v":""},null,null,null,null,null,null,null,null,"",{"$f":"IF(L267=\"\",\"\",VLOOKUP(L267,Sifranti!A:B,2,FALSE))","v":""},null,{"$f":"IF(N267=\"\",\"\",VLOOKUP(N267,Sifranti!D:F,3,FALSE))","v":""},null,{"$f":"IF(P267=\"\",\"\",VLOOKUP(P267,Sifranti!H:I,2,FALSE))","v":""},null,null,null,null,null,null,null,null,null,null,null,null,null,null,null,null,null,null,null,null,null,null,null,null,null,{"$f":"IF(AN267=\"\",\"\",IF(LEN(VLOOKUP(AN267,Sifranti!BY:BZ,2,FALSE))=0,\"\",VLOOKUP(AN267,Sifranti!BY:BZ,2,FALSE)))","v":""},{"$f":"IF(C267=\"\",\"\",VLOOKUP(C267,Sifranti!P:R,2,FALSE))","v":""},"","",{"$f":"IF(C267=\"\",\"\",VLOOKUP(C267,Sifranti!P:R,3,FALSE))","v":""},{"$f":"IF(N267=\"\",\"\",VLOOKUP(N267,Sifranti!D:F,2,FALSE))","v":""},{"$f":"IF(AK267=\"\",\"\",VLOOKUP(AK267,Sifranti!V:Y,2,FALSE))","v":""},{"$f":"IF(AK267=\"\",\"\",IF(VLOOKUP(AK267,Sifranti!V:Y,3,FALSE)=\"\",\"\",VLOOKUP(AK267,Sifranti!V:Y,3,FALSE)))","v":""},{"$f":"IF(AK267=\"\",\"\",VLOOKUP(AK267,Sifranti!V:Y,4,FALSE))","v":""}]
[{"$f":"IF(B268=\"\",\"\",VLOOKUP(B268,Sifranti!K:L,2,FALSE))","v":""},null,null,null,null,null,null,null,null,"",{"$f":"IF(L268=\"\",\"\",VLOOKUP(L268,Sifranti!A:B,2,FALSE))","v":""},null,{"$f":"IF(N268=\"\",\"\",VLOOKUP(N268,Sifranti!D:F,3,FALSE))","v":""},null,{"$f":"IF(P268=\"\",\"\",VLOOKUP(P268,Sifranti!H:I,2,FALSE))","v":""},null,null,null,null,null,null,null,null,null,null,null,null,null,null,null,null,null,null,null,null,null,null,null,null,null,{"$f":"IF(AN268=\"\",\"\",IF(LEN(VLOOKUP(AN268,Sifranti!BY:BZ,2,FALSE))=0,\"\",VLOOKUP(AN268,Sifranti!BY:BZ,2,FALSE)))","v":""},{"$f":"IF(C268=\"\",\"\",VLOOKUP(C268,Sifranti!P:R,2,FALSE))","v":""},"","",{"$f":"IF(C268=\"\",\"\",VLOOKUP(C268,Sifranti!P:R,3,FALSE))","v":""},{"$f":"IF(N268=\"\",\"\",VLOOKUP(N268,Sifranti!D:F,2,FALSE))","v":""},{"$f":"IF(AK268=\"\",\"\",VLOOKUP(AK268,Sifranti!V:Y,2,FALSE))","v":""},{"$f":"IF(AK268=\"\",\"\",IF(VLOOKUP(AK268,Sifranti!V:Y,3,FALSE)=\"\",\"\",VLOOKUP(AK268,Sifranti!V:Y,3,FALSE)))","v":""},{"$f":"IF(AK268=\"\",\"\",VLOOKUP(AK268,Sifranti!V:Y,4,FALSE))","v":""}]
[{"$f":"IF(B269=\"\",\"\",VLOOKUP(B269,Sifranti!K:L,2,FALSE))","v":""},null,null,null,null,null,null,null,null,"",{"$f":"IF(L269=\"\",\"\",VLOOKUP(L269,Sifranti!A:B,2,FALSE))","v":""},null,{"$f":"IF(N269=\"\",\"\",VLOOKUP(N269,Sifranti!D:F,3,FALSE))","v":""},null,{"$f":"IF(P269=\"\",\"\",VLOOKUP(P269,Sifranti!H:I,2,FALSE))","v":""},null,null,null,null,null,null,null,null,null,null,null,null,null,null,null,null,null,null,null,null,null,null,null,null,null,{"$f":"IF(AN269=\"\",\"\",IF(LEN(VLOOKUP(AN269,Sifranti!BY:BZ,2,FALSE))=0,\"\",VLOOKUP(AN269,Sifranti!BY:BZ,2,FALSE)))","v":""},{"$f":"IF(C269=\"\",\"\",VLOOKUP(C269,Sifranti!P:R,2,FALSE))","v":""},"","",{"$f":"IF(C269=\"\",\"\",VLOOKUP(C269,Sifranti!P:R,3,FALSE))","v":""},{"$f":"IF(N269=\"\",\"\",VLOOKUP(N269,Sifranti!D:F,2,FALSE))","v":""},{"$f":"IF(AK269=\"\",\"\",VLOOKUP(AK269,Sifranti!V:Y,2,FALSE))","v":""},{"$f":"IF(AK269=\"\",\"\",IF(VLOOKUP(AK269,Sifranti!V:Y,3,FALSE)=\"\",\"\",VLOOKUP(AK269,Sifranti!V:Y,3,FALSE)))","v":""},{"$f":"IF(AK269=\"\",\"\",VLOOKUP(AK269,Sifranti!V:Y,4,FALSE))","v":""}]
[{"$f":"IF(B270=\"\",\"\",VLOOKUP(B270,Sifranti!K:L,2,FALSE))","v":""},null,null,null,null,null,null,null,null,"",{"$f":"IF(L270=\"\",\"\",VLOOKUP(L270,Sifranti!A:B,2,FALSE))","v":""},null,{"$f":"IF(N270=\"\",\"\",VLOOKUP(N270,Sifranti!D:F,3,FALSE))","v":""},null,{"$f":"IF(P270=\"\",\"\",VLOOKUP(P270,Sifranti!H:I,2,FALSE))","v":""},null,null,null,null,null,null,null,null,null,null,null,null,null,null,null,null,null,null,null,null,null,null,null,null,null,{"$f":"IF(AN270=\"\",\"\",IF(LEN(VLOOKUP(AN270,Sifranti!BY:BZ,2,FALSE))=0,\"\",VLOOKUP(AN270,Sifranti!BY:BZ,2,FALSE)))","v":""},{"$f":"IF(C270=\"\",\"\",VLOOKUP(C270,Sifranti!P:R,2,FALSE))","v":""},"","",{"$f":"IF(C270=\"\",\"\",VLOOKUP(C270,Sifranti!P:R,3,FALSE))","v":""},{"$f":"IF(N270=\"\",\"\",VLOOKUP(N270,Sifranti!D:F,2,FALSE))","v":""},{"$f":"IF(AK270=\"\",\"\",VLOOKUP(AK270,Sifranti!V:Y,2,FALSE))","v":""},{"$f":"IF(AK270=\"\",\"\",IF(VLOOKUP(AK270,Sifranti!V:Y,3,FALSE)=\"\",\"\",VLOOKUP(AK270,Sifranti!V:Y,3,FALSE)))","v":""},{"$f":"IF(AK270=\"\",\"\",VLOOKUP(AK270,Sifranti!V:Y,4,FALSE))","v":""}]
[{"$f":"IF(B271=\"\",\"\",VLOOKUP(B271,Sifranti!K:L,2,FALSE))","v":""},null,null,null,null,null,null,null,null,"",{"$f":"IF(L271=\"\",\"\",VLOOKUP(L271,Sifranti!A:B,2,FALSE))","v":""},null,{"$f":"IF(N271=\"\",\"\",VLOOKUP(N271,Sifranti!D:F,3,FALSE))","v":""},null,{"$f":"IF(P271=\"\",\"\",VLOOKUP(P271,Sifranti!H:I,2,FALSE))","v":""},null,null,null,null,null,null,null,null,null,null,null,null,null,null,null,null,null,null,null,null,null,null,null,null,null,{"$f":"IF(AN271=\"\",\"\",IF(LEN(VLOOKUP(AN271,Sifranti!BY:BZ,2,FALSE))=0,\"\",VLOOKUP(AN271,Sifranti!BY:BZ,2,FALSE)))","v":""},{"$f":"IF(C271=\"\",\"\",VLOOKUP(C271,Sifranti!P:R,2,FALSE))","v":""},"","",{"$f":"IF(C271=\"\",\"\",VLOOKUP(C271,Sifranti!P:R,3,FALSE))","v":""},{"$f":"IF(N271=\"\",\"\",VLOOKUP(N271,Sifranti!D:F,2,FALSE))","v":""},{"$f":"IF(AK271=\"\",\"\",VLOOKUP(AK271,Sifranti!V:Y,2,FALSE))","v":""},{"$f":"IF(AK271=\"\",\"\",IF(VLOOKUP(AK271,Sifranti!V:Y,3,FALSE)=\"\",\"\",VLOOKUP(AK271,Sifranti!V:Y,3,FALSE)))","v":""},{"$f":"IF(AK271=\"\",\"\",VLOOKUP(AK271,Sifranti!V:Y,4,FALSE))","v":""}]
[{"$f":"IF(B272=\"\",\"\",VLOOKUP(B272,Sifranti!K:L,2,FALSE))","v":""},null,null,null,null,null,null,null,null,"",{"$f":"IF(L272=\"\",\"\",VLOOKUP(L272,Sifranti!A:B,2,FALSE))","v":""},null,{"$f":"IF(N272=\"\",\"\",VLOOKUP(N272,Sifranti!D:F,3,FALSE))","v":""},null,{"$f":"IF(P272=\"\",\"\",VLOOKUP(P272,Sifranti!H:I,2,FALSE))","v":""},null,null,null,null,null,null,null,null,null,null,null,null,null,null,null,null,null,null,null,null,null,null,null,null,null,{"$f":"IF(AN272=\"\",\"\",IF(LEN(VLOOKUP(AN272,Sifranti!BY:BZ,2,FALSE))=0,\"\",VLOOKUP(AN272,Sifranti!BY:BZ,2,FALSE)))","v":""},{"$f":"IF(C272=\"\",\"\",VLOOKUP(C272,Sifranti!P:R,2,FALSE))","v":""},"","",{"$f":"IF(C272=\"\",\"\",VLOOKUP(C272,Sifranti!P:R,3,FALSE))","v":""},{"$f":"IF(N272=\"\",\"\",VLOOKUP(N272,Sifranti!D:F,2,FALSE))","v":""},{"$f":"IF(AK272=\"\",\"\",VLOOKUP(AK272,Sifranti!V:Y,2,FALSE))","v":""},{"$f":"IF(AK272=\"\",\"\",IF(VLOOKUP(AK272,Sifranti!V:Y,3,FALSE)=\"\",\"\",VLOOKUP(AK272,Sifranti!V:Y,3,FALSE)))","v":""},{"$f":"IF(AK272=\"\",\"\",VLOOKUP(AK272,Sifranti!V:Y,4,FALSE))","v":""}]
[{"$f":"IF(B273=\"\",\"\",VLOOKUP(B273,Sifranti!K:L,2,FALSE))","v":""},null,null,null,null,null,null,null,null,"",{"$f":"IF(L273=\"\",\"\",VLOOKUP(L273,Sifranti!A:B,2,FALSE))","v":""},null,{"$f":"IF(N273=\"\",\"\",VLOOKUP(N273,Sifranti!D:F,3,FALSE))","v":""},null,{"$f":"IF(P273=\"\",\"\",VLOOKUP(P273,Sifranti!H:I,2,FALSE))","v":""},null,null,null,null,null,null,null,null,null,null,null,null,null,null,null,null,null,null,null,null,null,null,null,null,null,{"$f":"IF(AN273=\"\",\"\",IF(LEN(VLOOKUP(AN273,Sifranti!BY:BZ,2,FALSE))=0,\"\",VLOOKUP(AN273,Sifranti!BY:BZ,2,FALSE)))","v":""},{"$f":"IF(C273=\"\",\"\",VLOOKUP(C273,Sifranti!P:R,2,FALSE))","v":""},"","",{"$f":"IF(C273=\"\",\"\",VLOOKUP(C273,Sifranti!P:R,3,FALSE))","v":""},{"$f":"IF(N273=\"\",\"\",VLOOKUP(N273,Sifranti!D:F,2,FALSE))","v":""},{"$f":"IF(AK273=\"\",\"\",VLOOKUP(AK273,Sifranti!V:Y,2,FALSE))","v":""},{"$f":"IF(AK273=\"\",\"\",IF(VLOOKUP(AK273,Sifranti!V:Y,3,FALSE)=\"\",\"\",VLOOKUP(AK273,Sifranti!V:Y,3,FALSE)))","v":""},{"$f":"IF(AK273=\"\",\"\",VLOOKUP(AK273,Sifranti!V:Y,4,FALSE))","v":""}]
[{"$f":"IF(B274=\"\",\"\",VLOOKUP(B274,Sifranti!K:L,2,FALSE))","v":""},null,null,null,null,null,null,null,null,"",{"$f":"IF(L274=\"\",\"\",VLOOKUP(L274,Sifranti!A:B,2,FALSE))","v":""},null,{"$f":"IF(N274=\"\",\"\",VLOOKUP(N274,Sifranti!D:F,3,FALSE))","v":""},null,{"$f":"IF(P274=\"\",\"\",VLOOKUP(P274,Sifranti!H:I,2,FALSE))","v":""},null,null,null,null,null,null,null,null,null,null,null,null,null,null,null,null,null,null,null,null,null,null,null,null,null,{"$f":"IF(AN274=\"\",\"\",IF(LEN(VLOOKUP(AN274,Sifranti!BY:BZ,2,FALSE))=0,\"\",VLOOKUP(AN274,Sifranti!BY:BZ,2,FALSE)))","v":""},{"$f":"IF(C274=\"\",\"\",VLOOKUP(C274,Sifranti!P:R,2,FALSE))","v":""},"","",{"$f":"IF(C274=\"\",\"\",VLOOKUP(C274,Sifranti!P:R,3,FALSE))","v":""},{"$f":"IF(N274=\"\",\"\",VLOOKUP(N274,Sifranti!D:F,2,FALSE))","v":""},{"$f":"IF(AK274=\"\",\"\",VLOOKUP(AK274,Sifranti!V:Y,2,FALSE))","v":""},{"$f":"IF(AK274=\"\",\"\",IF(VLOOKUP(AK274,Sifranti!V:Y,3,FALSE)=\"\",\"\",VLOOKUP(AK274,Sifranti!V:Y,3,FALSE)))","v":""},{"$f":"IF(AK274=\"\",\"\",VLOOKUP(AK274,Sifranti!V:Y,4,FALSE))","v":""}]
[{"$f":"IF(B275=\"\",\"\",VLOOKUP(B275,Sifranti!K:L,2,FALSE))","v":""},null,null,null,null,null,null,null,null,"",{"$f":"IF(L275=\"\",\"\",VLOOKUP(L275,Sifranti!A:B,2,FALSE))","v":""},null,{"$f":"IF(N275=\"\",\"\",VLOOKUP(N275,Sifranti!D:F,3,FALSE))","v":""},null,{"$f":"IF(P275=\"\",\"\",VLOOKUP(P275,Sifranti!H:I,2,FALSE))","v":""},null,null,null,null,null,null,null,null,null,null,null,null,null,null,null,null,null,null,null,null,null,null,null,null,null,{"$f":"IF(AN275=\"\",\"\",IF(LEN(VLOOKUP(AN275,Sifranti!BY:BZ,2,FALSE))=0,\"\",VLOOKUP(AN275,Sifranti!BY:BZ,2,FALSE)))","v":""},{"$f":"IF(C275=\"\",\"\",VLOOKUP(C275,Sifranti!P:R,2,FALSE))","v":""},"","",{"$f":"IF(C275=\"\",\"\",VLOOKUP(C275,Sifranti!P:R,3,FALSE))","v":""},{"$f":"IF(N275=\"\",\"\",VLOOKUP(N275,Sifranti!D:F,2,FALSE))","v":""},{"$f":"IF(AK275=\"\",\"\",VLOOKUP(AK275,Sifranti!V:Y,2,FALSE))","v":""},{"$f":"IF(AK275=\"\",\"\",IF(VLOOKUP(AK275,Sifranti!V:Y,3,FALSE)=\"\",\"\",VLOOKUP(AK275,Sifranti!V:Y,3,FALSE)))","v":""},{"$f":"IF(AK275=\"\",\"\",VLOOKUP(AK275,Sifranti!V:Y,4,FALSE))","v":""}]
[{"$f":"IF(B276=\"\",\"\",VLOOKUP(B276,Sifranti!K:L,2,FALSE))","v":""},null,null,null,null,null,null,null,null,"",{"$f":"IF(L276=\"\",\"\",VLOOKUP(L276,Sifranti!A:B,2,FALSE))","v":""},null,{"$f":"IF(N276=\"\",\"\",VLOOKUP(N276,Sifranti!D:F,3,FALSE))","v":""},null,{"$f":"IF(P276=\"\",\"\",VLOOKUP(P276,Sifranti!H:I,2,FALSE))","v":""},null,null,null,null,null,null,null,null,null,null,null,null,null,null,null,null,null,null,null,null,null,null,null,null,null,{"$f":"IF(AN276=\"\",\"\",IF(LEN(VLOOKUP(AN276,Sifranti!BY:BZ,2,FALSE))=0,\"\",VLOOKUP(AN276,Sifranti!BY:BZ,2,FALSE)))","v":""},{"$f":"IF(C276=\"\",\"\",VLOOKUP(C276,Sifranti!P:R,2,FALSE))","v":""},"","",{"$f":"IF(C276=\"\",\"\",VLOOKUP(C276,Sifranti!P:R,3,FALSE))","v":""},{"$f":"IF(N276=\"\",\"\",VLOOKUP(N276,Sifranti!D:F,2,FALSE))","v":""},{"$f":"IF(AK276=\"\",\"\",VLOOKUP(AK276,Sifranti!V:Y,2,FALSE))","v":""},{"$f":"IF(AK276=\"\",\"\",IF(VLOOKUP(AK276,Sifranti!V:Y,3,FALSE)=\"\",\"\",VLOOKUP(AK276,Sifranti!V:Y,3,FALSE)))","v":""},{"$f":"IF(AK276=\"\",\"\",VLOOKUP(AK276,Sifranti!V:Y,4,FALSE))","v":""}]
[{"$f":"IF(B277=\"\",\"\",VLOOKUP(B277,Sifranti!K:L,2,FALSE))","v":""},null,null,null,null,null,null,null,null,"",{"$f":"IF(L277=\"\",\"\",VLOOKUP(L277,Sifranti!A:B,2,FALSE))","v":""},null,{"$f":"IF(N277=\"\",\"\",VLOOKUP(N277,Sifranti!D:F,3,FALSE))","v":""},null,{"$f":"IF(P277=\"\",\"\",VLOOKUP(P277,Sifranti!H:I,2,FALSE))","v":""},null,null,null,null,null,null,null,null,null,null,null,null,null,null,null,null,null,null,null,null,null,null,null,null,null,{"$f":"IF(AN277=\"\",\"\",IF(LEN(VLOOKUP(AN277,Sifranti!BY:BZ,2,FALSE))=0,\"\",VLOOKUP(AN277,Sifranti!BY:BZ,2,FALSE)))","v":""},{"$f":"IF(C277=\"\",\"\",VLOOKUP(C277,Sifranti!P:R,2,FALSE))","v":""},"","",{"$f":"IF(C277=\"\",\"\",VLOOKUP(C277,Sifranti!P:R,3,FALSE))","v":""},{"$f":"IF(N277=\"\",\"\",VLOOKUP(N277,Sifranti!D:F,2,FALSE))","v":""},{"$f":"IF(AK277=\"\",\"\",VLOOKUP(AK277,Sifranti!V:Y,2,FALSE))","v":""},{"$f":"IF(AK277=\"\",\"\",IF(VLOOKUP(AK277,Sifranti!V:Y,3,FALSE)=\"\",\"\",VLOOKUP(AK277,Sifranti!V:Y,3,FALSE)))","v":""},{"$f":"IF(AK277=\"\",\"\",VLOOKUP(AK277,Sifranti!V:Y,4,FALSE))","v":""}]
[{"$f":"IF(B278=\"\",\"\",VLOOKUP(B278,Sifranti!K:L,2,FALSE))","v":""},null,null,null,null,null,null,null,null,"",{"$f":"IF(L278=\"\",\"\",VLOOKUP(L278,Sifranti!A:B,2,FALSE))","v":""},null,{"$f":"IF(N278=\"\",\"\",VLOOKUP(N278,Sifranti!D:F,3,FALSE))","v":""},null,{"$f":"IF(P278=\"\",\"\",VLOOKUP(P278,Sifranti!H:I,2,FALSE))","v":""},null,null,null,null,null,null,null,null,null,null,null,null,null,null,null,null,null,null,null,null,null,null,null,null,null,{"$f":"IF(AN278=\"\",\"\",IF(LEN(VLOOKUP(AN278,Sifranti!BY:BZ,2,FALSE))=0,\"\",VLOOKUP(AN278,Sifranti!BY:BZ,2,FALSE)))","v":""},{"$f":"IF(C278=\"\",\"\",VLOOKUP(C278,Sifranti!P:R,2,FALSE))","v":""},"","",{"$f":"IF(C278=\"\",\"\",VLOOKUP(C278,Sifranti!P:R,3,FALSE))","v":""},{"$f":"IF(N278=\"\",\"\",VLOOKUP(N278,Sifranti!D:F,2,FALSE))","v":""},{"$f":"IF(AK278=\"\",\"\",VLOOKUP(AK278,Sifranti!V:Y,2,FALSE))","v":""},{"$f":"IF(AK278=\"\",\"\",IF(VLOOKUP(AK278,Sifranti!V:Y,3,FALSE)=\"\",\"\",VLOOKUP(AK278,Sifranti!V:Y,3,FALSE)))","v":""},{"$f":"IF(AK278=\"\",\"\",VLOOKUP(AK278,Sifranti!V:Y,4,FALSE))","v":""}]
[{"$f":"IF(B279=\"\",\"\",VLOOKUP(B279,Sifranti!K:L,2,FALSE))","v":""},null,null,null,null,null,null,null,null,"",{"$f":"IF(L279=\"\",\"\",VLOOKUP(L279,Sifranti!A:B,2,FALSE))","v":""},null,{"$f":"IF(N279=\"\",\"\",VLOOKUP(N279,Sifranti!D:F,3,FALSE))","v":""},null,{"$f":"IF(P279=\"\",\"\",VLOOKUP(P279,Sifranti!H:I,2,FALSE))","v":""},null,null,null,null,null,null,null,null,null,null,null,null,null,null,null,null,null,null,null,null,null,null,null,null,null,{"$f":"IF(AN279=\"\",\"\",IF(LEN(VLOOKUP(AN279,Sifranti!BY:BZ,2,FALSE))=0,\"\",VLOOKUP(AN279,Sifranti!BY:BZ,2,FALSE)))","v":""},{"$f":"IF(C279=\"\",\"\",VLOOKUP(C279,Sifranti!P:R,2,FALSE))","v":""},"","",{"$f":"IF(C279=\"\",\"\",VLOOKUP(C279,Sifranti!P:R,3,FALSE))","v":""},{"$f":"IF(N279=\"\",\"\",VLOOKUP(N279,Sifranti!D:F,2,FALSE))","v":""},{"$f":"IF(AK279=\"\",\"\",VLOOKUP(AK279,Sifranti!V:Y,2,FALSE))","v":""},{"$f":"IF(AK279=\"\",\"\",IF(VLOOKUP(AK279,Sifranti!V:Y,3,FALSE)=\"\",\"\",VLOOKUP(AK279,Sifranti!V:Y,3,FALSE)))","v":""},{"$f":"IF(AK279=\"\",\"\",VLOOKUP(AK279,Sifranti!V:Y,4,FALSE))","v":""}]
[{"$f":"IF(B280=\"\",\"\",VLOOKUP(B280,Sifranti!K:L,2,FALSE))","v":""},null,null,null,null,null,null,null,null,"",{"$f":"IF(L280=\"\",\"\",VLOOKUP(L280,Sifranti!A:B,2,FALSE))","v":""},null,{"$f":"IF(N280=\"\",\"\",VLOOKUP(N280,Sifranti!D:F,3,FALSE))","v":""},null,{"$f":"IF(P280=\"\",\"\",VLOOKUP(P280,Sifranti!H:I,2,FALSE))","v":""},null,null,null,null,null,null,null,null,null,null,null,null,null,null,null,null,null,null,null,null,null,null,null,null,null,{"$f":"IF(AN280=\"\",\"\",IF(LEN(VLOOKUP(AN280,Sifranti!BY:BZ,2,FALSE))=0,\"\",VLOOKUP(AN280,Sifranti!BY:BZ,2,FALSE)))","v":""},{"$f":"IF(C280=\"\",\"\",VLOOKUP(C280,Sifranti!P:R,2,FALSE))","v":""},"","",{"$f":"IF(C280=\"\",\"\",VLOOKUP(C280,Sifranti!P:R,3,FALSE))","v":""},{"$f":"IF(N280=\"\",\"\",VLOOKUP(N280,Sifranti!D:F,2,FALSE))","v":""},{"$f":"IF(AK280=\"\",\"\",VLOOKUP(AK280,Sifranti!V:Y,2,FALSE))","v":""},{"$f":"IF(AK280=\"\",\"\",IF(VLOOKUP(AK280,Sifranti!V:Y,3,FALSE)=\"\",\"\",VLOOKUP(AK280,Sifranti!V:Y,3,FALSE)))","v":""},{"$f":"IF(AK280=\"\",\"\",VLOOKUP(AK280,Sifranti!V:Y,4,FALSE))","v":""}]
[{"$f":"IF(B281=\"\",\"\",VLOOKUP(B281,Sifranti!K:L,2,FALSE))","v":""},null,null,null,null,null,null,null,null,"",{"$f":"IF(L281=\"\",\"\",VLOOKUP(L281,Sifranti!A:B,2,FALSE))","v":""},null,{"$f":"IF(N281=\"\",\"\",VLOOKUP(N281,Sifranti!D:F,3,FALSE))","v":""},null,{"$f":"IF(P281=\"\",\"\",VLOOKUP(P281,Sifranti!H:I,2,FALSE))","v":""},null,null,null,null,null,null,null,null,null,null,null,null,null,null,null,null,null,null,null,null,null,null,null,null,null,{"$f":"IF(AN281=\"\",\"\",IF(LEN(VLOOKUP(AN281,Sifranti!BY:BZ,2,FALSE))=0,\"\",VLOOKUP(AN281,Sifranti!BY:BZ,2,FALSE)))","v":""},{"$f":"IF(C281=\"\",\"\",VLOOKUP(C281,Sifranti!P:R,2,FALSE))","v":""},"","",{"$f":"IF(C281=\"\",\"\",VLOOKUP(C281,Sifranti!P:R,3,FALSE))","v":""},{"$f":"IF(N281=\"\",\"\",VLOOKUP(N281,Sifranti!D:F,2,FALSE))","v":""},{"$f":"IF(AK281=\"\",\"\",VLOOKUP(AK281,Sifranti!V:Y,2,FALSE))","v":""},{"$f":"IF(AK281=\"\",\"\",IF(VLOOKUP(AK281,Sifranti!V:Y,3,FALSE)=\"\",\"\",VLOOKUP(AK281,Sifranti!V:Y,3,FALSE)))","v":""},{"$f":"IF(AK281=\"\",\"\",VLOOKUP(AK281,Sifranti!V:Y,4,FALSE))","v":""}]
[{"$f":"IF(B282=\"\",\"\",VLOOKUP(B282,Sifranti!K:L,2,FALSE))","v":""},null,null,null,null,null,null,null,null,"",{"$f":"IF(L282=\"\",\"\",VLOOKUP(L282,Sifranti!A:B,2,FALSE))","v":""},null,{"$f":"IF(N282=\"\",\"\",VLOOKUP(N282,Sifranti!D:F,3,FALSE))","v":""},null,{"$f":"IF(P282=\"\",\"\",VLOOKUP(P282,Sifranti!H:I,2,FALSE))","v":""},null,null,null,null,null,null,null,null,null,null,null,null,null,null,null,null,null,null,null,null,null,null,null,null,null,{"$f":"IF(AN282=\"\",\"\",IF(LEN(VLOOKUP(AN282,Sifranti!BY:BZ,2,FALSE))=0,\"\",VLOOKUP(AN282,Sifranti!BY:BZ,2,FALSE)))","v":""},{"$f":"IF(C282=\"\",\"\",VLOOKUP(C282,Sifranti!P:R,2,FALSE))","v":""},"","",{"$f":"IF(C282=\"\",\"\",VLOOKUP(C282,Sifranti!P:R,3,FALSE))","v":""},{"$f":"IF(N282=\"\",\"\",VLOOKUP(N282,Sifranti!D:F,2,FALSE))","v":""},{"$f":"IF(AK282=\"\",\"\",VLOOKUP(AK282,Sifranti!V:Y,2,FALSE))","v":""},{"$f":"IF(AK282=\"\",\"\",IF(VLOOKUP(AK282,Sifranti!V:Y,3,FALSE)=\"\",\"\",VLOOKUP(AK282,Sifranti!V:Y,3,FALSE)))","v":""},{"$f":"IF(AK282=\"\",\"\",VLOOKUP(AK282,Sifranti!V:Y,4,FALSE))","v":""}]
[{"$f":"IF(B283=\"\",\"\",VLOOKUP(B283,Sifranti!K:L,2,FALSE))","v":""},null,null,null,null,null,null,null,null,"",{"$f":"IF(L283=\"\",\"\",VLOOKUP(L283,Sifranti!A:B,2,FALSE))","v":""},null,{"$f":"IF(N283=\"\",\"\",VLOOKUP(N283,Sifranti!D:F,3,FALSE))","v":""},null,{"$f":"IF(P283=\"\",\"\",VLOOKUP(P283,Sifranti!H:I,2,FALSE))","v":""},null,null,null,null,null,null,null,null,null,null,null,null,null,null,null,null,null,null,null,null,null,null,null,null,null,{"$f":"IF(AN283=\"\",\"\",IF(LEN(VLOOKUP(AN283,Sifranti!BY:BZ,2,FALSE))=0,\"\",VLOOKUP(AN283,Sifranti!BY:BZ,2,FALSE)))","v":""},{"$f":"IF(C283=\"\",\"\",VLOOKUP(C283,Sifranti!P:R,2,FALSE))","v":""},"","",{"$f":"IF(C283=\"\",\"\",VLOOKUP(C283,Sifranti!P:R,3,FALSE))","v":""},{"$f":"IF(N283=\"\",\"\",VLOOKUP(N283,Sifranti!D:F,2,FALSE))","v":""},{"$f":"IF(AK283=\"\",\"\",VLOOKUP(AK283,Sifranti!V:Y,2,FALSE))","v":""},{"$f":"IF(AK283=\"\",\"\",IF(VLOOKUP(AK283,Sifranti!V:Y,3,FALSE)=\"\",\"\",VLOOKUP(AK283,Sifranti!V:Y,3,FALSE)))","v":""},{"$f":"IF(AK283=\"\",\"\",VLOOKUP(AK283,Sifranti!V:Y,4,FALSE))","v":""}]
[{"$f":"IF(B284=\"\",\"\",VLOOKUP(B284,Sifranti!K:L,2,FALSE))","v":""},null,null,null,null,null,null,null,null,"",{"$f":"IF(L284=\"\",\"\",VLOOKUP(L284,Sifranti!A:B,2,FALSE))","v":""},null,{"$f":"IF(N284=\"\",\"\",VLOOKUP(N284,Sifranti!D:F,3,FALSE))","v":""},null,{"$f":"IF(P284=\"\",\"\",VLOOKUP(P284,Sifranti!H:I,2,FALSE))","v":""},null,null,null,null,null,null,null,null,null,null,null,null,null,null,null,null,null,null,null,null,null,null,null,null,null,{"$f":"IF(AN284=\"\",\"\",IF(LEN(VLOOKUP(AN284,Sifranti!BY:BZ,2,FALSE))=0,\"\",VLOOKUP(AN284,Sifranti!BY:BZ,2,FALSE)))","v":""},{"$f":"IF(C284=\"\",\"\",VLOOKUP(C284,Sifranti!P:R,2,FALSE))","v":""},"","",{"$f":"IF(C284=\"\",\"\",VLOOKUP(C284,Sifranti!P:R,3,FALSE))","v":""},{"$f":"IF(N284=\"\",\"\",VLOOKUP(N284,Sifranti!D:F,2,FALSE))","v":""},{"$f":"IF(AK284=\"\",\"\",VLOOKUP(AK284,Sifranti!V:Y,2,FALSE))","v":""},{"$f":"IF(AK284=\"\",\"\",IF(VLOOKUP(AK284,Sifranti!V:Y,3,FALSE)=\"\",\"\",VLOOKUP(AK284,Sifranti!V:Y,3,FALSE)))","v":""},{"$f":"IF(AK284=\"\",\"\",VLOOKUP(AK284,Sifranti!V:Y,4,FALSE))","v":""}]
[{"$f":"IF(B285=\"\",\"\",VLOOKUP(B285,Sifranti!K:L,2,FALSE))","v":""},null,null,null,null,null,null,null,null,"",{"$f":"IF(L285=\"\",\"\",VLOOKUP(L285,Sifranti!A:B,2,FALSE))","v":""},null,{"$f":"IF(N285=\"\",\"\",VLOOKUP(N285,Sifranti!D:F,3,FALSE))","v":""},null,{"$f":"IF(P285=\"\",\"\",VLOOKUP(P285,Sifranti!H:I,2,FALSE))","v":""},null,null,null,null,null,null,null,null,null,null,null,null,null,null,null,null,null,null,null,null,null,null,null,null,null,{"$f":"IF(AN285=\"\",\"\",IF(LEN(VLOOKUP(AN285,Sifranti!BY:BZ,2,FALSE))=0,\"\",VLOOKUP(AN285,Sifranti!BY:BZ,2,FALSE)))","v":""},{"$f":"IF(C285=\"\",\"\",VLOOKUP(C285,Sifranti!P:R,2,FALSE))","v":""},"","",{"$f":"IF(C285=\"\",\"\",VLOOKUP(C285,Sifranti!P:R,3,FALSE))","v":""},{"$f":"IF(N285=\"\",\"\",VLOOKUP(N285,Sifranti!D:F,2,FALSE))","v":""},{"$f":"IF(AK285=\"\",\"\",VLOOKUP(AK285,Sifranti!V:Y,2,FALSE))","v":""},{"$f":"IF(AK285=\"\",\"\",IF(VLOOKUP(AK285,Sifranti!V:Y,3,FALSE)=\"\",\"\",VLOOKUP(AK285,Sifranti!V:Y,3,FALSE)))","v":""},{"$f":"IF(AK285=\"\",\"\",VLOOKUP(AK285,Sifranti!V:Y,4,FALSE))","v":""}]
[{"$f":"IF(B286=\"\",\"\",VLOOKUP(B286,Sifranti!K:L,2,FALSE))","v":""},null,null,null,null,null,null,null,null,"",{"$f":"IF(L286=\"\",\"\",VLOOKUP(L286,Sifranti!A:B,2,FALSE))","v":""},null,{"$f":"IF(N286=\"\",\"\",VLOOKUP(N286,Sifranti!D:F,3,FALSE))","v":""},null,{"$f":"IF(P286=\"\",\"\",VLOOKUP(P286,Sifranti!H:I,2,FALSE))","v":""},null,null,null,null,null,null,null,null,null,null,null,null,null,null,null,null,null,null,null,null,null,null,null,null,null,{"$f":"IF(AN286=\"\",\"\",IF(LEN(VLOOKUP(AN286,Sifranti!BY:BZ,2,FALSE))=0,\"\",VLOOKUP(AN286,Sifranti!BY:BZ,2,FALSE)))","v":""},{"$f":"IF(C286=\"\",\"\",VLOOKUP(C286,Sifranti!P:R,2,FALSE))","v":""},"","",{"$f":"IF(C286=\"\",\"\",VLOOKUP(C286,Sifranti!P:R,3,FALSE))","v":""},{"$f":"IF(N286=\"\",\"\",VLOOKUP(N286,Sifranti!D:F,2,FALSE))","v":""},{"$f":"IF(AK286=\"\",\"\",VLOOKUP(AK286,Sifranti!V:Y,2,FALSE))","v":""},{"$f":"IF(AK286=\"\",\"\",IF(VLOOKUP(AK286,Sifranti!V:Y,3,FALSE)=\"\",\"\",VLOOKUP(AK286,Sifranti!V:Y,3,FALSE)))","v":""},{"$f":"IF(AK286=\"\",\"\",VLOOKUP(AK286,Sifranti!V:Y,4,FALSE))","v":""}]
[{"$f":"IF(B287=\"\",\"\",VLOOKUP(B287,Sifranti!K:L,2,FALSE))","v":""},null,null,null,null,null,null,null,null,"",{"$f":"IF(L287=\"\",\"\",VLOOKUP(L287,Sifranti!A:B,2,FALSE))","v":""},null,{"$f":"IF(N287=\"\",\"\",VLOOKUP(N287,Sifranti!D:F,3,FALSE))","v":""},null,{"$f":"IF(P287=\"\",\"\",VLOOKUP(P287,Sifranti!H:I,2,FALSE))","v":""},null,null,null,null,null,null,null,null,null,null,null,null,null,null,null,null,null,null,null,null,null,null,null,null,null,{"$f":"IF(AN287=\"\",\"\",IF(LEN(VLOOKUP(AN287,Sifranti!BY:BZ,2,FALSE))=0,\"\",VLOOKUP(AN287,Sifranti!BY:BZ,2,FALSE)))","v":""},{"$f":"IF(C287=\"\",\"\",VLOOKUP(C287,Sifranti!P:R,2,FALSE))","v":""},"","",{"$f":"IF(C287=\"\",\"\",VLOOKUP(C287,Sifranti!P:R,3,FALSE))","v":""},{"$f":"IF(N287=\"\",\"\",VLOOKUP(N287,Sifranti!D:F,2,FALSE))","v":""},{"$f":"IF(AK287=\"\",\"\",VLOOKUP(AK287,Sifranti!V:Y,2,FALSE))","v":""},{"$f":"IF(AK287=\"\",\"\",IF(VLOOKUP(AK287,Sifranti!V:Y,3,FALSE)=\"\",\"\",VLOOKUP(AK287,Sifranti!V:Y,3,FALSE)))","v":""},{"$f":"IF(AK287=\"\",\"\",VLOOKUP(AK287,Sifranti!V:Y,4,FALSE))","v":""}]
[{"$f":"IF(B288=\"\",\"\",VLOOKUP(B288,Sifranti!K:L,2,FALSE))","v":""},null,null,null,null,null,null,null,null,"",{"$f":"IF(L288=\"\",\"\",VLOOKUP(L288,Sifranti!A:B,2,FALSE))","v":""},null,{"$f":"IF(N288=\"\",\"\",VLOOKUP(N288,Sifranti!D:F,3,FALSE))","v":""},null,{"$f":"IF(P288=\"\",\"\",VLOOKUP(P288,Sifranti!H:I,2,FALSE))","v":""},null,null,null,null,null,null,null,null,null,null,null,null,null,null,null,null,null,null,null,null,null,null,null,null,null,{"$f":"IF(AN288=\"\",\"\",IF(LEN(VLOOKUP(AN288,Sifranti!BY:BZ,2,FALSE))=0,\"\",VLOOKUP(AN288,Sifranti!BY:BZ,2,FALSE)))","v":""},{"$f":"IF(C288=\"\",\"\",VLOOKUP(C288,Sifranti!P:R,2,FALSE))","v":""},"","",{"$f":"IF(C288=\"\",\"\",VLOOKUP(C288,Sifranti!P:R,3,FALSE))","v":""},{"$f":"IF(N288=\"\",\"\",VLOOKUP(N288,Sifranti!D:F,2,FALSE))","v":""},{"$f":"IF(AK288=\"\",\"\",VLOOKUP(AK288,Sifranti!V:Y,2,FALSE))","v":""},{"$f":"IF(AK288=\"\",\"\",IF(VLOOKUP(AK288,Sifranti!V:Y,3,FALSE)=\"\",\"\",VLOOKUP(AK288,Sifranti!V:Y,3,FALSE)))","v":""},{"$f":"IF(AK288=\"\",\"\",VLOOKUP(AK288,Sifranti!V:Y,4,FALSE))","v":""}]
[{"$f":"IF(B289=\"\",\"\",VLOOKUP(B289,Sifranti!K:L,2,FALSE))","v":""},null,null,null,null,null,null,null,null,"",{"$f":"IF(L289=\"\",\"\",VLOOKUP(L289,Sifranti!A:B,2,FALSE))","v":""},null,{"$f":"IF(N289=\"\",\"\",VLOOKUP(N289,Sifranti!D:F,3,FALSE))","v":""},null,{"$f":"IF(P289=\"\",\"\",VLOOKUP(P289,Sifranti!H:I,2,FALSE))","v":""},null,null,null,null,null,null,null,null,null,null,null,null,null,null,null,null,null,null,null,null,null,null,null,null,null,{"$f":"IF(AN289=\"\",\"\",IF(LEN(VLOOKUP(AN289,Sifranti!BY:BZ,2,FALSE))=0,\"\",VLOOKUP(AN289,Sifranti!BY:BZ,2,FALSE)))","v":""},{"$f":"IF(C289=\"\",\"\",VLOOKUP(C289,Sifranti!P:R,2,FALSE))","v":""},"","",{"$f":"IF(C289=\"\",\"\",VLOOKUP(C289,Sifranti!P:R,3,FALSE))","v":""},{"$f":"IF(N289=\"\",\"\",VLOOKUP(N289,Sifranti!D:F,2,FALSE))","v":""},{"$f":"IF(AK289=\"\",\"\",VLOOKUP(AK289,Sifranti!V:Y,2,FALSE))","v":""},{"$f":"IF(AK289=\"\",\"\",IF(VLOOKUP(AK289,Sifranti!V:Y,3,FALSE)=\"\",\"\",VLOOKUP(AK289,Sifranti!V:Y,3,FALSE)))","v":""},{"$f":"IF(AK289=\"\",\"\",VLOOKUP(AK289,Sifranti!V:Y,4,FALSE))","v":""}]
[{"$f":"IF(B290=\"\",\"\",VLOOKUP(B290,Sifranti!K:L,2,FALSE))","v":""},null,null,null,null,null,null,null,null,"",{"$f":"IF(L290=\"\",\"\",VLOOKUP(L290,Sifranti!A:B,2,FALSE))","v":""},null,{"$f":"IF(N290=\"\",\"\",VLOOKUP(N290,Sifranti!D:F,3,FALSE))","v":""},null,{"$f":"IF(P290=\"\",\"\",VLOOKUP(P290,Sifranti!H:I,2,FALSE))","v":""},null,null,null,null,null,null,null,null,null,null,null,null,null,null,null,null,null,null,null,null,null,null,null,null,null,{"$f":"IF(AN290=\"\",\"\",IF(LEN(VLOOKUP(AN290,Sifranti!BY:BZ,2,FALSE))=0,\"\",VLOOKUP(AN290,Sifranti!BY:BZ,2,FALSE)))","v":""},{"$f":"IF(C290=\"\",\"\",VLOOKUP(C290,Sifranti!P:R,2,FALSE))","v":""},"","",{"$f":"IF(C290=\"\",\"\",VLOOKUP(C290,Sifranti!P:R,3,FALSE))","v":""},{"$f":"IF(N290=\"\",\"\",VLOOKUP(N290,Sifranti!D:F,2,FALSE))","v":""},{"$f":"IF(AK290=\"\",\"\",VLOOKUP(AK290,Sifranti!V:Y,2,FALSE))","v":""},{"$f":"IF(AK290=\"\",\"\",IF(VLOOKUP(AK290,Sifranti!V:Y,3,FALSE)=\"\",\"\",VLOOKUP(AK290,Sifranti!V:Y,3,FALSE)))","v":""},{"$f":"IF(AK290=\"\",\"\",VLOOKUP(AK290,Sifranti!V:Y,4,FALSE))","v":""}]
[{"$f":"IF(B291=\"\",\"\",VLOOKUP(B291,Sifranti!K:L,2,FALSE))","v":""},null,null,null,null,null,null,null,null,"",{"$f":"IF(L291=\"\",\"\",VLOOKUP(L291,Sifranti!A:B,2,FALSE))","v":""},null,{"$f":"IF(N291=\"\",\"\",VLOOKUP(N291,Sifranti!D:F,3,FALSE))","v":""},null,{"$f":"IF(P291=\"\",\"\",VLOOKUP(P291,Sifranti!H:I,2,FALSE))","v":""},null,null,null,null,null,null,null,null,null,null,null,null,null,null,null,null,null,null,null,null,null,null,null,null,null,{"$f":"IF(AN291=\"\",\"\",IF(LEN(VLOOKUP(AN291,Sifranti!BY:BZ,2,FALSE))=0,\"\",VLOOKUP(AN291,Sifranti!BY:BZ,2,FALSE)))","v":""},{"$f":"IF(C291=\"\",\"\",VLOOKUP(C291,Sifranti!P:R,2,FALSE))","v":""},"","",{"$f":"IF(C291=\"\",\"\",VLOOKUP(C291,Sifranti!P:R,3,FALSE))","v":""},{"$f":"IF(N291=\"\",\"\",VLOOKUP(N291,Sifranti!D:F,2,FALSE))","v":""},{"$f":"IF(AK291=\"\",\"\",VLOOKUP(AK291,Sifranti!V:Y,2,FALSE))","v":""},{"$f":"IF(AK291=\"\",\"\",IF(VLOOKUP(AK291,Sifranti!V:Y,3,FALSE)=\"\",\"\",VLOOKUP(AK291,Sifranti!V:Y,3,FALSE)))","v":""},{"$f":"IF(AK291=\"\",\"\",VLOOKUP(AK291,Sifranti!V:Y,4,FALSE))","v":""}]
[{"$f":"IF(B292=\"\",\"\",VLOOKUP(B292,Sifranti!K:L,2,FALSE))","v":""},null,null,null,null,null,null,null,null,"",{"$f":"IF(L292=\"\",\"\",VLOOKUP(L292,Sifranti!A:B,2,FALSE))","v":""},null,{"$f":"IF(N292=\"\",\"\",VLOOKUP(N292,Sifranti!D:F,3,FALSE))","v":""},null,{"$f":"IF(P292=\"\",\"\",VLOOKUP(P292,Sifranti!H:I,2,FALSE))","v":""},null,null,null,null,null,null,null,null,null,null,null,null,null,null,null,null,null,null,null,null,null,null,null,null,null,{"$f":"IF(AN292=\"\",\"\",IF(LEN(VLOOKUP(AN292,Sifranti!BY:BZ,2,FALSE))=0,\"\",VLOOKUP(AN292,Sifranti!BY:BZ,2,FALSE)))","v":""},{"$f":"IF(C292=\"\",\"\",VLOOKUP(C292,Sifranti!P:R,2,FALSE))","v":""},"","",{"$f":"IF(C292=\"\",\"\",VLOOKUP(C292,Sifranti!P:R,3,FALSE))","v":""},{"$f":"IF(N292=\"\",\"\",VLOOKUP(N292,Sifranti!D:F,2,FALSE))","v":""},{"$f":"IF(AK292=\"\",\"\",VLOOKUP(AK292,Sifranti!V:Y,2,FALSE))","v":""},{"$f":"IF(AK292=\"\",\"\",IF(VLOOKUP(AK292,Sifranti!V:Y,3,FALSE)=\"\",\"\",VLOOKUP(AK292,Sifranti!V:Y,3,FALSE)))","v":""},{"$f":"IF(AK292=\"\",\"\",VLOOKUP(AK292,Sifranti!V:Y,4,FALSE))","v":""}]
[{"$f":"IF(B293=\"\",\"\",VLOOKUP(B293,Sifranti!K:L,2,FALSE))","v":""},null,null,null,null,null,null,null,null,"",{"$f":"IF(L293=\"\",\"\",VLOOKUP(L293,Sifranti!A:B,2,FALSE))","v":""},null,{"$f":"IF(N293=\"\",\"\",VLOOKUP(N293,Sifranti!D:F,3,FALSE))","v":""},null,{"$f":"IF(P293=\"\",\"\",VLOOKUP(P293,Sifranti!H:I,2,FALSE))","v":""},null,null,null,null,null,null,null,null,null,null,null,null,null,null,null,null,null,null,null,null,null,null,null,null,null,{"$f":"IF(AN293=\"\",\"\",IF(LEN(VLOOKUP(AN293,Sifranti!BY:BZ,2,FALSE))=0,\"\",VLOOKUP(AN293,Sifranti!BY:BZ,2,FALSE)))","v":""},{"$f":"IF(C293=\"\",\"\",VLOOKUP(C293,Sifranti!P:R,2,FALSE))","v":""},"","",{"$f":"IF(C293=\"\",\"\",VLOOKUP(C293,Sifranti!P:R,3,FALSE))","v":""},{"$f":"IF(N293=\"\",\"\",VLOOKUP(N293,Sifranti!D:F,2,FALSE))","v":""},{"$f":"IF(AK293=\"\",\"\",VLOOKUP(AK293,Sifranti!V:Y,2,FALSE))","v":""},{"$f":"IF(AK293=\"\",\"\",IF(VLOOKUP(AK293,Sifranti!V:Y,3,FALSE)=\"\",\"\",VLOOKUP(AK293,Sifranti!V:Y,3,FALSE)))","v":""},{"$f":"IF(AK293=\"\",\"\",VLOOKUP(AK293,Sifranti!V:Y,4,FALSE))","v":""}]
[{"$f":"IF(B294=\"\",\"\",VLOOKUP(B294,Sifranti!K:L,2,FALSE))","v":""},null,null,null,null,null,null,null,null,"",{"$f":"IF(L294=\"\",\"\",VLOOKUP(L294,Sifranti!A:B,2,FALSE))","v":""},null,{"$f":"IF(N294=\"\",\"\",VLOOKUP(N294,Sifranti!D:F,3,FALSE))","v":""},null,{"$f":"IF(P294=\"\",\"\",VLOOKUP(P294,Sifranti!H:I,2,FALSE))","v":""},null,null,null,null,null,null,null,null,null,null,null,null,null,null,null,null,null,null,null,null,null,null,null,null,null,{"$f":"IF(AN294=\"\",\"\",IF(LEN(VLOOKUP(AN294,Sifranti!BY:BZ,2,FALSE))=0,\"\",VLOOKUP(AN294,Sifranti!BY:BZ,2,FALSE)))","v":""},{"$f":"IF(C294=\"\",\"\",VLOOKUP(C294,Sifranti!P:R,2,FALSE))","v":""},"","",{"$f":"IF(C294=\"\",\"\",VLOOKUP(C294,Sifranti!P:R,3,FALSE))","v":""},{"$f":"IF(N294=\"\",\"\",VLOOKUP(N294,Sifranti!D:F,2,FALSE))","v":""},{"$f":"IF(AK294=\"\",\"\",VLOOKUP(AK294,Sifranti!V:Y,2,FALSE))","v":""},{"$f":"IF(AK294=\"\",\"\",IF(VLOOKUP(AK294,Sifranti!V:Y,3,FALSE)=\"\",\"\",VLOOKUP(AK294,Sifranti!V:Y,3,FALSE)))","v":""},{"$f":"IF(AK294=\"\",\"\",VLOOKUP(AK294,Sifranti!V:Y,4,FALSE))","v":""}]
[{"$f":"IF(B295=\"\",\"\",VLOOKUP(B295,Sifranti!K:L,2,FALSE))","v":""},null,null,null,null,null,null,null,null,"",{"$f":"IF(L295=\"\",\"\",VLOOKUP(L295,Sifranti!A:B,2,FALSE))","v":""},null,{"$f":"IF(N295=\"\",\"\",VLOOKUP(N295,Sifranti!D:F,3,FALSE))","v":""},null,{"$f":"IF(P295=\"\",\"\",VLOOKUP(P295,Sifranti!H:I,2,FALSE))","v":""},null,null,null,null,null,null,null,null,null,null,null,null,null,null,null,null,null,null,null,null,null,null,null,null,null,{"$f":"IF(AN295=\"\",\"\",IF(LEN(VLOOKUP(AN295,Sifranti!BY:BZ,2,FALSE))=0,\"\",VLOOKUP(AN295,Sifranti!BY:BZ,2,FALSE)))","v":""},{"$f":"IF(C295=\"\",\"\",VLOOKUP(C295,Sifranti!P:R,2,FALSE))","v":""},"","",{"$f":"IF(C295=\"\",\"\",VLOOKUP(C295,Sifranti!P:R,3,FALSE))","v":""},{"$f":"IF(N295=\"\",\"\",VLOOKUP(N295,Sifranti!D:F,2,FALSE))","v":""},{"$f":"IF(AK295=\"\",\"\",VLOOKUP(AK295,Sifranti!V:Y,2,FALSE))","v":""},{"$f":"IF(AK295=\"\",\"\",IF(VLOOKUP(AK295,Sifranti!V:Y,3,FALSE)=\"\",\"\",VLOOKUP(AK295,Sifranti!V:Y,3,FALSE)))","v":""},{"$f":"IF(AK295=\"\",\"\",VLOOKUP(AK295,Sifranti!V:Y,4,FALSE))","v":""}]
[{"$f":"IF(B296=\"\",\"\",VLOOKUP(B296,Sifranti!K:L,2,FALSE))","v":""},null,null,null,null,null,null,null,null,"",{"$f":"IF(L296=\"\",\"\",VLOOKUP(L296,Sifranti!A:B,2,FALSE))","v":""},null,{"$f":"IF(N296=\"\",\"\",VLOOKUP(N296,Sifranti!D:F,3,FALSE))","v":""},null,{"$f":"IF(P296=\"\",\"\",VLOOKUP(P296,Sifranti!H:I,2,FALSE))","v":""},null,null,null,null,null,null,null,null,null,null,null,null,null,null,null,null,null,null,null,null,null,null,null,null,null,{"$f":"IF(AN296=\"\",\"\",IF(LEN(VLOOKUP(AN296,Sifranti!BY:BZ,2,FALSE))=0,\"\",VLOOKUP(AN296,Sifranti!BY:BZ,2,FALSE)))","v":""},{"$f":"IF(C296=\"\",\"\",VLOOKUP(C296,Sifranti!P:R,2,FALSE))","v":""},"","",{"$f":"IF(C296=\"\",\"\",VLOOKUP(C296,Sifranti!P:R,3,FALSE))","v":""},{"$f":"IF(N296=\"\",\"\",VLOOKUP(N296,Sifranti!D:F,2,FALSE))","v":""},{"$f":"IF(AK296=\"\",\"\",VLOOKUP(AK296,Sifranti!V:Y,2,FALSE))","v":""},{"$f":"IF(AK296=\"\",\"\",IF(VLOOKUP(AK296,Sifranti!V:Y,3,FALSE)=\"\",\"\",VLOOKUP(AK296,Sifranti!V:Y,3,FALSE)))","v":""},{"$f":"IF(AK296=\"\",\"\",VLOOKUP(AK296,Sifranti!V:Y,4,FALSE))","v":""}]
[{"$f":"IF(B297=\"\",\"\",VLOOKUP(B297,Sifranti!K:L,2,FALSE))","v":""},null,null,null,null,null,null,null,null,"",{"$f":"IF(L297=\"\",\"\",VLOOKUP(L297,Sifranti!A:B,2,FALSE))","v":""},null,{"$f":"IF(N297=\"\",\"\",VLOOKUP(N297,Sifranti!D:F,3,FALSE))","v":""},null,{"$f":"IF(P297=\"\",\"\",VLOOKUP(P297,Sifranti!H:I,2,FALSE))","v":""},null,null,null,null,null,null,null,null,null,null,null,null,null,null,null,null,null,null,null,null,null,null,null,null,null,{"$f":"IF(AN297=\"\",\"\",IF(LEN(VLOOKUP(AN297,Sifranti!BY:BZ,2,FALSE))=0,\"\",VLOOKUP(AN297,Sifranti!BY:BZ,2,FALSE)))","v":""},{"$f":"IF(C297=\"\",\"\",VLOOKUP(C297,Sifranti!P:R,2,FALSE))","v":""},"","",{"$f":"IF(C297=\"\",\"\",VLOOKUP(C297,Sifranti!P:R,3,FALSE))","v":""},{"$f":"IF(N297=\"\",\"\",VLOOKUP(N297,Sifranti!D:F,2,FALSE))","v":""},{"$f":"IF(AK297=\"\",\"\",VLOOKUP(AK297,Sifranti!V:Y,2,FALSE))","v":""},{"$f":"IF(AK297=\"\",\"\",IF(VLOOKUP(AK297,Sifranti!V:Y,3,FALSE)=\"\",\"\",VLOOKUP(AK297,Sifranti!V:Y,3,FALSE)))","v":""},{"$f":"IF(AK297=\"\",\"\",VLOOKUP(AK297,Sifranti!V:Y,4,FALSE))","v":""}]
[{"$f":"IF(B298=\"\",\"\",VLOOKUP(B298,Sifranti!K:L,2,FALSE))","v":""},null,null,null,null,null,null,null,null,"",{"$f":"IF(L298=\"\",\"\",VLOOKUP(L298,Sifranti!A:B,2,FALSE))","v":""},null,{"$f":"IF(N298=\"\",\"\",VLOOKUP(N298,Sifranti!D:F,3,FALSE))","v":""},null,{"$f":"IF(P298=\"\",\"\",VLOOKUP(P298,Sifranti!H:I,2,FALSE))","v":""},null,null,null,null,null,null,null,null,null,null,null,null,null,null,null,null,null,null,null,null,null,null,null,null,null,{"$f":"IF(AN298=\"\",\"\",IF(LEN(VLOOKUP(AN298,Sifranti!BY:BZ,2,FALSE))=0,\"\",VLOOKUP(AN298,Sifranti!BY:BZ,2,FALSE)))","v":""},{"$f":"IF(C298=\"\",\"\",VLOOKUP(C298,Sifranti!P:R,2,FALSE))","v":""},"","",{"$f":"IF(C298=\"\",\"\",VLOOKUP(C298,Sifranti!P:R,3,FALSE))","v":""},{"$f":"IF(N298=\"\",\"\",VLOOKUP(N298,Sifranti!D:F,2,FALSE))","v":""},{"$f":"IF(AK298=\"\",\"\",VLOOKUP(AK298,Sifranti!V:Y,2,FALSE))","v":""},{"$f":"IF(AK298=\"\",\"\",IF(VLOOKUP(AK298,Sifranti!V:Y,3,FALSE)=\"\",\"\",VLOOKUP(AK298,Sifranti!V:Y,3,FALSE)))","v":""},{"$f":"IF(AK298=\"\",\"\",VLOOKUP(AK298,Sifranti!V:Y,4,FALSE))","v":""}]
[{"$f":"IF(B299=\"\",\"\",VLOOKUP(B299,Sifranti!K:L,2,FALSE))","v":""},null,null,null,null,null,null,null,null,"",{"$f":"IF(L299=\"\",\"\",VLOOKUP(L299,Sifranti!A:B,2,FALSE))","v":""},null,{"$f":"IF(N299=\"\",\"\",VLOOKUP(N299,Sifranti!D:F,3,FALSE))","v":""},null,{"$f":"IF(P299=\"\",\"\",VLOOKUP(P299,Sifranti!H:I,2,FALSE))","v":""},null,null,null,null,null,null,null,null,null,null,null,null,null,null,null,null,null,null,null,null,null,null,null,null,null,{"$f":"IF(AN299=\"\",\"\",IF(LEN(VLOOKUP(AN299,Sifranti!BY:BZ,2,FALSE))=0,\"\",VLOOKUP(AN299,Sifranti!BY:BZ,2,FALSE)))","v":""},{"$f":"IF(C299=\"\",\"\",VLOOKUP(C299,Sifranti!P:R,2,FALSE))","v":""},"","",{"$f":"IF(C299=\"\",\"\",VLOOKUP(C299,Sifranti!P:R,3,FALSE))","v":""},{"$f":"IF(N299=\"\",\"\",VLOOKUP(N299,Sifranti!D:F,2,FALSE))","v":""},{"$f":"IF(AK299=\"\",\"\",VLOOKUP(AK299,Sifranti!V:Y,2,FALSE))","v":""},{"$f":"IF(AK299=\"\",\"\",IF(VLOOKUP(AK299,Sifranti!V:Y,3,FALSE)=\"\",\"\",VLOOKUP(AK299,Sifranti!V:Y,3,FALSE)))","v":""},{"$f":"IF(AK299=\"\",\"\",VLOOKUP(AK299,Sifranti!V:Y,4,FALSE))","v":""}]
[{"$f":"IF(B300=\"\",\"\",VLOOKUP(B300,Sifranti!K:L,2,FALSE))","v":""},null,null,null,null,null,null,null,null,"",{"$f":"IF(L300=\"\",\"\",VLOOKUP(L300,Sifranti!A:B,2,FALSE))","v":""},null,{"$f":"IF(N300=\"\",\"\",VLOOKUP(N300,Sifranti!D:F,3,FALSE))","v":""},null,{"$f":"IF(P300=\"\",\"\",VLOOKUP(P300,Sifranti!H:I,2,FALSE))","v":""},null,null,null,null,null,null,null,null,null,null,null,null,null,null,null,null,null,null,null,null,null,null,null,null,null,{"$f":"IF(AN300=\"\",\"\",IF(LEN(VLOOKUP(AN300,Sifranti!BY:BZ,2,FALSE))=0,\"\",VLOOKUP(AN300,Sifranti!BY:BZ,2,FALSE)))","v":""},{"$f":"IF(C300=\"\",\"\",VLOOKUP(C300,Sifranti!P:R,2,FALSE))","v":""},"","",{"$f":"IF(C300=\"\",\"\",VLOOKUP(C300,Sifranti!P:R,3,FALSE))","v":""},{"$f":"IF(N300=\"\",\"\",VLOOKUP(N300,Sifranti!D:F,2,FALSE))","v":""},{"$f":"IF(AK300=\"\",\"\",VLOOKUP(AK300,Sifranti!V:Y,2,FALSE))","v":""},{"$f":"IF(AK300=\"\",\"\",IF(VLOOKUP(AK300,Sifranti!V:Y,3,FALSE)=\"\",\"\",VLOOKUP(AK300,Sifranti!V:Y,3,FALSE)))","v":""},{"$f":"IF(AK300=\"\",\"\",VLOOKUP(AK300,Sifranti!V:Y,4,FALSE))","v":""}]
[{"$f":"IF(B301=\"\",\"\",VLOOKUP(B301,Sifranti!K:L,2,FALSE))","v":""},null,null,null,null,null,null,null,null,"",{"$f":"IF(L301=\"\",\"\",VLOOKUP(L301,Sifranti!A:B,2,FALSE))","v":""},null,{"$f":"IF(N301=\"\",\"\",VLOOKUP(N301,Sifranti!D:F,3,FALSE))","v":""},null,{"$f":"IF(P301=\"\",\"\",VLOOKUP(P301,Sifranti!H:I,2,FALSE))","v":""},null,null,null,null,null,null,null,null,null,null,null,null,null,null,null,null,null,null,null,null,null,null,null,null,null,{"$f":"IF(AN301=\"\",\"\",IF(LEN(VLOOKUP(AN301,Sifranti!BY:BZ,2,FALSE))=0,\"\",VLOOKUP(AN301,Sifranti!BY:BZ,2,FALSE)))","v":""},{"$f":"IF(C301=\"\",\"\",VLOOKUP(C301,Sifranti!P:R,2,FALSE))","v":""},"","",{"$f":"IF(C301=\"\",\"\",VLOOKUP(C301,Sifranti!P:R,3,FALSE))","v":""},{"$f":"IF(N301=\"\",\"\",VLOOKUP(N301,Sifranti!D:F,2,FALSE))","v":""},{"$f":"IF(AK301=\"\",\"\",VLOOKUP(AK301,Sifranti!V:Y,2,FALSE))","v":""},{"$f":"IF(AK301=\"\",\"\",IF(VLOOKUP(AK301,Sifranti!V:Y,3,FALSE)=\"\",\"\",VLOOKUP(AK301,Sifranti!V:Y,3,FALSE)))","v":""},{"$f":"IF(AK301=\"\",\"\",VLOOKUP(AK301,Sifranti!V:Y,4,FALSE))","v":""}]
[{"$f":"IF(B302=\"\",\"\",VLOOKUP(B302,Sifranti!K:L,2,FALSE))","v":""},null,null,null,null,null,null,null,null,"",{"$f":"IF(L302=\"\",\"\",VLOOKUP(L302,Sifranti!A:B,2,FALSE))","v":""},null,{"$f":"IF(N302=\"\",\"\",VLOOKUP(N302,Sifranti!D:F,3,FALSE))","v":""},null,{"$f":"IF(P302=\"\",\"\",VLOOKUP(P302,Sifranti!H:I,2,FALSE))","v":""},null,null,null,null,null,null,null,null,null,null,null,null,null,null,null,null,null,null,null,null,null,null,null,null,null,{"$f":"IF(AN302=\"\",\"\",IF(LEN(VLOOKUP(AN302,Sifranti!BY:BZ,2,FALSE))=0,\"\",VLOOKUP(AN302,Sifranti!BY:BZ,2,FALSE)))","v":""},{"$f":"IF(C302=\"\",\"\",VLOOKUP(C302,Sifranti!P:R,2,FALSE))","v":""},"","",{"$f":"IF(C302=\"\",\"\",VLOOKUP(C302,Sifranti!P:R,3,FALSE))","v":""},{"$f":"IF(N302=\"\",\"\",VLOOKUP(N302,Sifranti!D:F,2,FALSE))","v":""},{"$f":"IF(AK302=\"\",\"\",VLOOKUP(AK302,Sifranti!V:Y,2,FALSE))","v":""},{"$f":"IF(AK302=\"\",\"\",IF(VLOOKUP(AK302,Sifranti!V:Y,3,FALSE)=\"\",\"\",VLOOKUP(AK302,Sifranti!V:Y,3,FALSE)))","v":""},{"$f":"IF(AK302=\"\",\"\",VLOOKUP(AK302,Sifranti!V:Y,4,FALSE))","v":""}]
[{"$f":"IF(B303=\"\",\"\",VLOOKUP(B303,Sifranti!K:L,2,FALSE))","v":""},null,null,null,null,null,null,null,null,"",{"$f":"IF(L303=\"\",\"\",VLOOKUP(L303,Sifranti!A:B,2,FALSE))","v":""},null,{"$f":"IF(N303=\"\",\"\",VLOOKUP(N303,Sifranti!D:F,3,FALSE))","v":""},null,{"$f":"IF(P303=\"\",\"\",VLOOKUP(P303,Sifranti!H:I,2,FALSE))","v":""},null,null,null,null,null,null,null,null,null,null,null,null,null,null,null,null,null,null,null,null,null,null,null,null,null,{"$f":"IF(AN303=\"\",\"\",IF(LEN(VLOOKUP(AN303,Sifranti!BY:BZ,2,FALSE))=0,\"\",VLOOKUP(AN303,Sifranti!BY:BZ,2,FALSE)))","v":""},{"$f":"IF(C303=\"\",\"\",VLOOKUP(C303,Sifranti!P:R,2,FALSE))","v":""},"","",{"$f":"IF(C303=\"\",\"\",VLOOKUP(C303,Sifranti!P:R,3,FALSE))","v":""},{"$f":"IF(N303=\"\",\"\",VLOOKUP(N303,Sifranti!D:F,2,FALSE))","v":""},{"$f":"IF(AK303=\"\",\"\",VLOOKUP(AK303,Sifranti!V:Y,2,FALSE))","v":""},{"$f":"IF(AK303=\"\",\"\",IF(VLOOKUP(AK303,Sifranti!V:Y,3,FALSE)=\"\",\"\",VLOOKUP(AK303,Sifranti!V:Y,3,FALSE)))","v":""},{"$f":"IF(AK303=\"\",\"\",VLOOKUP(AK303,Sifranti!V:Y,4,FALSE))","v":""}]
[{"$f":"IF(B304=\"\",\"\",VLOOKUP(B304,Sifranti!K:L,2,FALSE))","v":""},null,null,null,null,null,null,null,null,"",{"$f":"IF(L304=\"\",\"\",VLOOKUP(L304,Sifranti!A:B,2,FALSE))","v":""},null,{"$f":"IF(N304=\"\",\"\",VLOOKUP(N304,Sifranti!D:F,3,FALSE))","v":""},null,{"$f":"IF(P304=\"\",\"\",VLOOKUP(P304,Sifranti!H:I,2,FALSE))","v":""},null,null,null,null,null,null,null,null,null,null,null,null,null,null,null,null,null,null,null,null,null,null,null,null,null,{"$f":"IF(AN304=\"\",\"\",IF(LEN(VLOOKUP(AN304,Sifranti!BY:BZ,2,FALSE))=0,\"\",VLOOKUP(AN304,Sifranti!BY:BZ,2,FALSE)))","v":""},{"$f":"IF(C304=\"\",\"\",VLOOKUP(C304,Sifranti!P:R,2,FALSE))","v":""},"","",{"$f":"IF(C304=\"\",\"\",VLOOKUP(C304,Sifranti!P:R,3,FALSE))","v":""},{"$f":"IF(N304=\"\",\"\",VLOOKUP(N304,Sifranti!D:F,2,FALSE))","v":""},{"$f":"IF(AK304=\"\",\"\",VLOOKUP(AK304,Sifranti!V:Y,2,FALSE))","v":""},{"$f":"IF(AK304=\"\",\"\",IF(VLOOKUP(AK304,Sifranti!V:Y,3,FALSE)=\"\",\"\",VLOOKUP(AK304,Sifranti!V:Y,3,FALSE)))","v":""},{"$f":"IF(AK304=\"\",\"\",VLOOKUP(AK304,Sifranti!V:Y,4,FALSE))","v":""}]
[{"$f":"IF(B305=\"\",\"\",VLOOKUP(B305,Sifranti!K:L,2,FALSE))","v":""},null,null,null,null,null,null,null,null,"",{"$f":"IF(L305=\"\",\"\",VLOOKUP(L305,Sifranti!A:B,2,FALSE))","v":""},null,{"$f":"IF(N305=\"\",\"\",VLOOKUP(N305,Sifranti!D:F,3,FALSE))","v":""},null,{"$f":"IF(P305=\"\",\"\",VLOOKUP(P305,Sifranti!H:I,2,FALSE))","v":""},null,null,null,null,null,null,null,null,null,null,null,null,null,null,null,null,null,null,null,null,null,null,null,null,null,{"$f":"IF(AN305=\"\",\"\",IF(LEN(VLOOKUP(AN305,Sifranti!BY:BZ,2,FALSE))=0,\"\",VLOOKUP(AN305,Sifranti!BY:BZ,2,FALSE)))","v":""},{"$f":"IF(C305=\"\",\"\",VLOOKUP(C305,Sifranti!P:R,2,FALSE))","v":""},"","",{"$f":"IF(C305=\"\",\"\",VLOOKUP(C305,Sifranti!P:R,3,FALSE))","v":""},{"$f":"IF(N305=\"\",\"\",VLOOKUP(N305,Sifranti!D:F,2,FALSE))","v":""},{"$f":"IF(AK305=\"\",\"\",VLOOKUP(AK305,Sifranti!V:Y,2,FALSE))","v":""},{"$f":"IF(AK305=\"\",\"\",IF(VLOOKUP(AK305,Sifranti!V:Y,3,FALSE)=\"\",\"\",VLOOKUP(AK305,Sifranti!V:Y,3,FALSE)))","v":""},{"$f":"IF(AK305=\"\",\"\",VLOOKUP(AK305,Sifranti!V:Y,4,FALSE))","v":""}]
[{"$f":"IF(B306=\"\",\"\",VLOOKUP(B306,Sifranti!K:L,2,FALSE))","v":""},null,null,null,null,null,null,null,null,"",{"$f":"IF(L306=\"\",\"\",VLOOKUP(L306,Sifranti!A:B,2,FALSE))","v":""},null,{"$f":"IF(N306=\"\",\"\",VLOOKUP(N306,Sifranti!D:F,3,FALSE))","v":""},null,{"$f":"IF(P306=\"\",\"\",VLOOKUP(P306,Sifranti!H:I,2,FALSE))","v":""},null,null,null,null,null,null,null,null,null,null,null,null,null,null,null,null,null,null,null,null,null,null,null,null,null,{"$f":"IF(AN306=\"\",\"\",IF(LEN(VLOOKUP(AN306,Sifranti!BY:BZ,2,FALSE))=0,\"\",VLOOKUP(AN306,Sifranti!BY:BZ,2,FALSE)))","v":""},{"$f":"IF(C306=\"\",\"\",VLOOKUP(C306,Sifranti!P:R,2,FALSE))","v":""},"","",{"$f":"IF(C306=\"\",\"\",VLOOKUP(C306,Sifranti!P:R,3,FALSE))","v":""},{"$f":"IF(N306=\"\",\"\",VLOOKUP(N306,Sifranti!D:F,2,FALSE))","v":""},{"$f":"IF(AK306=\"\",\"\",VLOOKUP(AK306,Sifranti!V:Y,2,FALSE))","v":""},{"$f":"IF(AK306=\"\",\"\",IF(VLOOKUP(AK306,Sifranti!V:Y,3,FALSE)=\"\",\"\",VLOOKUP(AK306,Sifranti!V:Y,3,FALSE)))","v":""},{"$f":"IF(AK306=\"\",\"\",VLOOKUP(AK306,Sifranti!V:Y,4,FALSE))","v":""}]
[{"$f":"IF(B307=\"\",\"\",VLOOKUP(B307,Sifranti!K:L,2,FALSE))","v":""},null,null,null,null,null,null,null,null,"",{"$f":"IF(L307=\"\",\"\",VLOOKUP(L307,Sifranti!A:B,2,FALSE))","v":""},null,{"$f":"IF(N307=\"\",\"\",VLOOKUP(N307,Sifranti!D:F,3,FALSE))","v":""},null,{"$f":"IF(P307=\"\",\"\",VLOOKUP(P307,Sifranti!H:I,2,FALSE))","v":""},null,null,null,null,null,null,null,null,null,null,null,null,null,null,null,null,null,null,null,null,null,null,null,null,null,{"$f":"IF(AN307=\"\",\"\",IF(LEN(VLOOKUP(AN307,Sifranti!BY:BZ,2,FALSE))=0,\"\",VLOOKUP(AN307,Sifranti!BY:BZ,2,FALSE)))","v":""},{"$f":"IF(C307=\"\",\"\",VLOOKUP(C307,Sifranti!P:R,2,FALSE))","v":""},"","",{"$f":"IF(C307=\"\",\"\",VLOOKUP(C307,Sifranti!P:R,3,FALSE))","v":""},{"$f":"IF(N307=\"\",\"\",VLOOKUP(N307,Sifranti!D:F,2,FALSE))","v":""},{"$f":"IF(AK307=\"\",\"\",VLOOKUP(AK307,Sifranti!V:Y,2,FALSE))","v":""},{"$f":"IF(AK307=\"\",\"\",IF(VLOOKUP(AK307,Sifranti!V:Y,3,FALSE)=\"\",\"\",VLOOKUP(AK307,Sifranti!V:Y,3,FALSE)))","v":""},{"$f":"IF(AK307=\"\",\"\",VLOOKUP(AK307,Sifranti!V:Y,4,FALSE))","v":""}]
[{"$f":"IF(B308=\"\",\"\",VLOOKUP(B308,Sifranti!K:L,2,FALSE))","v":""},null,null,null,null,null,null,null,null,"",{"$f":"IF(L308=\"\",\"\",VLOOKUP(L308,Sifranti!A:B,2,FALSE))","v":""},null,{"$f":"IF(N308=\"\",\"\",VLOOKUP(N308,Sifranti!D:F,3,FALSE))","v":""},null,{"$f":"IF(P308=\"\",\"\",VLOOKUP(P308,Sifranti!H:I,2,FALSE))","v":""},null,null,null,null,null,null,null,null,null,null,null,null,null,null,null,null,null,null,null,null,null,null,null,null,null,{"$f":"IF(AN308=\"\",\"\",IF(LEN(VLOOKUP(AN308,Sifranti!BY:BZ,2,FALSE))=0,\"\",VLOOKUP(AN308,Sifranti!BY:BZ,2,FALSE)))","v":""},{"$f":"IF(C308=\"\",\"\",VLOOKUP(C308,Sifranti!P:R,2,FALSE))","v":""},"","",{"$f":"IF(C308=\"\",\"\",VLOOKUP(C308,Sifranti!P:R,3,FALSE))","v":""},{"$f":"IF(N308=\"\",\"\",VLOOKUP(N308,Sifranti!D:F,2,FALSE))","v":""},{"$f":"IF(AK308=\"\",\"\",VLOOKUP(AK308,Sifranti!V:Y,2,FALSE))","v":""},{"$f":"IF(AK308=\"\",\"\",IF(VLOOKUP(AK308,Sifranti!V:Y,3,FALSE)=\"\",\"\",VLOOKUP(AK308,Sifranti!V:Y,3,FALSE)))","v":""},{"$f":"IF(AK308=\"\",\"\",VLOOKUP(AK308,Sifranti!V:Y,4,FALSE))","v":""}]
[{"$f":"IF(B309=\"\",\"\",VLOOKUP(B309,Sifranti!K:L,2,FALSE))","v":""},null,null,null,null,null,null,null,null,"",{"$f":"IF(L309=\"\",\"\",VLOOKUP(L309,Sifranti!A:B,2,FALSE))","v":""},null,{"$f":"IF(N309=\"\",\"\",VLOOKUP(N309,Sifranti!D:F,3,FALSE))","v":""},null,{"$f":"IF(P309=\"\",\"\",VLOOKUP(P309,Sifranti!H:I,2,FALSE))","v":""},null,null,null,null,null,null,null,null,null,null,null,null,null,null,null,null,null,null,null,null,null,null,null,null,null,{"$f":"IF(AN309=\"\",\"\",IF(LEN(VLOOKUP(AN309,Sifranti!BY:BZ,2,FALSE))=0,\"\",VLOOKUP(AN309,Sifranti!BY:BZ,2,FALSE)))","v":""},{"$f":"IF(C309=\"\",\"\",VLOOKUP(C309,Sifranti!P:R,2,FALSE))","v":""},"","",{"$f":"IF(C309=\"\",\"\",VLOOKUP(C309,Sifranti!P:R,3,FALSE))","v":""},{"$f":"IF(N309=\"\",\"\",VLOOKUP(N309,Sifranti!D:F,2,FALSE))","v":""},{"$f":"IF(AK309=\"\",\"\",VLOOKUP(AK309,Sifranti!V:Y,2,FALSE))","v":""},{"$f":"IF(AK309=\"\",\"\",IF(VLOOKUP(AK309,Sifranti!V:Y,3,FALSE)=\"\",\"\",VLOOKUP(AK309,Sifranti!V:Y,3,FALSE)))","v":""},{"$f":"IF(AK309=\"\",\"\",VLOOKUP(AK309,Sifranti!V:Y,4,FALSE))","v":""}]
[{"$f":"IF(B310=\"\",\"\",VLOOKUP(B310,Sifranti!K:L,2,FALSE))","v":""},null,null,null,null,null,null,null,null,"",{"$f":"IF(L310=\"\",\"\",VLOOKUP(L310,Sifranti!A:B,2,FALSE))","v":""},null,{"$f":"IF(N310=\"\",\"\",VLOOKUP(N310,Sifranti!D:F,3,FALSE))","v":""},null,{"$f":"IF(P310=\"\",\"\",VLOOKUP(P310,Sifranti!H:I,2,FALSE))","v":""},null,null,null,null,null,null,null,null,null,null,null,null,null,null,null,null,null,null,null,null,null,null,null,null,null,{"$f":"IF(AN310=\"\",\"\",IF(LEN(VLOOKUP(AN310,Sifranti!BY:BZ,2,FALSE))=0,\"\",VLOOKUP(AN310,Sifranti!BY:BZ,2,FALSE)))","v":""},{"$f":"IF(C310=\"\",\"\",VLOOKUP(C310,Sifranti!P:R,2,FALSE))","v":""},"","",{"$f":"IF(C310=\"\",\"\",VLOOKUP(C310,Sifranti!P:R,3,FALSE))","v":""},{"$f":"IF(N310=\"\",\"\",VLOOKUP(N310,Sifranti!D:F,2,FALSE))","v":""},{"$f":"IF(AK310=\"\",\"\",VLOOKUP(AK310,Sifranti!V:Y,2,FALSE))","v":""},{"$f":"IF(AK310=\"\",\"\",IF(VLOOKUP(AK310,Sifranti!V:Y,3,FALSE)=\"\",\"\",VLOOKUP(AK310,Sifranti!V:Y,3,FALSE)))","v":""},{"$f":"IF(AK310=\"\",\"\",VLOOKUP(AK310,Sifranti!V:Y,4,FALSE))","v":""}]
[{"$f":"IF(B311=\"\",\"\",VLOOKUP(B311,Sifranti!K:L,2,FALSE))","v":""},null,null,null,null,null,null,null,null,"",{"$f":"IF(L311=\"\",\"\",VLOOKUP(L311,Sifranti!A:B,2,FALSE))","v":""},null,{"$f":"IF(N311=\"\",\"\",VLOOKUP(N311,Sifranti!D:F,3,FALSE))","v":""},null,{"$f":"IF(P311=\"\",\"\",VLOOKUP(P311,Sifranti!H:I,2,FALSE))","v":""},null,null,null,null,null,null,null,null,null,null,null,null,null,null,null,null,null,null,null,null,null,null,null,null,null,{"$f":"IF(AN311=\"\",\"\",IF(LEN(VLOOKUP(AN311,Sifranti!BY:BZ,2,FALSE))=0,\"\",VLOOKUP(AN311,Sifranti!BY:BZ,2,FALSE)))","v":""},{"$f":"IF(C311=\"\",\"\",VLOOKUP(C311,Sifranti!P:R,2,FALSE))","v":""},"","",{"$f":"IF(C311=\"\",\"\",VLOOKUP(C311,Sifranti!P:R,3,FALSE))","v":""},{"$f":"IF(N311=\"\",\"\",VLOOKUP(N311,Sifranti!D:F,2,FALSE))","v":""},{"$f":"IF(AK311=\"\",\"\",VLOOKUP(AK311,Sifranti!V:Y,2,FALSE))","v":""},{"$f":"IF(AK311=\"\",\"\",IF(VLOOKUP(AK311,Sifranti!V:Y,3,FALSE)=\"\",\"\",VLOOKUP(AK311,Sifranti!V:Y,3,FALSE)))","v":""},{"$f":"IF(AK311=\"\",\"\",VLOOKUP(AK311,Sifranti!V:Y,4,FALSE))","v":""}]
[{"$f":"IF(B312=\"\",\"\",VLOOKUP(B312,Sifranti!K:L,2,FALSE))","v":""},null,null,null,null,null,null,null,null,"",{"$f":"IF(L312=\"\",\"\",VLOOKUP(L312,Sifranti!A:B,2,FALSE))","v":""},null,{"$f":"IF(N312=\"\",\"\",VLOOKUP(N312,Sifranti!D:F,3,FALSE))","v":""},null,{"$f":"IF(P312=\"\",\"\",VLOOKUP(P312,Sifranti!H:I,2,FALSE))","v":""},null,null,null,null,null,null,null,null,null,null,null,null,null,null,null,null,null,null,null,null,null,null,null,null,null,{"$f":"IF(AN312=\"\",\"\",IF(LEN(VLOOKUP(AN312,Sifranti!BY:BZ,2,FALSE))=0,\"\",VLOOKUP(AN312,Sifranti!BY:BZ,2,FALSE)))","v":""},{"$f":"IF(C312=\"\",\"\",VLOOKUP(C312,Sifranti!P:R,2,FALSE))","v":""},"","",{"$f":"IF(C312=\"\",\"\",VLOOKUP(C312,Sifranti!P:R,3,FALSE))","v":""},{"$f":"IF(N312=\"\",\"\",VLOOKUP(N312,Sifranti!D:F,2,FALSE))","v":""},{"$f":"IF(AK312=\"\",\"\",VLOOKUP(AK312,Sifranti!V:Y,2,FALSE))","v":""},{"$f":"IF(AK312=\"\",\"\",IF(VLOOKUP(AK312,Sifranti!V:Y,3,FALSE)=\"\",\"\",VLOOKUP(AK312,Sifranti!V:Y,3,FALSE)))","v":""},{"$f":"IF(AK312=\"\",\"\",VLOOKUP(AK312,Sifranti!V:Y,4,FALSE))","v":""}]
[{"$f":"IF(B313=\"\",\"\",VLOOKUP(B313,Sifranti!K:L,2,FALSE))","v":""},null,null,null,null,null,null,null,null,"",{"$f":"IF(L313=\"\",\"\",VLOOKUP(L313,Sifranti!A:B,2,FALSE))","v":""},null,{"$f":"IF(N313=\"\",\"\",VLOOKUP(N313,Sifranti!D:F,3,FALSE))","v":""},null,{"$f":"IF(P313=\"\",\"\",VLOOKUP(P313,Sifranti!H:I,2,FALSE))","v":""},null,null,null,null,null,null,null,null,null,null,null,null,null,null,null,null,null,null,null,null,null,null,null,null,null,{"$f":"IF(AN313=\"\",\"\",IF(LEN(VLOOKUP(AN313,Sifranti!BY:BZ,2,FALSE))=0,\"\",VLOOKUP(AN313,Sifranti!BY:BZ,2,FALSE)))","v":""},{"$f":"IF(C313=\"\",\"\",VLOOKUP(C313,Sifranti!P:R,2,FALSE))","v":""},"","",{"$f":"IF(C313=\"\",\"\",VLOOKUP(C313,Sifranti!P:R,3,FALSE))","v":""},{"$f":"IF(N313=\"\",\"\",VLOOKUP(N313,Sifranti!D:F,2,FALSE))","v":""},{"$f":"IF(AK313=\"\",\"\",VLOOKUP(AK313,Sifranti!V:Y,2,FALSE))","v":""},{"$f":"IF(AK313=\"\",\"\",IF(VLOOKUP(AK313,Sifranti!V:Y,3,FALSE)=\"\",\"\",VLOOKUP(AK313,Sifranti!V:Y,3,FALSE)))","v":""},{"$f":"IF(AK313=\"\",\"\",VLOOKUP(AK313,Sifranti!V:Y,4,FALSE))","v":""}]
[{"$f":"IF(B314=\"\",\"\",VLOOKUP(B314,Sifranti!K:L,2,FALSE))","v":""},null,null,null,null,null,null,null,null,"",{"$f":"IF(L314=\"\",\"\",VLOOKUP(L314,Sifranti!A:B,2,FALSE))","v":""},null,{"$f":"IF(N314=\"\",\"\",VLOOKUP(N314,Sifranti!D:F,3,FALSE))","v":""},null,{"$f":"IF(P314=\"\",\"\",VLOOKUP(P314,Sifranti!H:I,2,FALSE))","v":""},null,null,null,null,null,null,null,null,null,null,null,null,null,null,null,null,null,null,null,null,null,null,null,null,null,{"$f":"IF(AN314=\"\",\"\",IF(LEN(VLOOKUP(AN314,Sifranti!BY:BZ,2,FALSE))=0,\"\",VLOOKUP(AN314,Sifranti!BY:BZ,2,FALSE)))","v":""},{"$f":"IF(C314=\"\",\"\",VLOOKUP(C314,Sifranti!P:R,2,FALSE))","v":""},"","",{"$f":"IF(C314=\"\",\"\",VLOOKUP(C314,Sifranti!P:R,3,FALSE))","v":""},{"$f":"IF(N314=\"\",\"\",VLOOKUP(N314,Sifranti!D:F,2,FALSE))","v":""},{"$f":"IF(AK314=\"\",\"\",VLOOKUP(AK314,Sifranti!V:Y,2,FALSE))","v":""},{"$f":"IF(AK314=\"\",\"\",IF(VLOOKUP(AK314,Sifranti!V:Y,3,FALSE)=\"\",\"\",VLOOKUP(AK314,Sifranti!V:Y,3,FALSE)))","v":""},{"$f":"IF(AK314=\"\",\"\",VLOOKUP(AK314,Sifranti!V:Y,4,FALSE))","v":""}]
[{"$f":"IF(B315=\"\",\"\",VLOOKUP(B315,Sifranti!K:L,2,FALSE))","v":""},null,null,null,null,null,null,null,null,"",{"$f":"IF(L315=\"\",\"\",VLOOKUP(L315,Sifranti!A:B,2,FALSE))","v":""},null,{"$f":"IF(N315=\"\",\"\",VLOOKUP(N315,Sifranti!D:F,3,FALSE))","v":""},null,{"$f":"IF(P315=\"\",\"\",VLOOKUP(P315,Sifranti!H:I,2,FALSE))","v":""},null,null,null,null,null,null,null,null,null,null,null,null,null,null,null,null,null,null,null,null,null,null,null,null,null,{"$f":"IF(AN315=\"\",\"\",IF(LEN(VLOOKUP(AN315,Sifranti!BY:BZ,2,FALSE))=0,\"\",VLOOKUP(AN315,Sifranti!BY:BZ,2,FALSE)))","v":""},{"$f":"IF(C315=\"\",\"\",VLOOKUP(C315,Sifranti!P:R,2,FALSE))","v":""},"","",{"$f":"IF(C315=\"\",\"\",VLOOKUP(C315,Sifranti!P:R,3,FALSE))","v":""},{"$f":"IF(N315=\"\",\"\",VLOOKUP(N315,Sifranti!D:F,2,FALSE))","v":""},{"$f":"IF(AK315=\"\",\"\",VLOOKUP(AK315,Sifranti!V:Y,2,FALSE))","v":""},{"$f":"IF(AK315=\"\",\"\",IF(VLOOKUP(AK315,Sifranti!V:Y,3,FALSE)=\"\",\"\",VLOOKUP(AK315,Sifranti!V:Y,3,FALSE)))","v":""},{"$f":"IF(AK315=\"\",\"\",VLOOKUP(AK315,Sifranti!V:Y,4,FALSE))","v":""}]
[{"$f":"IF(B316=\"\",\"\",VLOOKUP(B316,Sifranti!K:L,2,FALSE))","v":""},null,null,null,null,null,null,null,null,"",{"$f":"IF(L316=\"\",\"\",VLOOKUP(L316,Sifranti!A:B,2,FALSE))","v":""},null,{"$f":"IF(N316=\"\",\"\",VLOOKUP(N316,Sifranti!D:F,3,FALSE))","v":""},null,{"$f":"IF(P316=\"\",\"\",VLOOKUP(P316,Sifranti!H:I,2,FALSE))","v":""},null,null,null,null,null,null,null,null,null,null,null,null,null,null,null,null,null,null,null,null,null,null,null,null,null,{"$f":"IF(AN316=\"\",\"\",IF(LEN(VLOOKUP(AN316,Sifranti!BY:BZ,2,FALSE))=0,\"\",VLOOKUP(AN316,Sifranti!BY:BZ,2,FALSE)))","v":""},{"$f":"IF(C316=\"\",\"\",VLOOKUP(C316,Sifranti!P:R,2,FALSE))","v":""},"","",{"$f":"IF(C316=\"\",\"\",VLOOKUP(C316,Sifranti!P:R,3,FALSE))","v":""},{"$f":"IF(N316=\"\",\"\",VLOOKUP(N316,Sifranti!D:F,2,FALSE))","v":""},{"$f":"IF(AK316=\"\",\"\",VLOOKUP(AK316,Sifranti!V:Y,2,FALSE))","v":""},{"$f":"IF(AK316=\"\",\"\",IF(VLOOKUP(AK316,Sifranti!V:Y,3,FALSE)=\"\",\"\",VLOOKUP(AK316,Sifranti!V:Y,3,FALSE)))","v":""},{"$f":"IF(AK316=\"\",\"\",VLOOKUP(AK316,Sifranti!V:Y,4,FALSE))","v":""}]
[{"$f":"IF(B317=\"\",\"\",VLOOKUP(B317,Sifranti!K:L,2,FALSE))","v":""},null,null,null,null,null,null,null,null,"",{"$f":"IF(L317=\"\",\"\",VLOOKUP(L317,Sifranti!A:B,2,FALSE))","v":""},null,{"$f":"IF(N317=\"\",\"\",VLOOKUP(N317,Sifranti!D:F,3,FALSE))","v":""},null,{"$f":"IF(P317=\"\",\"\",VLOOKUP(P317,Sifranti!H:I,2,FALSE))","v":""},null,null,null,null,null,null,null,null,null,null,null,null,null,null,null,null,null,null,null,null,null,null,null,null,null,{"$f":"IF(AN317=\"\",\"\",IF(LEN(VLOOKUP(AN317,Sifranti!BY:BZ,2,FALSE))=0,\"\",VLOOKUP(AN317,Sifranti!BY:BZ,2,FALSE)))","v":""},{"$f":"IF(C317=\"\",\"\",VLOOKUP(C317,Sifranti!P:R,2,FALSE))","v":""},"","",{"$f":"IF(C317=\"\",\"\",VLOOKUP(C317,Sifranti!P:R,3,FALSE))","v":""},{"$f":"IF(N317=\"\",\"\",VLOOKUP(N317,Sifranti!D:F,2,FALSE))","v":""},{"$f":"IF(AK317=\"\",\"\",VLOOKUP(AK317,Sifranti!V:Y,2,FALSE))","v":""},{"$f":"IF(AK317=\"\",\"\",IF(VLOOKUP(AK317,Sifranti!V:Y,3,FALSE)=\"\",\"\",VLOOKUP(AK317,Sifranti!V:Y,3,FALSE)))","v":""},{"$f":"IF(AK317=\"\",\"\",VLOOKUP(AK317,Sifranti!V:Y,4,FALSE))","v":""}]
[{"$f":"IF(B318=\"\",\"\",VLOOKUP(B318,Sifranti!K:L,2,FALSE))","v":""},null,null,null,null,null,null,null,null,"",{"$f":"IF(L318=\"\",\"\",VLOOKUP(L318,Sifranti!A:B,2,FALSE))","v":""},null,{"$f":"IF(N318=\"\",\"\",VLOOKUP(N318,Sifranti!D:F,3,FALSE))","v":""},null,{"$f":"IF(P318=\"\",\"\",VLOOKUP(P318,Sifranti!H:I,2,FALSE))","v":""},null,null,null,null,null,null,null,null,null,null,null,null,null,null,null,null,null,null,null,null,null,null,null,null,null,{"$f":"IF(AN318=\"\",\"\",IF(LEN(VLOOKUP(AN318,Sifranti!BY:BZ,2,FALSE))=0,\"\",VLOOKUP(AN318,Sifranti!BY:BZ,2,FALSE)))","v":""},{"$f":"IF(C318=\"\",\"\",VLOOKUP(C318,Sifranti!P:R,2,FALSE))","v":""},"","",{"$f":"IF(C318=\"\",\"\",VLOOKUP(C318,Sifranti!P:R,3,FALSE))","v":""},{"$f":"IF(N318=\"\",\"\",VLOOKUP(N318,Sifranti!D:F,2,FALSE))","v":""},{"$f":"IF(AK318=\"\",\"\",VLOOKUP(AK318,Sifranti!V:Y,2,FALSE))","v":""},{"$f":"IF(AK318=\"\",\"\",IF(VLOOKUP(AK318,Sifranti!V:Y,3,FALSE)=\"\",\"\",VLOOKUP(AK318,Sifranti!V:Y,3,FALSE)))","v":""},{"$f":"IF(AK318=\"\",\"\",VLOOKUP(AK318,Sifranti!V:Y,4,FALSE))","v":""}]
[{"$f":"IF(B319=\"\",\"\",VLOOKUP(B319,Sifranti!K:L,2,FALSE))","v":""},null,null,null,null,null,null,null,null,"",{"$f":"IF(L319=\"\",\"\",VLOOKUP(L319,Sifranti!A:B,2,FALSE))","v":""},null,{"$f":"IF(N319=\"\",\"\",VLOOKUP(N319,Sifranti!D:F,3,FALSE))","v":""},null,{"$f":"IF(P319=\"\",\"\",VLOOKUP(P319,Sifranti!H:I,2,FALSE))","v":""},null,null,null,null,null,null,null,null,null,null,null,null,null,null,null,null,null,null,null,null,null,null,null,null,null,{"$f":"IF(AN319=\"\",\"\",IF(LEN(VLOOKUP(AN319,Sifranti!BY:BZ,2,FALSE))=0,\"\",VLOOKUP(AN319,Sifranti!BY:BZ,2,FALSE)))","v":""},{"$f":"IF(C319=\"\",\"\",VLOOKUP(C319,Sifranti!P:R,2,FALSE))","v":""},"","",{"$f":"IF(C319=\"\",\"\",VLOOKUP(C319,Sifranti!P:R,3,FALSE))","v":""},{"$f":"IF(N319=\"\",\"\",VLOOKUP(N319,Sifranti!D:F,2,FALSE))","v":""},{"$f":"IF(AK319=\"\",\"\",VLOOKUP(AK319,Sifranti!V:Y,2,FALSE))","v":""},{"$f":"IF(AK319=\"\",\"\",IF(VLOOKUP(AK319,Sifranti!V:Y,3,FALSE)=\"\",\"\",VLOOKUP(AK319,Sifranti!V:Y,3,FALSE)))","v":""},{"$f":"IF(AK319=\"\",\"\",VLOOKUP(AK319,Sifranti!V:Y,4,FALSE))","v":""}]
[{"$f":"IF(B320=\"\",\"\",VLOOKUP(B320,Sifranti!K:L,2,FALSE))","v":""},null,null,null,null,null,null,null,null,"",{"$f":"IF(L320=\"\",\"\",VLOOKUP(L320,Sifranti!A:B,2,FALSE))","v":""},null,{"$f":"IF(N320=\"\",\"\",VLOOKUP(N320,Sifranti!D:F,3,FALSE))","v":""},null,{"$f":"IF(P320=\"\",\"\",VLOOKUP(P320,Sifranti!H:I,2,FALSE))","v":""},null,null,null,null,null,null,null,null,null,null,null,null,null,null,null,null,null,null,null,null,null,null,null,null,null,{"$f":"IF(AN320=\"\",\"\",IF(LEN(VLOOKUP(AN320,Sifranti!BY:BZ,2,FALSE))=0,\"\",VLOOKUP(AN320,Sifranti!BY:BZ,2,FALSE)))","v":""},{"$f":"IF(C320=\"\",\"\",VLOOKUP(C320,Sifranti!P:R,2,FALSE))","v":""},"","",{"$f":"IF(C320=\"\",\"\",VLOOKUP(C320,Sifranti!P:R,3,FALSE))","v":""},{"$f":"IF(N320=\"\",\"\",VLOOKUP(N320,Sifranti!D:F,2,FALSE))","v":""},{"$f":"IF(AK320=\"\",\"\",VLOOKUP(AK320,Sifranti!V:Y,2,FALSE))","v":""},{"$f":"IF(AK320=\"\",\"\",IF(VLOOKUP(AK320,Sifranti!V:Y,3,FALSE)=\"\",\"\",VLOOKUP(AK320,Sifranti!V:Y,3,FALSE)))","v":""},{"$f":"IF(AK320=\"\",\"\",VLOOKUP(AK320,Sifranti!V:Y,4,FALSE))","v":""}]
[{"$f":"IF(B321=\"\",\"\",VLOOKUP(B321,Sifranti!K:L,2,FALSE))","v":""},null,null,null,null,null,null,null,null,"",{"$f":"IF(L321=\"\",\"\",VLOOKUP(L321,Sifranti!A:B,2,FALSE))","v":""},null,{"$f":"IF(N321=\"\",\"\",VLOOKUP(N321,Sifranti!D:F,3,FALSE))","v":""},null,{"$f":"IF(P321=\"\",\"\",VLOOKUP(P321,Sifranti!H:I,2,FALSE))","v":""},null,null,null,null,null,null,null,null,null,null,null,null,null,null,null,null,null,null,null,null,null,null,null,null,null,{"$f":"IF(AN321=\"\",\"\",IF(LEN(VLOOKUP(AN321,Sifranti!BY:BZ,2,FALSE))=0,\"\",VLOOKUP(AN321,Sifranti!BY:BZ,2,FALSE)))","v":""},{"$f":"IF(C321=\"\",\"\",VLOOKUP(C321,Sifranti!P:R,2,FALSE))","v":""},"","",{"$f":"IF(C321=\"\",\"\",VLOOKUP(C321,Sifranti!P:R,3,FALSE))","v":""},{"$f":"IF(N321=\"\",\"\",VLOOKUP(N321,Sifranti!D:F,2,FALSE))","v":""},{"$f":"IF(AK321=\"\",\"\",VLOOKUP(AK321,Sifranti!V:Y,2,FALSE))","v":""},{"$f":"IF(AK321=\"\",\"\",IF(VLOOKUP(AK321,Sifranti!V:Y,3,FALSE)=\"\",\"\",VLOOKUP(AK321,Sifranti!V:Y,3,FALSE)))","v":""},{"$f":"IF(AK321=\"\",\"\",VLOOKUP(AK321,Sifranti!V:Y,4,FALSE))","v":""}]
[{"$f":"IF(B322=\"\",\"\",VLOOKUP(B322,Sifranti!K:L,2,FALSE))","v":""},null,null,null,null,null,null,null,null,{"$f":"IF(H322=\"\",\"\",YEAR(H322))","v":""},{"$f":"IF(L322=\"\",\"\",VLOOKUP(L322,Sifranti!A:B,2,FALSE))","v":""},null,{"$f":"IF(N322=\"\",\"\",VLOOKUP(N322,Sifranti!D:F,3,FALSE))","v":""},null,{"$f":"IF(P322=\"\",\"\",VLOOKUP(P322,Sifranti!H:I,2,FALSE))","v":""},null,null,null,null,null,null,null,null,null,null,null,null,null,null,null,null,null,null,null,null,null,null,null,null,null,{"$f":"IF(AN322=\"\",\"\",IF(LEN(VLOOKUP(AN322,Sifranti!BY:BZ,2,FALSE))=0,\"\",VLOOKUP(AN322,Sifranti!BY:BZ,2,FALSE)))","v":""},{"$f":"IF(C322=\"\",\"\",VLOOKUP(C322,Sifranti!P:R,2,FALSE))","v":""},{"$f":"IF(V322>0,IF(AS322=\"de minimis\",T322/S322*100,U322/AD322*100),\"\")","v":""},{"$f":"IF(AE322>0,AE322/U322*100,\"\")","v":""},{"$f":"IF(C322=\"\",\"\",VLOOKUP(C322,Sifranti!P:R,3,FALSE))","v":""},{"$f":"IF(N322=\"\",\"\",VLOOKUP(N322,Sifranti!D:F,2,FALSE))","v":""},{"$f":"IF(AK322=\"\",\"\",VLOOKUP(AK322,Sifranti!V:Y,2,FALSE))","v":""},{"$f":"IF(AK322=\"\",\"\",IF(VLOOKUP(AK322,Sifranti!V:Y,3,FALSE)=\"\",\"\",VLOOKUP(AK322,Sifranti!V:Y,3,FALSE)))","v":""},{"$f":"IF(AK322=\"\",\"\",VLOOKUP(AK322,Sifranti!V:Y,4,FALSE))","v":""}]
[{"$f":"IF(B323=\"\",\"\",VLOOKUP(B323,Sifranti!K:L,2,FALSE))","v":""},null,null,null,null,null,null,null,null,"",{"$f":"IF(L323=\"\",\"\",VLOOKUP(L323,Sifranti!A:B,2,FALSE))","v":""},null,{"$f":"IF(N323=\"\",\"\",VLOOKUP(N323,Sifranti!D:F,3,FALSE))","v":""},null,{"$f":"IF(P323=\"\",\"\",VLOOKUP(P323,Sifranti!H:I,2,FALSE))","v":""},null,null,null,null,null,null,null,null,null,null,null,null,null,null,null,null,null,null,null,null,null,null,null,null,null,{"$f":"IF(AN323=\"\",\"\",IF(LEN(VLOOKUP(AN323,Sifranti!BY:BZ,2,FALSE))=0,\"\",VLOOKUP(AN323,Sifranti!BY:BZ,2,FALSE)))","v":""},{"$f":"IF(C323=\"\",\"\",VLOOKUP(C323,Sifranti!P:R,2,FALSE))","v":""},"","",{"$f":"IF(C323=\"\",\"\",VLOOKUP(C323,Sifranti!P:R,3,FALSE))","v":""},{"$f":"IF(N323=\"\",\"\",VLOOKUP(N323,Sifranti!D:F,2,FALSE))","v":""},{"$f":"IF(AK323=\"\",\"\",VLOOKUP(AK323,Sifranti!V:Y,2,FALSE))","v":""},{"$f":"IF(AK323=\"\",\"\",IF(VLOOKUP(AK323,Sifranti!V:Y,3,FALSE)=\"\",\"\",VLOOKUP(AK323,Sifranti!V:Y,3,FALSE)))","v":""},{"$f":"IF(AK323=\"\",\"\",VLOOKUP(AK323,Sifranti!V:Y,4,FALSE))","v":""}]
[{"$f":"IF(B324=\"\",\"\",VLOOKUP(B324,Sifranti!K:L,2,FALSE))","v":""},null,null,null,null,null,null,null,null,"",{"$f":"IF(L324=\"\",\"\",VLOOKUP(L324,Sifranti!A:B,2,FALSE))","v":""},null,{"$f":"IF(N324=\"\",\"\",VLOOKUP(N324,Sifranti!D:F,3,FALSE))","v":""},null,{"$f":"IF(P324=\"\",\"\",VLOOKUP(P324,Sifranti!H:I,2,FALSE))","v":""},null,null,null,null,null,null,null,null,null,null,null,null,null,null,null,null,null,null,null,null,null,null,null,null,null,{"$f":"IF(AN324=\"\",\"\",IF(LEN(VLOOKUP(AN324,Sifranti!BY:BZ,2,FALSE))=0,\"\",VLOOKUP(AN324,Sifranti!BY:BZ,2,FALSE)))","v":""},{"$f":"IF(C324=\"\",\"\",VLOOKUP(C324,Sifranti!P:R,2,FALSE))","v":""},"","",{"$f":"IF(C324=\"\",\"\",VLOOKUP(C324,Sifranti!P:R,3,FALSE))","v":""},{"$f":"IF(N324=\"\",\"\",VLOOKUP(N324,Sifranti!D:F,2,FALSE))","v":""},{"$f":"IF(AK324=\"\",\"\",VLOOKUP(AK324,Sifranti!V:Y,2,FALSE))","v":""},{"$f":"IF(AK324=\"\",\"\",IF(VLOOKUP(AK324,Sifranti!V:Y,3,FALSE)=\"\",\"\",VLOOKUP(AK324,Sifranti!V:Y,3,FALSE)))","v":""},{"$f":"IF(AK324=\"\",\"\",VLOOKUP(AK324,Sifranti!V:Y,4,FALSE))","v":""}]
[{"$f":"IF(B325=\"\",\"\",VLOOKUP(B325,Sifranti!K:L,2,FALSE))","v":""},null,null,null,null,null,null,null,null,"",{"$f":"IF(L325=\"\",\"\",VLOOKUP(L325,Sifranti!A:B,2,FALSE))","v":""},null,{"$f":"IF(N325=\"\",\"\",VLOOKUP(N325,Sifranti!D:F,3,FALSE))","v":""},null,{"$f":"IF(P325=\"\",\"\",VLOOKUP(P325,Sifranti!H:I,2,FALSE))","v":""},null,null,null,null,null,null,null,null,null,null,null,null,null,null,null,null,null,null,null,null,null,null,null,null,null,{"$f":"IF(AN325=\"\",\"\",IF(LEN(VLOOKUP(AN325,Sifranti!BY:BZ,2,FALSE))=0,\"\",VLOOKUP(AN325,Sifranti!BY:BZ,2,FALSE)))","v":""},{"$f":"IF(C325=\"\",\"\",VLOOKUP(C325,Sifranti!P:R,2,FALSE))","v":""},"","",{"$f":"IF(C325=\"\",\"\",VLOOKUP(C325,Sifranti!P:R,3,FALSE))","v":""},{"$f":"IF(N325=\"\",\"\",VLOOKUP(N325,Sifranti!D:F,2,FALSE))","v":""},{"$f":"IF(AK325=\"\",\"\",VLOOKUP(AK325,Sifranti!V:Y,2,FALSE))","v":""},{"$f":"IF(AK325=\"\",\"\",IF(VLOOKUP(AK325,Sifranti!V:Y,3,FALSE)=\"\",\"\",VLOOKUP(AK325,Sifranti!V:Y,3,FALSE)))","v":""},{"$f":"IF(AK325=\"\",\"\",VLOOKUP(AK325,Sifranti!V:Y,4,FALSE))","v":""}]
[{"$f":"IF(B326=\"\",\"\",VLOOKUP(B326,Sifranti!K:L,2,FALSE))","v":""},null,null,null,null,null,null,null,null,"",{"$f":"IF(L326=\"\",\"\",VLOOKUP(L326,Sifranti!A:B,2,FALSE))","v":""},null,{"$f":"IF(N326=\"\",\"\",VLOOKUP(N326,Sifranti!D:F,3,FALSE))","v":""},null,{"$f":"IF(P326=\"\",\"\",VLOOKUP(P326,Sifranti!H:I,2,FALSE))","v":""},null,null,null,null,null,null,null,null,null,null,null,null,null,null,null,null,null,null,null,null,null,null,null,null,null,{"$f":"IF(AN326=\"\",\"\",IF(LEN(VLOOKUP(AN326,Sifranti!BY:BZ,2,FALSE))=0,\"\",VLOOKUP(AN326,Sifranti!BY:BZ,2,FALSE)))","v":""},{"$f":"IF(C326=\"\",\"\",VLOOKUP(C326,Sifranti!P:R,2,FALSE))","v":""},"","",{"$f":"IF(C326=\"\",\"\",VLOOKUP(C326,Sifranti!P:R,3,FALSE))","v":""},{"$f":"IF(N326=\"\",\"\",VLOOKUP(N326,Sifranti!D:F,2,FALSE))","v":""},{"$f":"IF(AK326=\"\",\"\",VLOOKUP(AK326,Sifranti!V:Y,2,FALSE))","v":""},{"$f":"IF(AK326=\"\",\"\",IF(VLOOKUP(AK326,Sifranti!V:Y,3,FALSE)=\"\",\"\",VLOOKUP(AK326,Sifranti!V:Y,3,FALSE)))","v":""},{"$f":"IF(AK326=\"\",\"\",VLOOKUP(AK326,Sifranti!V:Y,4,FALSE))","v":""}]
[{"$f":"IF(B327=\"\",\"\",VLOOKUP(B327,Sifranti!K:L,2,FALSE))","v":""},null,null,null,null,null,null,null,null,"",{"$f":"IF(L327=\"\",\"\",VLOOKUP(L327,Sifranti!A:B,2,FALSE))","v":""},null,{"$f":"IF(N327=\"\",\"\",VLOOKUP(N327,Sifranti!D:F,3,FALSE))","v":""},null,{"$f":"IF(P327=\"\",\"\",VLOOKUP(P327,Sifranti!H:I,2,FALSE))","v":""},null,null,null,null,null,null,null,null,null,null,null,null,null,null,null,null,null,null,null,null,null,null,null,null,null,{"$f":"IF(AN327=\"\",\"\",IF(LEN(VLOOKUP(AN327,Sifranti!BY:BZ,2,FALSE))=0,\"\",VLOOKUP(AN327,Sifranti!BY:BZ,2,FALSE)))","v":""},{"$f":"IF(C327=\"\",\"\",VLOOKUP(C327,Sifranti!P:R,2,FALSE))","v":""},"","",{"$f":"IF(C327=\"\",\"\",VLOOKUP(C327,Sifranti!P:R,3,FALSE))","v":""},{"$f":"IF(N327=\"\",\"\",VLOOKUP(N327,Sifranti!D:F,2,FALSE))","v":""},{"$f":"IF(AK327=\"\",\"\",VLOOKUP(AK327,Sifranti!V:Y,2,FALSE))","v":""},{"$f":"IF(AK327=\"\",\"\",IF(VLOOKUP(AK327,Sifranti!V:Y,3,FALSE)=\"\",\"\",VLOOKUP(AK327,Sifranti!V:Y,3,FALSE)))","v":""},{"$f":"IF(AK327=\"\",\"\",VLOOKUP(AK327,Sifranti!V:Y,4,FALSE))","v":""}]
[{"$f":"IF(B328=\"\",\"\",VLOOKUP(B328,Sifranti!K:L,2,FALSE))","v":""},null,null,null,null,null,null,null,null,"",{"$f":"IF(L328=\"\",\"\",VLOOKUP(L328,Sifranti!A:B,2,FALSE))","v":""},null,{"$f":"IF(N328=\"\",\"\",VLOOKUP(N328,Sifranti!D:F,3,FALSE))","v":""},null,{"$f":"IF(P328=\"\",\"\",VLOOKUP(P328,Sifranti!H:I,2,FALSE))","v":""},null,null,null,null,null,null,null,null,null,null,null,null,null,null,null,null,null,null,null,null,null,null,null,null,null,{"$f":"IF(AN328=\"\",\"\",IF(LEN(VLOOKUP(AN328,Sifranti!BY:BZ,2,FALSE))=0,\"\",VLOOKUP(AN328,Sifranti!BY:BZ,2,FALSE)))","v":""},{"$f":"IF(C328=\"\",\"\",VLOOKUP(C328,Sifranti!P:R,2,FALSE))","v":""},"","",{"$f":"IF(C328=\"\",\"\",VLOOKUP(C328,Sifranti!P:R,3,FALSE))","v":""},{"$f":"IF(N328=\"\",\"\",VLOOKUP(N328,Sifranti!D:F,2,FALSE))","v":""},{"$f":"IF(AK328=\"\",\"\",VLOOKUP(AK328,Sifranti!V:Y,2,FALSE))","v":""},{"$f":"IF(AK328=\"\",\"\",IF(VLOOKUP(AK328,Sifranti!V:Y,3,FALSE)=\"\",\"\",VLOOKUP(AK328,Sifranti!V:Y,3,FALSE)))","v":""},{"$f":"IF(AK328=\"\",\"\",VLOOKUP(AK328,Sifranti!V:Y,4,FALSE))","v":""}]
[{"$f":"IF(B329=\"\",\"\",VLOOKUP(B329,Sifranti!K:L,2,FALSE))","v":""},null,null,null,null,null,null,null,null,"",{"$f":"IF(L329=\"\",\"\",VLOOKUP(L329,Sifranti!A:B,2,FALSE))","v":""},null,{"$f":"IF(N329=\"\",\"\",VLOOKUP(N329,Sifranti!D:F,3,FALSE))","v":""},null,{"$f":"IF(P329=\"\",\"\",VLOOKUP(P329,Sifranti!H:I,2,FALSE))","v":""},null,null,null,null,null,null,null,null,null,null,null,null,null,null,null,null,null,null,null,null,null,null,null,null,null,{"$f":"IF(AN329=\"\",\"\",IF(LEN(VLOOKUP(AN329,Sifranti!BY:BZ,2,FALSE))=0,\"\",VLOOKUP(AN329,Sifranti!BY:BZ,2,FALSE)))","v":""},{"$f":"IF(C329=\"\",\"\",VLOOKUP(C329,Sifranti!P:R,2,FALSE))","v":""},"","",{"$f":"IF(C329=\"\",\"\",VLOOKUP(C329,Sifranti!P:R,3,FALSE))","v":""},{"$f":"IF(N329=\"\",\"\",VLOOKUP(N329,Sifranti!D:F,2,FALSE))","v":""},{"$f":"IF(AK329=\"\",\"\",VLOOKUP(AK329,Sifranti!V:Y,2,FALSE))","v":""},{"$f":"IF(AK329=\"\",\"\",IF(VLOOKUP(AK329,Sifranti!V:Y,3,FALSE)=\"\",\"\",VLOOKUP(AK329,Sifranti!V:Y,3,FALSE)))","v":""},{"$f":"IF(AK329=\"\",\"\",VLOOKUP(AK329,Sifranti!V:Y,4,FALSE))","v":""}]
[{"$f":"IF(B330=\"\",\"\",VLOOKUP(B330,Sifranti!K:L,2,FALSE))","v":""},null,null,null,null,null,null,null,null,"",{"$f":"IF(L330=\"\",\"\",VLOOKUP(L330,Sifranti!A:B,2,FALSE))","v":""},null,{"$f":"IF(N330=\"\",\"\",VLOOKUP(N330,Sifranti!D:F,3,FALSE))","v":""},null,{"$f":"IF(P330=\"\",\"\",VLOOKUP(P330,Sifranti!H:I,2,FALSE))","v":""},null,null,null,null,null,null,null,null,null,null,null,null,null,null,null,null,null,null,null,null,null,null,null,null,null,{"$f":"IF(AN330=\"\",\"\",IF(LEN(VLOOKUP(AN330,Sifranti!BY:BZ,2,FALSE))=0,\"\",VLOOKUP(AN330,Sifranti!BY:BZ,2,FALSE)))","v":""},{"$f":"IF(C330=\"\",\"\",VLOOKUP(C330,Sifranti!P:R,2,FALSE))","v":""},"","",{"$f":"IF(C330=\"\",\"\",VLOOKUP(C330,Sifranti!P:R,3,FALSE))","v":""},{"$f":"IF(N330=\"\",\"\",VLOOKUP(N330,Sifranti!D:F,2,FALSE))","v":""},{"$f":"IF(AK330=\"\",\"\",VLOOKUP(AK330,Sifranti!V:Y,2,FALSE))","v":""},{"$f":"IF(AK330=\"\",\"\",IF(VLOOKUP(AK330,Sifranti!V:Y,3,FALSE)=\"\",\"\",VLOOKUP(AK330,Sifranti!V:Y,3,FALSE)))","v":""},{"$f":"IF(AK330=\"\",\"\",VLOOKUP(AK330,Sifranti!V:Y,4,FALSE))","v":""}]
[{"$f":"IF(B331=\"\",\"\",VLOOKUP(B331,Sifranti!K:L,2,FALSE))","v":""},null,null,null,null,null,null,null,null,"",{"$f":"IF(L331=\"\",\"\",VLOOKUP(L331,Sifranti!A:B,2,FALSE))","v":""},null,{"$f":"IF(N331=\"\",\"\",VLOOKUP(N331,Sifranti!D:F,3,FALSE))","v":""},null,{"$f":"IF(P331=\"\",\"\",VLOOKUP(P331,Sifranti!H:I,2,FALSE))","v":""},null,null,null,null,null,null,null,null,null,null,null,null,null,null,null,null,null,null,null,null,null,null,null,null,null,{"$f":"IF(AN331=\"\",\"\",IF(LEN(VLOOKUP(AN331,Sifranti!BY:BZ,2,FALSE))=0,\"\",VLOOKUP(AN331,Sifranti!BY:BZ,2,FALSE)))","v":""},{"$f":"IF(C331=\"\",\"\",VLOOKUP(C331,Sifranti!P:R,2,FALSE))","v":""},"","",{"$f":"IF(C331=\"\",\"\",VLOOKUP(C331,Sifranti!P:R,3,FALSE))","v":""},{"$f":"IF(N331=\"\",\"\",VLOOKUP(N331,Sifranti!D:F,2,FALSE))","v":""},{"$f":"IF(AK331=\"\",\"\",VLOOKUP(AK331,Sifranti!V:Y,2,FALSE))","v":""},{"$f":"IF(AK331=\"\",\"\",IF(VLOOKUP(AK331,Sifranti!V:Y,3,FALSE)=\"\",\"\",VLOOKUP(AK331,Sifranti!V:Y,3,FALSE)))","v":""},{"$f":"IF(AK331=\"\",\"\",VLOOKUP(AK331,Sifranti!V:Y,4,FALSE))","v":""}]
[{"$f":"IF(B332=\"\",\"\",VLOOKUP(B332,Sifranti!K:L,2,FALSE))","v":""},null,null,null,null,null,null,null,null,"",{"$f":"IF(L332=\"\",\"\",VLOOKUP(L332,Sifranti!A:B,2,FALSE))","v":""},null,{"$f":"IF(N332=\"\",\"\",VLOOKUP(N332,Sifranti!D:F,3,FALSE))","v":""},null,{"$f":"IF(P332=\"\",\"\",VLOOKUP(P332,Sifranti!H:I,2,FALSE))","v":""},null,null,null,null,null,null,null,null,null,null,null,null,null,null,null,null,null,null,null,null,null,null,null,null,null,{"$f":"IF(AN332=\"\",\"\",IF(LEN(VLOOKUP(AN332,Sifranti!BY:BZ,2,FALSE))=0,\"\",VLOOKUP(AN332,Sifranti!BY:BZ,2,FALSE)))","v":""},{"$f":"IF(C332=\"\",\"\",VLOOKUP(C332,Sifranti!P:R,2,FALSE))","v":""},"","",{"$f":"IF(C332=\"\",\"\",VLOOKUP(C332,Sifranti!P:R,3,FALSE))","v":""},{"$f":"IF(N332=\"\",\"\",VLOOKUP(N332,Sifranti!D:F,2,FALSE))","v":""},{"$f":"IF(AK332=\"\",\"\",VLOOKUP(AK332,Sifranti!V:Y,2,FALSE))","v":""},{"$f":"IF(AK332=\"\",\"\",IF(VLOOKUP(AK332,Sifranti!V:Y,3,FALSE)=\"\",\"\",VLOOKUP(AK332,Sifranti!V:Y,3,FALSE)))","v":""},{"$f":"IF(AK332=\"\",\"\",VLOOKUP(AK332,Sifranti!V:Y,4,FALSE))","v":""}]
[{"$f":"IF(B333=\"\",\"\",VLOOKUP(B333,Sifranti!K:L,2,FALSE))","v":""},null,null,null,null,null,null,null,null,"",{"$f":"IF(L333=\"\",\"\",VLOOKUP(L333,Sifranti!A:B,2,FALSE))","v":""},null,{"$f":"IF(N333=\"\",\"\",VLOOKUP(N333,Sifranti!D:F,3,FALSE))","v":""},null,{"$f":"IF(P333=\"\",\"\",VLOOKUP(P333,Sifranti!H:I,2,FALSE))","v":""},null,null,null,null,null,null,null,null,null,null,null,null,null,null,null,null,null,null,null,null,null,null,null,null,null,{"$f":"IF(AN333=\"\",\"\",IF(LEN(VLOOKUP(AN333,Sifranti!BY:BZ,2,FALSE))=0,\"\",VLOOKUP(AN333,Sifranti!BY:BZ,2,FALSE)))","v":""},{"$f":"IF(C333=\"\",\"\",VLOOKUP(C333,Sifranti!P:R,2,FALSE))","v":""},"","",{"$f":"IF(C333=\"\",\"\",VLOOKUP(C333,Sifranti!P:R,3,FALSE))","v":""},{"$f":"IF(N333=\"\",\"\",VLOOKUP(N333,Sifranti!D:F,2,FALSE))","v":""},{"$f":"IF(AK333=\"\",\"\",VLOOKUP(AK333,Sifranti!V:Y,2,FALSE))","v":""},{"$f":"IF(AK333=\"\",\"\",IF(VLOOKUP(AK333,Sifranti!V:Y,3,FALSE)=\"\",\"\",VLOOKUP(AK333,Sifranti!V:Y,3,FALSE)))","v":""},{"$f":"IF(AK333=\"\",\"\",VLOOKUP(AK333,Sifranti!V:Y,4,FALSE))","v":""}]
[{"$f":"IF(B334=\"\",\"\",VLOOKUP(B334,Sifranti!K:L,2,FALSE))","v":""},null,null,null,null,null,null,null,null,"",{"$f":"IF(L334=\"\",\"\",VLOOKUP(L334,Sifranti!A:B,2,FALSE))","v":""},null,{"$f":"IF(N334=\"\",\"\",VLOOKUP(N334,Sifranti!D:F,3,FALSE))","v":""},null,{"$f":"IF(P334=\"\",\"\",VLOOKUP(P334,Sifranti!H:I,2,FALSE))","v":""},null,null,null,null,null,null,null,null,null,null,null,null,null,null,null,null,null,null,null,null,null,null,null,null,null,{"$f":"IF(AN334=\"\",\"\",IF(LEN(VLOOKUP(AN334,Sifranti!BY:BZ,2,FALSE))=0,\"\",VLOOKUP(AN334,Sifranti!BY:BZ,2,FALSE)))","v":""},{"$f":"IF(C334=\"\",\"\",VLOOKUP(C334,Sifranti!P:R,2,FALSE))","v":""},"","",{"$f":"IF(C334=\"\",\"\",VLOOKUP(C334,Sifranti!P:R,3,FALSE))","v":""},{"$f":"IF(N334=\"\",\"\",VLOOKUP(N334,Sifranti!D:F,2,FALSE))","v":""},{"$f":"IF(AK334=\"\",\"\",VLOOKUP(AK334,Sifranti!V:Y,2,FALSE))","v":""},{"$f":"IF(AK334=\"\",\"\",IF(VLOOKUP(AK334,Sifranti!V:Y,3,FALSE)=\"\",\"\",VLOOKUP(AK334,Sifranti!V:Y,3,FALSE)))","v":""},{"$f":"IF(AK334=\"\",\"\",VLOOKUP(AK334,Sifranti!V:Y,4,FALSE))","v":""}]
[{"$f":"IF(B335=\"\",\"\",VLOOKUP(B335,Sifranti!K:L,2,FALSE))","v":""},null,null,null,null,null,null,null,null,"",{"$f":"IF(L335=\"\",\"\",VLOOKUP(L335,Sifranti!A:B,2,FALSE))","v":""},null,{"$f":"IF(N335=\"\",\"\",VLOOKUP(N335,Sifranti!D:F,3,FALSE))","v":""},null,{"$f":"IF(P335=\"\",\"\",VLOOKUP(P335,Sifranti!H:I,2,FALSE))","v":""},null,null,null,null,null,null,null,null,null,null,null,null,null,null,null,null,null,null,null,null,null,null,null,null,null,{"$f":"IF(AN335=\"\",\"\",IF(LEN(VLOOKUP(AN335,Sifranti!BY:BZ,2,FALSE))=0,\"\",VLOOKUP(AN335,Sifranti!BY:BZ,2,FALSE)))","v":""},{"$f":"IF(C335=\"\",\"\",VLOOKUP(C335,Sifranti!P:R,2,FALSE))","v":""},"","",{"$f":"IF(C335=\"\",\"\",VLOOKUP(C335,Sifranti!P:R,3,FALSE))","v":""},{"$f":"IF(N335=\"\",\"\",VLOOKUP(N335,Sifranti!D:F,2,FALSE))","v":""},{"$f":"IF(AK335=\"\",\"\",VLOOKUP(AK335,Sifranti!V:Y,2,FALSE))","v":""},{"$f":"IF(AK335=\"\",\"\",IF(VLOOKUP(AK335,Sifranti!V:Y,3,FALSE)=\"\",\"\",VLOOKUP(AK335,Sifranti!V:Y,3,FALSE)))","v":""},{"$f":"IF(AK335=\"\",\"\",VLOOKUP(AK335,Sifranti!V:Y,4,FALSE))","v":""}]
[{"$f":"IF(B336=\"\",\"\",VLOOKUP(B336,Sifranti!K:L,2,FALSE))","v":""},null,null,null,null,null,null,null,null,"",{"$f":"IF(L336=\"\",\"\",VLOOKUP(L336,Sifranti!A:B,2,FALSE))","v":""},null,{"$f":"IF(N336=\"\",\"\",VLOOKUP(N336,Sifranti!D:F,3,FALSE))","v":""},null,{"$f":"IF(P336=\"\",\"\",VLOOKUP(P336,Sifranti!H:I,2,FALSE))","v":""},null,null,null,null,null,null,null,null,null,null,null,null,null,null,null,null,null,null,null,null,null,null,null,null,null,{"$f":"IF(AN336=\"\",\"\",IF(LEN(VLOOKUP(AN336,Sifranti!BY:BZ,2,FALSE))=0,\"\",VLOOKUP(AN336,Sifranti!BY:BZ,2,FALSE)))","v":""},{"$f":"IF(C336=\"\",\"\",VLOOKUP(C336,Sifranti!P:R,2,FALSE))","v":""},"","",{"$f":"IF(C336=\"\",\"\",VLOOKUP(C336,Sifranti!P:R,3,FALSE))","v":""},{"$f":"IF(N336=\"\",\"\",VLOOKUP(N336,Sifranti!D:F,2,FALSE))","v":""},{"$f":"IF(AK336=\"\",\"\",VLOOKUP(AK336,Sifranti!V:Y,2,FALSE))","v":""},{"$f":"IF(AK336=\"\",\"\",IF(VLOOKUP(AK336,Sifranti!V:Y,3,FALSE)=\"\",\"\",VLOOKUP(AK336,Sifranti!V:Y,3,FALSE)))","v":""},{"$f":"IF(AK336=\"\",\"\",VLOOKUP(AK336,Sifranti!V:Y,4,FALSE))","v":""}]
[{"$f":"IF(B337=\"\",\"\",VLOOKUP(B337,Sifranti!K:L,2,FALSE))","v":""},null,null,null,null,null,null,null,null,"",{"$f":"IF(L337=\"\",\"\",VLOOKUP(L337,Sifranti!A:B,2,FALSE))","v":""},null,{"$f":"IF(N337=\"\",\"\",VLOOKUP(N337,Sifranti!D:F,3,FALSE))","v":""},null,{"$f":"IF(P337=\"\",\"\",VLOOKUP(P337,Sifranti!H:I,2,FALSE))","v":""},null,null,null,null,null,null,null,null,null,null,null,null,null,null,null,null,null,null,null,null,null,null,null,null,null,{"$f":"IF(AN337=\"\",\"\",IF(LEN(VLOOKUP(AN337,Sifranti!BY:BZ,2,FALSE))=0,\"\",VLOOKUP(AN337,Sifranti!BY:BZ,2,FALSE)))","v":""},{"$f":"IF(C337=\"\",\"\",VLOOKUP(C337,Sifranti!P:R,2,FALSE))","v":""},"","",{"$f":"IF(C337=\"\",\"\",VLOOKUP(C337,Sifranti!P:R,3,FALSE))","v":""},{"$f":"IF(N337=\"\",\"\",VLOOKUP(N337,Sifranti!D:F,2,FALSE))","v":""},{"$f":"IF(AK337=\"\",\"\",VLOOKUP(AK337,Sifranti!V:Y,2,FALSE))","v":""},{"$f":"IF(AK337=\"\",\"\",IF(VLOOKUP(AK337,Sifranti!V:Y,3,FALSE)=\"\",\"\",VLOOKUP(AK337,Sifranti!V:Y,3,FALSE)))","v":""},{"$f":"IF(AK337=\"\",\"\",VLOOKUP(AK337,Sifranti!V:Y,4,FALSE))","v":""}]
[{"$f":"IF(B338=\"\",\"\",VLOOKUP(B338,Sifranti!K:L,2,FALSE))","v":""},null,null,null,null,null,null,null,null,"",{"$f":"IF(L338=\"\",\"\",VLOOKUP(L338,Sifranti!A:B,2,FALSE))","v":""},null,{"$f":"IF(N338=\"\",\"\",VLOOKUP(N338,Sifranti!D:F,3,FALSE))","v":""},null,{"$f":"IF(P338=\"\",\"\",VLOOKUP(P338,Sifranti!H:I,2,FALSE))","v":""},null,null,null,null,null,null,null,null,null,null,null,null,null,null,null,null,null,null,null,null,null,null,null,null,null,{"$f":"IF(AN338=\"\",\"\",IF(LEN(VLOOKUP(AN338,Sifranti!BY:BZ,2,FALSE))=0,\"\",VLOOKUP(AN338,Sifranti!BY:BZ,2,FALSE)))","v":""},{"$f":"IF(C338=\"\",\"\",VLOOKUP(C338,Sifranti!P:R,2,FALSE))","v":""},"","",{"$f":"IF(C338=\"\",\"\",VLOOKUP(C338,Sifranti!P:R,3,FALSE))","v":""},{"$f":"IF(N338=\"\",\"\",VLOOKUP(N338,Sifranti!D:F,2,FALSE))","v":""},{"$f":"IF(AK338=\"\",\"\",VLOOKUP(AK338,Sifranti!V:Y,2,FALSE))","v":""},{"$f":"IF(AK338=\"\",\"\",IF(VLOOKUP(AK338,Sifranti!V:Y,3,FALSE)=\"\",\"\",VLOOKUP(AK338,Sifranti!V:Y,3,FALSE)))","v":""},{"$f":"IF(AK338=\"\",\"\",VLOOKUP(AK338,Sifranti!V:Y,4,FALSE))","v":""}]
[{"$f":"IF(B339=\"\",\"\",VLOOKUP(B339,Sifranti!K:L,2,FALSE))","v":""},null,null,null,null,null,null,null,null,"",{"$f":"IF(L339=\"\",\"\",VLOOKUP(L339,Sifranti!A:B,2,FALSE))","v":""},null,{"$f":"IF(N339=\"\",\"\",VLOOKUP(N339,Sifranti!D:F,3,FALSE))","v":""},null,{"$f":"IF(P339=\"\",\"\",VLOOKUP(P339,Sifranti!H:I,2,FALSE))","v":""},null,null,null,null,null,null,null,null,null,null,null,null,null,null,null,null,null,null,null,null,null,null,null,null,null,{"$f":"IF(AN339=\"\",\"\",IF(LEN(VLOOKUP(AN339,Sifranti!BY:BZ,2,FALSE))=0,\"\",VLOOKUP(AN339,Sifranti!BY:BZ,2,FALSE)))","v":""},{"$f":"IF(C339=\"\",\"\",VLOOKUP(C339,Sifranti!P:R,2,FALSE))","v":""},"","",{"$f":"IF(C339=\"\",\"\",VLOOKUP(C339,Sifranti!P:R,3,FALSE))","v":""},{"$f":"IF(N339=\"\",\"\",VLOOKUP(N339,Sifranti!D:F,2,FALSE))","v":""},{"$f":"IF(AK339=\"\",\"\",VLOOKUP(AK339,Sifranti!V:Y,2,FALSE))","v":""},{"$f":"IF(AK339=\"\",\"\",IF(VLOOKUP(AK339,Sifranti!V:Y,3,FALSE)=\"\",\"\",VLOOKUP(AK339,Sifranti!V:Y,3,FALSE)))","v":""},{"$f":"IF(AK339=\"\",\"\",VLOOKUP(AK339,Sifranti!V:Y,4,FALSE))","v":""}]
[{"$f":"IF(B340=\"\",\"\",VLOOKUP(B340,Sifranti!K:L,2,FALSE))","v":""},null,null,null,null,null,null,null,null,"",{"$f":"IF(L340=\"\",\"\",VLOOKUP(L340,Sifranti!A:B,2,FALSE))","v":""},null,{"$f":"IF(N340=\"\",\"\",VLOOKUP(N340,Sifranti!D:F,3,FALSE))","v":""},null,{"$f":"IF(P340=\"\",\"\",VLOOKUP(P340,Sifranti!H:I,2,FALSE))","v":""},null,null,null,null,null,null,null,null,null,null,null,null,null,null,null,null,null,null,null,null,null,null,null,null,null,{"$f":"IF(AN340=\"\",\"\",IF(LEN(VLOOKUP(AN340,Sifranti!BY:BZ,2,FALSE))=0,\"\",VLOOKUP(AN340,Sifranti!BY:BZ,2,FALSE)))","v":""},{"$f":"IF(C340=\"\",\"\",VLOOKUP(C340,Sifranti!P:R,2,FALSE))","v":""},"","",{"$f":"IF(C340=\"\",\"\",VLOOKUP(C340,Sifranti!P:R,3,FALSE))","v":""},{"$f":"IF(N340=\"\",\"\",VLOOKUP(N340,Sifranti!D:F,2,FALSE))","v":""},{"$f":"IF(AK340=\"\",\"\",VLOOKUP(AK340,Sifranti!V:Y,2,FALSE))","v":""},{"$f":"IF(AK340=\"\",\"\",IF(VLOOKUP(AK340,Sifranti!V:Y,3,FALSE)=\"\",\"\",VLOOKUP(AK340,Sifranti!V:Y,3,FALSE)))","v":""},{"$f":"IF(AK340=\"\",\"\",VLOOKUP(AK340,Sifranti!V:Y,4,FALSE))","v":""}]
[{"$f":"IF(B341=\"\",\"\",VLOOKUP(B341,Sifranti!K:L,2,FALSE))","v":""},null,null,null,null,null,null,null,null,"",{"$f":"IF(L341=\"\",\"\",VLOOKUP(L341,Sifranti!A:B,2,FALSE))","v":""},null,{"$f":"IF(N341=\"\",\"\",VLOOKUP(N341,Sifranti!D:F,3,FALSE))","v":""},null,{"$f":"IF(P341=\"\",\"\",VLOOKUP(P341,Sifranti!H:I,2,FALSE))","v":""},null,null,null,null,null,null,null,null,null,null,null,null,null,null,null,null,null,null,null,null,null,null,null,null,null,{"$f":"IF(AN341=\"\",\"\",IF(LEN(VLOOKUP(AN341,Sifranti!BY:BZ,2,FALSE))=0,\"\",VLOOKUP(AN341,Sifranti!BY:BZ,2,FALSE)))","v":""},{"$f":"IF(C341=\"\",\"\",VLOOKUP(C341,Sifranti!P:R,2,FALSE))","v":""},"","",{"$f":"IF(C341=\"\",\"\",VLOOKUP(C341,Sifranti!P:R,3,FALSE))","v":""},{"$f":"IF(N341=\"\",\"\",VLOOKUP(N341,Sifranti!D:F,2,FALSE))","v":""},{"$f":"IF(AK341=\"\",\"\",VLOOKUP(AK341,Sifranti!V:Y,2,FALSE))","v":""},{"$f":"IF(AK341=\"\",\"\",IF(VLOOKUP(AK341,Sifranti!V:Y,3,FALSE)=\"\",\"\",VLOOKUP(AK341,Sifranti!V:Y,3,FALSE)))","v":""},{"$f":"IF(AK341=\"\",\"\",VLOOKUP(AK341,Sifranti!V:Y,4,FALSE))","v":""}]
[{"$f":"IF(B342=\"\",\"\",VLOOKUP(B342,Sifranti!K:L,2,FALSE))","v":""},null,null,null,null,null,null,null,null,"",{"$f":"IF(L342=\"\",\"\",VLOOKUP(L342,Sifranti!A:B,2,FALSE))","v":""},null,{"$f":"IF(N342=\"\",\"\",VLOOKUP(N342,Sifranti!D:F,3,FALSE))","v":""},null,{"$f":"IF(P342=\"\",\"\",VLOOKUP(P342,Sifranti!H:I,2,FALSE))","v":""},null,null,null,null,null,null,null,null,null,null,null,null,null,null,null,null,null,null,null,null,null,null,null,null,null,{"$f":"IF(AN342=\"\",\"\",IF(LEN(VLOOKUP(AN342,Sifranti!BY:BZ,2,FALSE))=0,\"\",VLOOKUP(AN342,Sifranti!BY:BZ,2,FALSE)))","v":""},{"$f":"IF(C342=\"\",\"\",VLOOKUP(C342,Sifranti!P:R,2,FALSE))","v":""},"","",{"$f":"IF(C342=\"\",\"\",VLOOKUP(C342,Sifranti!P:R,3,FALSE))","v":""},{"$f":"IF(N342=\"\",\"\",VLOOKUP(N342,Sifranti!D:F,2,FALSE))","v":""},{"$f":"IF(AK342=\"\",\"\",VLOOKUP(AK342,Sifranti!V:Y,2,FALSE))","v":""},{"$f":"IF(AK342=\"\",\"\",IF(VLOOKUP(AK342,Sifranti!V:Y,3,FALSE)=\"\",\"\",VLOOKUP(AK342,Sifranti!V:Y,3,FALSE)))","v":""},{"$f":"IF(AK342=\"\",\"\",VLOOKUP(AK342,Sifranti!V:Y,4,FALSE))","v":""}]
[{"$f":"IF(B343=\"\",\"\",VLOOKUP(B343,Sifranti!K:L,2,FALSE))","v":""},null,null,null,null,null,null,null,null,"",{"$f":"IF(L343=\"\",\"\",VLOOKUP(L343,Sifranti!A:B,2,FALSE))","v":""},null,{"$f":"IF(N343=\"\",\"\",VLOOKUP(N343,Sifranti!D:F,3,FALSE))","v":""},null,{"$f":"IF(P343=\"\",\"\",VLOOKUP(P343,Sifranti!H:I,2,FALSE))","v":""},null,null,null,null,null,null,null,null,null,null,null,null,null,null,null,null,null,null,null,null,null,null,null,null,null,{"$f":"IF(AN343=\"\",\"\",IF(LEN(VLOOKUP(AN343,Sifranti!BY:BZ,2,FALSE))=0,\"\",VLOOKUP(AN343,Sifranti!BY:BZ,2,FALSE)))","v":""},{"$f":"IF(C343=\"\",\"\",VLOOKUP(C343,Sifranti!P:R,2,FALSE))","v":""},"","",{"$f":"IF(C343=\"\",\"\",VLOOKUP(C343,Sifranti!P:R,3,FALSE))","v":""},{"$f":"IF(N343=\"\",\"\",VLOOKUP(N343,Sifranti!D:F,2,FALSE))","v":""},{"$f":"IF(AK343=\"\",\"\",VLOOKUP(AK343,Sifranti!V:Y,2,FALSE))","v":""},{"$f":"IF(AK343=\"\",\"\",IF(VLOOKUP(AK343,Sifranti!V:Y,3,FALSE)=\"\",\"\",VLOOKUP(AK343,Sifranti!V:Y,3,FALSE)))","v":""},{"$f":"IF(AK343=\"\",\"\",VLOOKUP(AK343,Sifranti!V:Y,4,FALSE))","v":""}]
[{"$f":"IF(B344=\"\",\"\",VLOOKUP(B344,Sifranti!K:L,2,FALSE))","v":""},null,null,null,null,null,null,null,null,"",{"$f":"IF(L344=\"\",\"\",VLOOKUP(L344,Sifranti!A:B,2,FALSE))","v":""},null,{"$f":"IF(N344=\"\",\"\",VLOOKUP(N344,Sifranti!D:F,3,FALSE))","v":""},null,{"$f":"IF(P344=\"\",\"\",VLOOKUP(P344,Sifranti!H:I,2,FALSE))","v":""},null,null,null,null,null,null,null,null,null,null,null,null,null,null,null,null,null,null,null,null,null,null,null,null,null,{"$f":"IF(AN344=\"\",\"\",IF(LEN(VLOOKUP(AN344,Sifranti!BY:BZ,2,FALSE))=0,\"\",VLOOKUP(AN344,Sifranti!BY:BZ,2,FALSE)))","v":""},{"$f":"IF(C344=\"\",\"\",VLOOKUP(C344,Sifranti!P:R,2,FALSE))","v":""},"","",{"$f":"IF(C344=\"\",\"\",VLOOKUP(C344,Sifranti!P:R,3,FALSE))","v":""},{"$f":"IF(N344=\"\",\"\",VLOOKUP(N344,Sifranti!D:F,2,FALSE))","v":""},{"$f":"IF(AK344=\"\",\"\",VLOOKUP(AK344,Sifranti!V:Y,2,FALSE))","v":""},{"$f":"IF(AK344=\"\",\"\",IF(VLOOKUP(AK344,Sifranti!V:Y,3,FALSE)=\"\",\"\",VLOOKUP(AK344,Sifranti!V:Y,3,FALSE)))","v":""},{"$f":"IF(AK344=\"\",\"\",VLOOKUP(AK344,Sifranti!V:Y,4,FALSE))","v":""}]
[{"$f":"IF(B345=\"\",\"\",VLOOKUP(B345,Sifranti!K:L,2,FALSE))","v":""},null,null,null,null,null,null,null,null,"",{"$f":"IF(L345=\"\",\"\",VLOOKUP(L345,Sifranti!A:B,2,FALSE))","v":""},null,{"$f":"IF(N345=\"\",\"\",VLOOKUP(N345,Sifranti!D:F,3,FALSE))","v":""},null,{"$f":"IF(P345=\"\",\"\",VLOOKUP(P345,Sifranti!H:I,2,FALSE))","v":""},null,null,null,null,null,null,null,null,null,null,null,null,null,null,null,null,null,null,null,null,null,null,null,null,null,{"$f":"IF(AN345=\"\",\"\",IF(LEN(VLOOKUP(AN345,Sifranti!BY:BZ,2,FALSE))=0,\"\",VLOOKUP(AN345,Sifranti!BY:BZ,2,FALSE)))","v":""},{"$f":"IF(C345=\"\",\"\",VLOOKUP(C345,Sifranti!P:R,2,FALSE))","v":""},"","",{"$f":"IF(C345=\"\",\"\",VLOOKUP(C345,Sifranti!P:R,3,FALSE))","v":""},{"$f":"IF(N345=\"\",\"\",VLOOKUP(N345,Sifranti!D:F,2,FALSE))","v":""},{"$f":"IF(AK345=\"\",\"\",VLOOKUP(AK345,Sifranti!V:Y,2,FALSE))","v":""},{"$f":"IF(AK345=\"\",\"\",IF(VLOOKUP(AK345,Sifranti!V:Y,3,FALSE)=\"\",\"\",VLOOKUP(AK345,Sifranti!V:Y,3,FALSE)))","v":""},{"$f":"IF(AK345=\"\",\"\",VLOOKUP(AK345,Sifranti!V:Y,4,FALSE))","v":""}]
[{"$f":"IF(B346=\"\",\"\",VLOOKUP(B346,Sifranti!K:L,2,FALSE))","v":""},null,null,null,null,null,null,null,null,"",{"$f":"IF(L346=\"\",\"\",VLOOKUP(L346,Sifranti!A:B,2,FALSE))","v":""},null,{"$f":"IF(N346=\"\",\"\",VLOOKUP(N346,Sifranti!D:F,3,FALSE))","v":""},null,{"$f":"IF(P346=\"\",\"\",VLOOKUP(P346,Sifranti!H:I,2,FALSE))","v":""},null,null,null,null,null,null,null,null,null,null,null,null,null,null,null,null,null,null,null,null,null,null,null,null,null,{"$f":"IF(AN346=\"\",\"\",IF(LEN(VLOOKUP(AN346,Sifranti!BY:BZ,2,FALSE))=0,\"\",VLOOKUP(AN346,Sifranti!BY:BZ,2,FALSE)))","v":""},{"$f":"IF(C346=\"\",\"\",VLOOKUP(C346,Sifranti!P:R,2,FALSE))","v":""},"","",{"$f":"IF(C346=\"\",\"\",VLOOKUP(C346,Sifranti!P:R,3,FALSE))","v":""},{"$f":"IF(N346=\"\",\"\",VLOOKUP(N346,Sifranti!D:F,2,FALSE))","v":""},{"$f":"IF(AK346=\"\",\"\",VLOOKUP(AK346,Sifranti!V:Y,2,FALSE))","v":""},{"$f":"IF(AK346=\"\",\"\",IF(VLOOKUP(AK346,Sifranti!V:Y,3,FALSE)=\"\",\"\",VLOOKUP(AK346,Sifranti!V:Y,3,FALSE)))","v":""},{"$f":"IF(AK346=\"\",\"\",VLOOKUP(AK346,Sifranti!V:Y,4,FALSE))","v":""}]
[{"$f":"IF(B347=\"\",\"\",VLOOKUP(B347,Sifranti!K:L,2,FALSE))","v":""},null,null,null,null,null,null,null,null,"",{"$f":"IF(L347=\"\",\"\",VLOOKUP(L347,Sifranti!A:B,2,FALSE))","v":""},null,{"$f":"IF(N347=\"\",\"\",VLOOKUP(N347,Sifranti!D:F,3,FALSE))","v":""},null,{"$f":"IF(P347=\"\",\"\",VLOOKUP(P347,Sifranti!H:I,2,FALSE))","v":""},null,null,null,null,null,null,null,null,null,null,null,null,null,null,null,null,null,null,null,null,null,null,null,null,null,{"$f":"IF(AN347=\"\",\"\",IF(LEN(VLOOKUP(AN347,Sifranti!BY:BZ,2,FALSE))=0,\"\",VLOOKUP(AN347,Sifranti!BY:BZ,2,FALSE)))","v":""},{"$f":"IF(C347=\"\",\"\",VLOOKUP(C347,Sifranti!P:R,2,FALSE))","v":""},"","",{"$f":"IF(C347=\"\",\"\",VLOOKUP(C347,Sifranti!P:R,3,FALSE))","v":""},{"$f":"IF(N347=\"\",\"\",VLOOKUP(N347,Sifranti!D:F,2,FALSE))","v":""},{"$f":"IF(AK347=\"\",\"\",VLOOKUP(AK347,Sifranti!V:Y,2,FALSE))","v":""},{"$f":"IF(AK347=\"\",\"\",IF(VLOOKUP(AK347,Sifranti!V:Y,3,FALSE)=\"\",\"\",VLOOKUP(AK347,Sifranti!V:Y,3,FALSE)))","v":""},{"$f":"IF(AK347=\"\",\"\",VLOOKUP(AK347,Sifranti!V:Y,4,FALSE))","v":""}]
[{"$f":"IF(B348=\"\",\"\",VLOOKUP(B348,Sifranti!K:L,2,FALSE))","v":""},null,null,null,null,null,null,null,null,"",{"$f":"IF(L348=\"\",\"\",VLOOKUP(L348,Sifranti!A:B,2,FALSE))","v":""},null,{"$f":"IF(N348=\"\",\"\",VLOOKUP(N348,Sifranti!D:F,3,FALSE))","v":""},null,{"$f":"IF(P348=\"\",\"\",VLOOKUP(P348,Sifranti!H:I,2,FALSE))","v":""},null,null,null,null,null,null,null,null,null,null,null,null,null,null,null,null,null,null,null,null,null,null,null,null,null,{"$f":"IF(AN348=\"\",\"\",IF(LEN(VLOOKUP(AN348,Sifranti!BY:BZ,2,FALSE))=0,\"\",VLOOKUP(AN348,Sifranti!BY:BZ,2,FALSE)))","v":""},{"$f":"IF(C348=\"\",\"\",VLOOKUP(C348,Sifranti!P:R,2,FALSE))","v":""},"","",{"$f":"IF(C348=\"\",\"\",VLOOKUP(C348,Sifranti!P:R,3,FALSE))","v":""},{"$f":"IF(N348=\"\",\"\",VLOOKUP(N348,Sifranti!D:F,2,FALSE))","v":""},{"$f":"IF(AK348=\"\",\"\",VLOOKUP(AK348,Sifranti!V:Y,2,FALSE))","v":""},{"$f":"IF(AK348=\"\",\"\",IF(VLOOKUP(AK348,Sifranti!V:Y,3,FALSE)=\"\",\"\",VLOOKUP(AK348,Sifranti!V:Y,3,FALSE)))","v":""},{"$f":"IF(AK348=\"\",\"\",VLOOKUP(AK348,Sifranti!V:Y,4,FALSE))","v":""}]
[{"$f":"IF(B349=\"\",\"\",VLOOKUP(B349,Sifranti!K:L,2,FALSE))","v":""},null,null,null,null,null,null,null,null,"",{"$f":"IF(L349=\"\",\"\",VLOOKUP(L349,Sifranti!A:B,2,FALSE))","v":""},null,{"$f":"IF(N349=\"\",\"\",VLOOKUP(N349,Sifranti!D:F,3,FALSE))","v":""},null,{"$f":"IF(P349=\"\",\"\",VLOOKUP(P349,Sifranti!H:I,2,FALSE))","v":""},null,null,null,null,null,null,null,null,null,null,null,null,null,null,null,null,null,null,null,null,null,null,null,null,null,{"$f":"IF(AN349=\"\",\"\",IF(LEN(VLOOKUP(AN349,Sifranti!BY:BZ,2,FALSE))=0,\"\",VLOOKUP(AN349,Sifranti!BY:BZ,2,FALSE)))","v":""},{"$f":"IF(C349=\"\",\"\",VLOOKUP(C349,Sifranti!P:R,2,FALSE))","v":""},"","",{"$f":"IF(C349=\"\",\"\",VLOOKUP(C349,Sifranti!P:R,3,FALSE))","v":""},{"$f":"IF(N349=\"\",\"\",VLOOKUP(N349,Sifranti!D:F,2,FALSE))","v":""},{"$f":"IF(AK349=\"\",\"\",VLOOKUP(AK349,Sifranti!V:Y,2,FALSE))","v":""},{"$f":"IF(AK349=\"\",\"\",IF(VLOOKUP(AK349,Sifranti!V:Y,3,FALSE)=\"\",\"\",VLOOKUP(AK349,Sifranti!V:Y,3,FALSE)))","v":""},{"$f":"IF(AK349=\"\",\"\",VLOOKUP(AK349,Sifranti!V:Y,4,FALSE))","v":""}]
[{"$f":"IF(B350=\"\",\"\",VLOOKUP(B350,Sifranti!K:L,2,FALSE))","v":""},null,null,null,null,null,null,null,null,"",{"$f":"IF(L350=\"\",\"\",VLOOKUP(L350,Sifranti!A:B,2,FALSE))","v":""},null,{"$f":"IF(N350=\"\",\"\",VLOOKUP(N350,Sifranti!D:F,3,FALSE))","v":""},null,{"$f":"IF(P350=\"\",\"\",VLOOKUP(P350,Sifranti!H:I,2,FALSE))","v":""},null,null,null,null,null,null,null,null,null,null,null,null,null,null,null,null,null,null,null,null,null,null,null,null,null,{"$f":"IF(AN350=\"\",\"\",IF(LEN(VLOOKUP(AN350,Sifranti!BY:BZ,2,FALSE))=0,\"\",VLOOKUP(AN350,Sifranti!BY:BZ,2,FALSE)))","v":""},{"$f":"IF(C350=\"\",\"\",VLOOKUP(C350,Sifranti!P:R,2,FALSE))","v":""},"","",{"$f":"IF(C350=\"\",\"\",VLOOKUP(C350,Sifranti!P:R,3,FALSE))","v":""},{"$f":"IF(N350=\"\",\"\",VLOOKUP(N350,Sifranti!D:F,2,FALSE))","v":""},{"$f":"IF(AK350=\"\",\"\",VLOOKUP(AK350,Sifranti!V:Y,2,FALSE))","v":""},{"$f":"IF(AK350=\"\",\"\",IF(VLOOKUP(AK350,Sifranti!V:Y,3,FALSE)=\"\",\"\",VLOOKUP(AK350,Sifranti!V:Y,3,FALSE)))","v":""},{"$f":"IF(AK350=\"\",\"\",VLOOKUP(AK350,Sifranti!V:Y,4,FALSE))","v":""}]
[{"$f":"IF(B351=\"\",\"\",VLOOKUP(B351,Sifranti!K:L,2,FALSE))","v":""},null,null,null,null,null,null,null,null,"",{"$f":"IF(L351=\"\",\"\",VLOOKUP(L351,Sifranti!A:B,2,FALSE))","v":""},null,{"$f":"IF(N351=\"\",\"\",VLOOKUP(N351,Sifranti!D:F,3,FALSE))","v":""},null,{"$f":"IF(P351=\"\",\"\",VLOOKUP(P351,Sifranti!H:I,2,FALSE))","v":""},null,null,null,null,null,null,null,null,null,null,null,null,null,null,null,null,null,null,null,null,null,null,null,null,null,{"$f":"IF(AN351=\"\",\"\",IF(LEN(VLOOKUP(AN351,Sifranti!BY:BZ,2,FALSE))=0,\"\",VLOOKUP(AN351,Sifranti!BY:BZ,2,FALSE)))","v":""},{"$f":"IF(C351=\"\",\"\",VLOOKUP(C351,Sifranti!P:R,2,FALSE))","v":""},"","",{"$f":"IF(C351=\"\",\"\",VLOOKUP(C351,Sifranti!P:R,3,FALSE))","v":""},{"$f":"IF(N351=\"\",\"\",VLOOKUP(N351,Sifranti!D:F,2,FALSE))","v":""},{"$f":"IF(AK351=\"\",\"\",VLOOKUP(AK351,Sifranti!V:Y,2,FALSE))","v":""},{"$f":"IF(AK351=\"\",\"\",IF(VLOOKUP(AK351,Sifranti!V:Y,3,FALSE)=\"\",\"\",VLOOKUP(AK351,Sifranti!V:Y,3,FALSE)))","v":""},{"$f":"IF(AK351=\"\",\"\",VLOOKUP(AK351,Sifranti!V:Y,4,FALSE))","v":""}]
[{"$f":"IF(B352=\"\",\"\",VLOOKUP(B352,Sifranti!K:L,2,FALSE))","v":""},null,null,null,null,null,null,null,null,"",{"$f":"IF(L352=\"\",\"\",VLOOKUP(L352,Sifranti!A:B,2,FALSE))","v":""},null,{"$f":"IF(N352=\"\",\"\",VLOOKUP(N352,Sifranti!D:F,3,FALSE))","v":""},null,{"$f":"IF(P352=\"\",\"\",VLOOKUP(P352,Sifranti!H:I,2,FALSE))","v":""},null,null,null,null,null,null,null,null,null,null,null,null,null,null,null,null,null,null,null,null,null,null,null,null,null,{"$f":"IF(AN352=\"\",\"\",IF(LEN(VLOOKUP(AN352,Sifranti!BY:BZ,2,FALSE))=0,\"\",VLOOKUP(AN352,Sifranti!BY:BZ,2,FALSE)))","v":""},{"$f":"IF(C352=\"\",\"\",VLOOKUP(C352,Sifranti!P:R,2,FALSE))","v":""},"","",{"$f":"IF(C352=\"\",\"\",VLOOKUP(C352,Sifranti!P:R,3,FALSE))","v":""},{"$f":"IF(N352=\"\",\"\",VLOOKUP(N352,Sifranti!D:F,2,FALSE))","v":""},{"$f":"IF(AK352=\"\",\"\",VLOOKUP(AK352,Sifranti!V:Y,2,FALSE))","v":""},{"$f":"IF(AK352=\"\",\"\",IF(VLOOKUP(AK352,Sifranti!V:Y,3,FALSE)=\"\",\"\",VLOOKUP(AK352,Sifranti!V:Y,3,FALSE)))","v":""},{"$f":"IF(AK352=\"\",\"\",VLOOKUP(AK352,Sifranti!V:Y,4,FALSE))","v":""}]
[{"$f":"IF(B353=\"\",\"\",VLOOKUP(B353,Sifranti!K:L,2,FALSE))","v":""},null,null,null,null,null,null,null,null,"",{"$f":"IF(L353=\"\",\"\",VLOOKUP(L353,Sifranti!A:B,2,FALSE))","v":""},null,{"$f":"IF(N353=\"\",\"\",VLOOKUP(N353,Sifranti!D:F,3,FALSE))","v":""},null,{"$f":"IF(P353=\"\",\"\",VLOOKUP(P353,Sifranti!H:I,2,FALSE))","v":""},null,null,null,null,null,null,null,null,null,null,null,null,null,null,null,null,null,null,null,null,null,null,null,null,null,{"$f":"IF(AN353=\"\",\"\",IF(LEN(VLOOKUP(AN353,Sifranti!BY:BZ,2,FALSE))=0,\"\",VLOOKUP(AN353,Sifranti!BY:BZ,2,FALSE)))","v":""},{"$f":"IF(C353=\"\",\"\",VLOOKUP(C353,Sifranti!P:R,2,FALSE))","v":""},"","",{"$f":"IF(C353=\"\",\"\",VLOOKUP(C353,Sifranti!P:R,3,FALSE))","v":""},{"$f":"IF(N353=\"\",\"\",VLOOKUP(N353,Sifranti!D:F,2,FALSE))","v":""},{"$f":"IF(AK353=\"\",\"\",VLOOKUP(AK353,Sifranti!V:Y,2,FALSE))","v":""},{"$f":"IF(AK353=\"\",\"\",IF(VLOOKUP(AK353,Sifranti!V:Y,3,FALSE)=\"\",\"\",VLOOKUP(AK353,Sifranti!V:Y,3,FALSE)))","v":""},{"$f":"IF(AK353=\"\",\"\",VLOOKUP(AK353,Sifranti!V:Y,4,FALSE))","v":""}]
[{"$f":"IF(B354=\"\",\"\",VLOOKUP(B354,Sifranti!K:L,2,FALSE))","v":""},null,null,null,null,null,null,null,null,"",{"$f":"IF(L354=\"\",\"\",VLOOKUP(L354,Sifranti!A:B,2,FALSE))","v":""},null,{"$f":"IF(N354=\"\",\"\",VLOOKUP(N354,Sifranti!D:F,3,FALSE))","v":""},null,{"$f":"IF(P354=\"\",\"\",VLOOKUP(P354,Sifranti!H:I,2,FALSE))","v":""},null,null,null,null,null,null,null,null,null,null,null,null,null,null,null,null,null,null,null,null,null,null,null,null,null,{"$f":"IF(AN354=\"\",\"\",IF(LEN(VLOOKUP(AN354,Sifranti!BY:BZ,2,FALSE))=0,\"\",VLOOKUP(AN354,Sifranti!BY:BZ,2,FALSE)))","v":""},{"$f":"IF(C354=\"\",\"\",VLOOKUP(C354,Sifranti!P:R,2,FALSE))","v":""},"","",{"$f":"IF(C354=\"\",\"\",VLOOKUP(C354,Sifranti!P:R,3,FALSE))","v":""},{"$f":"IF(N354=\"\",\"\",VLOOKUP(N354,Sifranti!D:F,2,FALSE))","v":""},{"$f":"IF(AK354=\"\",\"\",VLOOKUP(AK354,Sifranti!V:Y,2,FALSE))","v":""},{"$f":"IF(AK354=\"\",\"\",IF(VLOOKUP(AK354,Sifranti!V:Y,3,FALSE)=\"\",\"\",VLOOKUP(AK354,Sifranti!V:Y,3,FALSE)))","v":""},{"$f":"IF(AK354=\"\",\"\",VLOOKUP(AK354,Sifranti!V:Y,4,FALSE))","v":""}]
[{"$f":"IF(B355=\"\",\"\",VLOOKUP(B355,Sifranti!K:L,2,FALSE))","v":""},null,null,null,null,null,null,null,null,"",{"$f":"IF(L355=\"\",\"\",VLOOKUP(L355,Sifranti!A:B,2,FALSE))","v":""},null,{"$f":"IF(N355=\"\",\"\",VLOOKUP(N355,Sifranti!D:F,3,FALSE))","v":""},null,{"$f":"IF(P355=\"\",\"\",VLOOKUP(P355,Sifranti!H:I,2,FALSE))","v":""},null,null,null,null,null,null,null,null,null,null,null,null,null,null,null,null,null,null,null,null,null,null,null,null,null,{"$f":"IF(AN355=\"\",\"\",IF(LEN(VLOOKUP(AN355,Sifranti!BY:BZ,2,FALSE))=0,\"\",VLOOKUP(AN355,Sifranti!BY:BZ,2,FALSE)))","v":""},{"$f":"IF(C355=\"\",\"\",VLOOKUP(C355,Sifranti!P:R,2,FALSE))","v":""},"","",{"$f":"IF(C355=\"\",\"\",VLOOKUP(C355,Sifranti!P:R,3,FALSE))","v":""},{"$f":"IF(N355=\"\",\"\",VLOOKUP(N355,Sifranti!D:F,2,FALSE))","v":""},{"$f":"IF(AK355=\"\",\"\",VLOOKUP(AK355,Sifranti!V:Y,2,FALSE))","v":""},{"$f":"IF(AK355=\"\",\"\",IF(VLOOKUP(AK355,Sifranti!V:Y,3,FALSE)=\"\",\"\",VLOOKUP(AK355,Sifranti!V:Y,3,FALSE)))","v":""},{"$f":"IF(AK355=\"\",\"\",VLOOKUP(AK355,Sifranti!V:Y,4,FALSE))","v":""}]
[{"$f":"IF(B356=\"\",\"\",VLOOKUP(B356,Sifranti!K:L,2,FALSE))","v":""},null,null,null,null,null,null,null,null,"",{"$f":"IF(L356=\"\",\"\",VLOOKUP(L356,Sifranti!A:B,2,FALSE))","v":""},null,{"$f":"IF(N356=\"\",\"\",VLOOKUP(N356,Sifranti!D:F,3,FALSE))","v":""},null,{"$f":"IF(P356=\"\",\"\",VLOOKUP(P356,Sifranti!H:I,2,FALSE))","v":""},null,null,null,null,null,null,null,null,null,null,null,null,null,null,null,null,null,null,null,null,null,null,null,null,null,{"$f":"IF(AN356=\"\",\"\",IF(LEN(VLOOKUP(AN356,Sifranti!BY:BZ,2,FALSE))=0,\"\",VLOOKUP(AN356,Sifranti!BY:BZ,2,FALSE)))","v":""},{"$f":"IF(C356=\"\",\"\",VLOOKUP(C356,Sifranti!P:R,2,FALSE))","v":""},"","",{"$f":"IF(C356=\"\",\"\",VLOOKUP(C356,Sifranti!P:R,3,FALSE))","v":""},{"$f":"IF(N356=\"\",\"\",VLOOKUP(N356,Sifranti!D:F,2,FALSE))","v":""},{"$f":"IF(AK356=\"\",\"\",VLOOKUP(AK356,Sifranti!V:Y,2,FALSE))","v":""},{"$f":"IF(AK356=\"\",\"\",IF(VLOOKUP(AK356,Sifranti!V:Y,3,FALSE)=\"\",\"\",VLOOKUP(AK356,Sifranti!V:Y,3,FALSE)))","v":""},{"$f":"IF(AK356=\"\",\"\",VLOOKUP(AK356,Sifranti!V:Y,4,FALSE))","v":""}]
[{"$f":"IF(B357=\"\",\"\",VLOOKUP(B357,Sifranti!K:L,2,FALSE))","v":""},null,null,null,null,null,null,null,null,"",{"$f":"IF(L357=\"\",\"\",VLOOKUP(L357,Sifranti!A:B,2,FALSE))","v":""},null,{"$f":"IF(N357=\"\",\"\",VLOOKUP(N357,Sifranti!D:F,3,FALSE))","v":""},null,{"$f":"IF(P357=\"\",\"\",VLOOKUP(P357,Sifranti!H:I,2,FALSE))","v":""},null,null,null,null,null,null,null,null,null,null,null,null,null,null,null,null,null,null,null,null,null,null,null,null,null,{"$f":"IF(AN357=\"\",\"\",IF(LEN(VLOOKUP(AN357,Sifranti!BY:BZ,2,FALSE))=0,\"\",VLOOKUP(AN357,Sifranti!BY:BZ,2,FALSE)))","v":""},{"$f":"IF(C357=\"\",\"\",VLOOKUP(C357,Sifranti!P:R,2,FALSE))","v":""},"","",{"$f":"IF(C357=\"\",\"\",VLOOKUP(C357,Sifranti!P:R,3,FALSE))","v":""},{"$f":"IF(N357=\"\",\"\",VLOOKUP(N357,Sifranti!D:F,2,FALSE))","v":""},{"$f":"IF(AK357=\"\",\"\",VLOOKUP(AK357,Sifranti!V:Y,2,FALSE))","v":""},{"$f":"IF(AK357=\"\",\"\",IF(VLOOKUP(AK357,Sifranti!V:Y,3,FALSE)=\"\",\"\",VLOOKUP(AK357,Sifranti!V:Y,3,FALSE)))","v":""},{"$f":"IF(AK357=\"\",\"\",VLOOKUP(AK357,Sifranti!V:Y,4,FALSE))","v":""}]
[{"$f":"IF(B358=\"\",\"\",VLOOKUP(B358,Sifranti!K:L,2,FALSE))","v":""},null,null,null,null,null,null,null,null,"",{"$f":"IF(L358=\"\",\"\",VLOOKUP(L358,Sifranti!A:B,2,FALSE))","v":""},null,{"$f":"IF(N358=\"\",\"\",VLOOKUP(N358,Sifranti!D:F,3,FALSE))","v":""},null,{"$f":"IF(P358=\"\",\"\",VLOOKUP(P358,Sifranti!H:I,2,FALSE))","v":""},null,null,null,null,null,null,null,null,null,null,null,null,null,null,null,null,null,null,null,null,null,null,null,null,null,{"$f":"IF(AN358=\"\",\"\",IF(LEN(VLOOKUP(AN358,Sifranti!BY:BZ,2,FALSE))=0,\"\",VLOOKUP(AN358,Sifranti!BY:BZ,2,FALSE)))","v":""},{"$f":"IF(C358=\"\",\"\",VLOOKUP(C358,Sifranti!P:R,2,FALSE))","v":""},"","",{"$f":"IF(C358=\"\",\"\",VLOOKUP(C358,Sifranti!P:R,3,FALSE))","v":""},{"$f":"IF(N358=\"\",\"\",VLOOKUP(N358,Sifranti!D:F,2,FALSE))","v":""},{"$f":"IF(AK358=\"\",\"\",VLOOKUP(AK358,Sifranti!V:Y,2,FALSE))","v":""},{"$f":"IF(AK358=\"\",\"\",IF(VLOOKUP(AK358,Sifranti!V:Y,3,FALSE)=\"\",\"\",VLOOKUP(AK358,Sifranti!V:Y,3,FALSE)))","v":""},{"$f":"IF(AK358=\"\",\"\",VLOOKUP(AK358,Sifranti!V:Y,4,FALSE))","v":""}]
[{"$f":"IF(B359=\"\",\"\",VLOOKUP(B359,Sifranti!K:L,2,FALSE))","v":""},null,null,null,null,null,null,null,null,"",{"$f":"IF(L359=\"\",\"\",VLOOKUP(L359,Sifranti!A:B,2,FALSE))","v":""},null,{"$f":"IF(N359=\"\",\"\",VLOOKUP(N359,Sifranti!D:F,3,FALSE))","v":""},null,{"$f":"IF(P359=\"\",\"\",VLOOKUP(P359,Sifranti!H:I,2,FALSE))","v":""},null,null,null,null,null,null,null,null,null,null,null,null,null,null,null,null,null,null,null,null,null,null,null,null,null,{"$f":"IF(AN359=\"\",\"\",IF(LEN(VLOOKUP(AN359,Sifranti!BY:BZ,2,FALSE))=0,\"\",VLOOKUP(AN359,Sifranti!BY:BZ,2,FALSE)))","v":""},{"$f":"IF(C359=\"\",\"\",VLOOKUP(C359,Sifranti!P:R,2,FALSE))","v":""},"","",{"$f":"IF(C359=\"\",\"\",VLOOKUP(C359,Sifranti!P:R,3,FALSE))","v":""},{"$f":"IF(N359=\"\",\"\",VLOOKUP(N359,Sifranti!D:F,2,FALSE))","v":""},{"$f":"IF(AK359=\"\",\"\",VLOOKUP(AK359,Sifranti!V:Y,2,FALSE))","v":""},{"$f":"IF(AK359=\"\",\"\",IF(VLOOKUP(AK359,Sifranti!V:Y,3,FALSE)=\"\",\"\",VLOOKUP(AK359,Sifranti!V:Y,3,FALSE)))","v":""},{"$f":"IF(AK359=\"\",\"\",VLOOKUP(AK359,Sifranti!V:Y,4,FALSE))","v":""}]
[{"$f":"IF(B360=\"\",\"\",VLOOKUP(B360,Sifranti!K:L,2,FALSE))","v":""},null,null,null,null,null,null,null,null,"",{"$f":"IF(L360=\"\",\"\",VLOOKUP(L360,Sifranti!A:B,2,FALSE))","v":""},null,{"$f":"IF(N360=\"\",\"\",VLOOKUP(N360,Sifranti!D:F,3,FALSE))","v":""},null,{"$f":"IF(P360=\"\",\"\",VLOOKUP(P360,Sifranti!H:I,2,FALSE))","v":""},null,null,null,null,null,null,null,null,null,null,null,null,null,null,null,null,null,null,null,null,null,null,null,null,null,{"$f":"IF(AN360=\"\",\"\",IF(LEN(VLOOKUP(AN360,Sifranti!BY:BZ,2,FALSE))=0,\"\",VLOOKUP(AN360,Sifranti!BY:BZ,2,FALSE)))","v":""},{"$f":"IF(C360=\"\",\"\",VLOOKUP(C360,Sifranti!P:R,2,FALSE))","v":""},"","",{"$f":"IF(C360=\"\",\"\",VLOOKUP(C360,Sifranti!P:R,3,FALSE))","v":""},{"$f":"IF(N360=\"\",\"\",VLOOKUP(N360,Sifranti!D:F,2,FALSE))","v":""},{"$f":"IF(AK360=\"\",\"\",VLOOKUP(AK360,Sifranti!V:Y,2,FALSE))","v":""},{"$f":"IF(AK360=\"\",\"\",IF(VLOOKUP(AK360,Sifranti!V:Y,3,FALSE)=\"\",\"\",VLOOKUP(AK360,Sifranti!V:Y,3,FALSE)))","v":""},{"$f":"IF(AK360=\"\",\"\",VLOOKUP(AK360,Sifranti!V:Y,4,FALSE))","v":""}]
[{"$f":"IF(B361=\"\",\"\",VLOOKUP(B361,Sifranti!K:L,2,FALSE))","v":""},null,null,null,null,null,null,null,null,"",{"$f":"IF(L361=\"\",\"\",VLOOKUP(L361,Sifranti!A:B,2,FALSE))","v":""},null,{"$f":"IF(N361=\"\",\"\",VLOOKUP(N361,Sifranti!D:F,3,FALSE))","v":""},null,{"$f":"IF(P361=\"\",\"\",VLOOKUP(P361,Sifranti!H:I,2,FALSE))","v":""},null,null,null,null,null,null,null,null,null,null,null,null,null,null,null,null,null,null,null,null,null,null,null,null,null,{"$f":"IF(AN361=\"\",\"\",IF(LEN(VLOOKUP(AN361,Sifranti!BY:BZ,2,FALSE))=0,\"\",VLOOKUP(AN361,Sifranti!BY:BZ,2,FALSE)))","v":""},{"$f":"IF(C361=\"\",\"\",VLOOKUP(C361,Sifranti!P:R,2,FALSE))","v":""},"","",{"$f":"IF(C361=\"\",\"\",VLOOKUP(C361,Sifranti!P:R,3,FALSE))","v":""},{"$f":"IF(N361=\"\",\"\",VLOOKUP(N361,Sifranti!D:F,2,FALSE))","v":""},{"$f":"IF(AK361=\"\",\"\",VLOOKUP(AK361,Sifranti!V:Y,2,FALSE))","v":""},{"$f":"IF(AK361=\"\",\"\",IF(VLOOKUP(AK361,Sifranti!V:Y,3,FALSE)=\"\",\"\",VLOOKUP(AK361,Sifranti!V:Y,3,FALSE)))","v":""},{"$f":"IF(AK361=\"\",\"\",VLOOKUP(AK361,Sifranti!V:Y,4,FALSE))","v":""}]
[{"$f":"IF(B362=\"\",\"\",VLOOKUP(B362,Sifranti!K:L,2,FALSE))","v":""},null,null,null,null,null,null,null,null,"",{"$f":"IF(L362=\"\",\"\",VLOOKUP(L362,Sifranti!A:B,2,FALSE))","v":""},null,{"$f":"IF(N362=\"\",\"\",VLOOKUP(N362,Sifranti!D:F,3,FALSE))","v":""},null,{"$f":"IF(P362=\"\",\"\",VLOOKUP(P362,Sifranti!H:I,2,FALSE))","v":""},null,null,null,null,null,null,null,null,null,null,null,null,null,null,null,null,null,null,null,null,null,null,null,null,null,{"$f":"IF(AN362=\"\",\"\",IF(LEN(VLOOKUP(AN362,Sifranti!BY:BZ,2,FALSE))=0,\"\",VLOOKUP(AN362,Sifranti!BY:BZ,2,FALSE)))","v":""},{"$f":"IF(C362=\"\",\"\",VLOOKUP(C362,Sifranti!P:R,2,FALSE))","v":""},"","",{"$f":"IF(C362=\"\",\"\",VLOOKUP(C362,Sifranti!P:R,3,FALSE))","v":""},{"$f":"IF(N362=\"\",\"\",VLOOKUP(N362,Sifranti!D:F,2,FALSE))","v":""},{"$f":"IF(AK362=\"\",\"\",VLOOKUP(AK362,Sifranti!V:Y,2,FALSE))","v":""},{"$f":"IF(AK362=\"\",\"\",IF(VLOOKUP(AK362,Sifranti!V:Y,3,FALSE)=\"\",\"\",VLOOKUP(AK362,Sifranti!V:Y,3,FALSE)))","v":""},{"$f":"IF(AK362=\"\",\"\",VLOOKUP(AK362,Sifranti!V:Y,4,FALSE))","v":""}]
[{"$f":"IF(B363=\"\",\"\",VLOOKUP(B363,Sifranti!K:L,2,FALSE))","v":""},null,null,null,null,null,null,null,null,"",{"$f":"IF(L363=\"\",\"\",VLOOKUP(L363,Sifranti!A:B,2,FALSE))","v":""},null,{"$f":"IF(N363=\"\",\"\",VLOOKUP(N363,Sifranti!D:F,3,FALSE))","v":""},null,{"$f":"IF(P363=\"\",\"\",VLOOKUP(P363,Sifranti!H:I,2,FALSE))","v":""},null,null,null,null,null,null,null,null,null,null,null,null,null,null,null,null,null,null,null,null,null,null,null,null,null,{"$f":"IF(AN363=\"\",\"\",IF(LEN(VLOOKUP(AN363,Sifranti!BY:BZ,2,FALSE))=0,\"\",VLOOKUP(AN363,Sifranti!BY:BZ,2,FALSE)))","v":""},{"$f":"IF(C363=\"\",\"\",VLOOKUP(C363,Sifranti!P:R,2,FALSE))","v":""},"","",{"$f":"IF(C363=\"\",\"\",VLOOKUP(C363,Sifranti!P:R,3,FALSE))","v":""},{"$f":"IF(N363=\"\",\"\",VLOOKUP(N363,Sifranti!D:F,2,FALSE))","v":""},{"$f":"IF(AK363=\"\",\"\",VLOOKUP(AK363,Sifranti!V:Y,2,FALSE))","v":""},{"$f":"IF(AK363=\"\",\"\",IF(VLOOKUP(AK363,Sifranti!V:Y,3,FALSE)=\"\",\"\",VLOOKUP(AK363,Sifranti!V:Y,3,FALSE)))","v":""},{"$f":"IF(AK363=\"\",\"\",VLOOKUP(AK363,Sifranti!V:Y,4,FALSE))","v":""}]
[{"$f":"IF(B364=\"\",\"\",VLOOKUP(B364,Sifranti!K:L,2,FALSE))","v":""},null,null,null,null,null,null,null,null,"",{"$f":"IF(L364=\"\",\"\",VLOOKUP(L364,Sifranti!A:B,2,FALSE))","v":""},null,{"$f":"IF(N364=\"\",\"\",VLOOKUP(N364,Sifranti!D:F,3,FALSE))","v":""},null,{"$f":"IF(P364=\"\",\"\",VLOOKUP(P364,Sifranti!H:I,2,FALSE))","v":""},null,null,null,null,null,null,null,null,null,null,null,null,null,null,null,null,null,null,null,null,null,null,null,null,null,{"$f":"IF(AN364=\"\",\"\",IF(LEN(VLOOKUP(AN364,Sifranti!BY:BZ,2,FALSE))=0,\"\",VLOOKUP(AN364,Sifranti!BY:BZ,2,FALSE)))","v":""},{"$f":"IF(C364=\"\",\"\",VLOOKUP(C364,Sifranti!P:R,2,FALSE))","v":""},"","",{"$f":"IF(C364=\"\",\"\",VLOOKUP(C364,Sifranti!P:R,3,FALSE))","v":""},{"$f":"IF(N364=\"\",\"\",VLOOKUP(N364,Sifranti!D:F,2,FALSE))","v":""},{"$f":"IF(AK364=\"\",\"\",VLOOKUP(AK364,Sifranti!V:Y,2,FALSE))","v":""},{"$f":"IF(AK364=\"\",\"\",IF(VLOOKUP(AK364,Sifranti!V:Y,3,FALSE)=\"\",\"\",VLOOKUP(AK364,Sifranti!V:Y,3,FALSE)))","v":""},{"$f":"IF(AK364=\"\",\"\",VLOOKUP(AK364,Sifranti!V:Y,4,FALSE))","v":""}]
[{"$f":"IF(B365=\"\",\"\",VLOOKUP(B365,Sifranti!K:L,2,FALSE))","v":""},null,null,null,null,null,null,null,null,"",{"$f":"IF(L365=\"\",\"\",VLOOKUP(L365,Sifranti!A:B,2,FALSE))","v":""},null,{"$f":"IF(N365=\"\",\"\",VLOOKUP(N365,Sifranti!D:F,3,FALSE))","v":""},null,{"$f":"IF(P365=\"\",\"\",VLOOKUP(P365,Sifranti!H:I,2,FALSE))","v":""},null,null,null,null,null,null,null,null,null,null,null,null,null,null,null,null,null,null,null,null,null,null,null,null,null,{"$f":"IF(AN365=\"\",\"\",IF(LEN(VLOOKUP(AN365,Sifranti!BY:BZ,2,FALSE))=0,\"\",VLOOKUP(AN365,Sifranti!BY:BZ,2,FALSE)))","v":""},{"$f":"IF(C365=\"\",\"\",VLOOKUP(C365,Sifranti!P:R,2,FALSE))","v":""},"","",{"$f":"IF(C365=\"\",\"\",VLOOKUP(C365,Sifranti!P:R,3,FALSE))","v":""},{"$f":"IF(N365=\"\",\"\",VLOOKUP(N365,Sifranti!D:F,2,FALSE))","v":""},{"$f":"IF(AK365=\"\",\"\",VLOOKUP(AK365,Sifranti!V:Y,2,FALSE))","v":""},{"$f":"IF(AK365=\"\",\"\",IF(VLOOKUP(AK365,Sifranti!V:Y,3,FALSE)=\"\",\"\",VLOOKUP(AK365,Sifranti!V:Y,3,FALSE)))","v":""},{"$f":"IF(AK365=\"\",\"\",VLOOKUP(AK365,Sifranti!V:Y,4,FALSE))","v":""}]
[{"$f":"IF(B366=\"\",\"\",VLOOKUP(B366,Sifranti!K:L,2,FALSE))","v":""},null,null,null,null,null,null,null,null,"",{"$f":"IF(L366=\"\",\"\",VLOOKUP(L366,Sifranti!A:B,2,FALSE))","v":""},null,{"$f":"IF(N366=\"\",\"\",VLOOKUP(N366,Sifranti!D:F,3,FALSE))","v":""},null,{"$f":"IF(P366=\"\",\"\",VLOOKUP(P366,Sifranti!H:I,2,FALSE))","v":""},null,null,null,null,null,null,null,null,null,null,null,null,null,null,null,null,null,null,null,null,null,null,null,null,null,{"$f":"IF(AN366=\"\",\"\",IF(LEN(VLOOKUP(AN366,Sifranti!BY:BZ,2,FALSE))=0,\"\",VLOOKUP(AN366,Sifranti!BY:BZ,2,FALSE)))","v":""},{"$f":"IF(C366=\"\",\"\",VLOOKUP(C366,Sifranti!P:R,2,FALSE))","v":""},"","",{"$f":"IF(C366=\"\",\"\",VLOOKUP(C366,Sifranti!P:R,3,FALSE))","v":""},{"$f":"IF(N366=\"\",\"\",VLOOKUP(N366,Sifranti!D:F,2,FALSE))","v":""},{"$f":"IF(AK366=\"\",\"\",VLOOKUP(AK366,Sifranti!V:Y,2,FALSE))","v":""},{"$f":"IF(AK366=\"\",\"\",IF(VLOOKUP(AK366,Sifranti!V:Y,3,FALSE)=\"\",\"\",VLOOKUP(AK366,Sifranti!V:Y,3,FALSE)))","v":""},{"$f":"IF(AK366=\"\",\"\",VLOOKUP(AK366,Sifranti!V:Y,4,FALSE))","v":""}]
[{"$f":"IF(B367=\"\",\"\",VLOOKUP(B367,Sifranti!K:L,2,FALSE))","v":""},null,null,null,null,null,null,null,null,"",{"$f":"IF(L367=\"\",\"\",VLOOKUP(L367,Sifranti!A:B,2,FALSE))","v":""},null,{"$f":"IF(N367=\"\",\"\",VLOOKUP(N367,Sifranti!D:F,3,FALSE))","v":""},null,{"$f":"IF(P367=\"\",\"\",VLOOKUP(P367,Sifranti!H:I,2,FALSE))","v":""},null,null,null,null,null,null,null,null,null,null,null,null,null,null,null,null,null,null,null,null,null,null,null,null,null,{"$f":"IF(AN367=\"\",\"\",IF(LEN(VLOOKUP(AN367,Sifranti!BY:BZ,2,FALSE))=0,\"\",VLOOKUP(AN367,Sifranti!BY:BZ,2,FALSE)))","v":""},{"$f":"IF(C367=\"\",\"\",VLOOKUP(C367,Sifranti!P:R,2,FALSE))","v":""},"","",{"$f":"IF(C367=\"\",\"\",VLOOKUP(C367,Sifranti!P:R,3,FALSE))","v":""},{"$f":"IF(N367=\"\",\"\",VLOOKUP(N367,Sifranti!D:F,2,FALSE))","v":""},{"$f":"IF(AK367=\"\",\"\",VLOOKUP(AK367,Sifranti!V:Y,2,FALSE))","v":""},{"$f":"IF(AK367=\"\",\"\",IF(VLOOKUP(AK367,Sifranti!V:Y,3,FALSE)=\"\",\"\",VLOOKUP(AK367,Sifranti!V:Y,3,FALSE)))","v":""},{"$f":"IF(AK367=\"\",\"\",VLOOKUP(AK367,Sifranti!V:Y,4,FALSE))","v":""}]
[{"$f":"IF(B368=\"\",\"\",VLOOKUP(B368,Sifranti!K:L,2,FALSE))","v":""},null,null,null,null,null,null,null,null,"",{"$f":"IF(L368=\"\",\"\",VLOOKUP(L368,Sifranti!A:B,2,FALSE))","v":""},null,{"$f":"IF(N368=\"\",\"\",VLOOKUP(N368,Sifranti!D:F,3,FALSE))","v":""},null,{"$f":"IF(P368=\"\",\"\",VLOOKUP(P368,Sifranti!H:I,2,FALSE))","v":""},null,null,null,null,null,null,null,null,null,null,null,null,null,null,null,null,null,null,null,null,null,null,null,null,null,{"$f":"IF(AN368=\"\",\"\",IF(LEN(VLOOKUP(AN368,Sifranti!BY:BZ,2,FALSE))=0,\"\",VLOOKUP(AN368,Sifranti!BY:BZ,2,FALSE)))","v":""},{"$f":"IF(C368=\"\",\"\",VLOOKUP(C368,Sifranti!P:R,2,FALSE))","v":""},"","",{"$f":"IF(C368=\"\",\"\",VLOOKUP(C368,Sifranti!P:R,3,FALSE))","v":""},{"$f":"IF(N368=\"\",\"\",VLOOKUP(N368,Sifranti!D:F,2,FALSE))","v":""},{"$f":"IF(AK368=\"\",\"\",VLOOKUP(AK368,Sifranti!V:Y,2,FALSE))","v":""},{"$f":"IF(AK368=\"\",\"\",IF(VLOOKUP(AK368,Sifranti!V:Y,3,FALSE)=\"\",\"\",VLOOKUP(AK368,Sifranti!V:Y,3,FALSE)))","v":""},{"$f":"IF(AK368=\"\",\"\",VLOOKUP(AK368,Sifranti!V:Y,4,FALSE))","v":""}]
[{"$f":"IF(B369=\"\",\"\",VLOOKUP(B369,Sifranti!K:L,2,FALSE))","v":""},null,null,null,null,null,null,null,null,"",{"$f":"IF(L369=\"\",\"\",VLOOKUP(L369,Sifranti!A:B,2,FALSE))","v":""},null,{"$f":"IF(N369=\"\",\"\",VLOOKUP(N369,Sifranti!D:F,3,FALSE))","v":""},null,{"$f":"IF(P369=\"\",\"\",VLOOKUP(P369,Sifranti!H:I,2,FALSE))","v":""},null,null,null,null,null,null,null,null,null,null,null,null,null,null,null,null,null,null,null,null,null,null,null,null,null,{"$f":"IF(AN369=\"\",\"\",IF(LEN(VLOOKUP(AN369,Sifranti!BY:BZ,2,FALSE))=0,\"\",VLOOKUP(AN369,Sifranti!BY:BZ,2,FALSE)))","v":""},{"$f":"IF(C369=\"\",\"\",VLOOKUP(C369,Sifranti!P:R,2,FALSE))","v":""},"","",{"$f":"IF(C369=\"\",\"\",VLOOKUP(C369,Sifranti!P:R,3,FALSE))","v":""},{"$f":"IF(N369=\"\",\"\",VLOOKUP(N369,Sifranti!D:F,2,FALSE))","v":""},{"$f":"IF(AK369=\"\",\"\",VLOOKUP(AK369,Sifranti!V:Y,2,FALSE))","v":""},{"$f":"IF(AK369=\"\",\"\",IF(VLOOKUP(AK369,Sifranti!V:Y,3,FALSE)=\"\",\"\",VLOOKUP(AK369,Sifranti!V:Y,3,FALSE)))","v":""},{"$f":"IF(AK369=\"\",\"\",VLOOKUP(AK369,Sifranti!V:Y,4,FALSE))","v":""}]
[{"$f":"IF(B370=\"\",\"\",VLOOKUP(B370,Sifranti!K:L,2,FALSE))","v":""},null,null,null,null,null,null,null,null,"",{"$f":"IF(L370=\"\",\"\",VLOOKUP(L370,Sifranti!A:B,2,FALSE))","v":""},null,{"$f":"IF(N370=\"\",\"\",VLOOKUP(N370,Sifranti!D:F,3,FALSE))","v":""},null,{"$f":"IF(P370=\"\",\"\",VLOOKUP(P370,Sifranti!H:I,2,FALSE))","v":""},null,null,null,null,null,null,null,null,null,null,null,null,null,null,null,null,null,null,null,null,null,null,null,null,null,{"$f":"IF(AN370=\"\",\"\",IF(LEN(VLOOKUP(AN370,Sifranti!BY:BZ,2,FALSE))=0,\"\",VLOOKUP(AN370,Sifranti!BY:BZ,2,FALSE)))","v":""},{"$f":"IF(C370=\"\",\"\",VLOOKUP(C370,Sifranti!P:R,2,FALSE))","v":""},"","",{"$f":"IF(C370=\"\",\"\",VLOOKUP(C370,Sifranti!P:R,3,FALSE))","v":""},{"$f":"IF(N370=\"\",\"\",VLOOKUP(N370,Sifranti!D:F,2,FALSE))","v":""},{"$f":"IF(AK370=\"\",\"\",VLOOKUP(AK370,Sifranti!V:Y,2,FALSE))","v":""},{"$f":"IF(AK370=\"\",\"\",IF(VLOOKUP(AK370,Sifranti!V:Y,3,FALSE)=\"\",\"\",VLOOKUP(AK370,Sifranti!V:Y,3,FALSE)))","v":""},{"$f":"IF(AK370=\"\",\"\",VLOOKUP(AK370,Sifranti!V:Y,4,FALSE))","v":""}]
[{"$f":"IF(B371=\"\",\"\",VLOOKUP(B371,Sifranti!K:L,2,FALSE))","v":""},null,null,null,null,null,null,null,null,"",{"$f":"IF(L371=\"\",\"\",VLOOKUP(L371,Sifranti!A:B,2,FALSE))","v":""},null,{"$f":"IF(N371=\"\",\"\",VLOOKUP(N371,Sifranti!D:F,3,FALSE))","v":""},null,{"$f":"IF(P371=\"\",\"\",VLOOKUP(P371,Sifranti!H:I,2,FALSE))","v":""},null,null,null,null,null,null,null,null,null,null,null,null,null,null,null,null,null,null,null,null,null,null,null,null,null,{"$f":"IF(AN371=\"\",\"\",IF(LEN(VLOOKUP(AN371,Sifranti!BY:BZ,2,FALSE))=0,\"\",VLOOKUP(AN371,Sifranti!BY:BZ,2,FALSE)))","v":""},{"$f":"IF(C371=\"\",\"\",VLOOKUP(C371,Sifranti!P:R,2,FALSE))","v":""},"","",{"$f":"IF(C371=\"\",\"\",VLOOKUP(C371,Sifranti!P:R,3,FALSE))","v":""},{"$f":"IF(N371=\"\",\"\",VLOOKUP(N371,Sifranti!D:F,2,FALSE))","v":""},{"$f":"IF(AK371=\"\",\"\",VLOOKUP(AK371,Sifranti!V:Y,2,FALSE))","v":""},{"$f":"IF(AK371=\"\",\"\",IF(VLOOKUP(AK371,Sifranti!V:Y,3,FALSE)=\"\",\"\",VLOOKUP(AK371,Sifranti!V:Y,3,FALSE)))","v":""},{"$f":"IF(AK371=\"\",\"\",VLOOKUP(AK371,Sifranti!V:Y,4,FALSE))","v":""}]
[{"$f":"IF(B372=\"\",\"\",VLOOKUP(B372,Sifranti!K:L,2,FALSE))","v":""},null,null,null,null,null,null,null,null,"",{"$f":"IF(L372=\"\",\"\",VLOOKUP(L372,Sifranti!A:B,2,FALSE))","v":""},null,{"$f":"IF(N372=\"\",\"\",VLOOKUP(N372,Sifranti!D:F,3,FALSE))","v":""},null,{"$f":"IF(P372=\"\",\"\",VLOOKUP(P372,Sifranti!H:I,2,FALSE))","v":""},null,null,null,null,null,null,null,null,null,null,null,null,null,null,null,null,null,null,null,null,null,null,null,null,null,{"$f":"IF(AN372=\"\",\"\",IF(LEN(VLOOKUP(AN372,Sifranti!BY:BZ,2,FALSE))=0,\"\",VLOOKUP(AN372,Sifranti!BY:BZ,2,FALSE)))","v":""},{"$f":"IF(C372=\"\",\"\",VLOOKUP(C372,Sifranti!P:R,2,FALSE))","v":""},"","",{"$f":"IF(C372=\"\",\"\",VLOOKUP(C372,Sifranti!P:R,3,FALSE))","v":""},{"$f":"IF(N372=\"\",\"\",VLOOKUP(N372,Sifranti!D:F,2,FALSE))","v":""},{"$f":"IF(AK372=\"\",\"\",VLOOKUP(AK372,Sifranti!V:Y,2,FALSE))","v":""},{"$f":"IF(AK372=\"\",\"\",IF(VLOOKUP(AK372,Sifranti!V:Y,3,FALSE)=\"\",\"\",VLOOKUP(AK372,Sifranti!V:Y,3,FALSE)))","v":""},{"$f":"IF(AK372=\"\",\"\",VLOOKUP(AK372,Sifranti!V:Y,4,FALSE))","v":""}]
[{"$f":"IF(B373=\"\",\"\",VLOOKUP(B373,Sifranti!K:L,2,FALSE))","v":""},null,null,null,null,null,null,null,null,"",{"$f":"IF(L373=\"\",\"\",VLOOKUP(L373,Sifranti!A:B,2,FALSE))","v":""},null,{"$f":"IF(N373=\"\",\"\",VLOOKUP(N373,Sifranti!D:F,3,FALSE))","v":""},null,{"$f":"IF(P373=\"\",\"\",VLOOKUP(P373,Sifranti!H:I,2,FALSE))","v":""},null,null,null,null,null,null,null,null,null,null,null,null,null,null,null,null,null,null,null,null,null,null,null,null,null,{"$f":"IF(AN373=\"\",\"\",IF(LEN(VLOOKUP(AN373,Sifranti!BY:BZ,2,FALSE))=0,\"\",VLOOKUP(AN373,Sifranti!BY:BZ,2,FALSE)))","v":""},{"$f":"IF(C373=\"\",\"\",VLOOKUP(C373,Sifranti!P:R,2,FALSE))","v":""},"","",{"$f":"IF(C373=\"\",\"\",VLOOKUP(C373,Sifranti!P:R,3,FALSE))","v":""},{"$f":"IF(N373=\"\",\"\",VLOOKUP(N373,Sifranti!D:F,2,FALSE))","v":""},{"$f":"IF(AK373=\"\",\"\",VLOOKUP(AK373,Sifranti!V:Y,2,FALSE))","v":""},{"$f":"IF(AK373=\"\",\"\",IF(VLOOKUP(AK373,Sifranti!V:Y,3,FALSE)=\"\",\"\",VLOOKUP(AK373,Sifranti!V:Y,3,FALSE)))","v":""},{"$f":"IF(AK373=\"\",\"\",VLOOKUP(AK373,Sifranti!V:Y,4,FALSE))","v":""}]
[{"$f":"IF(B374=\"\",\"\",VLOOKUP(B374,Sifranti!K:L,2,FALSE))","v":""},null,null,null,null,null,null,null,null,"",{"$f":"IF(L374=\"\",\"\",VLOOKUP(L374,Sifranti!A:B,2,FALSE))","v":""},null,{"$f":"IF(N374=\"\",\"\",VLOOKUP(N374,Sifranti!D:F,3,FALSE))","v":""},null,{"$f":"IF(P374=\"\",\"\",VLOOKUP(P374,Sifranti!H:I,2,FALSE))","v":""},null,null,null,null,null,null,null,null,null,null,null,null,null,null,null,null,null,null,null,null,null,null,null,null,null,{"$f":"IF(AN374=\"\",\"\",IF(LEN(VLOOKUP(AN374,Sifranti!BY:BZ,2,FALSE))=0,\"\",VLOOKUP(AN374,Sifranti!BY:BZ,2,FALSE)))","v":""},{"$f":"IF(C374=\"\",\"\",VLOOKUP(C374,Sifranti!P:R,2,FALSE))","v":""},"","",{"$f":"IF(C374=\"\",\"\",VLOOKUP(C374,Sifranti!P:R,3,FALSE))","v":""},{"$f":"IF(N374=\"\",\"\",VLOOKUP(N374,Sifranti!D:F,2,FALSE))","v":""},{"$f":"IF(AK374=\"\",\"\",VLOOKUP(AK374,Sifranti!V:Y,2,FALSE))","v":""},{"$f":"IF(AK374=\"\",\"\",IF(VLOOKUP(AK374,Sifranti!V:Y,3,FALSE)=\"\",\"\",VLOOKUP(AK374,Sifranti!V:Y,3,FALSE)))","v":""},{"$f":"IF(AK374=\"\",\"\",VLOOKUP(AK374,Sifranti!V:Y,4,FALSE))","v":""}]
[{"$f":"IF(B375=\"\",\"\",VLOOKUP(B375,Sifranti!K:L,2,FALSE))","v":""},null,null,null,null,null,null,null,null,"",{"$f":"IF(L375=\"\",\"\",VLOOKUP(L375,Sifranti!A:B,2,FALSE))","v":""},null,{"$f":"IF(N375=\"\",\"\",VLOOKUP(N375,Sifranti!D:F,3,FALSE))","v":""},null,{"$f":"IF(P375=\"\",\"\",VLOOKUP(P375,Sifranti!H:I,2,FALSE))","v":""},null,null,null,null,null,null,null,null,null,null,null,null,null,null,null,null,null,null,null,null,null,null,null,null,null,{"$f":"IF(AN375=\"\",\"\",IF(LEN(VLOOKUP(AN375,Sifranti!BY:BZ,2,FALSE))=0,\"\",VLOOKUP(AN375,Sifranti!BY:BZ,2,FALSE)))","v":""},{"$f":"IF(C375=\"\",\"\",VLOOKUP(C375,Sifranti!P:R,2,FALSE))","v":""},"","",{"$f":"IF(C375=\"\",\"\",VLOOKUP(C375,Sifranti!P:R,3,FALSE))","v":""},{"$f":"IF(N375=\"\",\"\",VLOOKUP(N375,Sifranti!D:F,2,FALSE))","v":""},{"$f":"IF(AK375=\"\",\"\",VLOOKUP(AK375,Sifranti!V:Y,2,FALSE))","v":""},{"$f":"IF(AK375=\"\",\"\",IF(VLOOKUP(AK375,Sifranti!V:Y,3,FALSE)=\"\",\"\",VLOOKUP(AK375,Sifranti!V:Y,3,FALSE)))","v":""},{"$f":"IF(AK375=\"\",\"\",VLOOKUP(AK375,Sifranti!V:Y,4,FALSE))","v":""}]
[{"$f":"IF(B376=\"\",\"\",VLOOKUP(B376,Sifranti!K:L,2,FALSE))","v":""},null,null,null,null,null,null,null,null,"",{"$f":"IF(L376=\"\",\"\",VLOOKUP(L376,Sifranti!A:B,2,FALSE))","v":""},null,{"$f":"IF(N376=\"\",\"\",VLOOKUP(N376,Sifranti!D:F,3,FALSE))","v":""},null,{"$f":"IF(P376=\"\",\"\",VLOOKUP(P376,Sifranti!H:I,2,FALSE))","v":""},null,null,null,null,null,null,null,null,null,null,null,null,null,null,null,null,null,null,null,null,null,null,null,null,null,{"$f":"IF(AN376=\"\",\"\",IF(LEN(VLOOKUP(AN376,Sifranti!BY:BZ,2,FALSE))=0,\"\",VLOOKUP(AN376,Sifranti!BY:BZ,2,FALSE)))","v":""},{"$f":"IF(C376=\"\",\"\",VLOOKUP(C376,Sifranti!P:R,2,FALSE))","v":""},"","",{"$f":"IF(C376=\"\",\"\",VLOOKUP(C376,Sifranti!P:R,3,FALSE))","v":""},{"$f":"IF(N376=\"\",\"\",VLOOKUP(N376,Sifranti!D:F,2,FALSE))","v":""},{"$f":"IF(AK376=\"\",\"\",VLOOKUP(AK376,Sifranti!V:Y,2,FALSE))","v":""},{"$f":"IF(AK376=\"\",\"\",IF(VLOOKUP(AK376,Sifranti!V:Y,3,FALSE)=\"\",\"\",VLOOKUP(AK376,Sifranti!V:Y,3,FALSE)))","v":""},{"$f":"IF(AK376=\"\",\"\",VLOOKUP(AK376,Sifranti!V:Y,4,FALSE))","v":""}]
[{"$f":"IF(B377=\"\",\"\",VLOOKUP(B377,Sifranti!K:L,2,FALSE))","v":""},null,null,null,null,null,null,null,null,"",{"$f":"IF(L377=\"\",\"\",VLOOKUP(L377,Sifranti!A:B,2,FALSE))","v":""},null,{"$f":"IF(N377=\"\",\"\",VLOOKUP(N377,Sifranti!D:F,3,FALSE))","v":""},null,{"$f":"IF(P377=\"\",\"\",VLOOKUP(P377,Sifranti!H:I,2,FALSE))","v":""},null,null,null,null,null,null,null,null,null,null,null,null,null,null,null,null,null,null,null,null,null,null,null,null,null,{"$f":"IF(AN377=\"\",\"\",IF(LEN(VLOOKUP(AN377,Sifranti!BY:BZ,2,FALSE))=0,\"\",VLOOKUP(AN377,Sifranti!BY:BZ,2,FALSE)))","v":""},{"$f":"IF(C377=\"\",\"\",VLOOKUP(C377,Sifranti!P:R,2,FALSE))","v":""},"","",{"$f":"IF(C377=\"\",\"\",VLOOKUP(C377,Sifranti!P:R,3,FALSE))","v":""},{"$f":"IF(N377=\"\",\"\",VLOOKUP(N377,Sifranti!D:F,2,FALSE))","v":""},{"$f":"IF(AK377=\"\",\"\",VLOOKUP(AK377,Sifranti!V:Y,2,FALSE))","v":""},{"$f":"IF(AK377=\"\",\"\",IF(VLOOKUP(AK377,Sifranti!V:Y,3,FALSE)=\"\",\"\",VLOOKUP(AK377,Sifranti!V:Y,3,FALSE)))","v":""},{"$f":"IF(AK377=\"\",\"\",VLOOKUP(AK377,Sifranti!V:Y,4,FALSE))","v":""}]
[{"$f":"IF(B378=\"\",\"\",VLOOKUP(B378,Sifranti!K:L,2,FALSE))","v":""},null,null,null,null,null,null,null,null,"",{"$f":"IF(L378=\"\",\"\",VLOOKUP(L378,Sifranti!A:B,2,FALSE))","v":""},null,{"$f":"IF(N378=\"\",\"\",VLOOKUP(N378,Sifranti!D:F,3,FALSE))","v":""},null,{"$f":"IF(P378=\"\",\"\",VLOOKUP(P378,Sifranti!H:I,2,FALSE))","v":""},null,null,null,null,null,null,null,null,null,null,null,null,null,null,null,null,null,null,null,null,null,null,null,null,null,{"$f":"IF(AN378=\"\",\"\",IF(LEN(VLOOKUP(AN378,Sifranti!BY:BZ,2,FALSE))=0,\"\",VLOOKUP(AN378,Sifranti!BY:BZ,2,FALSE)))","v":""},{"$f":"IF(C378=\"\",\"\",VLOOKUP(C378,Sifranti!P:R,2,FALSE))","v":""},"","",{"$f":"IF(C378=\"\",\"\",VLOOKUP(C378,Sifranti!P:R,3,FALSE))","v":""},{"$f":"IF(N378=\"\",\"\",VLOOKUP(N378,Sifranti!D:F,2,FALSE))","v":""},{"$f":"IF(AK378=\"\",\"\",VLOOKUP(AK378,Sifranti!V:Y,2,FALSE))","v":""},{"$f":"IF(AK378=\"\",\"\",IF(VLOOKUP(AK378,Sifranti!V:Y,3,FALSE)=\"\",\"\",VLOOKUP(AK378,Sifranti!V:Y,3,FALSE)))","v":""},{"$f":"IF(AK378=\"\",\"\",VLOOKUP(AK378,Sifranti!V:Y,4,FALSE))","v":""}]
[{"$f":"IF(B379=\"\",\"\",VLOOKUP(B379,Sifranti!K:L,2,FALSE))","v":""},null,null,null,null,null,null,null,null,"",{"$f":"IF(L379=\"\",\"\",VLOOKUP(L379,Sifranti!A:B,2,FALSE))","v":""},null,{"$f":"IF(N379=\"\",\"\",VLOOKUP(N379,Sifranti!D:F,3,FALSE))","v":""},null,{"$f":"IF(P379=\"\",\"\",VLOOKUP(P379,Sifranti!H:I,2,FALSE))","v":""},null,null,null,null,null,null,null,null,null,null,null,null,null,null,null,null,null,null,null,null,null,null,null,null,null,{"$f":"IF(AN379=\"\",\"\",IF(LEN(VLOOKUP(AN379,Sifranti!BY:BZ,2,FALSE))=0,\"\",VLOOKUP(AN379,Sifranti!BY:BZ,2,FALSE)))","v":""},{"$f":"IF(C379=\"\",\"\",VLOOKUP(C379,Sifranti!P:R,2,FALSE))","v":""},"","",{"$f":"IF(C379=\"\",\"\",VLOOKUP(C379,Sifranti!P:R,3,FALSE))","v":""},{"$f":"IF(N379=\"\",\"\",VLOOKUP(N379,Sifranti!D:F,2,FALSE))","v":""},{"$f":"IF(AK379=\"\",\"\",VLOOKUP(AK379,Sifranti!V:Y,2,FALSE))","v":""},{"$f":"IF(AK379=\"\",\"\",IF(VLOOKUP(AK379,Sifranti!V:Y,3,FALSE)=\"\",\"\",VLOOKUP(AK379,Sifranti!V:Y,3,FALSE)))","v":""},{"$f":"IF(AK379=\"\",\"\",VLOOKUP(AK379,Sifranti!V:Y,4,FALSE))","v":""}]
[{"$f":"IF(B380=\"\",\"\",VLOOKUP(B380,Sifranti!K:L,2,FALSE))","v":""},null,null,null,null,null,null,null,null,"",{"$f":"IF(L380=\"\",\"\",VLOOKUP(L380,Sifranti!A:B,2,FALSE))","v":""},null,{"$f":"IF(N380=\"\",\"\",VLOOKUP(N380,Sifranti!D:F,3,FALSE))","v":""},null,{"$f":"IF(P380=\"\",\"\",VLOOKUP(P380,Sifranti!H:I,2,FALSE))","v":""},null,null,null,null,null,null,null,null,null,null,null,null,null,null,null,null,null,null,null,null,null,null,null,null,null,{"$f":"IF(AN380=\"\",\"\",IF(LEN(VLOOKUP(AN380,Sifranti!BY:BZ,2,FALSE))=0,\"\",VLOOKUP(AN380,Sifranti!BY:BZ,2,FALSE)))","v":""},{"$f":"IF(C380=\"\",\"\",VLOOKUP(C380,Sifranti!P:R,2,FALSE))","v":""},"","",{"$f":"IF(C380=\"\",\"\",VLOOKUP(C380,Sifranti!P:R,3,FALSE))","v":""},{"$f":"IF(N380=\"\",\"\",VLOOKUP(N380,Sifranti!D:F,2,FALSE))","v":""},{"$f":"IF(AK380=\"\",\"\",VLOOKUP(AK380,Sifranti!V:Y,2,FALSE))","v":""},{"$f":"IF(AK380=\"\",\"\",IF(VLOOKUP(AK380,Sifranti!V:Y,3,FALSE)=\"\",\"\",VLOOKUP(AK380,Sifranti!V:Y,3,FALSE)))","v":""},{"$f":"IF(AK380=\"\",\"\",VLOOKUP(AK380,Sifranti!V:Y,4,FALSE))","v":""}]
[{"$f":"IF(B381=\"\",\"\",VLOOKUP(B381,Sifranti!K:L,2,FALSE))","v":""},null,null,null,null,null,null,null,null,"",{"$f":"IF(L381=\"\",\"\",VLOOKUP(L381,Sifranti!A:B,2,FALSE))","v":""},null,{"$f":"IF(N381=\"\",\"\",VLOOKUP(N381,Sifranti!D:F,3,FALSE))","v":""},null,{"$f":"IF(P381=\"\",\"\",VLOOKUP(P381,Sifranti!H:I,2,FALSE))","v":""},null,null,null,null,null,null,null,null,null,null,null,null,null,null,null,null,null,null,null,null,null,null,null,null,null,{"$f":"IF(AN381=\"\",\"\",IF(LEN(VLOOKUP(AN381,Sifranti!BY:BZ,2,FALSE))=0,\"\",VLOOKUP(AN381,Sifranti!BY:BZ,2,FALSE)))","v":""},{"$f":"IF(C381=\"\",\"\",VLOOKUP(C381,Sifranti!P:R,2,FALSE))","v":""},"","",{"$f":"IF(C381=\"\",\"\",VLOOKUP(C381,Sifranti!P:R,3,FALSE))","v":""},{"$f":"IF(N381=\"\",\"\",VLOOKUP(N381,Sifranti!D:F,2,FALSE))","v":""},{"$f":"IF(AK381=\"\",\"\",VLOOKUP(AK381,Sifranti!V:Y,2,FALSE))","v":""},{"$f":"IF(AK381=\"\",\"\",IF(VLOOKUP(AK381,Sifranti!V:Y,3,FALSE)=\"\",\"\",VLOOKUP(AK381,Sifranti!V:Y,3,FALSE)))","v":""},{"$f":"IF(AK381=\"\",\"\",VLOOKUP(AK381,Sifranti!V:Y,4,FALSE))","v":""}]
[{"$f":"IF(B382=\"\",\"\",VLOOKUP(B382,Sifranti!K:L,2,FALSE))","v":""},null,null,null,null,null,null,null,null,"",{"$f":"IF(L382=\"\",\"\",VLOOKUP(L382,Sifranti!A:B,2,FALSE))","v":""},null,{"$f":"IF(N382=\"\",\"\",VLOOKUP(N382,Sifranti!D:F,3,FALSE))","v":""},null,{"$f":"IF(P382=\"\",\"\",VLOOKUP(P382,Sifranti!H:I,2,FALSE))","v":""},null,null,null,null,null,null,null,null,null,null,null,null,null,null,null,null,null,null,null,null,null,null,null,null,null,{"$f":"IF(AN382=\"\",\"\",IF(LEN(VLOOKUP(AN382,Sifranti!BY:BZ,2,FALSE))=0,\"\",VLOOKUP(AN382,Sifranti!BY:BZ,2,FALSE)))","v":""},{"$f":"IF(C382=\"\",\"\",VLOOKUP(C382,Sifranti!P:R,2,FALSE))","v":""},"","",{"$f":"IF(C382=\"\",\"\",VLOOKUP(C382,Sifranti!P:R,3,FALSE))","v":""},{"$f":"IF(N382=\"\",\"\",VLOOKUP(N382,Sifranti!D:F,2,FALSE))","v":""},{"$f":"IF(AK382=\"\",\"\",VLOOKUP(AK382,Sifranti!V:Y,2,FALSE))","v":""},{"$f":"IF(AK382=\"\",\"\",IF(VLOOKUP(AK382,Sifranti!V:Y,3,FALSE)=\"\",\"\",VLOOKUP(AK382,Sifranti!V:Y,3,FALSE)))","v":""},{"$f":"IF(AK382=\"\",\"\",VLOOKUP(AK382,Sifranti!V:Y,4,FALSE))","v":""}]
[{"$f":"IF(B383=\"\",\"\",VLOOKUP(B383,Sifranti!K:L,2,FALSE))","v":""},null,null,null,null,null,null,null,null,"",{"$f":"IF(L383=\"\",\"\",VLOOKUP(L383,Sifranti!A:B,2,FALSE))","v":""},null,{"$f":"IF(N383=\"\",\"\",VLOOKUP(N383,Sifranti!D:F,3,FALSE))","v":""},null,{"$f":"IF(P383=\"\",\"\",VLOOKUP(P383,Sifranti!H:I,2,FALSE))","v":""},null,null,null,null,null,null,null,null,null,null,null,null,null,null,null,null,null,null,null,null,null,null,null,null,null,{"$f":"IF(AN383=\"\",\"\",IF(LEN(VLOOKUP(AN383,Sifranti!BY:BZ,2,FALSE))=0,\"\",VLOOKUP(AN383,Sifranti!BY:BZ,2,FALSE)))","v":""},{"$f":"IF(C383=\"\",\"\",VLOOKUP(C383,Sifranti!P:R,2,FALSE))","v":""},"","",{"$f":"IF(C383=\"\",\"\",VLOOKUP(C383,Sifranti!P:R,3,FALSE))","v":""},{"$f":"IF(N383=\"\",\"\",VLOOKUP(N383,Sifranti!D:F,2,FALSE))","v":""},{"$f":"IF(AK383=\"\",\"\",VLOOKUP(AK383,Sifranti!V:Y,2,FALSE))","v":""},{"$f":"IF(AK383=\"\",\"\",IF(VLOOKUP(AK383,Sifranti!V:Y,3,FALSE)=\"\",\"\",VLOOKUP(AK383,Sifranti!V:Y,3,FALSE)))","v":""},{"$f":"IF(AK383=\"\",\"\",VLOOKUP(AK383,Sifranti!V:Y,4,FALSE))","v":""}]
[{"$f":"IF(B384=\"\",\"\",VLOOKUP(B384,Sifranti!K:L,2,FALSE))","v":""},null,null,null,null,null,null,null,null,"",{"$f":"IF(L384=\"\",\"\",VLOOKUP(L384,Sifranti!A:B,2,FALSE))","v":""},null,{"$f":"IF(N384=\"\",\"\",VLOOKUP(N384,Sifranti!D:F,3,FALSE))","v":""},null,{"$f":"IF(P384=\"\",\"\",VLOOKUP(P384,Sifranti!H:I,2,FALSE))","v":""},null,null,null,null,null,null,null,null,null,null,null,null,null,null,null,null,null,null,null,null,null,null,null,null,null,{"$f":"IF(AN384=\"\",\"\",IF(LEN(VLOOKUP(AN384,Sifranti!BY:BZ,2,FALSE))=0,\"\",VLOOKUP(AN384,Sifranti!BY:BZ,2,FALSE)))","v":""},{"$f":"IF(C384=\"\",\"\",VLOOKUP(C384,Sifranti!P:R,2,FALSE))","v":""},"","",{"$f":"IF(C384=\"\",\"\",VLOOKUP(C384,Sifranti!P:R,3,FALSE))","v":""},{"$f":"IF(N384=\"\",\"\",VLOOKUP(N384,Sifranti!D:F,2,FALSE))","v":""},{"$f":"IF(AK384=\"\",\"\",VLOOKUP(AK384,Sifranti!V:Y,2,FALSE))","v":""},{"$f":"IF(AK384=\"\",\"\",IF(VLOOKUP(AK384,Sifranti!V:Y,3,FALSE)=\"\",\"\",VLOOKUP(AK384,Sifranti!V:Y,3,FALSE)))","v":""},{"$f":"IF(AK384=\"\",\"\",VLOOKUP(AK384,Sifranti!V:Y,4,FALSE))","v":""}]
[{"$f":"IF(B385=\"\",\"\",VLOOKUP(B385,Sifranti!K:L,2,FALSE))","v":""},null,null,null,null,null,null,null,null,"",{"$f":"IF(L385=\"\",\"\",VLOOKUP(L385,Sifranti!A:B,2,FALSE))","v":""},null,{"$f":"IF(N385=\"\",\"\",VLOOKUP(N385,Sifranti!D:F,3,FALSE))","v":""},null,{"$f":"IF(P385=\"\",\"\",VLOOKUP(P385,Sifranti!H:I,2,FALSE))","v":""},null,null,null,null,null,null,null,null,null,null,null,null,null,null,null,null,null,null,null,null,null,null,null,null,null,{"$f":"IF(AN385=\"\",\"\",IF(LEN(VLOOKUP(AN385,Sifranti!BY:BZ,2,FALSE))=0,\"\",VLOOKUP(AN385,Sifranti!BY:BZ,2,FALSE)))","v":""},{"$f":"IF(C385=\"\",\"\",VLOOKUP(C385,Sifranti!P:R,2,FALSE))","v":""},"","",{"$f":"IF(C385=\"\",\"\",VLOOKUP(C385,Sifranti!P:R,3,FALSE))","v":""},{"$f":"IF(N385=\"\",\"\",VLOOKUP(N385,Sifranti!D:F,2,FALSE))","v":""},{"$f":"IF(AK385=\"\",\"\",VLOOKUP(AK385,Sifranti!V:Y,2,FALSE))","v":""},{"$f":"IF(AK385=\"\",\"\",IF(VLOOKUP(AK385,Sifranti!V:Y,3,FALSE)=\"\",\"\",VLOOKUP(AK385,Sifranti!V:Y,3,FALSE)))","v":""},{"$f":"IF(AK385=\"\",\"\",VLOOKUP(AK385,Sifranti!V:Y,4,FALSE))","v":""}]
[{"$f":"IF(B386=\"\",\"\",VLOOKUP(B386,Sifranti!K:L,2,FALSE))","v":""},null,null,null,null,null,null,null,null,{"$f":"IF(H386=\"\",\"\",YEAR(H386))","v":""},{"$f":"IF(L386=\"\",\"\",VLOOKUP(L386,Sifranti!A:B,2,FALSE))","v":""},null,{"$f":"IF(N386=\"\",\"\",VLOOKUP(N386,Sifranti!D:F,3,FALSE))","v":""},null,{"$f":"IF(P386=\"\",\"\",VLOOKUP(P386,Sifranti!H:I,2,FALSE))","v":""},null,null,null,null,null,null,null,null,null,null,null,null,null,null,null,null,null,null,null,null,null,null,null,null,null,{"$f":"IF(AN386=\"\",\"\",IF(LEN(VLOOKUP(AN386,Sifranti!BY:BZ,2,FALSE))=0,\"\",VLOOKUP(AN386,Sifranti!BY:BZ,2,FALSE)))","v":""},{"$f":"IF(C386=\"\",\"\",VLOOKUP(C386,Sifranti!P:R,2,FALSE))","v":""},{"$f":"IF(V386>0,IF(AS386=\"de minimis\",T386/S386*100,U386/AD386*100),\"\")","v":""},{"$f":"IF(AE386>0,AE386/U386*100,\"\")","v":""},{"$f":"IF(C386=\"\",\"\",VLOOKUP(C386,Sifranti!P:R,3,FALSE))","v":""},{"$f":"IF(N386=\"\",\"\",VLOOKUP(N386,Sifranti!D:F,2,FALSE))","v":""},{"$f":"IF(AK386=\"\",\"\",VLOOKUP(AK386,Sifranti!V:Y,2,FALSE))","v":""},{"$f":"IF(AK386=\"\",\"\",IF(VLOOKUP(AK386,Sifranti!V:Y,3,FALSE)=\"\",\"\",VLOOKUP(AK386,Sifranti!V:Y,3,FALSE)))","v":""},{"$f":"IF(AK386=\"\",\"\",VLOOKUP(AK386,Sifranti!V:Y,4,FALSE))","v":""}]
[{"$f":"IF(B387=\"\",\"\",VLOOKUP(B387,Sifranti!K:L,2,FALSE))","v":""},null,null,null,null,null,null,null,null,"",{"$f":"IF(L387=\"\",\"\",VLOOKUP(L387,Sifranti!A:B,2,FALSE))","v":""},null,{"$f":"IF(N387=\"\",\"\",VLOOKUP(N387,Sifranti!D:F,3,FALSE))","v":""},null,{"$f":"IF(P387=\"\",\"\",VLOOKUP(P387,Sifranti!H:I,2,FALSE))","v":""},null,null,null,null,null,null,null,null,null,null,null,null,null,null,null,null,null,null,null,null,null,null,null,null,null,{"$f":"IF(AN387=\"\",\"\",IF(LEN(VLOOKUP(AN387,Sifranti!BY:BZ,2,FALSE))=0,\"\",VLOOKUP(AN387,Sifranti!BY:BZ,2,FALSE)))","v":""},{"$f":"IF(C387=\"\",\"\",VLOOKUP(C387,Sifranti!P:R,2,FALSE))","v":""},"","",{"$f":"IF(C387=\"\",\"\",VLOOKUP(C387,Sifranti!P:R,3,FALSE))","v":""},{"$f":"IF(N387=\"\",\"\",VLOOKUP(N387,Sifranti!D:F,2,FALSE))","v":""},{"$f":"IF(AK387=\"\",\"\",VLOOKUP(AK387,Sifranti!V:Y,2,FALSE))","v":""},{"$f":"IF(AK387=\"\",\"\",IF(VLOOKUP(AK387,Sifranti!V:Y,3,FALSE)=\"\",\"\",VLOOKUP(AK387,Sifranti!V:Y,3,FALSE)))","v":""},{"$f":"IF(AK387=\"\",\"\",VLOOKUP(AK387,Sifranti!V:Y,4,FALSE))","v":""}]
[{"$f":"IF(B388=\"\",\"\",VLOOKUP(B388,Sifranti!K:L,2,FALSE))","v":""},null,null,null,null,null,null,null,null,"",{"$f":"IF(L388=\"\",\"\",VLOOKUP(L388,Sifranti!A:B,2,FALSE))","v":""},null,{"$f":"IF(N388=\"\",\"\",VLOOKUP(N388,Sifranti!D:F,3,FALSE))","v":""},null,{"$f":"IF(P388=\"\",\"\",VLOOKUP(P388,Sifranti!H:I,2,FALSE))","v":""},null,null,null,null,null,null,null,null,null,null,null,null,null,null,null,null,null,null,null,null,null,null,null,null,null,{"$f":"IF(AN388=\"\",\"\",IF(LEN(VLOOKUP(AN388,Sifranti!BY:BZ,2,FALSE))=0,\"\",VLOOKUP(AN388,Sifranti!BY:BZ,2,FALSE)))","v":""},{"$f":"IF(C388=\"\",\"\",VLOOKUP(C388,Sifranti!P:R,2,FALSE))","v":""},"","",{"$f":"IF(C388=\"\",\"\",VLOOKUP(C388,Sifranti!P:R,3,FALSE))","v":""},{"$f":"IF(N388=\"\",\"\",VLOOKUP(N388,Sifranti!D:F,2,FALSE))","v":""},{"$f":"IF(AK388=\"\",\"\",VLOOKUP(AK388,Sifranti!V:Y,2,FALSE))","v":""},{"$f":"IF(AK388=\"\",\"\",IF(VLOOKUP(AK388,Sifranti!V:Y,3,FALSE)=\"\",\"\",VLOOKUP(AK388,Sifranti!V:Y,3,FALSE)))","v":""},{"$f":"IF(AK388=\"\",\"\",VLOOKUP(AK388,Sifranti!V:Y,4,FALSE))","v":""}]
[{"$f":"IF(B389=\"\",\"\",VLOOKUP(B389,Sifranti!K:L,2,FALSE))","v":""},null,null,null,null,null,null,null,null,"",{"$f":"IF(L389=\"\",\"\",VLOOKUP(L389,Sifranti!A:B,2,FALSE))","v":""},null,{"$f":"IF(N389=\"\",\"\",VLOOKUP(N389,Sifranti!D:F,3,FALSE))","v":""},null,{"$f":"IF(P389=\"\",\"\",VLOOKUP(P389,Sifranti!H:I,2,FALSE))","v":""},null,null,null,null,null,null,null,null,null,null,null,null,null,null,null,null,null,null,null,null,null,null,null,null,null,{"$f":"IF(AN389=\"\",\"\",IF(LEN(VLOOKUP(AN389,Sifranti!BY:BZ,2,FALSE))=0,\"\",VLOOKUP(AN389,Sifranti!BY:BZ,2,FALSE)))","v":""},{"$f":"IF(C389=\"\",\"\",VLOOKUP(C389,Sifranti!P:R,2,FALSE))","v":""},"","",{"$f":"IF(C389=\"\",\"\",VLOOKUP(C389,Sifranti!P:R,3,FALSE))","v":""},{"$f":"IF(N389=\"\",\"\",VLOOKUP(N389,Sifranti!D:F,2,FALSE))","v":""},{"$f":"IF(AK389=\"\",\"\",VLOOKUP(AK389,Sifranti!V:Y,2,FALSE))","v":""},{"$f":"IF(AK389=\"\",\"\",IF(VLOOKUP(AK389,Sifranti!V:Y,3,FALSE)=\"\",\"\",VLOOKUP(AK389,Sifranti!V:Y,3,FALSE)))","v":""},{"$f":"IF(AK389=\"\",\"\",VLOOKUP(AK389,Sifranti!V:Y,4,FALSE))","v":""}]
[{"$f":"IF(B390=\"\",\"\",VLOOKUP(B390,Sifranti!K:L,2,FALSE))","v":""},null,null,null,null,null,null,null,null,"",{"$f":"IF(L390=\"\",\"\",VLOOKUP(L390,Sifranti!A:B,2,FALSE))","v":""},null,{"$f":"IF(N390=\"\",\"\",VLOOKUP(N390,Sifranti!D:F,3,FALSE))","v":""},null,{"$f":"IF(P390=\"\",\"\",VLOOKUP(P390,Sifranti!H:I,2,FALSE))","v":""},null,null,null,null,null,null,null,null,null,null,null,null,null,null,null,null,null,null,null,null,null,null,null,null,null,{"$f":"IF(AN390=\"\",\"\",IF(LEN(VLOOKUP(AN390,Sifranti!BY:BZ,2,FALSE))=0,\"\",VLOOKUP(AN390,Sifranti!BY:BZ,2,FALSE)))","v":""},{"$f":"IF(C390=\"\",\"\",VLOOKUP(C390,Sifranti!P:R,2,FALSE))","v":""},"","",{"$f":"IF(C390=\"\",\"\",VLOOKUP(C390,Sifranti!P:R,3,FALSE))","v":""},{"$f":"IF(N390=\"\",\"\",VLOOKUP(N390,Sifranti!D:F,2,FALSE))","v":""},{"$f":"IF(AK390=\"\",\"\",VLOOKUP(AK390,Sifranti!V:Y,2,FALSE))","v":""},{"$f":"IF(AK390=\"\",\"\",IF(VLOOKUP(AK390,Sifranti!V:Y,3,FALSE)=\"\",\"\",VLOOKUP(AK390,Sifranti!V:Y,3,FALSE)))","v":""},{"$f":"IF(AK390=\"\",\"\",VLOOKUP(AK390,Sifranti!V:Y,4,FALSE))","v":""}]
[{"$f":"IF(B391=\"\",\"\",VLOOKUP(B391,Sifranti!K:L,2,FALSE))","v":""},null,null,null,null,null,null,null,null,"",{"$f":"IF(L391=\"\",\"\",VLOOKUP(L391,Sifranti!A:B,2,FALSE))","v":""},null,{"$f":"IF(N391=\"\",\"\",VLOOKUP(N391,Sifranti!D:F,3,FALSE))","v":""},null,{"$f":"IF(P391=\"\",\"\",VLOOKUP(P391,Sifranti!H:I,2,FALSE))","v":""},null,null,null,null,null,null,null,null,null,null,null,null,null,null,null,null,null,null,null,null,null,null,null,null,null,{"$f":"IF(AN391=\"\",\"\",IF(LEN(VLOOKUP(AN391,Sifranti!BY:BZ,2,FALSE))=0,\"\",VLOOKUP(AN391,Sifranti!BY:BZ,2,FALSE)))","v":""},{"$f":"IF(C391=\"\",\"\",VLOOKUP(C391,Sifranti!P:R,2,FALSE))","v":""},"","",{"$f":"IF(C391=\"\",\"\",VLOOKUP(C391,Sifranti!P:R,3,FALSE))","v":""},{"$f":"IF(N391=\"\",\"\",VLOOKUP(N391,Sifranti!D:F,2,FALSE))","v":""},{"$f":"IF(AK391=\"\",\"\",VLOOKUP(AK391,Sifranti!V:Y,2,FALSE))","v":""},{"$f":"IF(AK391=\"\",\"\",IF(VLOOKUP(AK391,Sifranti!V:Y,3,FALSE)=\"\",\"\",VLOOKUP(AK391,Sifranti!V:Y,3,FALSE)))","v":""},{"$f":"IF(AK391=\"\",\"\",VLOOKUP(AK391,Sifranti!V:Y,4,FALSE))","v":""}]
[{"$f":"IF(B392=\"\",\"\",VLOOKUP(B392,Sifranti!K:L,2,FALSE))","v":""},null,null,null,null,null,null,null,null,"",{"$f":"IF(L392=\"\",\"\",VLOOKUP(L392,Sifranti!A:B,2,FALSE))","v":""},null,{"$f":"IF(N392=\"\",\"\",VLOOKUP(N392,Sifranti!D:F,3,FALSE))","v":""},null,{"$f":"IF(P392=\"\",\"\",VLOOKUP(P392,Sifranti!H:I,2,FALSE))","v":""},null,null,null,null,null,null,null,null,null,null,null,null,null,null,null,null,null,null,null,null,null,null,null,null,null,{"$f":"IF(AN392=\"\",\"\",IF(LEN(VLOOKUP(AN392,Sifranti!BY:BZ,2,FALSE))=0,\"\",VLOOKUP(AN392,Sifranti!BY:BZ,2,FALSE)))","v":""},{"$f":"IF(C392=\"\",\"\",VLOOKUP(C392,Sifranti!P:R,2,FALSE))","v":""},"","",{"$f":"IF(C392=\"\",\"\",VLOOKUP(C392,Sifranti!P:R,3,FALSE))","v":""},{"$f":"IF(N392=\"\",\"\",VLOOKUP(N392,Sifranti!D:F,2,FALSE))","v":""},{"$f":"IF(AK392=\"\",\"\",VLOOKUP(AK392,Sifranti!V:Y,2,FALSE))","v":""},{"$f":"IF(AK392=\"\",\"\",IF(VLOOKUP(AK392,Sifranti!V:Y,3,FALSE)=\"\",\"\",VLOOKUP(AK392,Sifranti!V:Y,3,FALSE)))","v":""},{"$f":"IF(AK392=\"\",\"\",VLOOKUP(AK392,Sifranti!V:Y,4,FALSE))","v":""}]
[{"$f":"IF(B393=\"\",\"\",VLOOKUP(B393,Sifranti!K:L,2,FALSE))","v":""},null,null,null,null,null,null,null,null,"",{"$f":"IF(L393=\"\",\"\",VLOOKUP(L393,Sifranti!A:B,2,FALSE))","v":""},null,{"$f":"IF(N393=\"\",\"\",VLOOKUP(N393,Sifranti!D:F,3,FALSE))","v":""},null,{"$f":"IF(P393=\"\",\"\",VLOOKUP(P393,Sifranti!H:I,2,FALSE))","v":""},null,null,null,null,null,null,null,null,null,null,null,null,null,null,null,null,null,null,null,null,null,null,null,null,null,{"$f":"IF(AN393=\"\",\"\",IF(LEN(VLOOKUP(AN393,Sifranti!BY:BZ,2,FALSE))=0,\"\",VLOOKUP(AN393,Sifranti!BY:BZ,2,FALSE)))","v":""},{"$f":"IF(C393=\"\",\"\",VLOOKUP(C393,Sifranti!P:R,2,FALSE))","v":""},"","",{"$f":"IF(C393=\"\",\"\",VLOOKUP(C393,Sifranti!P:R,3,FALSE))","v":""},{"$f":"IF(N393=\"\",\"\",VLOOKUP(N393,Sifranti!D:F,2,FALSE))","v":""},{"$f":"IF(AK393=\"\",\"\",VLOOKUP(AK393,Sifranti!V:Y,2,FALSE))","v":""},{"$f":"IF(AK393=\"\",\"\",IF(VLOOKUP(AK393,Sifranti!V:Y,3,FALSE)=\"\",\"\",VLOOKUP(AK393,Sifranti!V:Y,3,FALSE)))","v":""},{"$f":"IF(AK393=\"\",\"\",VLOOKUP(AK393,Sifranti!V:Y,4,FALSE))","v":""}]
[{"$f":"IF(B394=\"\",\"\",VLOOKUP(B394,Sifranti!K:L,2,FALSE))","v":""},null,null,null,null,null,null,null,null,"",{"$f":"IF(L394=\"\",\"\",VLOOKUP(L394,Sifranti!A:B,2,FALSE))","v":""},null,{"$f":"IF(N394=\"\",\"\",VLOOKUP(N394,Sifranti!D:F,3,FALSE))","v":""},null,{"$f":"IF(P394=\"\",\"\",VLOOKUP(P394,Sifranti!H:I,2,FALSE))","v":""},null,null,null,null,null,null,null,null,null,null,null,null,null,null,null,null,null,null,null,null,null,null,null,null,null,{"$f":"IF(AN394=\"\",\"\",IF(LEN(VLOOKUP(AN394,Sifranti!BY:BZ,2,FALSE))=0,\"\",VLOOKUP(AN394,Sifranti!BY:BZ,2,FALSE)))","v":""},{"$f":"IF(C394=\"\",\"\",VLOOKUP(C394,Sifranti!P:R,2,FALSE))","v":""},"","",{"$f":"IF(C394=\"\",\"\",VLOOKUP(C394,Sifranti!P:R,3,FALSE))","v":""},{"$f":"IF(N394=\"\",\"\",VLOOKUP(N394,Sifranti!D:F,2,FALSE))","v":""},{"$f":"IF(AK394=\"\",\"\",VLOOKUP(AK394,Sifranti!V:Y,2,FALSE))","v":""},{"$f":"IF(AK394=\"\",\"\",IF(VLOOKUP(AK394,Sifranti!V:Y,3,FALSE)=\"\",\"\",VLOOKUP(AK394,Sifranti!V:Y,3,FALSE)))","v":""},{"$f":"IF(AK394=\"\",\"\",VLOOKUP(AK394,Sifranti!V:Y,4,FALSE))","v":""}]
[{"$f":"IF(B395=\"\",\"\",VLOOKUP(B395,Sifranti!K:L,2,FALSE))","v":""},null,null,null,null,null,null,null,null,"",{"$f":"IF(L395=\"\",\"\",VLOOKUP(L395,Sifranti!A:B,2,FALSE))","v":""},null,{"$f":"IF(N395=\"\",\"\",VLOOKUP(N395,Sifranti!D:F,3,FALSE))","v":""},null,{"$f":"IF(P395=\"\",\"\",VLOOKUP(P395,Sifranti!H:I,2,FALSE))","v":""},null,null,null,null,null,null,null,null,null,null,null,null,null,null,null,null,null,null,null,null,null,null,null,null,null,{"$f":"IF(AN395=\"\",\"\",IF(LEN(VLOOKUP(AN395,Sifranti!BY:BZ,2,FALSE))=0,\"\",VLOOKUP(AN395,Sifranti!BY:BZ,2,FALSE)))","v":""},{"$f":"IF(C395=\"\",\"\",VLOOKUP(C395,Sifranti!P:R,2,FALSE))","v":""},"","",{"$f":"IF(C395=\"\",\"\",VLOOKUP(C395,Sifranti!P:R,3,FALSE))","v":""},{"$f":"IF(N395=\"\",\"\",VLOOKUP(N395,Sifranti!D:F,2,FALSE))","v":""},{"$f":"IF(AK395=\"\",\"\",VLOOKUP(AK395,Sifranti!V:Y,2,FALSE))","v":""},{"$f":"IF(AK395=\"\",\"\",IF(VLOOKUP(AK395,Sifranti!V:Y,3,FALSE)=\"\",\"\",VLOOKUP(AK395,Sifranti!V:Y,3,FALSE)))","v":""},{"$f":"IF(AK395=\"\",\"\",VLOOKUP(AK395,Sifranti!V:Y,4,FALSE))","v":""}]
[{"$f":"IF(B396=\"\",\"\",VLOOKUP(B396,Sifranti!K:L,2,FALSE))","v":""},null,null,null,null,null,null,null,null,"",{"$f":"IF(L396=\"\",\"\",VLOOKUP(L396,Sifranti!A:B,2,FALSE))","v":""},null,{"$f":"IF(N396=\"\",\"\",VLOOKUP(N396,Sifranti!D:F,3,FALSE))","v":""},null,{"$f":"IF(P396=\"\",\"\",VLOOKUP(P396,Sifranti!H:I,2,FALSE))","v":""},null,null,null,null,null,null,null,null,null,null,null,null,null,null,null,null,null,null,null,null,null,null,null,null,null,{"$f":"IF(AN396=\"\",\"\",IF(LEN(VLOOKUP(AN396,Sifranti!BY:BZ,2,FALSE))=0,\"\",VLOOKUP(AN396,Sifranti!BY:BZ,2,FALSE)))","v":""},{"$f":"IF(C396=\"\",\"\",VLOOKUP(C396,Sifranti!P:R,2,FALSE))","v":""},"","",{"$f":"IF(C396=\"\",\"\",VLOOKUP(C396,Sifranti!P:R,3,FALSE))","v":""},{"$f":"IF(N396=\"\",\"\",VLOOKUP(N396,Sifranti!D:F,2,FALSE))","v":""},{"$f":"IF(AK396=\"\",\"\",VLOOKUP(AK396,Sifranti!V:Y,2,FALSE))","v":""},{"$f":"IF(AK396=\"\",\"\",IF(VLOOKUP(AK396,Sifranti!V:Y,3,FALSE)=\"\",\"\",VLOOKUP(AK396,Sifranti!V:Y,3,FALSE)))","v":""},{"$f":"IF(AK396=\"\",\"\",VLOOKUP(AK396,Sifranti!V:Y,4,FALSE))","v":""}]
[{"$f":"IF(B397=\"\",\"\",VLOOKUP(B397,Sifranti!K:L,2,FALSE))","v":""},null,null,null,null,null,null,null,null,"",{"$f":"IF(L397=\"\",\"\",VLOOKUP(L397,Sifranti!A:B,2,FALSE))","v":""},null,{"$f":"IF(N397=\"\",\"\",VLOOKUP(N397,Sifranti!D:F,3,FALSE))","v":""},null,{"$f":"IF(P397=\"\",\"\",VLOOKUP(P397,Sifranti!H:I,2,FALSE))","v":""},null,null,null,null,null,null,null,null,null,null,null,null,null,null,null,null,null,null,null,null,null,null,null,null,null,{"$f":"IF(AN397=\"\",\"\",IF(LEN(VLOOKUP(AN397,Sifranti!BY:BZ,2,FALSE))=0,\"\",VLOOKUP(AN397,Sifranti!BY:BZ,2,FALSE)))","v":""},{"$f":"IF(C397=\"\",\"\",VLOOKUP(C397,Sifranti!P:R,2,FALSE))","v":""},"","",{"$f":"IF(C397=\"\",\"\",VLOOKUP(C397,Sifranti!P:R,3,FALSE))","v":""},{"$f":"IF(N397=\"\",\"\",VLOOKUP(N397,Sifranti!D:F,2,FALSE))","v":""},{"$f":"IF(AK397=\"\",\"\",VLOOKUP(AK397,Sifranti!V:Y,2,FALSE))","v":""},{"$f":"IF(AK397=\"\",\"\",IF(VLOOKUP(AK397,Sifranti!V:Y,3,FALSE)=\"\",\"\",VLOOKUP(AK397,Sifranti!V:Y,3,FALSE)))","v":""},{"$f":"IF(AK397=\"\",\"\",VLOOKUP(AK397,Sifranti!V:Y,4,FALSE))","v":""}]
[{"$f":"IF(B398=\"\",\"\",VLOOKUP(B398,Sifranti!K:L,2,FALSE))","v":""},null,null,null,null,null,null,null,null,"",{"$f":"IF(L398=\"\",\"\",VLOOKUP(L398,Sifranti!A:B,2,FALSE))","v":""},null,{"$f":"IF(N398=\"\",\"\",VLOOKUP(N398,Sifranti!D:F,3,FALSE))","v":""},null,{"$f":"IF(P398=\"\",\"\",VLOOKUP(P398,Sifranti!H:I,2,FALSE))","v":""},null,null,null,null,null,null,null,null,null,null,null,null,null,null,null,null,null,null,null,null,null,null,null,null,null,{"$f":"IF(AN398=\"\",\"\",IF(LEN(VLOOKUP(AN398,Sifranti!BY:BZ,2,FALSE))=0,\"\",VLOOKUP(AN398,Sifranti!BY:BZ,2,FALSE)))","v":""},{"$f":"IF(C398=\"\",\"\",VLOOKUP(C398,Sifranti!P:R,2,FALSE))","v":""},"","",{"$f":"IF(C398=\"\",\"\",VLOOKUP(C398,Sifranti!P:R,3,FALSE))","v":""},{"$f":"IF(N398=\"\",\"\",VLOOKUP(N398,Sifranti!D:F,2,FALSE))","v":""},{"$f":"IF(AK398=\"\",\"\",VLOOKUP(AK398,Sifranti!V:Y,2,FALSE))","v":""},{"$f":"IF(AK398=\"\",\"\",IF(VLOOKUP(AK398,Sifranti!V:Y,3,FALSE)=\"\",\"\",VLOOKUP(AK398,Sifranti!V:Y,3,FALSE)))","v":""},{"$f":"IF(AK398=\"\",\"\",VLOOKUP(AK398,Sifranti!V:Y,4,FALSE))","v":""}]
[{"$f":"IF(B399=\"\",\"\",VLOOKUP(B399,Sifranti!K:L,2,FALSE))","v":""},null,null,null,null,null,null,null,null,"",{"$f":"IF(L399=\"\",\"\",VLOOKUP(L399,Sifranti!A:B,2,FALSE))","v":""},null,{"$f":"IF(N399=\"\",\"\",VLOOKUP(N399,Sifranti!D:F,3,FALSE))","v":""},null,{"$f":"IF(P399=\"\",\"\",VLOOKUP(P399,Sifranti!H:I,2,FALSE))","v":""},null,null,null,null,null,null,null,null,null,null,null,null,null,null,null,null,null,null,null,null,null,null,null,null,null,{"$f":"IF(AN399=\"\",\"\",IF(LEN(VLOOKUP(AN399,Sifranti!BY:BZ,2,FALSE))=0,\"\",VLOOKUP(AN399,Sifranti!BY:BZ,2,FALSE)))","v":""},{"$f":"IF(C399=\"\",\"\",VLOOKUP(C399,Sifranti!P:R,2,FALSE))","v":""},"","",{"$f":"IF(C399=\"\",\"\",VLOOKUP(C399,Sifranti!P:R,3,FALSE))","v":""},{"$f":"IF(N399=\"\",\"\",VLOOKUP(N399,Sifranti!D:F,2,FALSE))","v":""},{"$f":"IF(AK399=\"\",\"\",VLOOKUP(AK399,Sifranti!V:Y,2,FALSE))","v":""},{"$f":"IF(AK399=\"\",\"\",IF(VLOOKUP(AK399,Sifranti!V:Y,3,FALSE)=\"\",\"\",VLOOKUP(AK399,Sifranti!V:Y,3,FALSE)))","v":""},{"$f":"IF(AK399=\"\",\"\",VLOOKUP(AK399,Sifranti!V:Y,4,FALSE))","v":""}]
[{"$f":"IF(B400=\"\",\"\",VLOOKUP(B400,Sifranti!K:L,2,FALSE))","v":""},null,null,null,null,null,null,null,null,"",{"$f":"IF(L400=\"\",\"\",VLOOKUP(L400,Sifranti!A:B,2,FALSE))","v":""},null,{"$f":"IF(N400=\"\",\"\",VLOOKUP(N400,Sifranti!D:F,3,FALSE))","v":""},null,{"$f":"IF(P400=\"\",\"\",VLOOKUP(P400,Sifranti!H:I,2,FALSE))","v":""},null,null,null,null,null,null,null,null,null,null,null,null,null,null,null,null,null,null,null,null,null,null,null,null,null,{"$f":"IF(AN400=\"\",\"\",IF(LEN(VLOOKUP(AN400,Sifranti!BY:BZ,2,FALSE))=0,\"\",VLOOKUP(AN400,Sifranti!BY:BZ,2,FALSE)))","v":""},{"$f":"IF(C400=\"\",\"\",VLOOKUP(C400,Sifranti!P:R,2,FALSE))","v":""},"","",{"$f":"IF(C400=\"\",\"\",VLOOKUP(C400,Sifranti!P:R,3,FALSE))","v":""},{"$f":"IF(N400=\"\",\"\",VLOOKUP(N400,Sifranti!D:F,2,FALSE))","v":""},{"$f":"IF(AK400=\"\",\"\",VLOOKUP(AK400,Sifranti!V:Y,2,FALSE))","v":""},{"$f":"IF(AK400=\"\",\"\",IF(VLOOKUP(AK400,Sifranti!V:Y,3,FALSE)=\"\",\"\",VLOOKUP(AK400,Sifranti!V:Y,3,FALSE)))","v":""},{"$f":"IF(AK400=\"\",\"\",VLOOKUP(AK400,Sifranti!V:Y,4,FALSE))","v":""}]
[{"$f":"IF(B401=\"\",\"\",VLOOKUP(B401,Sifranti!K:L,2,FALSE))","v":""},null,null,null,null,null,null,null,null,"",{"$f":"IF(L401=\"\",\"\",VLOOKUP(L401,Sifranti!A:B,2,FALSE))","v":""},null,{"$f":"IF(N401=\"\",\"\",VLOOKUP(N401,Sifranti!D:F,3,FALSE))","v":""},null,{"$f":"IF(P401=\"\",\"\",VLOOKUP(P401,Sifranti!H:I,2,FALSE))","v":""},null,null,null,null,null,null,null,null,null,null,null,null,null,null,null,null,null,null,null,null,null,null,null,null,null,{"$f":"IF(AN401=\"\",\"\",IF(LEN(VLOOKUP(AN401,Sifranti!BY:BZ,2,FALSE))=0,\"\",VLOOKUP(AN401,Sifranti!BY:BZ,2,FALSE)))","v":""},{"$f":"IF(C401=\"\",\"\",VLOOKUP(C401,Sifranti!P:R,2,FALSE))","v":""},"","",{"$f":"IF(C401=\"\",\"\",VLOOKUP(C401,Sifranti!P:R,3,FALSE))","v":""},{"$f":"IF(N401=\"\",\"\",VLOOKUP(N401,Sifranti!D:F,2,FALSE))","v":""},{"$f":"IF(AK401=\"\",\"\",VLOOKUP(AK401,Sifranti!V:Y,2,FALSE))","v":""},{"$f":"IF(AK401=\"\",\"\",IF(VLOOKUP(AK401,Sifranti!V:Y,3,FALSE)=\"\",\"\",VLOOKUP(AK401,Sifranti!V:Y,3,FALSE)))","v":""},{"$f":"IF(AK401=\"\",\"\",VLOOKUP(AK401,Sifranti!V:Y,4,FALSE))","v":""}]
[{"$f":"IF(B402=\"\",\"\",VLOOKUP(B402,Sifranti!K:L,2,FALSE))","v":""},null,null,null,null,null,null,null,null,"",{"$f":"IF(L402=\"\",\"\",VLOOKUP(L402,Sifranti!A:B,2,FALSE))","v":""},null,{"$f":"IF(N402=\"\",\"\",VLOOKUP(N402,Sifranti!D:F,3,FALSE))","v":""},null,{"$f":"IF(P402=\"\",\"\",VLOOKUP(P402,Sifranti!H:I,2,FALSE))","v":""},null,null,null,null,null,null,null,null,null,null,null,null,null,null,null,null,null,null,null,null,null,null,null,null,null,{"$f":"IF(AN402=\"\",\"\",IF(LEN(VLOOKUP(AN402,Sifranti!BY:BZ,2,FALSE))=0,\"\",VLOOKUP(AN402,Sifranti!BY:BZ,2,FALSE)))","v":""},{"$f":"IF(C402=\"\",\"\",VLOOKUP(C402,Sifranti!P:R,2,FALSE))","v":""},"","",{"$f":"IF(C402=\"\",\"\",VLOOKUP(C402,Sifranti!P:R,3,FALSE))","v":""},{"$f":"IF(N402=\"\",\"\",VLOOKUP(N402,Sifranti!D:F,2,FALSE))","v":""},{"$f":"IF(AK402=\"\",\"\",VLOOKUP(AK402,Sifranti!V:Y,2,FALSE))","v":""},{"$f":"IF(AK402=\"\",\"\",IF(VLOOKUP(AK402,Sifranti!V:Y,3,FALSE)=\"\",\"\",VLOOKUP(AK402,Sifranti!V:Y,3,FALSE)))","v":""},{"$f":"IF(AK402=\"\",\"\",VLOOKUP(AK402,Sifranti!V:Y,4,FALSE))","v":""}]
[{"$f":"IF(B403=\"\",\"\",VLOOKUP(B403,Sifranti!K:L,2,FALSE))","v":""},null,null,null,null,null,null,null,null,"",{"$f":"IF(L403=\"\",\"\",VLOOKUP(L403,Sifranti!A:B,2,FALSE))","v":""},null,{"$f":"IF(N403=\"\",\"\",VLOOKUP(N403,Sifranti!D:F,3,FALSE))","v":""},null,{"$f":"IF(P403=\"\",\"\",VLOOKUP(P403,Sifranti!H:I,2,FALSE))","v":""},null,null,null,null,null,null,null,null,null,null,null,null,null,null,null,null,null,null,null,null,null,null,null,null,null,{"$f":"IF(AN403=\"\",\"\",IF(LEN(VLOOKUP(AN403,Sifranti!BY:BZ,2,FALSE))=0,\"\",VLOOKUP(AN403,Sifranti!BY:BZ,2,FALSE)))","v":""},{"$f":"IF(C403=\"\",\"\",VLOOKUP(C403,Sifranti!P:R,2,FALSE))","v":""},"","",{"$f":"IF(C403=\"\",\"\",VLOOKUP(C403,Sifranti!P:R,3,FALSE))","v":""},{"$f":"IF(N403=\"\",\"\",VLOOKUP(N403,Sifranti!D:F,2,FALSE))","v":""},{"$f":"IF(AK403=\"\",\"\",VLOOKUP(AK403,Sifranti!V:Y,2,FALSE))","v":""},{"$f":"IF(AK403=\"\",\"\",IF(VLOOKUP(AK403,Sifranti!V:Y,3,FALSE)=\"\",\"\",VLOOKUP(AK403,Sifranti!V:Y,3,FALSE)))","v":""},{"$f":"IF(AK403=\"\",\"\",VLOOKUP(AK403,Sifranti!V:Y,4,FALSE))","v":""}]
[{"$f":"IF(B404=\"\",\"\",VLOOKUP(B404,Sifranti!K:L,2,FALSE))","v":""},null,null,null,null,null,null,null,null,"",{"$f":"IF(L404=\"\",\"\",VLOOKUP(L404,Sifranti!A:B,2,FALSE))","v":""},null,{"$f":"IF(N404=\"\",\"\",VLOOKUP(N404,Sifranti!D:F,3,FALSE))","v":""},null,{"$f":"IF(P404=\"\",\"\",VLOOKUP(P404,Sifranti!H:I,2,FALSE))","v":""},null,null,null,null,null,null,null,null,null,null,null,null,null,null,null,null,null,null,null,null,null,null,null,null,null,{"$f":"IF(AN404=\"\",\"\",IF(LEN(VLOOKUP(AN404,Sifranti!BY:BZ,2,FALSE))=0,\"\",VLOOKUP(AN404,Sifranti!BY:BZ,2,FALSE)))","v":""},{"$f":"IF(C404=\"\",\"\",VLOOKUP(C404,Sifranti!P:R,2,FALSE))","v":""},"","",{"$f":"IF(C404=\"\",\"\",VLOOKUP(C404,Sifranti!P:R,3,FALSE))","v":""},{"$f":"IF(N404=\"\",\"\",VLOOKUP(N404,Sifranti!D:F,2,FALSE))","v":""},{"$f":"IF(AK404=\"\",\"\",VLOOKUP(AK404,Sifranti!V:Y,2,FALSE))","v":""},{"$f":"IF(AK404=\"\",\"\",IF(VLOOKUP(AK404,Sifranti!V:Y,3,FALSE)=\"\",\"\",VLOOKUP(AK404,Sifranti!V:Y,3,FALSE)))","v":""},{"$f":"IF(AK404=\"\",\"\",VLOOKUP(AK404,Sifranti!V:Y,4,FALSE))","v":""}]
[{"$f":"IF(B405=\"\",\"\",VLOOKUP(B405,Sifranti!K:L,2,FALSE))","v":""},null,null,null,null,null,null,null,null,"",{"$f":"IF(L405=\"\",\"\",VLOOKUP(L405,Sifranti!A:B,2,FALSE))","v":""},null,{"$f":"IF(N405=\"\",\"\",VLOOKUP(N405,Sifranti!D:F,3,FALSE))","v":""},null,{"$f":"IF(P405=\"\",\"\",VLOOKUP(P405,Sifranti!H:I,2,FALSE))","v":""},null,null,null,null,null,null,null,null,null,null,null,null,null,null,null,null,null,null,null,null,null,null,null,null,null,{"$f":"IF(AN405=\"\",\"\",IF(LEN(VLOOKUP(AN405,Sifranti!BY:BZ,2,FALSE))=0,\"\",VLOOKUP(AN405,Sifranti!BY:BZ,2,FALSE)))","v":""},{"$f":"IF(C405=\"\",\"\",VLOOKUP(C405,Sifranti!P:R,2,FALSE))","v":""},"","",{"$f":"IF(C405=\"\",\"\",VLOOKUP(C405,Sifranti!P:R,3,FALSE))","v":""},{"$f":"IF(N405=\"\",\"\",VLOOKUP(N405,Sifranti!D:F,2,FALSE))","v":""},{"$f":"IF(AK405=\"\",\"\",VLOOKUP(AK405,Sifranti!V:Y,2,FALSE))","v":""},{"$f":"IF(AK405=\"\",\"\",IF(VLOOKUP(AK405,Sifranti!V:Y,3,FALSE)=\"\",\"\",VLOOKUP(AK405,Sifranti!V:Y,3,FALSE)))","v":""},{"$f":"IF(AK405=\"\",\"\",VLOOKUP(AK405,Sifranti!V:Y,4,FALSE))","v":""}]
[{"$f":"IF(B406=\"\",\"\",VLOOKUP(B406,Sifranti!K:L,2,FALSE))","v":""},null,null,null,null,null,null,null,null,"",{"$f":"IF(L406=\"\",\"\",VLOOKUP(L406,Sifranti!A:B,2,FALSE))","v":""},null,{"$f":"IF(N406=\"\",\"\",VLOOKUP(N406,Sifranti!D:F,3,FALSE))","v":""},null,{"$f":"IF(P406=\"\",\"\",VLOOKUP(P406,Sifranti!H:I,2,FALSE))","v":""},null,null,null,null,null,null,null,null,null,null,null,null,null,null,null,null,null,null,null,null,null,null,null,null,null,{"$f":"IF(AN406=\"\",\"\",IF(LEN(VLOOKUP(AN406,Sifranti!BY:BZ,2,FALSE))=0,\"\",VLOOKUP(AN406,Sifranti!BY:BZ,2,FALSE)))","v":""},{"$f":"IF(C406=\"\",\"\",VLOOKUP(C406,Sifranti!P:R,2,FALSE))","v":""},"","",{"$f":"IF(C406=\"\",\"\",VLOOKUP(C406,Sifranti!P:R,3,FALSE))","v":""},{"$f":"IF(N406=\"\",\"\",VLOOKUP(N406,Sifranti!D:F,2,FALSE))","v":""},{"$f":"IF(AK406=\"\",\"\",VLOOKUP(AK406,Sifranti!V:Y,2,FALSE))","v":""},{"$f":"IF(AK406=\"\",\"\",IF(VLOOKUP(AK406,Sifranti!V:Y,3,FALSE)=\"\",\"\",VLOOKUP(AK406,Sifranti!V:Y,3,FALSE)))","v":""},{"$f":"IF(AK406=\"\",\"\",VLOOKUP(AK406,Sifranti!V:Y,4,FALSE))","v":""}]
[{"$f":"IF(B407=\"\",\"\",VLOOKUP(B407,Sifranti!K:L,2,FALSE))","v":""},null,null,null,null,null,null,null,null,"",{"$f":"IF(L407=\"\",\"\",VLOOKUP(L407,Sifranti!A:B,2,FALSE))","v":""},null,{"$f":"IF(N407=\"\",\"\",VLOOKUP(N407,Sifranti!D:F,3,FALSE))","v":""},null,{"$f":"IF(P407=\"\",\"\",VLOOKUP(P407,Sifranti!H:I,2,FALSE))","v":""},null,null,null,null,null,null,null,null,null,null,null,null,null,null,null,null,null,null,null,null,null,null,null,null,null,{"$f":"IF(AN407=\"\",\"\",IF(LEN(VLOOKUP(AN407,Sifranti!BY:BZ,2,FALSE))=0,\"\",VLOOKUP(AN407,Sifranti!BY:BZ,2,FALSE)))","v":""},{"$f":"IF(C407=\"\",\"\",VLOOKUP(C407,Sifranti!P:R,2,FALSE))","v":""},"","",{"$f":"IF(C407=\"\",\"\",VLOOKUP(C407,Sifranti!P:R,3,FALSE))","v":""},{"$f":"IF(N407=\"\",\"\",VLOOKUP(N407,Sifranti!D:F,2,FALSE))","v":""},{"$f":"IF(AK407=\"\",\"\",VLOOKUP(AK407,Sifranti!V:Y,2,FALSE))","v":""},{"$f":"IF(AK407=\"\",\"\",IF(VLOOKUP(AK407,Sifranti!V:Y,3,FALSE)=\"\",\"\",VLOOKUP(AK407,Sifranti!V:Y,3,FALSE)))","v":""},{"$f":"IF(AK407=\"\",\"\",VLOOKUP(AK407,Sifranti!V:Y,4,FALSE))","v":""}]
[{"$f":"IF(B408=\"\",\"\",VLOOKUP(B408,Sifranti!K:L,2,FALSE))","v":""},null,null,null,null,null,null,null,null,"",{"$f":"IF(L408=\"\",\"\",VLOOKUP(L408,Sifranti!A:B,2,FALSE))","v":""},null,{"$f":"IF(N408=\"\",\"\",VLOOKUP(N408,Sifranti!D:F,3,FALSE))","v":""},null,{"$f":"IF(P408=\"\",\"\",VLOOKUP(P408,Sifranti!H:I,2,FALSE))","v":""},null,null,null,null,null,null,null,null,null,null,null,null,null,null,null,null,null,null,null,null,null,null,null,null,null,{"$f":"IF(AN408=\"\",\"\",IF(LEN(VLOOKUP(AN408,Sifranti!BY:BZ,2,FALSE))=0,\"\",VLOOKUP(AN408,Sifranti!BY:BZ,2,FALSE)))","v":""},{"$f":"IF(C408=\"\",\"\",VLOOKUP(C408,Sifranti!P:R,2,FALSE))","v":""},"","",{"$f":"IF(C408=\"\",\"\",VLOOKUP(C408,Sifranti!P:R,3,FALSE))","v":""},{"$f":"IF(N408=\"\",\"\",VLOOKUP(N408,Sifranti!D:F,2,FALSE))","v":""},{"$f":"IF(AK408=\"\",\"\",VLOOKUP(AK408,Sifranti!V:Y,2,FALSE))","v":""},{"$f":"IF(AK408=\"\",\"\",IF(VLOOKUP(AK408,Sifranti!V:Y,3,FALSE)=\"\",\"\",VLOOKUP(AK408,Sifranti!V:Y,3,FALSE)))","v":""},{"$f":"IF(AK408=\"\",\"\",VLOOKUP(AK408,Sifranti!V:Y,4,FALSE))","v":""}]
[{"$f":"IF(B409=\"\",\"\",VLOOKUP(B409,Sifranti!K:L,2,FALSE))","v":""},null,null,null,null,null,null,null,null,"",{"$f":"IF(L409=\"\",\"\",VLOOKUP(L409,Sifranti!A:B,2,FALSE))","v":""},null,{"$f":"IF(N409=\"\",\"\",VLOOKUP(N409,Sifranti!D:F,3,FALSE))","v":""},null,{"$f":"IF(P409=\"\",\"\",VLOOKUP(P409,Sifranti!H:I,2,FALSE))","v":""},null,null,null,null,null,null,null,null,null,null,null,null,null,null,null,null,null,null,null,null,null,null,null,null,null,{"$f":"IF(AN409=\"\",\"\",IF(LEN(VLOOKUP(AN409,Sifranti!BY:BZ,2,FALSE))=0,\"\",VLOOKUP(AN409,Sifranti!BY:BZ,2,FALSE)))","v":""},{"$f":"IF(C409=\"\",\"\",VLOOKUP(C409,Sifranti!P:R,2,FALSE))","v":""},"","",{"$f":"IF(C409=\"\",\"\",VLOOKUP(C409,Sifranti!P:R,3,FALSE))","v":""},{"$f":"IF(N409=\"\",\"\",VLOOKUP(N409,Sifranti!D:F,2,FALSE))","v":""},{"$f":"IF(AK409=\"\",\"\",VLOOKUP(AK409,Sifranti!V:Y,2,FALSE))","v":""},{"$f":"IF(AK409=\"\",\"\",IF(VLOOKUP(AK409,Sifranti!V:Y,3,FALSE)=\"\",\"\",VLOOKUP(AK409,Sifranti!V:Y,3,FALSE)))","v":""},{"$f":"IF(AK409=\"\",\"\",VLOOKUP(AK409,Sifranti!V:Y,4,FALSE))","v":""}]
[{"$f":"IF(B410=\"\",\"\",VLOOKUP(B410,Sifranti!K:L,2,FALSE))","v":""},null,null,null,null,null,null,null,null,"",{"$f":"IF(L410=\"\",\"\",VLOOKUP(L410,Sifranti!A:B,2,FALSE))","v":""},null,{"$f":"IF(N410=\"\",\"\",VLOOKUP(N410,Sifranti!D:F,3,FALSE))","v":""},null,{"$f":"IF(P410=\"\",\"\",VLOOKUP(P410,Sifranti!H:I,2,FALSE))","v":""},null,null,null,null,null,null,null,null,null,null,null,null,null,null,null,null,null,null,null,null,null,null,null,null,null,{"$f":"IF(AN410=\"\",\"\",IF(LEN(VLOOKUP(AN410,Sifranti!BY:BZ,2,FALSE))=0,\"\",VLOOKUP(AN410,Sifranti!BY:BZ,2,FALSE)))","v":""},{"$f":"IF(C410=\"\",\"\",VLOOKUP(C410,Sifranti!P:R,2,FALSE))","v":""},"","",{"$f":"IF(C410=\"\",\"\",VLOOKUP(C410,Sifranti!P:R,3,FALSE))","v":""},{"$f":"IF(N410=\"\",\"\",VLOOKUP(N410,Sifranti!D:F,2,FALSE))","v":""},{"$f":"IF(AK410=\"\",\"\",VLOOKUP(AK410,Sifranti!V:Y,2,FALSE))","v":""},{"$f":"IF(AK410=\"\",\"\",IF(VLOOKUP(AK410,Sifranti!V:Y,3,FALSE)=\"\",\"\",VLOOKUP(AK410,Sifranti!V:Y,3,FALSE)))","v":""},{"$f":"IF(AK410=\"\",\"\",VLOOKUP(AK410,Sifranti!V:Y,4,FALSE))","v":""}]
[{"$f":"IF(B411=\"\",\"\",VLOOKUP(B411,Sifranti!K:L,2,FALSE))","v":""},null,null,null,null,null,null,null,null,"",{"$f":"IF(L411=\"\",\"\",VLOOKUP(L411,Sifranti!A:B,2,FALSE))","v":""},null,{"$f":"IF(N411=\"\",\"\",VLOOKUP(N411,Sifranti!D:F,3,FALSE))","v":""},null,{"$f":"IF(P411=\"\",\"\",VLOOKUP(P411,Sifranti!H:I,2,FALSE))","v":""},null,null,null,null,null,null,null,null,null,null,null,null,null,null,null,null,null,null,null,null,null,null,null,null,null,{"$f":"IF(AN411=\"\",\"\",IF(LEN(VLOOKUP(AN411,Sifranti!BY:BZ,2,FALSE))=0,\"\",VLOOKUP(AN411,Sifranti!BY:BZ,2,FALSE)))","v":""},{"$f":"IF(C411=\"\",\"\",VLOOKUP(C411,Sifranti!P:R,2,FALSE))","v":""},"","",{"$f":"IF(C411=\"\",\"\",VLOOKUP(C411,Sifranti!P:R,3,FALSE))","v":""},{"$f":"IF(N411=\"\",\"\",VLOOKUP(N411,Sifranti!D:F,2,FALSE))","v":""},{"$f":"IF(AK411=\"\",\"\",VLOOKUP(AK411,Sifranti!V:Y,2,FALSE))","v":""},{"$f":"IF(AK411=\"\",\"\",IF(VLOOKUP(AK411,Sifranti!V:Y,3,FALSE)=\"\",\"\",VLOOKUP(AK411,Sifranti!V:Y,3,FALSE)))","v":""},{"$f":"IF(AK411=\"\",\"\",VLOOKUP(AK411,Sifranti!V:Y,4,FALSE))","v":""}]
[{"$f":"IF(B412=\"\",\"\",VLOOKUP(B412,Sifranti!K:L,2,FALSE))","v":""},null,null,null,null,null,null,null,null,"",{"$f":"IF(L412=\"\",\"\",VLOOKUP(L412,Sifranti!A:B,2,FALSE))","v":""},null,{"$f":"IF(N412=\"\",\"\",VLOOKUP(N412,Sifranti!D:F,3,FALSE))","v":""},null,{"$f":"IF(P412=\"\",\"\",VLOOKUP(P412,Sifranti!H:I,2,FALSE))","v":""},null,null,null,null,null,null,null,null,null,null,null,null,null,null,null,null,null,null,null,null,null,null,null,null,null,{"$f":"IF(AN412=\"\",\"\",IF(LEN(VLOOKUP(AN412,Sifranti!BY:BZ,2,FALSE))=0,\"\",VLOOKUP(AN412,Sifranti!BY:BZ,2,FALSE)))","v":""},{"$f":"IF(C412=\"\",\"\",VLOOKUP(C412,Sifranti!P:R,2,FALSE))","v":""},"","",{"$f":"IF(C412=\"\",\"\",VLOOKUP(C412,Sifranti!P:R,3,FALSE))","v":""},{"$f":"IF(N412=\"\",\"\",VLOOKUP(N412,Sifranti!D:F,2,FALSE))","v":""},{"$f":"IF(AK412=\"\",\"\",VLOOKUP(AK412,Sifranti!V:Y,2,FALSE))","v":""},{"$f":"IF(AK412=\"\",\"\",IF(VLOOKUP(AK412,Sifranti!V:Y,3,FALSE)=\"\",\"\",VLOOKUP(AK412,Sifranti!V:Y,3,FALSE)))","v":""},{"$f":"IF(AK412=\"\",\"\",VLOOKUP(AK412,Sifranti!V:Y,4,FALSE))","v":""}]
[{"$f":"IF(B413=\"\",\"\",VLOOKUP(B413,Sifranti!K:L,2,FALSE))","v":""},null,null,null,null,null,null,null,null,"",{"$f":"IF(L413=\"\",\"\",VLOOKUP(L413,Sifranti!A:B,2,FALSE))","v":""},null,{"$f":"IF(N413=\"\",\"\",VLOOKUP(N413,Sifranti!D:F,3,FALSE))","v":""},null,{"$f":"IF(P413=\"\",\"\",VLOOKUP(P413,Sifranti!H:I,2,FALSE))","v":""},null,null,null,null,null,null,null,null,null,null,null,null,null,null,null,null,null,null,null,null,null,null,null,null,null,{"$f":"IF(AN413=\"\",\"\",IF(LEN(VLOOKUP(AN413,Sifranti!BY:BZ,2,FALSE))=0,\"\",VLOOKUP(AN413,Sifranti!BY:BZ,2,FALSE)))","v":""},{"$f":"IF(C413=\"\",\"\",VLOOKUP(C413,Sifranti!P:R,2,FALSE))","v":""},"","",{"$f":"IF(C413=\"\",\"\",VLOOKUP(C413,Sifranti!P:R,3,FALSE))","v":""},{"$f":"IF(N413=\"\",\"\",VLOOKUP(N413,Sifranti!D:F,2,FALSE))","v":""},{"$f":"IF(AK413=\"\",\"\",VLOOKUP(AK413,Sifranti!V:Y,2,FALSE))","v":""},{"$f":"IF(AK413=\"\",\"\",IF(VLOOKUP(AK413,Sifranti!V:Y,3,FALSE)=\"\",\"\",VLOOKUP(AK413,Sifranti!V:Y,3,FALSE)))","v":""},{"$f":"IF(AK413=\"\",\"\",VLOOKUP(AK413,Sifranti!V:Y,4,FALSE))","v":""}]
[{"$f":"IF(B414=\"\",\"\",VLOOKUP(B414,Sifranti!K:L,2,FALSE))","v":""},null,null,null,null,null,null,null,null,"",{"$f":"IF(L414=\"\",\"\",VLOOKUP(L414,Sifranti!A:B,2,FALSE))","v":""},null,{"$f":"IF(N414=\"\",\"\",VLOOKUP(N414,Sifranti!D:F,3,FALSE))","v":""},null,{"$f":"IF(P414=\"\",\"\",VLOOKUP(P414,Sifranti!H:I,2,FALSE))","v":""},null,null,null,null,null,null,null,null,null,null,null,null,null,null,null,null,null,null,null,null,null,null,null,null,null,{"$f":"IF(AN414=\"\",\"\",IF(LEN(VLOOKUP(AN414,Sifranti!BY:BZ,2,FALSE))=0,\"\",VLOOKUP(AN414,Sifranti!BY:BZ,2,FALSE)))","v":""},{"$f":"IF(C414=\"\",\"\",VLOOKUP(C414,Sifranti!P:R,2,FALSE))","v":""},"","",{"$f":"IF(C414=\"\",\"\",VLOOKUP(C414,Sifranti!P:R,3,FALSE))","v":""},{"$f":"IF(N414=\"\",\"\",VLOOKUP(N414,Sifranti!D:F,2,FALSE))","v":""},{"$f":"IF(AK414=\"\",\"\",VLOOKUP(AK414,Sifranti!V:Y,2,FALSE))","v":""},{"$f":"IF(AK414=\"\",\"\",IF(VLOOKUP(AK414,Sifranti!V:Y,3,FALSE)=\"\",\"\",VLOOKUP(AK414,Sifranti!V:Y,3,FALSE)))","v":""},{"$f":"IF(AK414=\"\",\"\",VLOOKUP(AK414,Sifranti!V:Y,4,FALSE))","v":""}]
[{"$f":"IF(B415=\"\",\"\",VLOOKUP(B415,Sifranti!K:L,2,FALSE))","v":""},null,null,null,null,null,null,null,null,"",{"$f":"IF(L415=\"\",\"\",VLOOKUP(L415,Sifranti!A:B,2,FALSE))","v":""},null,{"$f":"IF(N415=\"\",\"\",VLOOKUP(N415,Sifranti!D:F,3,FALSE))","v":""},null,{"$f":"IF(P415=\"\",\"\",VLOOKUP(P415,Sifranti!H:I,2,FALSE))","v":""},null,null,null,null,null,null,null,null,null,null,null,null,null,null,null,null,null,null,null,null,null,null,null,null,null,{"$f":"IF(AN415=\"\",\"\",IF(LEN(VLOOKUP(AN415,Sifranti!BY:BZ,2,FALSE))=0,\"\",VLOOKUP(AN415,Sifranti!BY:BZ,2,FALSE)))","v":""},{"$f":"IF(C415=\"\",\"\",VLOOKUP(C415,Sifranti!P:R,2,FALSE))","v":""},"","",{"$f":"IF(C415=\"\",\"\",VLOOKUP(C415,Sifranti!P:R,3,FALSE))","v":""},{"$f":"IF(N415=\"\",\"\",VLOOKUP(N415,Sifranti!D:F,2,FALSE))","v":""},{"$f":"IF(AK415=\"\",\"\",VLOOKUP(AK415,Sifranti!V:Y,2,FALSE))","v":""},{"$f":"IF(AK415=\"\",\"\",IF(VLOOKUP(AK415,Sifranti!V:Y,3,FALSE)=\"\",\"\",VLOOKUP(AK415,Sifranti!V:Y,3,FALSE)))","v":""},{"$f":"IF(AK415=\"\",\"\",VLOOKUP(AK415,Sifranti!V:Y,4,FALSE))","v":""}]
[{"$f":"IF(B416=\"\",\"\",VLOOKUP(B416,Sifranti!K:L,2,FALSE))","v":""},null,null,null,null,null,null,null,null,"",{"$f":"IF(L416=\"\",\"\",VLOOKUP(L416,Sifranti!A:B,2,FALSE))","v":""},null,{"$f":"IF(N416=\"\",\"\",VLOOKUP(N416,Sifranti!D:F,3,FALSE))","v":""},null,{"$f":"IF(P416=\"\",\"\",VLOOKUP(P416,Sifranti!H:I,2,FALSE))","v":""},null,null,null,null,null,null,null,null,null,null,null,null,null,null,null,null,null,null,null,null,null,null,null,null,null,{"$f":"IF(AN416=\"\",\"\",IF(LEN(VLOOKUP(AN416,Sifranti!BY:BZ,2,FALSE))=0,\"\",VLOOKUP(AN416,Sifranti!BY:BZ,2,FALSE)))","v":""},{"$f":"IF(C416=\"\",\"\",VLOOKUP(C416,Sifranti!P:R,2,FALSE))","v":""},"","",{"$f":"IF(C416=\"\",\"\",VLOOKUP(C416,Sifranti!P:R,3,FALSE))","v":""},{"$f":"IF(N416=\"\",\"\",VLOOKUP(N416,Sifranti!D:F,2,FALSE))","v":""},{"$f":"IF(AK416=\"\",\"\",VLOOKUP(AK416,Sifranti!V:Y,2,FALSE))","v":""},{"$f":"IF(AK416=\"\",\"\",IF(VLOOKUP(AK416,Sifranti!V:Y,3,FALSE)=\"\",\"\",VLOOKUP(AK416,Sifranti!V:Y,3,FALSE)))","v":""},{"$f":"IF(AK416=\"\",\"\",VLOOKUP(AK416,Sifranti!V:Y,4,FALSE))","v":""}]
[{"$f":"IF(B417=\"\",\"\",VLOOKUP(B417,Sifranti!K:L,2,FALSE))","v":""},null,null,null,null,null,null,null,null,"",{"$f":"IF(L417=\"\",\"\",VLOOKUP(L417,Sifranti!A:B,2,FALSE))","v":""},null,{"$f":"IF(N417=\"\",\"\",VLOOKUP(N417,Sifranti!D:F,3,FALSE))","v":""},null,{"$f":"IF(P417=\"\",\"\",VLOOKUP(P417,Sifranti!H:I,2,FALSE))","v":""},null,null,null,null,null,null,null,null,null,null,null,null,null,null,null,null,null,null,null,null,null,null,null,null,null,{"$f":"IF(AN417=\"\",\"\",IF(LEN(VLOOKUP(AN417,Sifranti!BY:BZ,2,FALSE))=0,\"\",VLOOKUP(AN417,Sifranti!BY:BZ,2,FALSE)))","v":""},{"$f":"IF(C417=\"\",\"\",VLOOKUP(C417,Sifranti!P:R,2,FALSE))","v":""},"","",{"$f":"IF(C417=\"\",\"\",VLOOKUP(C417,Sifranti!P:R,3,FALSE))","v":""},{"$f":"IF(N417=\"\",\"\",VLOOKUP(N417,Sifranti!D:F,2,FALSE))","v":""},{"$f":"IF(AK417=\"\",\"\",VLOOKUP(AK417,Sifranti!V:Y,2,FALSE))","v":""},{"$f":"IF(AK417=\"\",\"\",IF(VLOOKUP(AK417,Sifranti!V:Y,3,FALSE)=\"\",\"\",VLOOKUP(AK417,Sifranti!V:Y,3,FALSE)))","v":""},{"$f":"IF(AK417=\"\",\"\",VLOOKUP(AK417,Sifranti!V:Y,4,FALSE))","v":""}]
[{"$f":"IF(B418=\"\",\"\",VLOOKUP(B418,Sifranti!K:L,2,FALSE))","v":""},null,null,null,null,null,null,null,null,"",{"$f":"IF(L418=\"\",\"\",VLOOKUP(L418,Sifranti!A:B,2,FALSE))","v":""},null,{"$f":"IF(N418=\"\",\"\",VLOOKUP(N418,Sifranti!D:F,3,FALSE))","v":""},null,{"$f":"IF(P418=\"\",\"\",VLOOKUP(P418,Sifranti!H:I,2,FALSE))","v":""},null,null,null,null,null,null,null,null,null,null,null,null,null,null,null,null,null,null,null,null,null,null,null,null,null,{"$f":"IF(AN418=\"\",\"\",IF(LEN(VLOOKUP(AN418,Sifranti!BY:BZ,2,FALSE))=0,\"\",VLOOKUP(AN418,Sifranti!BY:BZ,2,FALSE)))","v":""},{"$f":"IF(C418=\"\",\"\",VLOOKUP(C418,Sifranti!P:R,2,FALSE))","v":""},"","",{"$f":"IF(C418=\"\",\"\",VLOOKUP(C418,Sifranti!P:R,3,FALSE))","v":""},{"$f":"IF(N418=\"\",\"\",VLOOKUP(N418,Sifranti!D:F,2,FALSE))","v":""},{"$f":"IF(AK418=\"\",\"\",VLOOKUP(AK418,Sifranti!V:Y,2,FALSE))","v":""},{"$f":"IF(AK418=\"\",\"\",IF(VLOOKUP(AK418,Sifranti!V:Y,3,FALSE)=\"\",\"\",VLOOKUP(AK418,Sifranti!V:Y,3,FALSE)))","v":""},{"$f":"IF(AK418=\"\",\"\",VLOOKUP(AK418,Sifranti!V:Y,4,FALSE))","v":""}]
[{"$f":"IF(B419=\"\",\"\",VLOOKUP(B419,Sifranti!K:L,2,FALSE))","v":""},null,null,null,null,null,null,null,null,"",{"$f":"IF(L419=\"\",\"\",VLOOKUP(L419,Sifranti!A:B,2,FALSE))","v":""},null,{"$f":"IF(N419=\"\",\"\",VLOOKUP(N419,Sifranti!D:F,3,FALSE))","v":""},null,{"$f":"IF(P419=\"\",\"\",VLOOKUP(P419,Sifranti!H:I,2,FALSE))","v":""},null,null,null,null,null,null,null,null,null,null,null,null,null,null,null,null,null,null,null,null,null,null,null,null,null,{"$f":"IF(AN419=\"\",\"\",IF(LEN(VLOOKUP(AN419,Sifranti!BY:BZ,2,FALSE))=0,\"\",VLOOKUP(AN419,Sifranti!BY:BZ,2,FALSE)))","v":""},{"$f":"IF(C419=\"\",\"\",VLOOKUP(C419,Sifranti!P:R,2,FALSE))","v":""},"","",{"$f":"IF(C419=\"\",\"\",VLOOKUP(C419,Sifranti!P:R,3,FALSE))","v":""},{"$f":"IF(N419=\"\",\"\",VLOOKUP(N419,Sifranti!D:F,2,FALSE))","v":""},{"$f":"IF(AK419=\"\",\"\",VLOOKUP(AK419,Sifranti!V:Y,2,FALSE))","v":""},{"$f":"IF(AK419=\"\",\"\",IF(VLOOKUP(AK419,Sifranti!V:Y,3,FALSE)=\"\",\"\",VLOOKUP(AK419,Sifranti!V:Y,3,FALSE)))","v":""},{"$f":"IF(AK419=\"\",\"\",VLOOKUP(AK419,Sifranti!V:Y,4,FALSE))","v":""}]
[{"$f":"IF(B420=\"\",\"\",VLOOKUP(B420,Sifranti!K:L,2,FALSE))","v":""},null,null,null,null,null,null,null,null,"",{"$f":"IF(L420=\"\",\"\",VLOOKUP(L420,Sifranti!A:B,2,FALSE))","v":""},null,{"$f":"IF(N420=\"\",\"\",VLOOKUP(N420,Sifranti!D:F,3,FALSE))","v":""},null,{"$f":"IF(P420=\"\",\"\",VLOOKUP(P420,Sifranti!H:I,2,FALSE))","v":""},null,null,null,null,null,null,null,null,null,null,null,null,null,null,null,null,null,null,null,null,null,null,null,null,null,{"$f":"IF(AN420=\"\",\"\",IF(LEN(VLOOKUP(AN420,Sifranti!BY:BZ,2,FALSE))=0,\"\",VLOOKUP(AN420,Sifranti!BY:BZ,2,FALSE)))","v":""},{"$f":"IF(C420=\"\",\"\",VLOOKUP(C420,Sifranti!P:R,2,FALSE))","v":""},"","",{"$f":"IF(C420=\"\",\"\",VLOOKUP(C420,Sifranti!P:R,3,FALSE))","v":""},{"$f":"IF(N420=\"\",\"\",VLOOKUP(N420,Sifranti!D:F,2,FALSE))","v":""},{"$f":"IF(AK420=\"\",\"\",VLOOKUP(AK420,Sifranti!V:Y,2,FALSE))","v":""},{"$f":"IF(AK420=\"\",\"\",IF(VLOOKUP(AK420,Sifranti!V:Y,3,FALSE)=\"\",\"\",VLOOKUP(AK420,Sifranti!V:Y,3,FALSE)))","v":""},{"$f":"IF(AK420=\"\",\"\",VLOOKUP(AK420,Sifranti!V:Y,4,FALSE))","v":""}]
[{"$f":"IF(B421=\"\",\"\",VLOOKUP(B421,Sifranti!K:L,2,FALSE))","v":""},null,null,null,null,null,null,null,null,"",{"$f":"IF(L421=\"\",\"\",VLOOKUP(L421,Sifranti!A:B,2,FALSE))","v":""},null,{"$f":"IF(N421=\"\",\"\",VLOOKUP(N421,Sifranti!D:F,3,FALSE))","v":""},null,{"$f":"IF(P421=\"\",\"\",VLOOKUP(P421,Sifranti!H:I,2,FALSE))","v":""},null,null,null,null,null,null,null,null,null,null,null,null,null,null,null,null,null,null,null,null,null,null,null,null,null,{"$f":"IF(AN421=\"\",\"\",IF(LEN(VLOOKUP(AN421,Sifranti!BY:BZ,2,FALSE))=0,\"\",VLOOKUP(AN421,Sifranti!BY:BZ,2,FALSE)))","v":""},{"$f":"IF(C421=\"\",\"\",VLOOKUP(C421,Sifranti!P:R,2,FALSE))","v":""},"","",{"$f":"IF(C421=\"\",\"\",VLOOKUP(C421,Sifranti!P:R,3,FALSE))","v":""},{"$f":"IF(N421=\"\",\"\",VLOOKUP(N421,Sifranti!D:F,2,FALSE))","v":""},{"$f":"IF(AK421=\"\",\"\",VLOOKUP(AK421,Sifranti!V:Y,2,FALSE))","v":""},{"$f":"IF(AK421=\"\",\"\",IF(VLOOKUP(AK421,Sifranti!V:Y,3,FALSE)=\"\",\"\",VLOOKUP(AK421,Sifranti!V:Y,3,FALSE)))","v":""},{"$f":"IF(AK421=\"\",\"\",VLOOKUP(AK421,Sifranti!V:Y,4,FALSE))","v":""}]
[{"$f":"IF(B422=\"\",\"\",VLOOKUP(B422,Sifranti!K:L,2,FALSE))","v":""},null,null,null,null,null,null,null,null,"",{"$f":"IF(L422=\"\",\"\",VLOOKUP(L422,Sifranti!A:B,2,FALSE))","v":""},null,{"$f":"IF(N422=\"\",\"\",VLOOKUP(N422,Sifranti!D:F,3,FALSE))","v":""},null,{"$f":"IF(P422=\"\",\"\",VLOOKUP(P422,Sifranti!H:I,2,FALSE))","v":""},null,null,null,null,null,null,null,null,null,null,null,null,null,null,null,null,null,null,null,null,null,null,null,null,null,{"$f":"IF(AN422=\"\",\"\",IF(LEN(VLOOKUP(AN422,Sifranti!BY:BZ,2,FALSE))=0,\"\",VLOOKUP(AN422,Sifranti!BY:BZ,2,FALSE)))","v":""},{"$f":"IF(C422=\"\",\"\",VLOOKUP(C422,Sifranti!P:R,2,FALSE))","v":""},"","",{"$f":"IF(C422=\"\",\"\",VLOOKUP(C422,Sifranti!P:R,3,FALSE))","v":""},{"$f":"IF(N422=\"\",\"\",VLOOKUP(N422,Sifranti!D:F,2,FALSE))","v":""},{"$f":"IF(AK422=\"\",\"\",VLOOKUP(AK422,Sifranti!V:Y,2,FALSE))","v":""},{"$f":"IF(AK422=\"\",\"\",IF(VLOOKUP(AK422,Sifranti!V:Y,3,FALSE)=\"\",\"\",VLOOKUP(AK422,Sifranti!V:Y,3,FALSE)))","v":""},{"$f":"IF(AK422=\"\",\"\",VLOOKUP(AK422,Sifranti!V:Y,4,FALSE))","v":""}]
[{"$f":"IF(B423=\"\",\"\",VLOOKUP(B423,Sifranti!K:L,2,FALSE))","v":""},null,null,null,null,null,null,null,null,"",{"$f":"IF(L423=\"\",\"\",VLOOKUP(L423,Sifranti!A:B,2,FALSE))","v":""},null,{"$f":"IF(N423=\"\",\"\",VLOOKUP(N423,Sifranti!D:F,3,FALSE))","v":""},null,{"$f":"IF(P423=\"\",\"\",VLOOKUP(P423,Sifranti!H:I,2,FALSE))","v":""},null,null,null,null,null,null,null,null,null,null,null,null,null,null,null,null,null,null,null,null,null,null,null,null,null,{"$f":"IF(AN423=\"\",\"\",IF(LEN(VLOOKUP(AN423,Sifranti!BY:BZ,2,FALSE))=0,\"\",VLOOKUP(AN423,Sifranti!BY:BZ,2,FALSE)))","v":""},{"$f":"IF(C423=\"\",\"\",VLOOKUP(C423,Sifranti!P:R,2,FALSE))","v":""},"","",{"$f":"IF(C423=\"\",\"\",VLOOKUP(C423,Sifranti!P:R,3,FALSE))","v":""},{"$f":"IF(N423=\"\",\"\",VLOOKUP(N423,Sifranti!D:F,2,FALSE))","v":""},{"$f":"IF(AK423=\"\",\"\",VLOOKUP(AK423,Sifranti!V:Y,2,FALSE))","v":""},{"$f":"IF(AK423=\"\",\"\",IF(VLOOKUP(AK423,Sifranti!V:Y,3,FALSE)=\"\",\"\",VLOOKUP(AK423,Sifranti!V:Y,3,FALSE)))","v":""},{"$f":"IF(AK423=\"\",\"\",VLOOKUP(AK423,Sifranti!V:Y,4,FALSE))","v":""}]
[{"$f":"IF(B424=\"\",\"\",VLOOKUP(B424,Sifranti!K:L,2,FALSE))","v":""},null,null,null,null,null,null,null,null,"",{"$f":"IF(L424=\"\",\"\",VLOOKUP(L424,Sifranti!A:B,2,FALSE))","v":""},null,{"$f":"IF(N424=\"\",\"\",VLOOKUP(N424,Sifranti!D:F,3,FALSE))","v":""},null,{"$f":"IF(P424=\"\",\"\",VLOOKUP(P424,Sifranti!H:I,2,FALSE))","v":""},null,null,null,null,null,null,null,null,null,null,null,null,null,null,null,null,null,null,null,null,null,null,null,null,null,{"$f":"IF(AN424=\"\",\"\",IF(LEN(VLOOKUP(AN424,Sifranti!BY:BZ,2,FALSE))=0,\"\",VLOOKUP(AN424,Sifranti!BY:BZ,2,FALSE)))","v":""},{"$f":"IF(C424=\"\",\"\",VLOOKUP(C424,Sifranti!P:R,2,FALSE))","v":""},"","",{"$f":"IF(C424=\"\",\"\",VLOOKUP(C424,Sifranti!P:R,3,FALSE))","v":""},{"$f":"IF(N424=\"\",\"\",VLOOKUP(N424,Sifranti!D:F,2,FALSE))","v":""},{"$f":"IF(AK424=\"\",\"\",VLOOKUP(AK424,Sifranti!V:Y,2,FALSE))","v":""},{"$f":"IF(AK424=\"\",\"\",IF(VLOOKUP(AK424,Sifranti!V:Y,3,FALSE)=\"\",\"\",VLOOKUP(AK424,Sifranti!V:Y,3,FALSE)))","v":""},{"$f":"IF(AK424=\"\",\"\",VLOOKUP(AK424,Sifranti!V:Y,4,FALSE))","v":""}]
[{"$f":"IF(B425=\"\",\"\",VLOOKUP(B425,Sifranti!K:L,2,FALSE))","v":""},null,null,null,null,null,null,null,null,"",{"$f":"IF(L425=\"\",\"\",VLOOKUP(L425,Sifranti!A:B,2,FALSE))","v":""},null,{"$f":"IF(N425=\"\",\"\",VLOOKUP(N425,Sifranti!D:F,3,FALSE))","v":""},null,{"$f":"IF(P425=\"\",\"\",VLOOKUP(P425,Sifranti!H:I,2,FALSE))","v":""},null,null,null,null,null,null,null,null,null,null,null,null,null,null,null,null,null,null,null,null,null,null,null,null,null,{"$f":"IF(AN425=\"\",\"\",IF(LEN(VLOOKUP(AN425,Sifranti!BY:BZ,2,FALSE))=0,\"\",VLOOKUP(AN425,Sifranti!BY:BZ,2,FALSE)))","v":""},{"$f":"IF(C425=\"\",\"\",VLOOKUP(C425,Sifranti!P:R,2,FALSE))","v":""},"","",{"$f":"IF(C425=\"\",\"\",VLOOKUP(C425,Sifranti!P:R,3,FALSE))","v":""},{"$f":"IF(N425=\"\",\"\",VLOOKUP(N425,Sifranti!D:F,2,FALSE))","v":""},{"$f":"IF(AK425=\"\",\"\",VLOOKUP(AK425,Sifranti!V:Y,2,FALSE))","v":""},{"$f":"IF(AK425=\"\",\"\",IF(VLOOKUP(AK425,Sifranti!V:Y,3,FALSE)=\"\",\"\",VLOOKUP(AK425,Sifranti!V:Y,3,FALSE)))","v":""},{"$f":"IF(AK425=\"\",\"\",VLOOKUP(AK425,Sifranti!V:Y,4,FALSE))","v":""}]
[{"$f":"IF(B426=\"\",\"\",VLOOKUP(B426,Sifranti!K:L,2,FALSE))","v":""},null,null,null,null,null,null,null,null,"",{"$f":"IF(L426=\"\",\"\",VLOOKUP(L426,Sifranti!A:B,2,FALSE))","v":""},null,{"$f":"IF(N426=\"\",\"\",VLOOKUP(N426,Sifranti!D:F,3,FALSE))","v":""},null,{"$f":"IF(P426=\"\",\"\",VLOOKUP(P426,Sifranti!H:I,2,FALSE))","v":""},null,null,null,null,null,null,null,null,null,null,null,null,null,null,null,null,null,null,null,null,null,null,null,null,null,{"$f":"IF(AN426=\"\",\"\",IF(LEN(VLOOKUP(AN426,Sifranti!BY:BZ,2,FALSE))=0,\"\",VLOOKUP(AN426,Sifranti!BY:BZ,2,FALSE)))","v":""},{"$f":"IF(C426=\"\",\"\",VLOOKUP(C426,Sifranti!P:R,2,FALSE))","v":""},"","",{"$f":"IF(C426=\"\",\"\",VLOOKUP(C426,Sifranti!P:R,3,FALSE))","v":""},{"$f":"IF(N426=\"\",\"\",VLOOKUP(N426,Sifranti!D:F,2,FALSE))","v":""},{"$f":"IF(AK426=\"\",\"\",VLOOKUP(AK426,Sifranti!V:Y,2,FALSE))","v":""},{"$f":"IF(AK426=\"\",\"\",IF(VLOOKUP(AK426,Sifranti!V:Y,3,FALSE)=\"\",\"\",VLOOKUP(AK426,Sifranti!V:Y,3,FALSE)))","v":""},{"$f":"IF(AK426=\"\",\"\",VLOOKUP(AK426,Sifranti!V:Y,4,FALSE))","v":""}]
[{"$f":"IF(B427=\"\",\"\",VLOOKUP(B427,Sifranti!K:L,2,FALSE))","v":""},null,null,null,null,null,null,null,null,"",{"$f":"IF(L427=\"\",\"\",VLOOKUP(L427,Sifranti!A:B,2,FALSE))","v":""},null,{"$f":"IF(N427=\"\",\"\",VLOOKUP(N427,Sifranti!D:F,3,FALSE))","v":""},null,{"$f":"IF(P427=\"\",\"\",VLOOKUP(P427,Sifranti!H:I,2,FALSE))","v":""},null,null,null,null,null,null,null,null,null,null,null,null,null,null,null,null,null,null,null,null,null,null,null,null,null,{"$f":"IF(AN427=\"\",\"\",IF(LEN(VLOOKUP(AN427,Sifranti!BY:BZ,2,FALSE))=0,\"\",VLOOKUP(AN427,Sifranti!BY:BZ,2,FALSE)))","v":""},{"$f":"IF(C427=\"\",\"\",VLOOKUP(C427,Sifranti!P:R,2,FALSE))","v":""},"","",{"$f":"IF(C427=\"\",\"\",VLOOKUP(C427,Sifranti!P:R,3,FALSE))","v":""},{"$f":"IF(N427=\"\",\"\",VLOOKUP(N427,Sifranti!D:F,2,FALSE))","v":""},{"$f":"IF(AK427=\"\",\"\",VLOOKUP(AK427,Sifranti!V:Y,2,FALSE))","v":""},{"$f":"IF(AK427=\"\",\"\",IF(VLOOKUP(AK427,Sifranti!V:Y,3,FALSE)=\"\",\"\",VLOOKUP(AK427,Sifranti!V:Y,3,FALSE)))","v":""},{"$f":"IF(AK427=\"\",\"\",VLOOKUP(AK427,Sifranti!V:Y,4,FALSE))","v":""}]
[{"$f":"IF(B428=\"\",\"\",VLOOKUP(B428,Sifranti!K:L,2,FALSE))","v":""},null,null,null,null,null,null,null,null,"",{"$f":"IF(L428=\"\",\"\",VLOOKUP(L428,Sifranti!A:B,2,FALSE))","v":""},null,{"$f":"IF(N428=\"\",\"\",VLOOKUP(N428,Sifranti!D:F,3,FALSE))","v":""},null,{"$f":"IF(P428=\"\",\"\",VLOOKUP(P428,Sifranti!H:I,2,FALSE))","v":""},null,null,null,null,null,null,null,null,null,null,null,null,null,null,null,null,null,null,null,null,null,null,null,null,null,{"$f":"IF(AN428=\"\",\"\",IF(LEN(VLOOKUP(AN428,Sifranti!BY:BZ,2,FALSE))=0,\"\",VLOOKUP(AN428,Sifranti!BY:BZ,2,FALSE)))","v":""},{"$f":"IF(C428=\"\",\"\",VLOOKUP(C428,Sifranti!P:R,2,FALSE))","v":""},"","",{"$f":"IF(C428=\"\",\"\",VLOOKUP(C428,Sifranti!P:R,3,FALSE))","v":""},{"$f":"IF(N428=\"\",\"\",VLOOKUP(N428,Sifranti!D:F,2,FALSE))","v":""},{"$f":"IF(AK428=\"\",\"\",VLOOKUP(AK428,Sifranti!V:Y,2,FALSE))","v":""},{"$f":"IF(AK428=\"\",\"\",IF(VLOOKUP(AK428,Sifranti!V:Y,3,FALSE)=\"\",\"\",VLOOKUP(AK428,Sifranti!V:Y,3,FALSE)))","v":""},{"$f":"IF(AK428=\"\",\"\",VLOOKUP(AK428,Sifranti!V:Y,4,FALSE))","v":""}]
[{"$f":"IF(B429=\"\",\"\",VLOOKUP(B429,Sifranti!K:L,2,FALSE))","v":""},null,null,null,null,null,null,null,null,"",{"$f":"IF(L429=\"\",\"\",VLOOKUP(L429,Sifranti!A:B,2,FALSE))","v":""},null,{"$f":"IF(N429=\"\",\"\",VLOOKUP(N429,Sifranti!D:F,3,FALSE))","v":""},null,{"$f":"IF(P429=\"\",\"\",VLOOKUP(P429,Sifranti!H:I,2,FALSE))","v":""},null,null,null,null,null,null,null,null,null,null,null,null,null,null,null,null,null,null,null,null,null,null,null,null,null,{"$f":"IF(AN429=\"\",\"\",IF(LEN(VLOOKUP(AN429,Sifranti!BY:BZ,2,FALSE))=0,\"\",VLOOKUP(AN429,Sifranti!BY:BZ,2,FALSE)))","v":""},{"$f":"IF(C429=\"\",\"\",VLOOKUP(C429,Sifranti!P:R,2,FALSE))","v":""},"","",{"$f":"IF(C429=\"\",\"\",VLOOKUP(C429,Sifranti!P:R,3,FALSE))","v":""},{"$f":"IF(N429=\"\",\"\",VLOOKUP(N429,Sifranti!D:F,2,FALSE))","v":""},{"$f":"IF(AK429=\"\",\"\",VLOOKUP(AK429,Sifranti!V:Y,2,FALSE))","v":""},{"$f":"IF(AK429=\"\",\"\",IF(VLOOKUP(AK429,Sifranti!V:Y,3,FALSE)=\"\",\"\",VLOOKUP(AK429,Sifranti!V:Y,3,FALSE)))","v":""},{"$f":"IF(AK429=\"\",\"\",VLOOKUP(AK429,Sifranti!V:Y,4,FALSE))","v":""}]
[{"$f":"IF(B430=\"\",\"\",VLOOKUP(B430,Sifranti!K:L,2,FALSE))","v":""},null,null,null,null,null,null,null,null,"",{"$f":"IF(L430=\"\",\"\",VLOOKUP(L430,Sifranti!A:B,2,FALSE))","v":""},null,{"$f":"IF(N430=\"\",\"\",VLOOKUP(N430,Sifranti!D:F,3,FALSE))","v":""},null,{"$f":"IF(P430=\"\",\"\",VLOOKUP(P430,Sifranti!H:I,2,FALSE))","v":""},null,null,null,null,null,null,null,null,null,null,null,null,null,null,null,null,null,null,null,null,null,null,null,null,null,{"$f":"IF(AN430=\"\",\"\",IF(LEN(VLOOKUP(AN430,Sifranti!BY:BZ,2,FALSE))=0,\"\",VLOOKUP(AN430,Sifranti!BY:BZ,2,FALSE)))","v":""},{"$f":"IF(C430=\"\",\"\",VLOOKUP(C430,Sifranti!P:R,2,FALSE))","v":""},"","",{"$f":"IF(C430=\"\",\"\",VLOOKUP(C430,Sifranti!P:R,3,FALSE))","v":""},{"$f":"IF(N430=\"\",\"\",VLOOKUP(N430,Sifranti!D:F,2,FALSE))","v":""},{"$f":"IF(AK430=\"\",\"\",VLOOKUP(AK430,Sifranti!V:Y,2,FALSE))","v":""},{"$f":"IF(AK430=\"\",\"\",IF(VLOOKUP(AK430,Sifranti!V:Y,3,FALSE)=\"\",\"\",VLOOKUP(AK430,Sifranti!V:Y,3,FALSE)))","v":""},{"$f":"IF(AK430=\"\",\"\",VLOOKUP(AK430,Sifranti!V:Y,4,FALSE))","v":""}]
[{"$f":"IF(B431=\"\",\"\",VLOOKUP(B431,Sifranti!K:L,2,FALSE))","v":""},null,null,null,null,null,null,null,null,"",{"$f":"IF(L431=\"\",\"\",VLOOKUP(L431,Sifranti!A:B,2,FALSE))","v":""},null,{"$f":"IF(N431=\"\",\"\",VLOOKUP(N431,Sifranti!D:F,3,FALSE))","v":""},null,{"$f":"IF(P431=\"\",\"\",VLOOKUP(P431,Sifranti!H:I,2,FALSE))","v":""},null,null,null,null,null,null,null,null,null,null,null,null,null,null,null,null,null,null,null,null,null,null,null,null,null,{"$f":"IF(AN431=\"\",\"\",IF(LEN(VLOOKUP(AN431,Sifranti!BY:BZ,2,FALSE))=0,\"\",VLOOKUP(AN431,Sifranti!BY:BZ,2,FALSE)))","v":""},{"$f":"IF(C431=\"\",\"\",VLOOKUP(C431,Sifranti!P:R,2,FALSE))","v":""},"","",{"$f":"IF(C431=\"\",\"\",VLOOKUP(C431,Sifranti!P:R,3,FALSE))","v":""},{"$f":"IF(N431=\"\",\"\",VLOOKUP(N431,Sifranti!D:F,2,FALSE))","v":""},{"$f":"IF(AK431=\"\",\"\",VLOOKUP(AK431,Sifranti!V:Y,2,FALSE))","v":""},{"$f":"IF(AK431=\"\",\"\",IF(VLOOKUP(AK431,Sifranti!V:Y,3,FALSE)=\"\",\"\",VLOOKUP(AK431,Sifranti!V:Y,3,FALSE)))","v":""},{"$f":"IF(AK431=\"\",\"\",VLOOKUP(AK431,Sifranti!V:Y,4,FALSE))","v":""}]
[{"$f":"IF(B432=\"\",\"\",VLOOKUP(B432,Sifranti!K:L,2,FALSE))","v":""},null,null,null,null,null,null,null,null,"",{"$f":"IF(L432=\"\",\"\",VLOOKUP(L432,Sifranti!A:B,2,FALSE))","v":""},null,{"$f":"IF(N432=\"\",\"\",VLOOKUP(N432,Sifranti!D:F,3,FALSE))","v":""},null,{"$f":"IF(P432=\"\",\"\",VLOOKUP(P432,Sifranti!H:I,2,FALSE))","v":""},null,null,null,null,null,null,null,null,null,null,null,null,null,null,null,null,null,null,null,null,null,null,null,null,null,{"$f":"IF(AN432=\"\",\"\",IF(LEN(VLOOKUP(AN432,Sifranti!BY:BZ,2,FALSE))=0,\"\",VLOOKUP(AN432,Sifranti!BY:BZ,2,FALSE)))","v":""},{"$f":"IF(C432=\"\",\"\",VLOOKUP(C432,Sifranti!P:R,2,FALSE))","v":""},"","",{"$f":"IF(C432=\"\",\"\",VLOOKUP(C432,Sifranti!P:R,3,FALSE))","v":""},{"$f":"IF(N432=\"\",\"\",VLOOKUP(N432,Sifranti!D:F,2,FALSE))","v":""},{"$f":"IF(AK432=\"\",\"\",VLOOKUP(AK432,Sifranti!V:Y,2,FALSE))","v":""},{"$f":"IF(AK432=\"\",\"\",IF(VLOOKUP(AK432,Sifranti!V:Y,3,FALSE)=\"\",\"\",VLOOKUP(AK432,Sifranti!V:Y,3,FALSE)))","v":""},{"$f":"IF(AK432=\"\",\"\",VLOOKUP(AK432,Sifranti!V:Y,4,FALSE))","v":""}]
[{"$f":"IF(B433=\"\",\"\",VLOOKUP(B433,Sifranti!K:L,2,FALSE))","v":""},null,null,null,null,null,null,null,null,"",{"$f":"IF(L433=\"\",\"\",VLOOKUP(L433,Sifranti!A:B,2,FALSE))","v":""},null,{"$f":"IF(N433=\"\",\"\",VLOOKUP(N433,Sifranti!D:F,3,FALSE))","v":""},null,{"$f":"IF(P433=\"\",\"\",VLOOKUP(P433,Sifranti!H:I,2,FALSE))","v":""},null,null,null,null,null,null,null,null,null,null,null,null,null,null,null,null,null,null,null,null,null,null,null,null,null,{"$f":"IF(AN433=\"\",\"\",IF(LEN(VLOOKUP(AN433,Sifranti!BY:BZ,2,FALSE))=0,\"\",VLOOKUP(AN433,Sifranti!BY:BZ,2,FALSE)))","v":""},{"$f":"IF(C433=\"\",\"\",VLOOKUP(C433,Sifranti!P:R,2,FALSE))","v":""},"","",{"$f":"IF(C433=\"\",\"\",VLOOKUP(C433,Sifranti!P:R,3,FALSE))","v":""},{"$f":"IF(N433=\"\",\"\",VLOOKUP(N433,Sifranti!D:F,2,FALSE))","v":""},{"$f":"IF(AK433=\"\",\"\",VLOOKUP(AK433,Sifranti!V:Y,2,FALSE))","v":""},{"$f":"IF(AK433=\"\",\"\",IF(VLOOKUP(AK433,Sifranti!V:Y,3,FALSE)=\"\",\"\",VLOOKUP(AK433,Sifranti!V:Y,3,FALSE)))","v":""},{"$f":"IF(AK433=\"\",\"\",VLOOKUP(AK433,Sifranti!V:Y,4,FALSE))","v":""}]
[{"$f":"IF(B434=\"\",\"\",VLOOKUP(B434,Sifranti!K:L,2,FALSE))","v":""},null,null,null,null,null,null,null,null,"",{"$f":"IF(L434=\"\",\"\",VLOOKUP(L434,Sifranti!A:B,2,FALSE))","v":""},null,{"$f":"IF(N434=\"\",\"\",VLOOKUP(N434,Sifranti!D:F,3,FALSE))","v":""},null,{"$f":"IF(P434=\"\",\"\",VLOOKUP(P434,Sifranti!H:I,2,FALSE))","v":""},null,null,null,null,null,null,null,null,null,null,null,null,null,null,null,null,null,null,null,null,null,null,null,null,null,{"$f":"IF(AN434=\"\",\"\",IF(LEN(VLOOKUP(AN434,Sifranti!BY:BZ,2,FALSE))=0,\"\",VLOOKUP(AN434,Sifranti!BY:BZ,2,FALSE)))","v":""},{"$f":"IF(C434=\"\",\"\",VLOOKUP(C434,Sifranti!P:R,2,FALSE))","v":""},"","",{"$f":"IF(C434=\"\",\"\",VLOOKUP(C434,Sifranti!P:R,3,FALSE))","v":""},{"$f":"IF(N434=\"\",\"\",VLOOKUP(N434,Sifranti!D:F,2,FALSE))","v":""},{"$f":"IF(AK434=\"\",\"\",VLOOKUP(AK434,Sifranti!V:Y,2,FALSE))","v":""},{"$f":"IF(AK434=\"\",\"\",IF(VLOOKUP(AK434,Sifranti!V:Y,3,FALSE)=\"\",\"\",VLOOKUP(AK434,Sifranti!V:Y,3,FALSE)))","v":""},{"$f":"IF(AK434=\"\",\"\",VLOOKUP(AK434,Sifranti!V:Y,4,FALSE))","v":""}]
[{"$f":"IF(B435=\"\",\"\",VLOOKUP(B435,Sifranti!K:L,2,FALSE))","v":""},null,null,null,null,null,null,null,null,"",{"$f":"IF(L435=\"\",\"\",VLOOKUP(L435,Sifranti!A:B,2,FALSE))","v":""},null,{"$f":"IF(N435=\"\",\"\",VLOOKUP(N435,Sifranti!D:F,3,FALSE))","v":""},null,{"$f":"IF(P435=\"\",\"\",VLOOKUP(P435,Sifranti!H:I,2,FALSE))","v":""},null,null,null,null,null,null,null,null,null,null,null,null,null,null,null,null,null,null,null,null,null,null,null,null,null,{"$f":"IF(AN435=\"\",\"\",IF(LEN(VLOOKUP(AN435,Sifranti!BY:BZ,2,FALSE))=0,\"\",VLOOKUP(AN435,Sifranti!BY:BZ,2,FALSE)))","v":""},{"$f":"IF(C435=\"\",\"\",VLOOKUP(C435,Sifranti!P:R,2,FALSE))","v":""},"","",{"$f":"IF(C435=\"\",\"\",VLOOKUP(C435,Sifranti!P:R,3,FALSE))","v":""},{"$f":"IF(N435=\"\",\"\",VLOOKUP(N435,Sifranti!D:F,2,FALSE))","v":""},{"$f":"IF(AK435=\"\",\"\",VLOOKUP(AK435,Sifranti!V:Y,2,FALSE))","v":""},{"$f":"IF(AK435=\"\",\"\",IF(VLOOKUP(AK435,Sifranti!V:Y,3,FALSE)=\"\",\"\",VLOOKUP(AK435,Sifranti!V:Y,3,FALSE)))","v":""},{"$f":"IF(AK435=\"\",\"\",VLOOKUP(AK435,Sifranti!V:Y,4,FALSE))","v":""}]
[{"$f":"IF(B436=\"\",\"\",VLOOKUP(B436,Sifranti!K:L,2,FALSE))","v":""},null,null,null,null,null,null,null,null,"",{"$f":"IF(L436=\"\",\"\",VLOOKUP(L436,Sifranti!A:B,2,FALSE))","v":""},null,{"$f":"IF(N436=\"\",\"\",VLOOKUP(N436,Sifranti!D:F,3,FALSE))","v":""},null,{"$f":"IF(P436=\"\",\"\",VLOOKUP(P436,Sifranti!H:I,2,FALSE))","v":""},null,null,null,null,null,null,null,null,null,null,null,null,null,null,null,null,null,null,null,null,null,null,null,null,null,{"$f":"IF(AN436=\"\",\"\",IF(LEN(VLOOKUP(AN436,Sifranti!BY:BZ,2,FALSE))=0,\"\",VLOOKUP(AN436,Sifranti!BY:BZ,2,FALSE)))","v":""},{"$f":"IF(C436=\"\",\"\",VLOOKUP(C436,Sifranti!P:R,2,FALSE))","v":""},"","",{"$f":"IF(C436=\"\",\"\",VLOOKUP(C436,Sifranti!P:R,3,FALSE))","v":""},{"$f":"IF(N436=\"\",\"\",VLOOKUP(N436,Sifranti!D:F,2,FALSE))","v":""},{"$f":"IF(AK436=\"\",\"\",VLOOKUP(AK436,Sifranti!V:Y,2,FALSE))","v":""},{"$f":"IF(AK436=\"\",\"\",IF(VLOOKUP(AK436,Sifranti!V:Y,3,FALSE)=\"\",\"\",VLOOKUP(AK436,Sifranti!V:Y,3,FALSE)))","v":""},{"$f":"IF(AK436=\"\",\"\",VLOOKUP(AK436,Sifranti!V:Y,4,FALSE))","v":""}]
[{"$f":"IF(B437=\"\",\"\",VLOOKUP(B437,Sifranti!K:L,2,FALSE))","v":""},null,null,null,null,null,null,null,null,"",{"$f":"IF(L437=\"\",\"\",VLOOKUP(L437,Sifranti!A:B,2,FALSE))","v":""},null,{"$f":"IF(N437=\"\",\"\",VLOOKUP(N437,Sifranti!D:F,3,FALSE))","v":""},null,{"$f":"IF(P437=\"\",\"\",VLOOKUP(P437,Sifranti!H:I,2,FALSE))","v":""},null,null,null,null,null,null,null,null,null,null,null,null,null,null,null,null,null,null,null,null,null,null,null,null,null,{"$f":"IF(AN437=\"\",\"\",IF(LEN(VLOOKUP(AN437,Sifranti!BY:BZ,2,FALSE))=0,\"\",VLOOKUP(AN437,Sifranti!BY:BZ,2,FALSE)))","v":""},{"$f":"IF(C437=\"\",\"\",VLOOKUP(C437,Sifranti!P:R,2,FALSE))","v":""},"","",{"$f":"IF(C437=\"\",\"\",VLOOKUP(C437,Sifranti!P:R,3,FALSE))","v":""},{"$f":"IF(N437=\"\",\"\",VLOOKUP(N437,Sifranti!D:F,2,FALSE))","v":""},{"$f":"IF(AK437=\"\",\"\",VLOOKUP(AK437,Sifranti!V:Y,2,FALSE))","v":""},{"$f":"IF(AK437=\"\",\"\",IF(VLOOKUP(AK437,Sifranti!V:Y,3,FALSE)=\"\",\"\",VLOOKUP(AK437,Sifranti!V:Y,3,FALSE)))","v":""},{"$f":"IF(AK437=\"\",\"\",VLOOKUP(AK437,Sifranti!V:Y,4,FALSE))","v":""}]
[{"$f":"IF(B438=\"\",\"\",VLOOKUP(B438,Sifranti!K:L,2,FALSE))","v":""},null,null,null,null,null,null,null,null,"",{"$f":"IF(L438=\"\",\"\",VLOOKUP(L438,Sifranti!A:B,2,FALSE))","v":""},null,{"$f":"IF(N438=\"\",\"\",VLOOKUP(N438,Sifranti!D:F,3,FALSE))","v":""},null,{"$f":"IF(P438=\"\",\"\",VLOOKUP(P438,Sifranti!H:I,2,FALSE))","v":""},null,null,null,null,null,null,null,null,null,null,null,null,null,null,null,null,null,null,null,null,null,null,null,null,null,{"$f":"IF(AN438=\"\",\"\",IF(LEN(VLOOKUP(AN438,Sifranti!BY:BZ,2,FALSE))=0,\"\",VLOOKUP(AN438,Sifranti!BY:BZ,2,FALSE)))","v":""},{"$f":"IF(C438=\"\",\"\",VLOOKUP(C438,Sifranti!P:R,2,FALSE))","v":""},"","",{"$f":"IF(C438=\"\",\"\",VLOOKUP(C438,Sifranti!P:R,3,FALSE))","v":""},{"$f":"IF(N438=\"\",\"\",VLOOKUP(N438,Sifranti!D:F,2,FALSE))","v":""},{"$f":"IF(AK438=\"\",\"\",VLOOKUP(AK438,Sifranti!V:Y,2,FALSE))","v":""},{"$f":"IF(AK438=\"\",\"\",IF(VLOOKUP(AK438,Sifranti!V:Y,3,FALSE)=\"\",\"\",VLOOKUP(AK438,Sifranti!V:Y,3,FALSE)))","v":""},{"$f":"IF(AK438=\"\",\"\",VLOOKUP(AK438,Sifranti!V:Y,4,FALSE))","v":""}]
[{"$f":"IF(B439=\"\",\"\",VLOOKUP(B439,Sifranti!K:L,2,FALSE))","v":""},null,null,null,null,null,null,null,null,"",{"$f":"IF(L439=\"\",\"\",VLOOKUP(L439,Sifranti!A:B,2,FALSE))","v":""},null,{"$f":"IF(N439=\"\",\"\",VLOOKUP(N439,Sifranti!D:F,3,FALSE))","v":""},null,{"$f":"IF(P439=\"\",\"\",VLOOKUP(P439,Sifranti!H:I,2,FALSE))","v":""},null,null,null,null,null,null,null,null,null,null,null,null,null,null,null,null,null,null,null,null,null,null,null,null,null,{"$f":"IF(AN439=\"\",\"\",IF(LEN(VLOOKUP(AN439,Sifranti!BY:BZ,2,FALSE))=0,\"\",VLOOKUP(AN439,Sifranti!BY:BZ,2,FALSE)))","v":""},{"$f":"IF(C439=\"\",\"\",VLOOKUP(C439,Sifranti!P:R,2,FALSE))","v":""},"","",{"$f":"IF(C439=\"\",\"\",VLOOKUP(C439,Sifranti!P:R,3,FALSE))","v":""},{"$f":"IF(N439=\"\",\"\",VLOOKUP(N439,Sifranti!D:F,2,FALSE))","v":""},{"$f":"IF(AK439=\"\",\"\",VLOOKUP(AK439,Sifranti!V:Y,2,FALSE))","v":""},{"$f":"IF(AK439=\"\",\"\",IF(VLOOKUP(AK439,Sifranti!V:Y,3,FALSE)=\"\",\"\",VLOOKUP(AK439,Sifranti!V:Y,3,FALSE)))","v":""},{"$f":"IF(AK439=\"\",\"\",VLOOKUP(AK439,Sifranti!V:Y,4,FALSE))","v":""}]
[{"$f":"IF(B440=\"\",\"\",VLOOKUP(B440,Sifranti!K:L,2,FALSE))","v":""},null,null,null,null,null,null,null,null,"",{"$f":"IF(L440=\"\",\"\",VLOOKUP(L440,Sifranti!A:B,2,FALSE))","v":""},null,{"$f":"IF(N440=\"\",\"\",VLOOKUP(N440,Sifranti!D:F,3,FALSE))","v":""},null,{"$f":"IF(P440=\"\",\"\",VLOOKUP(P440,Sifranti!H:I,2,FALSE))","v":""},null,null,null,null,null,null,null,null,null,null,null,null,null,null,null,null,null,null,null,null,null,null,null,null,null,{"$f":"IF(AN440=\"\",\"\",IF(LEN(VLOOKUP(AN440,Sifranti!BY:BZ,2,FALSE))=0,\"\",VLOOKUP(AN440,Sifranti!BY:BZ,2,FALSE)))","v":""},{"$f":"IF(C440=\"\",\"\",VLOOKUP(C440,Sifranti!P:R,2,FALSE))","v":""},"","",{"$f":"IF(C440=\"\",\"\",VLOOKUP(C440,Sifranti!P:R,3,FALSE))","v":""},{"$f":"IF(N440=\"\",\"\",VLOOKUP(N440,Sifranti!D:F,2,FALSE))","v":""},{"$f":"IF(AK440=\"\",\"\",VLOOKUP(AK440,Sifranti!V:Y,2,FALSE))","v":""},{"$f":"IF(AK440=\"\",\"\",IF(VLOOKUP(AK440,Sifranti!V:Y,3,FALSE)=\"\",\"\",VLOOKUP(AK440,Sifranti!V:Y,3,FALSE)))","v":""},{"$f":"IF(AK440=\"\",\"\",VLOOKUP(AK440,Sifranti!V:Y,4,FALSE))","v":""}]
[{"$f":"IF(B441=\"\",\"\",VLOOKUP(B441,Sifranti!K:L,2,FALSE))","v":""},null,null,null,null,null,null,null,null,"",{"$f":"IF(L441=\"\",\"\",VLOOKUP(L441,Sifranti!A:B,2,FALSE))","v":""},null,{"$f":"IF(N441=\"\",\"\",VLOOKUP(N441,Sifranti!D:F,3,FALSE))","v":""},null,{"$f":"IF(P441=\"\",\"\",VLOOKUP(P441,Sifranti!H:I,2,FALSE))","v":""},null,null,null,null,null,null,null,null,null,null,null,null,null,null,null,null,null,null,null,null,null,null,null,null,null,{"$f":"IF(AN441=\"\",\"\",IF(LEN(VLOOKUP(AN441,Sifranti!BY:BZ,2,FALSE))=0,\"\",VLOOKUP(AN441,Sifranti!BY:BZ,2,FALSE)))","v":""},{"$f":"IF(C441=\"\",\"\",VLOOKUP(C441,Sifranti!P:R,2,FALSE))","v":""},"","",{"$f":"IF(C441=\"\",\"\",VLOOKUP(C441,Sifranti!P:R,3,FALSE))","v":""},{"$f":"IF(N441=\"\",\"\",VLOOKUP(N441,Sifranti!D:F,2,FALSE))","v":""},{"$f":"IF(AK441=\"\",\"\",VLOOKUP(AK441,Sifranti!V:Y,2,FALSE))","v":""},{"$f":"IF(AK441=\"\",\"\",IF(VLOOKUP(AK441,Sifranti!V:Y,3,FALSE)=\"\",\"\",VLOOKUP(AK441,Sifranti!V:Y,3,FALSE)))","v":""},{"$f":"IF(AK441=\"\",\"\",VLOOKUP(AK441,Sifranti!V:Y,4,FALSE))","v":""}]
[{"$f":"IF(B442=\"\",\"\",VLOOKUP(B442,Sifranti!K:L,2,FALSE))","v":""},null,null,null,null,null,null,null,null,"",{"$f":"IF(L442=\"\",\"\",VLOOKUP(L442,Sifranti!A:B,2,FALSE))","v":""},null,{"$f":"IF(N442=\"\",\"\",VLOOKUP(N442,Sifranti!D:F,3,FALSE))","v":""},null,{"$f":"IF(P442=\"\",\"\",VLOOKUP(P442,Sifranti!H:I,2,FALSE))","v":""},null,null,null,null,null,null,null,null,null,null,null,null,null,null,null,null,null,null,null,null,null,null,null,null,null,{"$f":"IF(AN442=\"\",\"\",IF(LEN(VLOOKUP(AN442,Sifranti!BY:BZ,2,FALSE))=0,\"\",VLOOKUP(AN442,Sifranti!BY:BZ,2,FALSE)))","v":""},{"$f":"IF(C442=\"\",\"\",VLOOKUP(C442,Sifranti!P:R,2,FALSE))","v":""},"","",{"$f":"IF(C442=\"\",\"\",VLOOKUP(C442,Sifranti!P:R,3,FALSE))","v":""},{"$f":"IF(N442=\"\",\"\",VLOOKUP(N442,Sifranti!D:F,2,FALSE))","v":""},{"$f":"IF(AK442=\"\",\"\",VLOOKUP(AK442,Sifranti!V:Y,2,FALSE))","v":""},{"$f":"IF(AK442=\"\",\"\",IF(VLOOKUP(AK442,Sifranti!V:Y,3,FALSE)=\"\",\"\",VLOOKUP(AK442,Sifranti!V:Y,3,FALSE)))","v":""},{"$f":"IF(AK442=\"\",\"\",VLOOKUP(AK442,Sifranti!V:Y,4,FALSE))","v":""}]
[{"$f":"IF(B443=\"\",\"\",VLOOKUP(B443,Sifranti!K:L,2,FALSE))","v":""},null,null,null,null,null,null,null,null,"",{"$f":"IF(L443=\"\",\"\",VLOOKUP(L443,Sifranti!A:B,2,FALSE))","v":""},null,{"$f":"IF(N443=\"\",\"\",VLOOKUP(N443,Sifranti!D:F,3,FALSE))","v":""},null,{"$f":"IF(P443=\"\",\"\",VLOOKUP(P443,Sifranti!H:I,2,FALSE))","v":""},null,null,null,null,null,null,null,null,null,null,null,null,null,null,null,null,null,null,null,null,null,null,null,null,null,{"$f":"IF(AN443=\"\",\"\",IF(LEN(VLOOKUP(AN443,Sifranti!BY:BZ,2,FALSE))=0,\"\",VLOOKUP(AN443,Sifranti!BY:BZ,2,FALSE)))","v":""},{"$f":"IF(C443=\"\",\"\",VLOOKUP(C443,Sifranti!P:R,2,FALSE))","v":""},"","",{"$f":"IF(C443=\"\",\"\",VLOOKUP(C443,Sifranti!P:R,3,FALSE))","v":""},{"$f":"IF(N443=\"\",\"\",VLOOKUP(N443,Sifranti!D:F,2,FALSE))","v":""},{"$f":"IF(AK443=\"\",\"\",VLOOKUP(AK443,Sifranti!V:Y,2,FALSE))","v":""},{"$f":"IF(AK443=\"\",\"\",IF(VLOOKUP(AK443,Sifranti!V:Y,3,FALSE)=\"\",\"\",VLOOKUP(AK443,Sifranti!V:Y,3,FALSE)))","v":""},{"$f":"IF(AK443=\"\",\"\",VLOOKUP(AK443,Sifranti!V:Y,4,FALSE))","v":""}]
[{"$f":"IF(B444=\"\",\"\",VLOOKUP(B444,Sifranti!K:L,2,FALSE))","v":""},null,null,null,null,null,null,null,null,"",{"$f":"IF(L444=\"\",\"\",VLOOKUP(L444,Sifranti!A:B,2,FALSE))","v":""},null,{"$f":"IF(N444=\"\",\"\",VLOOKUP(N444,Sifranti!D:F,3,FALSE))","v":""},null,{"$f":"IF(P444=\"\",\"\",VLOOKUP(P444,Sifranti!H:I,2,FALSE))","v":""},null,null,null,null,null,null,null,null,null,null,null,null,null,null,null,null,null,null,null,null,null,null,null,null,null,{"$f":"IF(AN444=\"\",\"\",IF(LEN(VLOOKUP(AN444,Sifranti!BY:BZ,2,FALSE))=0,\"\",VLOOKUP(AN444,Sifranti!BY:BZ,2,FALSE)))","v":""},{"$f":"IF(C444=\"\",\"\",VLOOKUP(C444,Sifranti!P:R,2,FALSE))","v":""},"","",{"$f":"IF(C444=\"\",\"\",VLOOKUP(C444,Sifranti!P:R,3,FALSE))","v":""},{"$f":"IF(N444=\"\",\"\",VLOOKUP(N444,Sifranti!D:F,2,FALSE))","v":""},{"$f":"IF(AK444=\"\",\"\",VLOOKUP(AK444,Sifranti!V:Y,2,FALSE))","v":""},{"$f":"IF(AK444=\"\",\"\",IF(VLOOKUP(AK444,Sifranti!V:Y,3,FALSE)=\"\",\"\",VLOOKUP(AK444,Sifranti!V:Y,3,FALSE)))","v":""},{"$f":"IF(AK444=\"\",\"\",VLOOKUP(AK444,Sifranti!V:Y,4,FALSE))","v":""}]
[{"$f":"IF(B445=\"\",\"\",VLOOKUP(B445,Sifranti!K:L,2,FALSE))","v":""},null,null,null,null,null,null,null,null,"",{"$f":"IF(L445=\"\",\"\",VLOOKUP(L445,Sifranti!A:B,2,FALSE))","v":""},null,{"$f":"IF(N445=\"\",\"\",VLOOKUP(N445,Sifranti!D:F,3,FALSE))","v":""},null,{"$f":"IF(P445=\"\",\"\",VLOOKUP(P445,Sifranti!H:I,2,FALSE))","v":""},null,null,null,null,null,null,null,null,null,null,null,null,null,null,null,null,null,null,null,null,null,null,null,null,null,{"$f":"IF(AN445=\"\",\"\",IF(LEN(VLOOKUP(AN445,Sifranti!BY:BZ,2,FALSE))=0,\"\",VLOOKUP(AN445,Sifranti!BY:BZ,2,FALSE)))","v":""},{"$f":"IF(C445=\"\",\"\",VLOOKUP(C445,Sifranti!P:R,2,FALSE))","v":""},"","",{"$f":"IF(C445=\"\",\"\",VLOOKUP(C445,Sifranti!P:R,3,FALSE))","v":""},{"$f":"IF(N445=\"\",\"\",VLOOKUP(N445,Sifranti!D:F,2,FALSE))","v":""},{"$f":"IF(AK445=\"\",\"\",VLOOKUP(AK445,Sifranti!V:Y,2,FALSE))","v":""},{"$f":"IF(AK445=\"\",\"\",IF(VLOOKUP(AK445,Sifranti!V:Y,3,FALSE)=\"\",\"\",VLOOKUP(AK445,Sifranti!V:Y,3,FALSE)))","v":""},{"$f":"IF(AK445=\"\",\"\",VLOOKUP(AK445,Sifranti!V:Y,4,FALSE))","v":""}]
[{"$f":"IF(B446=\"\",\"\",VLOOKUP(B446,Sifranti!K:L,2,FALSE))","v":""},null,null,null,null,null,null,null,null,"",{"$f":"IF(L446=\"\",\"\",VLOOKUP(L446,Sifranti!A:B,2,FALSE))","v":""},null,{"$f":"IF(N446=\"\",\"\",VLOOKUP(N446,Sifranti!D:F,3,FALSE))","v":""},null,{"$f":"IF(P446=\"\",\"\",VLOOKUP(P446,Sifranti!H:I,2,FALSE))","v":""},null,null,null,null,null,null,null,null,null,null,null,null,null,null,null,null,null,null,null,null,null,null,null,null,null,{"$f":"IF(AN446=\"\",\"\",IF(LEN(VLOOKUP(AN446,Sifranti!BY:BZ,2,FALSE))=0,\"\",VLOOKUP(AN446,Sifranti!BY:BZ,2,FALSE)))","v":""},{"$f":"IF(C446=\"\",\"\",VLOOKUP(C446,Sifranti!P:R,2,FALSE))","v":""},"","",{"$f":"IF(C446=\"\",\"\",VLOOKUP(C446,Sifranti!P:R,3,FALSE))","v":""},{"$f":"IF(N446=\"\",\"\",VLOOKUP(N446,Sifranti!D:F,2,FALSE))","v":""},{"$f":"IF(AK446=\"\",\"\",VLOOKUP(AK446,Sifranti!V:Y,2,FALSE))","v":""},{"$f":"IF(AK446=\"\",\"\",IF(VLOOKUP(AK446,Sifranti!V:Y,3,FALSE)=\"\",\"\",VLOOKUP(AK446,Sifranti!V:Y,3,FALSE)))","v":""},{"$f":"IF(AK446=\"\",\"\",VLOOKUP(AK446,Sifranti!V:Y,4,FALSE))","v":""}]
[{"$f":"IF(B447=\"\",\"\",VLOOKUP(B447,Sifranti!K:L,2,FALSE))","v":""},null,null,null,null,null,null,null,null,"",{"$f":"IF(L447=\"\",\"\",VLOOKUP(L447,Sifranti!A:B,2,FALSE))","v":""},null,{"$f":"IF(N447=\"\",\"\",VLOOKUP(N447,Sifranti!D:F,3,FALSE))","v":""},null,{"$f":"IF(P447=\"\",\"\",VLOOKUP(P447,Sifranti!H:I,2,FALSE))","v":""},null,null,null,null,null,null,null,null,null,null,null,null,null,null,null,null,null,null,null,null,null,null,null,null,null,{"$f":"IF(AN447=\"\",\"\",IF(LEN(VLOOKUP(AN447,Sifranti!BY:BZ,2,FALSE))=0,\"\",VLOOKUP(AN447,Sifranti!BY:BZ,2,FALSE)))","v":""},{"$f":"IF(C447=\"\",\"\",VLOOKUP(C447,Sifranti!P:R,2,FALSE))","v":""},"","",{"$f":"IF(C447=\"\",\"\",VLOOKUP(C447,Sifranti!P:R,3,FALSE))","v":""},{"$f":"IF(N447=\"\",\"\",VLOOKUP(N447,Sifranti!D:F,2,FALSE))","v":""},{"$f":"IF(AK447=\"\",\"\",VLOOKUP(AK447,Sifranti!V:Y,2,FALSE))","v":""},{"$f":"IF(AK447=\"\",\"\",IF(VLOOKUP(AK447,Sifranti!V:Y,3,FALSE)=\"\",\"\",VLOOKUP(AK447,Sifranti!V:Y,3,FALSE)))","v":""},{"$f":"IF(AK447=\"\",\"\",VLOOKUP(AK447,Sifranti!V:Y,4,FALSE))","v":""}]
[{"$f":"IF(B448=\"\",\"\",VLOOKUP(B448,Sifranti!K:L,2,FALSE))","v":""},null,null,null,null,null,null,null,null,"",{"$f":"IF(L448=\"\",\"\",VLOOKUP(L448,Sifranti!A:B,2,FALSE))","v":""},null,{"$f":"IF(N448=\"\",\"\",VLOOKUP(N448,Sifranti!D:F,3,FALSE))","v":""},null,{"$f":"IF(P448=\"\",\"\",VLOOKUP(P448,Sifranti!H:I,2,FALSE))","v":""},null,null,null,null,null,null,null,null,null,null,null,null,null,null,null,null,null,null,null,null,null,null,null,null,null,{"$f":"IF(AN448=\"\",\"\",IF(LEN(VLOOKUP(AN448,Sifranti!BY:BZ,2,FALSE))=0,\"\",VLOOKUP(AN448,Sifranti!BY:BZ,2,FALSE)))","v":""},{"$f":"IF(C448=\"\",\"\",VLOOKUP(C448,Sifranti!P:R,2,FALSE))","v":""},"","",{"$f":"IF(C448=\"\",\"\",VLOOKUP(C448,Sifranti!P:R,3,FALSE))","v":""},{"$f":"IF(N448=\"\",\"\",VLOOKUP(N448,Sifranti!D:F,2,FALSE))","v":""},{"$f":"IF(AK448=\"\",\"\",VLOOKUP(AK448,Sifranti!V:Y,2,FALSE))","v":""},{"$f":"IF(AK448=\"\",\"\",IF(VLOOKUP(AK448,Sifranti!V:Y,3,FALSE)=\"\",\"\",VLOOKUP(AK448,Sifranti!V:Y,3,FALSE)))","v":""},{"$f":"IF(AK448=\"\",\"\",VLOOKUP(AK448,Sifranti!V:Y,4,FALSE))","v":""}]
[{"$f":"IF(B449=\"\",\"\",VLOOKUP(B449,Sifranti!K:L,2,FALSE))","v":""},null,null,null,null,null,null,null,null,"",{"$f":"IF(L449=\"\",\"\",VLOOKUP(L449,Sifranti!A:B,2,FALSE))","v":""},null,{"$f":"IF(N449=\"\",\"\",VLOOKUP(N449,Sifranti!D:F,3,FALSE))","v":""},null,{"$f":"IF(P449=\"\",\"\",VLOOKUP(P449,Sifranti!H:I,2,FALSE))","v":""},null,null,null,null,null,null,null,null,null,null,null,null,null,null,null,null,null,null,null,null,null,null,null,null,null,{"$f":"IF(AN449=\"\",\"\",IF(LEN(VLOOKUP(AN449,Sifranti!BY:BZ,2,FALSE))=0,\"\",VLOOKUP(AN449,Sifranti!BY:BZ,2,FALSE)))","v":""},{"$f":"IF(C449=\"\",\"\",VLOOKUP(C449,Sifranti!P:R,2,FALSE))","v":""},"","",{"$f":"IF(C449=\"\",\"\",VLOOKUP(C449,Sifranti!P:R,3,FALSE))","v":""},{"$f":"IF(N449=\"\",\"\",VLOOKUP(N449,Sifranti!D:F,2,FALSE))","v":""},{"$f":"IF(AK449=\"\",\"\",VLOOKUP(AK449,Sifranti!V:Y,2,FALSE))","v":""},{"$f":"IF(AK449=\"\",\"\",IF(VLOOKUP(AK449,Sifranti!V:Y,3,FALSE)=\"\",\"\",VLOOKUP(AK449,Sifranti!V:Y,3,FALSE)))","v":""},{"$f":"IF(AK449=\"\",\"\",VLOOKUP(AK449,Sifranti!V:Y,4,FALSE))","v":""}]
[{"$f":"IF(B450=\"\",\"\",VLOOKUP(B450,Sifranti!K:L,2,FALSE))","v":""},null,null,null,null,null,null,null,null,{"$f":"IF(H450=\"\",\"\",YEAR(H450))","v":""},{"$f":"IF(L450=\"\",\"\",VLOOKUP(L450,Sifranti!A:B,2,FALSE))","v":""},null,{"$f":"IF(N450=\"\",\"\",VLOOKUP(N450,Sifranti!D:F,3,FALSE))","v":""},null,{"$f":"IF(P450=\"\",\"\",VLOOKUP(P450,Sifranti!H:I,2,FALSE))","v":""},null,null,null,null,null,null,null,null,null,null,null,null,null,null,null,null,null,null,null,null,null,null,null,null,null,{"$f":"IF(AN450=\"\",\"\",IF(LEN(VLOOKUP(AN450,Sifranti!BY:BZ,2,FALSE))=0,\"\",VLOOKUP(AN450,Sifranti!BY:BZ,2,FALSE)))","v":""},{"$f":"IF(C450=\"\",\"\",VLOOKUP(C450,Sifranti!P:R,2,FALSE))","v":""},{"$f":"IF(V450>0,IF(AS450=\"de minimis\",T450/S450*100,U450/AD450*100),\"\")","v":""},{"$f":"IF(AE450>0,AE450/U450*100,\"\")","v":""},{"$f":"IF(C450=\"\",\"\",VLOOKUP(C450,Sifranti!P:R,3,FALSE))","v":""},{"$f":"IF(N450=\"\",\"\",VLOOKUP(N450,Sifranti!D:F,2,FALSE))","v":""},{"$f":"IF(AK450=\"\",\"\",VLOOKUP(AK450,Sifranti!V:Y,2,FALSE))","v":""},{"$f":"IF(AK450=\"\",\"\",IF(VLOOKUP(AK450,Sifranti!V:Y,3,FALSE)=\"\",\"\",VLOOKUP(AK450,Sifranti!V:Y,3,FALSE)))","v":""},{"$f":"IF(AK450=\"\",\"\",VLOOKUP(AK450,Sifranti!V:Y,4,FALSE))","v":""}]
[{"$f":"IF(B451=\"\",\"\",VLOOKUP(B451,Sifranti!K:L,2,FALSE))","v":""},null,null,null,null,null,null,null,null,"",{"$f":"IF(L451=\"\",\"\",VLOOKUP(L451,Sifranti!A:B,2,FALSE))","v":""},null,{"$f":"IF(N451=\"\",\"\",VLOOKUP(N451,Sifranti!D:F,3,FALSE))","v":""},null,{"$f":"IF(P451=\"\",\"\",VLOOKUP(P451,Sifranti!H:I,2,FALSE))","v":""},null,null,null,null,null,null,null,null,null,null,null,null,null,null,null,null,null,null,null,null,null,null,null,null,null,{"$f":"IF(AN451=\"\",\"\",IF(LEN(VLOOKUP(AN451,Sifranti!BY:BZ,2,FALSE))=0,\"\",VLOOKUP(AN451,Sifranti!BY:BZ,2,FALSE)))","v":""},{"$f":"IF(C451=\"\",\"\",VLOOKUP(C451,Sifranti!P:R,2,FALSE))","v":""},"","",{"$f":"IF(C451=\"\",\"\",VLOOKUP(C451,Sifranti!P:R,3,FALSE))","v":""},{"$f":"IF(N451=\"\",\"\",VLOOKUP(N451,Sifranti!D:F,2,FALSE))","v":""},{"$f":"IF(AK451=\"\",\"\",VLOOKUP(AK451,Sifranti!V:Y,2,FALSE))","v":""},{"$f":"IF(AK451=\"\",\"\",IF(VLOOKUP(AK451,Sifranti!V:Y,3,FALSE)=\"\",\"\",VLOOKUP(AK451,Sifranti!V:Y,3,FALSE)))","v":""},{"$f":"IF(AK451=\"\",\"\",VLOOKUP(AK451,Sifranti!V:Y,4,FALSE))","v":""}]
[{"$f":"IF(B452=\"\",\"\",VLOOKUP(B452,Sifranti!K:L,2,FALSE))","v":""},null,null,null,null,null,null,null,null,"",{"$f":"IF(L452=\"\",\"\",VLOOKUP(L452,Sifranti!A:B,2,FALSE))","v":""},null,{"$f":"IF(N452=\"\",\"\",VLOOKUP(N452,Sifranti!D:F,3,FALSE))","v":""},null,{"$f":"IF(P452=\"\",\"\",VLOOKUP(P452,Sifranti!H:I,2,FALSE))","v":""},null,null,null,null,null,null,null,null,null,null,null,null,null,null,null,null,null,null,null,null,null,null,null,null,null,{"$f":"IF(AN452=\"\",\"\",IF(LEN(VLOOKUP(AN452,Sifranti!BY:BZ,2,FALSE))=0,\"\",VLOOKUP(AN452,Sifranti!BY:BZ,2,FALSE)))","v":""},{"$f":"IF(C452=\"\",\"\",VLOOKUP(C452,Sifranti!P:R,2,FALSE))","v":""},"","",{"$f":"IF(C452=\"\",\"\",VLOOKUP(C452,Sifranti!P:R,3,FALSE))","v":""},{"$f":"IF(N452=\"\",\"\",VLOOKUP(N452,Sifranti!D:F,2,FALSE))","v":""},{"$f":"IF(AK452=\"\",\"\",VLOOKUP(AK452,Sifranti!V:Y,2,FALSE))","v":""},{"$f":"IF(AK452=\"\",\"\",IF(VLOOKUP(AK452,Sifranti!V:Y,3,FALSE)=\"\",\"\",VLOOKUP(AK452,Sifranti!V:Y,3,FALSE)))","v":""},{"$f":"IF(AK452=\"\",\"\",VLOOKUP(AK452,Sifranti!V:Y,4,FALSE))","v":""}]
[{"$f":"IF(B453=\"\",\"\",VLOOKUP(B453,Sifranti!K:L,2,FALSE))","v":""},null,null,null,null,null,null,null,null,"",{"$f":"IF(L453=\"\",\"\",VLOOKUP(L453,Sifranti!A:B,2,FALSE))","v":""},null,{"$f":"IF(N453=\"\",\"\",VLOOKUP(N453,Sifranti!D:F,3,FALSE))","v":""},null,{"$f":"IF(P453=\"\",\"\",VLOOKUP(P453,Sifranti!H:I,2,FALSE))","v":""},null,null,null,null,null,null,null,null,null,null,null,null,null,null,null,null,null,null,null,null,null,null,null,null,null,{"$f":"IF(AN453=\"\",\"\",IF(LEN(VLOOKUP(AN453,Sifranti!BY:BZ,2,FALSE))=0,\"\",VLOOKUP(AN453,Sifranti!BY:BZ,2,FALSE)))","v":""},{"$f":"IF(C453=\"\",\"\",VLOOKUP(C453,Sifranti!P:R,2,FALSE))","v":""},"","",{"$f":"IF(C453=\"\",\"\",VLOOKUP(C453,Sifranti!P:R,3,FALSE))","v":""},{"$f":"IF(N453=\"\",\"\",VLOOKUP(N453,Sifranti!D:F,2,FALSE))","v":""},{"$f":"IF(AK453=\"\",\"\",VLOOKUP(AK453,Sifranti!V:Y,2,FALSE))","v":""},{"$f":"IF(AK453=\"\",\"\",IF(VLOOKUP(AK453,Sifranti!V:Y,3,FALSE)=\"\",\"\",VLOOKUP(AK453,Sifranti!V:Y,3,FALSE)))","v":""},{"$f":"IF(AK453=\"\",\"\",VLOOKUP(AK453,Sifranti!V:Y,4,FALSE))","v":""}]
[{"$f":"IF(B454=\"\",\"\",VLOOKUP(B454,Sifranti!K:L,2,FALSE))","v":""},null,null,null,null,null,null,null,null,"",{"$f":"IF(L454=\"\",\"\",VLOOKUP(L454,Sifranti!A:B,2,FALSE))","v":""},null,{"$f":"IF(N454=\"\",\"\",VLOOKUP(N454,Sifranti!D:F,3,FALSE))","v":""},null,{"$f":"IF(P454=\"\",\"\",VLOOKUP(P454,Sifranti!H:I,2,FALSE))","v":""},null,null,null,null,null,null,null,null,null,null,null,null,null,null,null,null,null,null,null,null,null,null,null,null,null,{"$f":"IF(AN454=\"\",\"\",IF(LEN(VLOOKUP(AN454,Sifranti!BY:BZ,2,FALSE))=0,\"\",VLOOKUP(AN454,Sifranti!BY:BZ,2,FALSE)))","v":""},{"$f":"IF(C454=\"\",\"\",VLOOKUP(C454,Sifranti!P:R,2,FALSE))","v":""},"","",{"$f":"IF(C454=\"\",\"\",VLOOKUP(C454,Sifranti!P:R,3,FALSE))","v":""},{"$f":"IF(N454=\"\",\"\",VLOOKUP(N454,Sifranti!D:F,2,FALSE))","v":""},{"$f":"IF(AK454=\"\",\"\",VLOOKUP(AK454,Sifranti!V:Y,2,FALSE))","v":""},{"$f":"IF(AK454=\"\",\"\",IF(VLOOKUP(AK454,Sifranti!V:Y,3,FALSE)=\"\",\"\",VLOOKUP(AK454,Sifranti!V:Y,3,FALSE)))","v":""},{"$f":"IF(AK454=\"\",\"\",VLOOKUP(AK454,Sifranti!V:Y,4,FALSE))","v":""}]
[{"$f":"IF(B455=\"\",\"\",VLOOKUP(B455,Sifranti!K:L,2,FALSE))","v":""},null,null,null,null,null,null,null,null,"",{"$f":"IF(L455=\"\",\"\",VLOOKUP(L455,Sifranti!A:B,2,FALSE))","v":""},null,{"$f":"IF(N455=\"\",\"\",VLOOKUP(N455,Sifranti!D:F,3,FALSE))","v":""},null,{"$f":"IF(P455=\"\",\"\",VLOOKUP(P455,Sifranti!H:I,2,FALSE))","v":""},null,null,null,null,null,null,null,null,null,null,null,null,null,null,null,null,null,null,null,null,null,null,null,null,null,{"$f":"IF(AN455=\"\",\"\",IF(LEN(VLOOKUP(AN455,Sifranti!BY:BZ,2,FALSE))=0,\"\",VLOOKUP(AN455,Sifranti!BY:BZ,2,FALSE)))","v":""},{"$f":"IF(C455=\"\",\"\",VLOOKUP(C455,Sifranti!P:R,2,FALSE))","v":""},"","",{"$f":"IF(C455=\"\",\"\",VLOOKUP(C455,Sifranti!P:R,3,FALSE))","v":""},{"$f":"IF(N455=\"\",\"\",VLOOKUP(N455,Sifranti!D:F,2,FALSE))","v":""},{"$f":"IF(AK455=\"\",\"\",VLOOKUP(AK455,Sifranti!V:Y,2,FALSE))","v":""},{"$f":"IF(AK455=\"\",\"\",IF(VLOOKUP(AK455,Sifranti!V:Y,3,FALSE)=\"\",\"\",VLOOKUP(AK455,Sifranti!V:Y,3,FALSE)))","v":""},{"$f":"IF(AK455=\"\",\"\",VLOOKUP(AK455,Sifranti!V:Y,4,FALSE))","v":""}]
[{"$f":"IF(B456=\"\",\"\",VLOOKUP(B456,Sifranti!K:L,2,FALSE))","v":""},null,null,null,null,null,null,null,null,"",{"$f":"IF(L456=\"\",\"\",VLOOKUP(L456,Sifranti!A:B,2,FALSE))","v":""},null,{"$f":"IF(N456=\"\",\"\",VLOOKUP(N456,Sifranti!D:F,3,FALSE))","v":""},null,{"$f":"IF(P456=\"\",\"\",VLOOKUP(P456,Sifranti!H:I,2,FALSE))","v":""},null,null,null,null,null,null,null,null,null,null,null,null,null,null,null,null,null,null,null,null,null,null,null,null,null,{"$f":"IF(AN456=\"\",\"\",IF(LEN(VLOOKUP(AN456,Sifranti!BY:BZ,2,FALSE))=0,\"\",VLOOKUP(AN456,Sifranti!BY:BZ,2,FALSE)))","v":""},{"$f":"IF(C456=\"\",\"\",VLOOKUP(C456,Sifranti!P:R,2,FALSE))","v":""},"","",{"$f":"IF(C456=\"\",\"\",VLOOKUP(C456,Sifranti!P:R,3,FALSE))","v":""},{"$f":"IF(N456=\"\",\"\",VLOOKUP(N456,Sifranti!D:F,2,FALSE))","v":""},{"$f":"IF(AK456=\"\",\"\",VLOOKUP(AK456,Sifranti!V:Y,2,FALSE))","v":""},{"$f":"IF(AK456=\"\",\"\",IF(VLOOKUP(AK456,Sifranti!V:Y,3,FALSE)=\"\",\"\",VLOOKUP(AK456,Sifranti!V:Y,3,FALSE)))","v":""},{"$f":"IF(AK456=\"\",\"\",VLOOKUP(AK456,Sifranti!V:Y,4,FALSE))","v":""}]
[{"$f":"IF(B457=\"\",\"\",VLOOKUP(B457,Sifranti!K:L,2,FALSE))","v":""},null,null,null,null,null,null,null,null,"",{"$f":"IF(L457=\"\",\"\",VLOOKUP(L457,Sifranti!A:B,2,FALSE))","v":""},null,{"$f":"IF(N457=\"\",\"\",VLOOKUP(N457,Sifranti!D:F,3,FALSE))","v":""},null,{"$f":"IF(P457=\"\",\"\",VLOOKUP(P457,Sifranti!H:I,2,FALSE))","v":""},null,null,null,null,null,null,null,null,null,null,null,null,null,null,null,null,null,null,null,null,null,null,null,null,null,{"$f":"IF(AN457=\"\",\"\",IF(LEN(VLOOKUP(AN457,Sifranti!BY:BZ,2,FALSE))=0,\"\",VLOOKUP(AN457,Sifranti!BY:BZ,2,FALSE)))","v":""},{"$f":"IF(C457=\"\",\"\",VLOOKUP(C457,Sifranti!P:R,2,FALSE))","v":""},"","",{"$f":"IF(C457=\"\",\"\",VLOOKUP(C457,Sifranti!P:R,3,FALSE))","v":""},{"$f":"IF(N457=\"\",\"\",VLOOKUP(N457,Sifranti!D:F,2,FALSE))","v":""},{"$f":"IF(AK457=\"\",\"\",VLOOKUP(AK457,Sifranti!V:Y,2,FALSE))","v":""},{"$f":"IF(AK457=\"\",\"\",IF(VLOOKUP(AK457,Sifranti!V:Y,3,FALSE)=\"\",\"\",VLOOKUP(AK457,Sifranti!V:Y,3,FALSE)))","v":""},{"$f":"IF(AK457=\"\",\"\",VLOOKUP(AK457,Sifranti!V:Y,4,FALSE))","v":""}]
[{"$f":"IF(B458=\"\",\"\",VLOOKUP(B458,Sifranti!K:L,2,FALSE))","v":""},null,null,null,null,null,null,null,null,"",{"$f":"IF(L458=\"\",\"\",VLOOKUP(L458,Sifranti!A:B,2,FALSE))","v":""},null,{"$f":"IF(N458=\"\",\"\",VLOOKUP(N458,Sifranti!D:F,3,FALSE))","v":""},null,{"$f":"IF(P458=\"\",\"\",VLOOKUP(P458,Sifranti!H:I,2,FALSE))","v":""},null,null,null,null,null,null,null,null,null,null,null,null,null,null,null,null,null,null,null,null,null,null,null,null,null,{"$f":"IF(AN458=\"\",\"\",IF(LEN(VLOOKUP(AN458,Sifranti!BY:BZ,2,FALSE))=0,\"\",VLOOKUP(AN458,Sifranti!BY:BZ,2,FALSE)))","v":""},{"$f":"IF(C458=\"\",\"\",VLOOKUP(C458,Sifranti!P:R,2,FALSE))","v":""},"","",{"$f":"IF(C458=\"\",\"\",VLOOKUP(C458,Sifranti!P:R,3,FALSE))","v":""},{"$f":"IF(N458=\"\",\"\",VLOOKUP(N458,Sifranti!D:F,2,FALSE))","v":""},{"$f":"IF(AK458=\"\",\"\",VLOOKUP(AK458,Sifranti!V:Y,2,FALSE))","v":""},{"$f":"IF(AK458=\"\",\"\",IF(VLOOKUP(AK458,Sifranti!V:Y,3,FALSE)=\"\",\"\",VLOOKUP(AK458,Sifranti!V:Y,3,FALSE)))","v":""},{"$f":"IF(AK458=\"\",\"\",VLOOKUP(AK458,Sifranti!V:Y,4,FALSE))","v":""}]
[{"$f":"IF(B459=\"\",\"\",VLOOKUP(B459,Sifranti!K:L,2,FALSE))","v":""},null,null,null,null,null,null,null,null,"",{"$f":"IF(L459=\"\",\"\",VLOOKUP(L459,Sifranti!A:B,2,FALSE))","v":""},null,{"$f":"IF(N459=\"\",\"\",VLOOKUP(N459,Sifranti!D:F,3,FALSE))","v":""},null,{"$f":"IF(P459=\"\",\"\",VLOOKUP(P459,Sifranti!H:I,2,FALSE))","v":""},null,null,null,null,null,null,null,null,null,null,null,null,null,null,null,null,null,null,null,null,null,null,null,null,null,{"$f":"IF(AN459=\"\",\"\",IF(LEN(VLOOKUP(AN459,Sifranti!BY:BZ,2,FALSE))=0,\"\",VLOOKUP(AN459,Sifranti!BY:BZ,2,FALSE)))","v":""},{"$f":"IF(C459=\"\",\"\",VLOOKUP(C459,Sifranti!P:R,2,FALSE))","v":""},"","",{"$f":"IF(C459=\"\",\"\",VLOOKUP(C459,Sifranti!P:R,3,FALSE))","v":""},{"$f":"IF(N459=\"\",\"\",VLOOKUP(N459,Sifranti!D:F,2,FALSE))","v":""},{"$f":"IF(AK459=\"\",\"\",VLOOKUP(AK459,Sifranti!V:Y,2,FALSE))","v":""},{"$f":"IF(AK459=\"\",\"\",IF(VLOOKUP(AK459,Sifranti!V:Y,3,FALSE)=\"\",\"\",VLOOKUP(AK459,Sifranti!V:Y,3,FALSE)))","v":""},{"$f":"IF(AK459=\"\",\"\",VLOOKUP(AK459,Sifranti!V:Y,4,FALSE))","v":""}]
[{"$f":"IF(B460=\"\",\"\",VLOOKUP(B460,Sifranti!K:L,2,FALSE))","v":""},null,null,null,null,null,null,null,null,"",{"$f":"IF(L460=\"\",\"\",VLOOKUP(L460,Sifranti!A:B,2,FALSE))","v":""},null,{"$f":"IF(N460=\"\",\"\",VLOOKUP(N460,Sifranti!D:F,3,FALSE))","v":""},null,{"$f":"IF(P460=\"\",\"\",VLOOKUP(P460,Sifranti!H:I,2,FALSE))","v":""},null,null,null,null,null,null,null,null,null,null,null,null,null,null,null,null,null,null,null,null,null,null,null,null,null,{"$f":"IF(AN460=\"\",\"\",IF(LEN(VLOOKUP(AN460,Sifranti!BY:BZ,2,FALSE))=0,\"\",VLOOKUP(AN460,Sifranti!BY:BZ,2,FALSE)))","v":""},{"$f":"IF(C460=\"\",\"\",VLOOKUP(C460,Sifranti!P:R,2,FALSE))","v":""},"","",{"$f":"IF(C460=\"\",\"\",VLOOKUP(C460,Sifranti!P:R,3,FALSE))","v":""},{"$f":"IF(N460=\"\",\"\",VLOOKUP(N460,Sifranti!D:F,2,FALSE))","v":""},{"$f":"IF(AK460=\"\",\"\",VLOOKUP(AK460,Sifranti!V:Y,2,FALSE))","v":""},{"$f":"IF(AK460=\"\",\"\",IF(VLOOKUP(AK460,Sifranti!V:Y,3,FALSE)=\"\",\"\",VLOOKUP(AK460,Sifranti!V:Y,3,FALSE)))","v":""},{"$f":"IF(AK460=\"\",\"\",VLOOKUP(AK460,Sifranti!V:Y,4,FALSE))","v":""}]
[{"$f":"IF(B461=\"\",\"\",VLOOKUP(B461,Sifranti!K:L,2,FALSE))","v":""},null,null,null,null,null,null,null,null,"",{"$f":"IF(L461=\"\",\"\",VLOOKUP(L461,Sifranti!A:B,2,FALSE))","v":""},null,{"$f":"IF(N461=\"\",\"\",VLOOKUP(N461,Sifranti!D:F,3,FALSE))","v":""},null,{"$f":"IF(P461=\"\",\"\",VLOOKUP(P461,Sifranti!H:I,2,FALSE))","v":""},null,null,null,null,null,null,null,null,null,null,null,null,null,null,null,null,null,null,null,null,null,null,null,null,null,{"$f":"IF(AN461=\"\",\"\",IF(LEN(VLOOKUP(AN461,Sifranti!BY:BZ,2,FALSE))=0,\"\",VLOOKUP(AN461,Sifranti!BY:BZ,2,FALSE)))","v":""},{"$f":"IF(C461=\"\",\"\",VLOOKUP(C461,Sifranti!P:R,2,FALSE))","v":""},"","",{"$f":"IF(C461=\"\",\"\",VLOOKUP(C461,Sifranti!P:R,3,FALSE))","v":""},{"$f":"IF(N461=\"\",\"\",VLOOKUP(N461,Sifranti!D:F,2,FALSE))","v":""},{"$f":"IF(AK461=\"\",\"\",VLOOKUP(AK461,Sifranti!V:Y,2,FALSE))","v":""},{"$f":"IF(AK461=\"\",\"\",IF(VLOOKUP(AK461,Sifranti!V:Y,3,FALSE)=\"\",\"\",VLOOKUP(AK461,Sifranti!V:Y,3,FALSE)))","v":""},{"$f":"IF(AK461=\"\",\"\",VLOOKUP(AK461,Sifranti!V:Y,4,FALSE))","v":""}]
[{"$f":"IF(B462=\"\",\"\",VLOOKUP(B462,Sifranti!K:L,2,FALSE))","v":""},null,null,null,null,null,null,null,null,"",{"$f":"IF(L462=\"\",\"\",VLOOKUP(L462,Sifranti!A:B,2,FALSE))","v":""},null,{"$f":"IF(N462=\"\",\"\",VLOOKUP(N462,Sifranti!D:F,3,FALSE))","v":""},null,{"$f":"IF(P462=\"\",\"\",VLOOKUP(P462,Sifranti!H:I,2,FALSE))","v":""},null,null,null,null,null,null,null,null,null,null,null,null,null,null,null,null,null,null,null,null,null,null,null,null,null,{"$f":"IF(AN462=\"\",\"\",IF(LEN(VLOOKUP(AN462,Sifranti!BY:BZ,2,FALSE))=0,\"\",VLOOKUP(AN462,Sifranti!BY:BZ,2,FALSE)))","v":""},{"$f":"IF(C462=\"\",\"\",VLOOKUP(C462,Sifranti!P:R,2,FALSE))","v":""},"","",{"$f":"IF(C462=\"\",\"\",VLOOKUP(C462,Sifranti!P:R,3,FALSE))","v":""},{"$f":"IF(N462=\"\",\"\",VLOOKUP(N462,Sifranti!D:F,2,FALSE))","v":""},{"$f":"IF(AK462=\"\",\"\",VLOOKUP(AK462,Sifranti!V:Y,2,FALSE))","v":""},{"$f":"IF(AK462=\"\",\"\",IF(VLOOKUP(AK462,Sifranti!V:Y,3,FALSE)=\"\",\"\",VLOOKUP(AK462,Sifranti!V:Y,3,FALSE)))","v":""},{"$f":"IF(AK462=\"\",\"\",VLOOKUP(AK462,Sifranti!V:Y,4,FALSE))","v":""}]
[{"$f":"IF(B463=\"\",\"\",VLOOKUP(B463,Sifranti!K:L,2,FALSE))","v":""},null,null,null,null,null,null,null,null,"",{"$f":"IF(L463=\"\",\"\",VLOOKUP(L463,Sifranti!A:B,2,FALSE))","v":""},null,{"$f":"IF(N463=\"\",\"\",VLOOKUP(N463,Sifranti!D:F,3,FALSE))","v":""},null,{"$f":"IF(P463=\"\",\"\",VLOOKUP(P463,Sifranti!H:I,2,FALSE))","v":""},null,null,null,null,null,null,null,null,null,null,null,null,null,null,null,null,null,null,null,null,null,null,null,null,null,{"$f":"IF(AN463=\"\",\"\",IF(LEN(VLOOKUP(AN463,Sifranti!BY:BZ,2,FALSE))=0,\"\",VLOOKUP(AN463,Sifranti!BY:BZ,2,FALSE)))","v":""},{"$f":"IF(C463=\"\",\"\",VLOOKUP(C463,Sifranti!P:R,2,FALSE))","v":""},"","",{"$f":"IF(C463=\"\",\"\",VLOOKUP(C463,Sifranti!P:R,3,FALSE))","v":""},{"$f":"IF(N463=\"\",\"\",VLOOKUP(N463,Sifranti!D:F,2,FALSE))","v":""},{"$f":"IF(AK463=\"\",\"\",VLOOKUP(AK463,Sifranti!V:Y,2,FALSE))","v":""},{"$f":"IF(AK463=\"\",\"\",IF(VLOOKUP(AK463,Sifranti!V:Y,3,FALSE)=\"\",\"\",VLOOKUP(AK463,Sifranti!V:Y,3,FALSE)))","v":""},{"$f":"IF(AK463=\"\",\"\",VLOOKUP(AK463,Sifranti!V:Y,4,FALSE))","v":""}]
[{"$f":"IF(B464=\"\",\"\",VLOOKUP(B464,Sifranti!K:L,2,FALSE))","v":""},null,null,null,null,null,null,null,null,"",{"$f":"IF(L464=\"\",\"\",VLOOKUP(L464,Sifranti!A:B,2,FALSE))","v":""},null,{"$f":"IF(N464=\"\",\"\",VLOOKUP(N464,Sifranti!D:F,3,FALSE))","v":""},null,{"$f":"IF(P464=\"\",\"\",VLOOKUP(P464,Sifranti!H:I,2,FALSE))","v":""},null,null,null,null,null,null,null,null,null,null,null,null,null,null,null,null,null,null,null,null,null,null,null,null,null,{"$f":"IF(AN464=\"\",\"\",IF(LEN(VLOOKUP(AN464,Sifranti!BY:BZ,2,FALSE))=0,\"\",VLOOKUP(AN464,Sifranti!BY:BZ,2,FALSE)))","v":""},{"$f":"IF(C464=\"\",\"\",VLOOKUP(C464,Sifranti!P:R,2,FALSE))","v":""},"","",{"$f":"IF(C464=\"\",\"\",VLOOKUP(C464,Sifranti!P:R,3,FALSE))","v":""},{"$f":"IF(N464=\"\",\"\",VLOOKUP(N464,Sifranti!D:F,2,FALSE))","v":""},{"$f":"IF(AK464=\"\",\"\",VLOOKUP(AK464,Sifranti!V:Y,2,FALSE))","v":""},{"$f":"IF(AK464=\"\",\"\",IF(VLOOKUP(AK464,Sifranti!V:Y,3,FALSE)=\"\",\"\",VLOOKUP(AK464,Sifranti!V:Y,3,FALSE)))","v":""},{"$f":"IF(AK464=\"\",\"\",VLOOKUP(AK464,Sifranti!V:Y,4,FALSE))","v":""}]
[{"$f":"IF(B465=\"\",\"\",VLOOKUP(B465,Sifranti!K:L,2,FALSE))","v":""},null,null,null,null,null,null,null,null,"",{"$f":"IF(L465=\"\",\"\",VLOOKUP(L465,Sifranti!A:B,2,FALSE))","v":""},null,{"$f":"IF(N465=\"\",\"\",VLOOKUP(N465,Sifranti!D:F,3,FALSE))","v":""},null,{"$f":"IF(P465=\"\",\"\",VLOOKUP(P465,Sifranti!H:I,2,FALSE))","v":""},null,null,null,null,null,null,null,null,null,null,null,null,null,null,null,null,null,null,null,null,null,null,null,null,null,{"$f":"IF(AN465=\"\",\"\",IF(LEN(VLOOKUP(AN465,Sifranti!BY:BZ,2,FALSE))=0,\"\",VLOOKUP(AN465,Sifranti!BY:BZ,2,FALSE)))","v":""},{"$f":"IF(C465=\"\",\"\",VLOOKUP(C465,Sifranti!P:R,2,FALSE))","v":""},"","",{"$f":"IF(C465=\"\",\"\",VLOOKUP(C465,Sifranti!P:R,3,FALSE))","v":""},{"$f":"IF(N465=\"\",\"\",VLOOKUP(N465,Sifranti!D:F,2,FALSE))","v":""},{"$f":"IF(AK465=\"\",\"\",VLOOKUP(AK465,Sifranti!V:Y,2,FALSE))","v":""},{"$f":"IF(AK465=\"\",\"\",IF(VLOOKUP(AK465,Sifranti!V:Y,3,FALSE)=\"\",\"\",VLOOKUP(AK465,Sifranti!V:Y,3,FALSE)))","v":""},{"$f":"IF(AK465=\"\",\"\",VLOOKUP(AK465,Sifranti!V:Y,4,FALSE))","v":""}]
[{"$f":"IF(B466=\"\",\"\",VLOOKUP(B466,Sifranti!K:L,2,FALSE))","v":""},null,null,null,null,null,null,null,null,"",{"$f":"IF(L466=\"\",\"\",VLOOKUP(L466,Sifranti!A:B,2,FALSE))","v":""},null,{"$f":"IF(N466=\"\",\"\",VLOOKUP(N466,Sifranti!D:F,3,FALSE))","v":""},null,{"$f":"IF(P466=\"\",\"\",VLOOKUP(P466,Sifranti!H:I,2,FALSE))","v":""},null,null,null,null,null,null,null,null,null,null,null,null,null,null,null,null,null,null,null,null,null,null,null,null,null,{"$f":"IF(AN466=\"\",\"\",IF(LEN(VLOOKUP(AN466,Sifranti!BY:BZ,2,FALSE))=0,\"\",VLOOKUP(AN466,Sifranti!BY:BZ,2,FALSE)))","v":""},{"$f":"IF(C466=\"\",\"\",VLOOKUP(C466,Sifranti!P:R,2,FALSE))","v":""},"","",{"$f":"IF(C466=\"\",\"\",VLOOKUP(C466,Sifranti!P:R,3,FALSE))","v":""},{"$f":"IF(N466=\"\",\"\",VLOOKUP(N466,Sifranti!D:F,2,FALSE))","v":""},{"$f":"IF(AK466=\"\",\"\",VLOOKUP(AK466,Sifranti!V:Y,2,FALSE))","v":""},{"$f":"IF(AK466=\"\",\"\",IF(VLOOKUP(AK466,Sifranti!V:Y,3,FALSE)=\"\",\"\",VLOOKUP(AK466,Sifranti!V:Y,3,FALSE)))","v":""},{"$f":"IF(AK466=\"\",\"\",VLOOKUP(AK466,Sifranti!V:Y,4,FALSE))","v":""}]
[{"$f":"IF(B467=\"\",\"\",VLOOKUP(B467,Sifranti!K:L,2,FALSE))","v":""},null,null,null,null,null,null,null,null,"",{"$f":"IF(L467=\"\",\"\",VLOOKUP(L467,Sifranti!A:B,2,FALSE))","v":""},null,{"$f":"IF(N467=\"\",\"\",VLOOKUP(N467,Sifranti!D:F,3,FALSE))","v":""},null,{"$f":"IF(P467=\"\",\"\",VLOOKUP(P467,Sifranti!H:I,2,FALSE))","v":""},null,null,null,null,null,null,null,null,null,null,null,null,null,null,null,null,null,null,null,null,null,null,null,null,null,{"$f":"IF(AN467=\"\",\"\",IF(LEN(VLOOKUP(AN467,Sifranti!BY:BZ,2,FALSE))=0,\"\",VLOOKUP(AN467,Sifranti!BY:BZ,2,FALSE)))","v":""},{"$f":"IF(C467=\"\",\"\",VLOOKUP(C467,Sifranti!P:R,2,FALSE))","v":""},"","",{"$f":"IF(C467=\"\",\"\",VLOOKUP(C467,Sifranti!P:R,3,FALSE))","v":""},{"$f":"IF(N467=\"\",\"\",VLOOKUP(N467,Sifranti!D:F,2,FALSE))","v":""},{"$f":"IF(AK467=\"\",\"\",VLOOKUP(AK467,Sifranti!V:Y,2,FALSE))","v":""},{"$f":"IF(AK467=\"\",\"\",IF(VLOOKUP(AK467,Sifranti!V:Y,3,FALSE)=\"\",\"\",VLOOKUP(AK467,Sifranti!V:Y,3,FALSE)))","v":""},{"$f":"IF(AK467=\"\",\"\",VLOOKUP(AK467,Sifranti!V:Y,4,FALSE))","v":""}]
[{"$f":"IF(B468=\"\",\"\",VLOOKUP(B468,Sifranti!K:L,2,FALSE))","v":""},null,null,null,null,null,null,null,null,"",{"$f":"IF(L468=\"\",\"\",VLOOKUP(L468,Sifranti!A:B,2,FALSE))","v":""},null,{"$f":"IF(N468=\"\",\"\",VLOOKUP(N468,Sifranti!D:F,3,FALSE))","v":""},null,{"$f":"IF(P468=\"\",\"\",VLOOKUP(P468,Sifranti!H:I,2,FALSE))","v":""},null,null,null,null,null,null,null,null,null,null,null,null,null,null,null,null,null,null,null,null,null,null,null,null,null,{"$f":"IF(AN468=\"\",\"\",IF(LEN(VLOOKUP(AN468,Sifranti!BY:BZ,2,FALSE))=0,\"\",VLOOKUP(AN468,Sifranti!BY:BZ,2,FALSE)))","v":""},{"$f":"IF(C468=\"\",\"\",VLOOKUP(C468,Sifranti!P:R,2,FALSE))","v":""},"","",{"$f":"IF(C468=\"\",\"\",VLOOKUP(C468,Sifranti!P:R,3,FALSE))","v":""},{"$f":"IF(N468=\"\",\"\",VLOOKUP(N468,Sifranti!D:F,2,FALSE))","v":""},{"$f":"IF(AK468=\"\",\"\",VLOOKUP(AK468,Sifranti!V:Y,2,FALSE))","v":""},{"$f":"IF(AK468=\"\",\"\",IF(VLOOKUP(AK468,Sifranti!V:Y,3,FALSE)=\"\",\"\",VLOOKUP(AK468,Sifranti!V:Y,3,FALSE)))","v":""},{"$f":"IF(AK468=\"\",\"\",VLOOKUP(AK468,Sifranti!V:Y,4,FALSE))","v":""}]
[{"$f":"IF(B469=\"\",\"\",VLOOKUP(B469,Sifranti!K:L,2,FALSE))","v":""},null,null,null,null,null,null,null,null,"",{"$f":"IF(L469=\"\",\"\",VLOOKUP(L469,Sifranti!A:B,2,FALSE))","v":""},null,{"$f":"IF(N469=\"\",\"\",VLOOKUP(N469,Sifranti!D:F,3,FALSE))","v":""},null,{"$f":"IF(P469=\"\",\"\",VLOOKUP(P469,Sifranti!H:I,2,FALSE))","v":""},null,null,null,null,null,null,null,null,null,null,null,null,null,null,null,null,null,null,null,null,null,null,null,null,null,{"$f":"IF(AN469=\"\",\"\",IF(LEN(VLOOKUP(AN469,Sifranti!BY:BZ,2,FALSE))=0,\"\",VLOOKUP(AN469,Sifranti!BY:BZ,2,FALSE)))","v":""},{"$f":"IF(C469=\"\",\"\",VLOOKUP(C469,Sifranti!P:R,2,FALSE))","v":""},"","",{"$f":"IF(C469=\"\",\"\",VLOOKUP(C469,Sifranti!P:R,3,FALSE))","v":""},{"$f":"IF(N469=\"\",\"\",VLOOKUP(N469,Sifranti!D:F,2,FALSE))","v":""},{"$f":"IF(AK469=\"\",\"\",VLOOKUP(AK469,Sifranti!V:Y,2,FALSE))","v":""},{"$f":"IF(AK469=\"\",\"\",IF(VLOOKUP(AK469,Sifranti!V:Y,3,FALSE)=\"\",\"\",VLOOKUP(AK469,Sifranti!V:Y,3,FALSE)))","v":""},{"$f":"IF(AK469=\"\",\"\",VLOOKUP(AK469,Sifranti!V:Y,4,FALSE))","v":""}]
[{"$f":"IF(B470=\"\",\"\",VLOOKUP(B470,Sifranti!K:L,2,FALSE))","v":""},null,null,null,null,null,null,null,null,"",{"$f":"IF(L470=\"\",\"\",VLOOKUP(L470,Sifranti!A:B,2,FALSE))","v":""},null,{"$f":"IF(N470=\"\",\"\",VLOOKUP(N470,Sifranti!D:F,3,FALSE))","v":""},null,{"$f":"IF(P470=\"\",\"\",VLOOKUP(P470,Sifranti!H:I,2,FALSE))","v":""},null,null,null,null,null,null,null,null,null,null,null,null,null,null,null,null,null,null,null,null,null,null,null,null,null,{"$f":"IF(AN470=\"\",\"\",IF(LEN(VLOOKUP(AN470,Sifranti!BY:BZ,2,FALSE))=0,\"\",VLOOKUP(AN470,Sifranti!BY:BZ,2,FALSE)))","v":""},{"$f":"IF(C470=\"\",\"\",VLOOKUP(C470,Sifranti!P:R,2,FALSE))","v":""},"","",{"$f":"IF(C470=\"\",\"\",VLOOKUP(C470,Sifranti!P:R,3,FALSE))","v":""},{"$f":"IF(N470=\"\",\"\",VLOOKUP(N470,Sifranti!D:F,2,FALSE))","v":""},{"$f":"IF(AK470=\"\",\"\",VLOOKUP(AK470,Sifranti!V:Y,2,FALSE))","v":""},{"$f":"IF(AK470=\"\",\"\",IF(VLOOKUP(AK470,Sifranti!V:Y,3,FALSE)=\"\",\"\",VLOOKUP(AK470,Sifranti!V:Y,3,FALSE)))","v":""},{"$f":"IF(AK470=\"\",\"\",VLOOKUP(AK470,Sifranti!V:Y,4,FALSE))","v":""}]
[{"$f":"IF(B471=\"\",\"\",VLOOKUP(B471,Sifranti!K:L,2,FALSE))","v":""},null,null,null,null,null,null,null,null,"",{"$f":"IF(L471=\"\",\"\",VLOOKUP(L471,Sifranti!A:B,2,FALSE))","v":""},null,{"$f":"IF(N471=\"\",\"\",VLOOKUP(N471,Sifranti!D:F,3,FALSE))","v":""},null,{"$f":"IF(P471=\"\",\"\",VLOOKUP(P471,Sifranti!H:I,2,FALSE))","v":""},null,null,null,null,null,null,null,null,null,null,null,null,null,null,null,null,null,null,null,null,null,null,null,null,null,{"$f":"IF(AN471=\"\",\"\",IF(LEN(VLOOKUP(AN471,Sifranti!BY:BZ,2,FALSE))=0,\"\",VLOOKUP(AN471,Sifranti!BY:BZ,2,FALSE)))","v":""},{"$f":"IF(C471=\"\",\"\",VLOOKUP(C471,Sifranti!P:R,2,FALSE))","v":""},"","",{"$f":"IF(C471=\"\",\"\",VLOOKUP(C471,Sifranti!P:R,3,FALSE))","v":""},{"$f":"IF(N471=\"\",\"\",VLOOKUP(N471,Sifranti!D:F,2,FALSE))","v":""},{"$f":"IF(AK471=\"\",\"\",VLOOKUP(AK471,Sifranti!V:Y,2,FALSE))","v":""},{"$f":"IF(AK471=\"\",\"\",IF(VLOOKUP(AK471,Sifranti!V:Y,3,FALSE)=\"\",\"\",VLOOKUP(AK471,Sifranti!V:Y,3,FALSE)))","v":""},{"$f":"IF(AK471=\"\",\"\",VLOOKUP(AK471,Sifranti!V:Y,4,FALSE))","v":""}]
[{"$f":"IF(B472=\"\",\"\",VLOOKUP(B472,Sifranti!K:L,2,FALSE))","v":""},null,null,null,null,null,null,null,null,"",{"$f":"IF(L472=\"\",\"\",VLOOKUP(L472,Sifranti!A:B,2,FALSE))","v":""},null,{"$f":"IF(N472=\"\",\"\",VLOOKUP(N472,Sifranti!D:F,3,FALSE))","v":""},null,{"$f":"IF(P472=\"\",\"\",VLOOKUP(P472,Sifranti!H:I,2,FALSE))","v":""},null,null,null,null,null,null,null,null,null,null,null,null,null,null,null,null,null,null,null,null,null,null,null,null,null,{"$f":"IF(AN472=\"\",\"\",IF(LEN(VLOOKUP(AN472,Sifranti!BY:BZ,2,FALSE))=0,\"\",VLOOKUP(AN472,Sifranti!BY:BZ,2,FALSE)))","v":""},{"$f":"IF(C472=\"\",\"\",VLOOKUP(C472,Sifranti!P:R,2,FALSE))","v":""},"","",{"$f":"IF(C472=\"\",\"\",VLOOKUP(C472,Sifranti!P:R,3,FALSE))","v":""},{"$f":"IF(N472=\"\",\"\",VLOOKUP(N472,Sifranti!D:F,2,FALSE))","v":""},{"$f":"IF(AK472=\"\",\"\",VLOOKUP(AK472,Sifranti!V:Y,2,FALSE))","v":""},{"$f":"IF(AK472=\"\",\"\",IF(VLOOKUP(AK472,Sifranti!V:Y,3,FALSE)=\"\",\"\",VLOOKUP(AK472,Sifranti!V:Y,3,FALSE)))","v":""},{"$f":"IF(AK472=\"\",\"\",VLOOKUP(AK472,Sifranti!V:Y,4,FALSE))","v":""}]
[{"$f":"IF(B473=\"\",\"\",VLOOKUP(B473,Sifranti!K:L,2,FALSE))","v":""},null,null,null,null,null,null,null,null,"",{"$f":"IF(L473=\"\",\"\",VLOOKUP(L473,Sifranti!A:B,2,FALSE))","v":""},null,{"$f":"IF(N473=\"\",\"\",VLOOKUP(N473,Sifranti!D:F,3,FALSE))","v":""},null,{"$f":"IF(P473=\"\",\"\",VLOOKUP(P473,Sifranti!H:I,2,FALSE))","v":""},null,null,null,null,null,null,null,null,null,null,null,null,null,null,null,null,null,null,null,null,null,null,null,null,null,{"$f":"IF(AN473=\"\",\"\",IF(LEN(VLOOKUP(AN473,Sifranti!BY:BZ,2,FALSE))=0,\"\",VLOOKUP(AN473,Sifranti!BY:BZ,2,FALSE)))","v":""},{"$f":"IF(C473=\"\",\"\",VLOOKUP(C473,Sifranti!P:R,2,FALSE))","v":""},"","",{"$f":"IF(C473=\"\",\"\",VLOOKUP(C473,Sifranti!P:R,3,FALSE))","v":""},{"$f":"IF(N473=\"\",\"\",VLOOKUP(N473,Sifranti!D:F,2,FALSE))","v":""},{"$f":"IF(AK473=\"\",\"\",VLOOKUP(AK473,Sifranti!V:Y,2,FALSE))","v":""},{"$f":"IF(AK473=\"\",\"\",IF(VLOOKUP(AK473,Sifranti!V:Y,3,FALSE)=\"\",\"\",VLOOKUP(AK473,Sifranti!V:Y,3,FALSE)))","v":""},{"$f":"IF(AK473=\"\",\"\",VLOOKUP(AK473,Sifranti!V:Y,4,FALSE))","v":""}]
[{"$f":"IF(B474=\"\",\"\",VLOOKUP(B474,Sifranti!K:L,2,FALSE))","v":""},null,null,null,null,null,null,null,null,"",{"$f":"IF(L474=\"\",\"\",VLOOKUP(L474,Sifranti!A:B,2,FALSE))","v":""},null,{"$f":"IF(N474=\"\",\"\",VLOOKUP(N474,Sifranti!D:F,3,FALSE))","v":""},null,{"$f":"IF(P474=\"\",\"\",VLOOKUP(P474,Sifranti!H:I,2,FALSE))","v":""},null,null,null,null,null,null,null,null,null,null,null,null,null,null,null,null,null,null,null,null,null,null,null,null,null,{"$f":"IF(AN474=\"\",\"\",IF(LEN(VLOOKUP(AN474,Sifranti!BY:BZ,2,FALSE))=0,\"\",VLOOKUP(AN474,Sifranti!BY:BZ,2,FALSE)))","v":""},{"$f":"IF(C474=\"\",\"\",VLOOKUP(C474,Sifranti!P:R,2,FALSE))","v":""},"","",{"$f":"IF(C474=\"\",\"\",VLOOKUP(C474,Sifranti!P:R,3,FALSE))","v":""},{"$f":"IF(N474=\"\",\"\",VLOOKUP(N474,Sifranti!D:F,2,FALSE))","v":""},{"$f":"IF(AK474=\"\",\"\",VLOOKUP(AK474,Sifranti!V:Y,2,FALSE))","v":""},{"$f":"IF(AK474=\"\",\"\",IF(VLOOKUP(AK474,Sifranti!V:Y,3,FALSE)=\"\",\"\",VLOOKUP(AK474,Sifranti!V:Y,3,FALSE)))","v":""},{"$f":"IF(AK474=\"\",\"\",VLOOKUP(AK474,Sifranti!V:Y,4,FALSE))","v":""}]
[{"$f":"IF(B475=\"\",\"\",VLOOKUP(B475,Sifranti!K:L,2,FALSE))","v":""},null,null,null,null,null,null,null,null,"",{"$f":"IF(L475=\"\",\"\",VLOOKUP(L475,Sifranti!A:B,2,FALSE))","v":""},null,{"$f":"IF(N475=\"\",\"\",VLOOKUP(N475,Sifranti!D:F,3,FALSE))","v":""},null,{"$f":"IF(P475=\"\",\"\",VLOOKUP(P475,Sifranti!H:I,2,FALSE))","v":""},null,null,null,null,null,null,null,null,null,null,null,null,null,null,null,null,null,null,null,null,null,null,null,null,null,{"$f":"IF(AN475=\"\",\"\",IF(LEN(VLOOKUP(AN475,Sifranti!BY:BZ,2,FALSE))=0,\"\",VLOOKUP(AN475,Sifranti!BY:BZ,2,FALSE)))","v":""},{"$f":"IF(C475=\"\",\"\",VLOOKUP(C475,Sifranti!P:R,2,FALSE))","v":""},"","",{"$f":"IF(C475=\"\",\"\",VLOOKUP(C475,Sifranti!P:R,3,FALSE))","v":""},{"$f":"IF(N475=\"\",\"\",VLOOKUP(N475,Sifranti!D:F,2,FALSE))","v":""},{"$f":"IF(AK475=\"\",\"\",VLOOKUP(AK475,Sifranti!V:Y,2,FALSE))","v":""},{"$f":"IF(AK475=\"\",\"\",IF(VLOOKUP(AK475,Sifranti!V:Y,3,FALSE)=\"\",\"\",VLOOKUP(AK475,Sifranti!V:Y,3,FALSE)))","v":""},{"$f":"IF(AK475=\"\",\"\",VLOOKUP(AK475,Sifranti!V:Y,4,FALSE))","v":""}]
[{"$f":"IF(B476=\"\",\"\",VLOOKUP(B476,Sifranti!K:L,2,FALSE))","v":""},null,null,null,null,null,null,null,null,"",{"$f":"IF(L476=\"\",\"\",VLOOKUP(L476,Sifranti!A:B,2,FALSE))","v":""},null,{"$f":"IF(N476=\"\",\"\",VLOOKUP(N476,Sifranti!D:F,3,FALSE))","v":""},null,{"$f":"IF(P476=\"\",\"\",VLOOKUP(P476,Sifranti!H:I,2,FALSE))","v":""},null,null,null,null,null,null,null,null,null,null,null,null,null,null,null,null,null,null,null,null,null,null,null,null,null,{"$f":"IF(AN476=\"\",\"\",IF(LEN(VLOOKUP(AN476,Sifranti!BY:BZ,2,FALSE))=0,\"\",VLOOKUP(AN476,Sifranti!BY:BZ,2,FALSE)))","v":""},{"$f":"IF(C476=\"\",\"\",VLOOKUP(C476,Sifranti!P:R,2,FALSE))","v":""},"","",{"$f":"IF(C476=\"\",\"\",VLOOKUP(C476,Sifranti!P:R,3,FALSE))","v":""},{"$f":"IF(N476=\"\",\"\",VLOOKUP(N476,Sifranti!D:F,2,FALSE))","v":""},{"$f":"IF(AK476=\"\",\"\",VLOOKUP(AK476,Sifranti!V:Y,2,FALSE))","v":""},{"$f":"IF(AK476=\"\",\"\",IF(VLOOKUP(AK476,Sifranti!V:Y,3,FALSE)=\"\",\"\",VLOOKUP(AK476,Sifranti!V:Y,3,FALSE)))","v":""},{"$f":"IF(AK476=\"\",\"\",VLOOKUP(AK476,Sifranti!V:Y,4,FALSE))","v":""}]
[{"$f":"IF(B477=\"\",\"\",VLOOKUP(B477,Sifranti!K:L,2,FALSE))","v":""},null,null,null,null,null,null,null,null,"",{"$f":"IF(L477=\"\",\"\",VLOOKUP(L477,Sifranti!A:B,2,FALSE))","v":""},null,{"$f":"IF(N477=\"\",\"\",VLOOKUP(N477,Sifranti!D:F,3,FALSE))","v":""},null,{"$f":"IF(P477=\"\",\"\",VLOOKUP(P477,Sifranti!H:I,2,FALSE))","v":""},null,null,null,null,null,null,null,null,null,null,null,null,null,null,null,null,null,null,null,null,null,null,null,null,null,{"$f":"IF(AN477=\"\",\"\",IF(LEN(VLOOKUP(AN477,Sifranti!BY:BZ,2,FALSE))=0,\"\",VLOOKUP(AN477,Sifranti!BY:BZ,2,FALSE)))","v":""},{"$f":"IF(C477=\"\",\"\",VLOOKUP(C477,Sifranti!P:R,2,FALSE))","v":""},"","",{"$f":"IF(C477=\"\",\"\",VLOOKUP(C477,Sifranti!P:R,3,FALSE))","v":""},{"$f":"IF(N477=\"\",\"\",VLOOKUP(N477,Sifranti!D:F,2,FALSE))","v":""},{"$f":"IF(AK477=\"\",\"\",VLOOKUP(AK477,Sifranti!V:Y,2,FALSE))","v":""},{"$f":"IF(AK477=\"\",\"\",IF(VLOOKUP(AK477,Sifranti!V:Y,3,FALSE)=\"\",\"\",VLOOKUP(AK477,Sifranti!V:Y,3,FALSE)))","v":""},{"$f":"IF(AK477=\"\",\"\",VLOOKUP(AK477,Sifranti!V:Y,4,FALSE))","v":""}]
[{"$f":"IF(B478=\"\",\"\",VLOOKUP(B478,Sifranti!K:L,2,FALSE))","v":""},null,null,null,null,null,null,null,null,"",{"$f":"IF(L478=\"\",\"\",VLOOKUP(L478,Sifranti!A:B,2,FALSE))","v":""},null,{"$f":"IF(N478=\"\",\"\",VLOOKUP(N478,Sifranti!D:F,3,FALSE))","v":""},null,{"$f":"IF(P478=\"\",\"\",VLOOKUP(P478,Sifranti!H:I,2,FALSE))","v":""},null,null,null,null,null,null,null,null,null,null,null,null,null,null,null,null,null,null,null,null,null,null,null,null,null,{"$f":"IF(AN478=\"\",\"\",IF(LEN(VLOOKUP(AN478,Sifranti!BY:BZ,2,FALSE))=0,\"\",VLOOKUP(AN478,Sifranti!BY:BZ,2,FALSE)))","v":""},{"$f":"IF(C478=\"\",\"\",VLOOKUP(C478,Sifranti!P:R,2,FALSE))","v":""},"","",{"$f":"IF(C478=\"\",\"\",VLOOKUP(C478,Sifranti!P:R,3,FALSE))","v":""},{"$f":"IF(N478=\"\",\"\",VLOOKUP(N478,Sifranti!D:F,2,FALSE))","v":""},{"$f":"IF(AK478=\"\",\"\",VLOOKUP(AK478,Sifranti!V:Y,2,FALSE))","v":""},{"$f":"IF(AK478=\"\",\"\",IF(VLOOKUP(AK478,Sifranti!V:Y,3,FALSE)=\"\",\"\",VLOOKUP(AK478,Sifranti!V:Y,3,FALSE)))","v":""},{"$f":"IF(AK478=\"\",\"\",VLOOKUP(AK478,Sifranti!V:Y,4,FALSE))","v":""}]
[{"$f":"IF(B479=\"\",\"\",VLOOKUP(B479,Sifranti!K:L,2,FALSE))","v":""},null,null,null,null,null,null,null,null,"",{"$f":"IF(L479=\"\",\"\",VLOOKUP(L479,Sifranti!A:B,2,FALSE))","v":""},null,{"$f":"IF(N479=\"\",\"\",VLOOKUP(N479,Sifranti!D:F,3,FALSE))","v":""},null,{"$f":"IF(P479=\"\",\"\",VLOOKUP(P479,Sifranti!H:I,2,FALSE))","v":""},null,null,null,null,null,null,null,null,null,null,null,null,null,null,null,null,null,null,null,null,null,null,null,null,null,{"$f":"IF(AN479=\"\",\"\",IF(LEN(VLOOKUP(AN479,Sifranti!BY:BZ,2,FALSE))=0,\"\",VLOOKUP(AN479,Sifranti!BY:BZ,2,FALSE)))","v":""},{"$f":"IF(C479=\"\",\"\",VLOOKUP(C479,Sifranti!P:R,2,FALSE))","v":""},"","",{"$f":"IF(C479=\"\",\"\",VLOOKUP(C479,Sifranti!P:R,3,FALSE))","v":""},{"$f":"IF(N479=\"\",\"\",VLOOKUP(N479,Sifranti!D:F,2,FALSE))","v":""},{"$f":"IF(AK479=\"\",\"\",VLOOKUP(AK479,Sifranti!V:Y,2,FALSE))","v":""},{"$f":"IF(AK479=\"\",\"\",IF(VLOOKUP(AK479,Sifranti!V:Y,3,FALSE)=\"\",\"\",VLOOKUP(AK479,Sifranti!V:Y,3,FALSE)))","v":""},{"$f":"IF(AK479=\"\",\"\",VLOOKUP(AK479,Sifranti!V:Y,4,FALSE))","v":""}]
[{"$f":"IF(B480=\"\",\"\",VLOOKUP(B480,Sifranti!K:L,2,FALSE))","v":""},null,null,null,null,null,null,null,null,"",{"$f":"IF(L480=\"\",\"\",VLOOKUP(L480,Sifranti!A:B,2,FALSE))","v":""},null,{"$f":"IF(N480=\"\",\"\",VLOOKUP(N480,Sifranti!D:F,3,FALSE))","v":""},null,{"$f":"IF(P480=\"\",\"\",VLOOKUP(P480,Sifranti!H:I,2,FALSE))","v":""},null,null,null,null,null,null,null,null,null,null,null,null,null,null,null,null,null,null,null,null,null,null,null,null,null,{"$f":"IF(AN480=\"\",\"\",IF(LEN(VLOOKUP(AN480,Sifranti!BY:BZ,2,FALSE))=0,\"\",VLOOKUP(AN480,Sifranti!BY:BZ,2,FALSE)))","v":""},{"$f":"IF(C480=\"\",\"\",VLOOKUP(C480,Sifranti!P:R,2,FALSE))","v":""},"","",{"$f":"IF(C480=\"\",\"\",VLOOKUP(C480,Sifranti!P:R,3,FALSE))","v":""},{"$f":"IF(N480=\"\",\"\",VLOOKUP(N480,Sifranti!D:F,2,FALSE))","v":""},{"$f":"IF(AK480=\"\",\"\",VLOOKUP(AK480,Sifranti!V:Y,2,FALSE))","v":""},{"$f":"IF(AK480=\"\",\"\",IF(VLOOKUP(AK480,Sifranti!V:Y,3,FALSE)=\"\",\"\",VLOOKUP(AK480,Sifranti!V:Y,3,FALSE)))","v":""},{"$f":"IF(AK480=\"\",\"\",VLOOKUP(AK480,Sifranti!V:Y,4,FALSE))","v":""}]
[{"$f":"IF(B481=\"\",\"\",VLOOKUP(B481,Sifranti!K:L,2,FALSE))","v":""},null,null,null,null,null,null,null,null,"",{"$f":"IF(L481=\"\",\"\",VLOOKUP(L481,Sifranti!A:B,2,FALSE))","v":""},null,{"$f":"IF(N481=\"\",\"\",VLOOKUP(N481,Sifranti!D:F,3,FALSE))","v":""},null,{"$f":"IF(P481=\"\",\"\",VLOOKUP(P481,Sifranti!H:I,2,FALSE))","v":""},null,null,null,null,null,null,null,null,null,null,null,null,null,null,null,null,null,null,null,null,null,null,null,null,null,{"$f":"IF(AN481=\"\",\"\",IF(LEN(VLOOKUP(AN481,Sifranti!BY:BZ,2,FALSE))=0,\"\",VLOOKUP(AN481,Sifranti!BY:BZ,2,FALSE)))","v":""},{"$f":"IF(C481=\"\",\"\",VLOOKUP(C481,Sifranti!P:R,2,FALSE))","v":""},"","",{"$f":"IF(C481=\"\",\"\",VLOOKUP(C481,Sifranti!P:R,3,FALSE))","v":""},{"$f":"IF(N481=\"\",\"\",VLOOKUP(N481,Sifranti!D:F,2,FALSE))","v":""},{"$f":"IF(AK481=\"\",\"\",VLOOKUP(AK481,Sifranti!V:Y,2,FALSE))","v":""},{"$f":"IF(AK481=\"\",\"\",IF(VLOOKUP(AK481,Sifranti!V:Y,3,FALSE)=\"\",\"\",VLOOKUP(AK481,Sifranti!V:Y,3,FALSE)))","v":""},{"$f":"IF(AK481=\"\",\"\",VLOOKUP(AK481,Sifranti!V:Y,4,FALSE))","v":""}]
[{"$f":"IF(B482=\"\",\"\",VLOOKUP(B482,Sifranti!K:L,2,FALSE))","v":""},null,null,null,null,null,null,null,null,"",{"$f":"IF(L482=\"\",\"\",VLOOKUP(L482,Sifranti!A:B,2,FALSE))","v":""},null,{"$f":"IF(N482=\"\",\"\",VLOOKUP(N482,Sifranti!D:F,3,FALSE))","v":""},null,{"$f":"IF(P482=\"\",\"\",VLOOKUP(P482,Sifranti!H:I,2,FALSE))","v":""},null,null,null,null,null,null,null,null,null,null,null,null,null,null,null,null,null,null,null,null,null,null,null,null,null,{"$f":"IF(AN482=\"\",\"\",IF(LEN(VLOOKUP(AN482,Sifranti!BY:BZ,2,FALSE))=0,\"\",VLOOKUP(AN482,Sifranti!BY:BZ,2,FALSE)))","v":""},{"$f":"IF(C482=\"\",\"\",VLOOKUP(C482,Sifranti!P:R,2,FALSE))","v":""},"","",{"$f":"IF(C482=\"\",\"\",VLOOKUP(C482,Sifranti!P:R,3,FALSE))","v":""},{"$f":"IF(N482=\"\",\"\",VLOOKUP(N482,Sifranti!D:F,2,FALSE))","v":""},{"$f":"IF(AK482=\"\",\"\",VLOOKUP(AK482,Sifranti!V:Y,2,FALSE))","v":""},{"$f":"IF(AK482=\"\",\"\",IF(VLOOKUP(AK482,Sifranti!V:Y,3,FALSE)=\"\",\"\",VLOOKUP(AK482,Sifranti!V:Y,3,FALSE)))","v":""},{"$f":"IF(AK482=\"\",\"\",VLOOKUP(AK482,Sifranti!V:Y,4,FALSE))","v":""}]
[{"$f":"IF(B483=\"\",\"\",VLOOKUP(B483,Sifranti!K:L,2,FALSE))","v":""},null,null,null,null,null,null,null,null,"",{"$f":"IF(L483=\"\",\"\",VLOOKUP(L483,Sifranti!A:B,2,FALSE))","v":""},null,{"$f":"IF(N483=\"\",\"\",VLOOKUP(N483,Sifranti!D:F,3,FALSE))","v":""},null,{"$f":"IF(P483=\"\",\"\",VLOOKUP(P483,Sifranti!H:I,2,FALSE))","v":""},null,null,null,null,null,null,null,null,null,null,null,null,null,null,null,null,null,null,null,null,null,null,null,null,null,{"$f":"IF(AN483=\"\",\"\",IF(LEN(VLOOKUP(AN483,Sifranti!BY:BZ,2,FALSE))=0,\"\",VLOOKUP(AN483,Sifranti!BY:BZ,2,FALSE)))","v":""},{"$f":"IF(C483=\"\",\"\",VLOOKUP(C483,Sifranti!P:R,2,FALSE))","v":""},"","",{"$f":"IF(C483=\"\",\"\",VLOOKUP(C483,Sifranti!P:R,3,FALSE))","v":""},{"$f":"IF(N483=\"\",\"\",VLOOKUP(N483,Sifranti!D:F,2,FALSE))","v":""},{"$f":"IF(AK483=\"\",\"\",VLOOKUP(AK483,Sifranti!V:Y,2,FALSE))","v":""},{"$f":"IF(AK483=\"\",\"\",IF(VLOOKUP(AK483,Sifranti!V:Y,3,FALSE)=\"\",\"\",VLOOKUP(AK483,Sifranti!V:Y,3,FALSE)))","v":""},{"$f":"IF(AK483=\"\",\"\",VLOOKUP(AK483,Sifranti!V:Y,4,FALSE))","v":""}]
[{"$f":"IF(B484=\"\",\"\",VLOOKUP(B484,Sifranti!K:L,2,FALSE))","v":""},null,null,null,null,null,null,null,null,"",{"$f":"IF(L484=\"\",\"\",VLOOKUP(L484,Sifranti!A:B,2,FALSE))","v":""},null,{"$f":"IF(N484=\"\",\"\",VLOOKUP(N484,Sifranti!D:F,3,FALSE))","v":""},null,{"$f":"IF(P484=\"\",\"\",VLOOKUP(P484,Sifranti!H:I,2,FALSE))","v":""},null,null,null,null,null,null,null,null,null,null,null,null,null,null,null,null,null,null,null,null,null,null,null,null,null,{"$f":"IF(AN484=\"\",\"\",IF(LEN(VLOOKUP(AN484,Sifranti!BY:BZ,2,FALSE))=0,\"\",VLOOKUP(AN484,Sifranti!BY:BZ,2,FALSE)))","v":""},{"$f":"IF(C484=\"\",\"\",VLOOKUP(C484,Sifranti!P:R,2,FALSE))","v":""},"","",{"$f":"IF(C484=\"\",\"\",VLOOKUP(C484,Sifranti!P:R,3,FALSE))","v":""},{"$f":"IF(N484=\"\",\"\",VLOOKUP(N484,Sifranti!D:F,2,FALSE))","v":""},{"$f":"IF(AK484=\"\",\"\",VLOOKUP(AK484,Sifranti!V:Y,2,FALSE))","v":""},{"$f":"IF(AK484=\"\",\"\",IF(VLOOKUP(AK484,Sifranti!V:Y,3,FALSE)=\"\",\"\",VLOOKUP(AK484,Sifranti!V:Y,3,FALSE)))","v":""},{"$f":"IF(AK484=\"\",\"\",VLOOKUP(AK484,Sifranti!V:Y,4,FALSE))","v":""}]
[{"$f":"IF(B485=\"\",\"\",VLOOKUP(B485,Sifranti!K:L,2,FALSE))","v":""},null,null,null,null,null,null,null,null,"",{"$f":"IF(L485=\"\",\"\",VLOOKUP(L485,Sifranti!A:B,2,FALSE))","v":""},null,{"$f":"IF(N485=\"\",\"\",VLOOKUP(N485,Sifranti!D:F,3,FALSE))","v":""},null,{"$f":"IF(P485=\"\",\"\",VLOOKUP(P485,Sifranti!H:I,2,FALSE))","v":""},null,null,null,null,null,null,null,null,null,null,null,null,null,null,null,null,null,null,null,null,null,null,null,null,null,{"$f":"IF(AN485=\"\",\"\",IF(LEN(VLOOKUP(AN485,Sifranti!BY:BZ,2,FALSE))=0,\"\",VLOOKUP(AN485,Sifranti!BY:BZ,2,FALSE)))","v":""},{"$f":"IF(C485=\"\",\"\",VLOOKUP(C485,Sifranti!P:R,2,FALSE))","v":""},"","",{"$f":"IF(C485=\"\",\"\",VLOOKUP(C485,Sifranti!P:R,3,FALSE))","v":""},{"$f":"IF(N485=\"\",\"\",VLOOKUP(N485,Sifranti!D:F,2,FALSE))","v":""},{"$f":"IF(AK485=\"\",\"\",VLOOKUP(AK485,Sifranti!V:Y,2,FALSE))","v":""},{"$f":"IF(AK485=\"\",\"\",IF(VLOOKUP(AK485,Sifranti!V:Y,3,FALSE)=\"\",\"\",VLOOKUP(AK485,Sifranti!V:Y,3,FALSE)))","v":""},{"$f":"IF(AK485=\"\",\"\",VLOOKUP(AK485,Sifranti!V:Y,4,FALSE))","v":""}]
[{"$f":"IF(B486=\"\",\"\",VLOOKUP(B486,Sifranti!K:L,2,FALSE))","v":""},null,null,null,null,null,null,null,null,"",{"$f":"IF(L486=\"\",\"\",VLOOKUP(L486,Sifranti!A:B,2,FALSE))","v":""},null,{"$f":"IF(N486=\"\",\"\",VLOOKUP(N486,Sifranti!D:F,3,FALSE))","v":""},null,{"$f":"IF(P486=\"\",\"\",VLOOKUP(P486,Sifranti!H:I,2,FALSE))","v":""},null,null,null,null,null,null,null,null,null,null,null,null,null,null,null,null,null,null,null,null,null,null,null,null,null,{"$f":"IF(AN486=\"\",\"\",IF(LEN(VLOOKUP(AN486,Sifranti!BY:BZ,2,FALSE))=0,\"\",VLOOKUP(AN486,Sifranti!BY:BZ,2,FALSE)))","v":""},{"$f":"IF(C486=\"\",\"\",VLOOKUP(C486,Sifranti!P:R,2,FALSE))","v":""},"","",{"$f":"IF(C486=\"\",\"\",VLOOKUP(C486,Sifranti!P:R,3,FALSE))","v":""},{"$f":"IF(N486=\"\",\"\",VLOOKUP(N486,Sifranti!D:F,2,FALSE))","v":""},{"$f":"IF(AK486=\"\",\"\",VLOOKUP(AK486,Sifranti!V:Y,2,FALSE))","v":""},{"$f":"IF(AK486=\"\",\"\",IF(VLOOKUP(AK486,Sifranti!V:Y,3,FALSE)=\"\",\"\",VLOOKUP(AK486,Sifranti!V:Y,3,FALSE)))","v":""},{"$f":"IF(AK486=\"\",\"\",VLOOKUP(AK486,Sifranti!V:Y,4,FALSE))","v":""}]
[{"$f":"IF(B487=\"\",\"\",VLOOKUP(B487,Sifranti!K:L,2,FALSE))","v":""},null,null,null,null,null,null,null,null,"",{"$f":"IF(L487=\"\",\"\",VLOOKUP(L487,Sifranti!A:B,2,FALSE))","v":""},null,{"$f":"IF(N487=\"\",\"\",VLOOKUP(N487,Sifranti!D:F,3,FALSE))","v":""},null,{"$f":"IF(P487=\"\",\"\",VLOOKUP(P487,Sifranti!H:I,2,FALSE))","v":""},null,null,null,null,null,null,null,null,null,null,null,null,null,null,null,null,null,null,null,null,null,null,null,null,null,{"$f":"IF(AN487=\"\",\"\",IF(LEN(VLOOKUP(AN487,Sifranti!BY:BZ,2,FALSE))=0,\"\",VLOOKUP(AN487,Sifranti!BY:BZ,2,FALSE)))","v":""},{"$f":"IF(C487=\"\",\"\",VLOOKUP(C487,Sifranti!P:R,2,FALSE))","v":""},"","",{"$f":"IF(C487=\"\",\"\",VLOOKUP(C487,Sifranti!P:R,3,FALSE))","v":""},{"$f":"IF(N487=\"\",\"\",VLOOKUP(N487,Sifranti!D:F,2,FALSE))","v":""},{"$f":"IF(AK487=\"\",\"\",VLOOKUP(AK487,Sifranti!V:Y,2,FALSE))","v":""},{"$f":"IF(AK487=\"\",\"\",IF(VLOOKUP(AK487,Sifranti!V:Y,3,FALSE)=\"\",\"\",VLOOKUP(AK487,Sifranti!V:Y,3,FALSE)))","v":""},{"$f":"IF(AK487=\"\",\"\",VLOOKUP(AK487,Sifranti!V:Y,4,FALSE))","v":""}]
[{"$f":"IF(B488=\"\",\"\",VLOOKUP(B488,Sifranti!K:L,2,FALSE))","v":""},null,null,null,null,null,null,null,null,"",{"$f":"IF(L488=\"\",\"\",VLOOKUP(L488,Sifranti!A:B,2,FALSE))","v":""},null,{"$f":"IF(N488=\"\",\"\",VLOOKUP(N488,Sifranti!D:F,3,FALSE))","v":""},null,{"$f":"IF(P488=\"\",\"\",VLOOKUP(P488,Sifranti!H:I,2,FALSE))","v":""},null,null,null,null,null,null,null,null,null,null,null,null,null,null,null,null,null,null,null,null,null,null,null,null,null,{"$f":"IF(AN488=\"\",\"\",IF(LEN(VLOOKUP(AN488,Sifranti!BY:BZ,2,FALSE))=0,\"\",VLOOKUP(AN488,Sifranti!BY:BZ,2,FALSE)))","v":""},{"$f":"IF(C488=\"\",\"\",VLOOKUP(C488,Sifranti!P:R,2,FALSE))","v":""},"","",{"$f":"IF(C488=\"\",\"\",VLOOKUP(C488,Sifranti!P:R,3,FALSE))","v":""},{"$f":"IF(N488=\"\",\"\",VLOOKUP(N488,Sifranti!D:F,2,FALSE))","v":""},{"$f":"IF(AK488=\"\",\"\",VLOOKUP(AK488,Sifranti!V:Y,2,FALSE))","v":""},{"$f":"IF(AK488=\"\",\"\",IF(VLOOKUP(AK488,Sifranti!V:Y,3,FALSE)=\"\",\"\",VLOOKUP(AK488,Sifranti!V:Y,3,FALSE)))","v":""},{"$f":"IF(AK488=\"\",\"\",VLOOKUP(AK488,Sifranti!V:Y,4,FALSE))","v":""}]
[{"$f":"IF(B489=\"\",\"\",VLOOKUP(B489,Sifranti!K:L,2,FALSE))","v":""},null,null,null,null,null,null,null,null,"",{"$f":"IF(L489=\"\",\"\",VLOOKUP(L489,Sifranti!A:B,2,FALSE))","v":""},null,{"$f":"IF(N489=\"\",\"\",VLOOKUP(N489,Sifranti!D:F,3,FALSE))","v":""},null,{"$f":"IF(P489=\"\",\"\",VLOOKUP(P489,Sifranti!H:I,2,FALSE))","v":""},null,null,null,null,null,null,null,null,null,null,null,null,null,null,null,null,null,null,null,null,null,null,null,null,null,{"$f":"IF(AN489=\"\",\"\",IF(LEN(VLOOKUP(AN489,Sifranti!BY:BZ,2,FALSE))=0,\"\",VLOOKUP(AN489,Sifranti!BY:BZ,2,FALSE)))","v":""},{"$f":"IF(C489=\"\",\"\",VLOOKUP(C489,Sifranti!P:R,2,FALSE))","v":""},"","",{"$f":"IF(C489=\"\",\"\",VLOOKUP(C489,Sifranti!P:R,3,FALSE))","v":""},{"$f":"IF(N489=\"\",\"\",VLOOKUP(N489,Sifranti!D:F,2,FALSE))","v":""},{"$f":"IF(AK489=\"\",\"\",VLOOKUP(AK489,Sifranti!V:Y,2,FALSE))","v":""},{"$f":"IF(AK489=\"\",\"\",IF(VLOOKUP(AK489,Sifranti!V:Y,3,FALSE)=\"\",\"\",VLOOKUP(AK489,Sifranti!V:Y,3,FALSE)))","v":""},{"$f":"IF(AK489=\"\",\"\",VLOOKUP(AK489,Sifranti!V:Y,4,FALSE))","v":""}]
[{"$f":"IF(B490=\"\",\"\",VLOOKUP(B490,Sifranti!K:L,2,FALSE))","v":""},null,null,null,null,null,null,null,null,"",{"$f":"IF(L490=\"\",\"\",VLOOKUP(L490,Sifranti!A:B,2,FALSE))","v":""},null,{"$f":"IF(N490=\"\",\"\",VLOOKUP(N490,Sifranti!D:F,3,FALSE))","v":""},null,{"$f":"IF(P490=\"\",\"\",VLOOKUP(P490,Sifranti!H:I,2,FALSE))","v":""},null,null,null,null,null,null,null,null,null,null,null,null,null,null,null,null,null,null,null,null,null,null,null,null,null,{"$f":"IF(AN490=\"\",\"\",IF(LEN(VLOOKUP(AN490,Sifranti!BY:BZ,2,FALSE))=0,\"\",VLOOKUP(AN490,Sifranti!BY:BZ,2,FALSE)))","v":""},{"$f":"IF(C490=\"\",\"\",VLOOKUP(C490,Sifranti!P:R,2,FALSE))","v":""},"","",{"$f":"IF(C490=\"\",\"\",VLOOKUP(C490,Sifranti!P:R,3,FALSE))","v":""},{"$f":"IF(N490=\"\",\"\",VLOOKUP(N490,Sifranti!D:F,2,FALSE))","v":""},{"$f":"IF(AK490=\"\",\"\",VLOOKUP(AK490,Sifranti!V:Y,2,FALSE))","v":""},{"$f":"IF(AK490=\"\",\"\",IF(VLOOKUP(AK490,Sifranti!V:Y,3,FALSE)=\"\",\"\",VLOOKUP(AK490,Sifranti!V:Y,3,FALSE)))","v":""},{"$f":"IF(AK490=\"\",\"\",VLOOKUP(AK490,Sifranti!V:Y,4,FALSE))","v":""}]
[{"$f":"IF(B491=\"\",\"\",VLOOKUP(B491,Sifranti!K:L,2,FALSE))","v":""},null,null,null,null,null,null,null,null,"",{"$f":"IF(L491=\"\",\"\",VLOOKUP(L491,Sifranti!A:B,2,FALSE))","v":""},null,{"$f":"IF(N491=\"\",\"\",VLOOKUP(N491,Sifranti!D:F,3,FALSE))","v":""},null,{"$f":"IF(P491=\"\",\"\",VLOOKUP(P491,Sifranti!H:I,2,FALSE))","v":""},null,null,null,null,null,null,null,null,null,null,null,null,null,null,null,null,null,null,null,null,null,null,null,null,null,{"$f":"IF(AN491=\"\",\"\",IF(LEN(VLOOKUP(AN491,Sifranti!BY:BZ,2,FALSE))=0,\"\",VLOOKUP(AN491,Sifranti!BY:BZ,2,FALSE)))","v":""},{"$f":"IF(C491=\"\",\"\",VLOOKUP(C491,Sifranti!P:R,2,FALSE))","v":""},"","",{"$f":"IF(C491=\"\",\"\",VLOOKUP(C491,Sifranti!P:R,3,FALSE))","v":""},{"$f":"IF(N491=\"\",\"\",VLOOKUP(N491,Sifranti!D:F,2,FALSE))","v":""},{"$f":"IF(AK491=\"\",\"\",VLOOKUP(AK491,Sifranti!V:Y,2,FALSE))","v":""},{"$f":"IF(AK491=\"\",\"\",IF(VLOOKUP(AK491,Sifranti!V:Y,3,FALSE)=\"\",\"\",VLOOKUP(AK491,Sifranti!V:Y,3,FALSE)))","v":""},{"$f":"IF(AK491=\"\",\"\",VLOOKUP(AK491,Sifranti!V:Y,4,FALSE))","v":""}]
[{"$f":"IF(B492=\"\",\"\",VLOOKUP(B492,Sifranti!K:L,2,FALSE))","v":""},null,null,null,null,null,null,null,null,"",{"$f":"IF(L492=\"\",\"\",VLOOKUP(L492,Sifranti!A:B,2,FALSE))","v":""},null,{"$f":"IF(N492=\"\",\"\",VLOOKUP(N492,Sifranti!D:F,3,FALSE))","v":""},null,{"$f":"IF(P492=\"\",\"\",VLOOKUP(P492,Sifranti!H:I,2,FALSE))","v":""},null,null,null,null,null,null,null,null,null,null,null,null,null,null,null,null,null,null,null,null,null,null,null,null,null,{"$f":"IF(AN492=\"\",\"\",IF(LEN(VLOOKUP(AN492,Sifranti!BY:BZ,2,FALSE))=0,\"\",VLOOKUP(AN492,Sifranti!BY:BZ,2,FALSE)))","v":""},{"$f":"IF(C492=\"\",\"\",VLOOKUP(C492,Sifranti!P:R,2,FALSE))","v":""},"","",{"$f":"IF(C492=\"\",\"\",VLOOKUP(C492,Sifranti!P:R,3,FALSE))","v":""},{"$f":"IF(N492=\"\",\"\",VLOOKUP(N492,Sifranti!D:F,2,FALSE))","v":""},{"$f":"IF(AK492=\"\",\"\",VLOOKUP(AK492,Sifranti!V:Y,2,FALSE))","v":""},{"$f":"IF(AK492=\"\",\"\",IF(VLOOKUP(AK492,Sifranti!V:Y,3,FALSE)=\"\",\"\",VLOOKUP(AK492,Sifranti!V:Y,3,FALSE)))","v":""},{"$f":"IF(AK492=\"\",\"\",VLOOKUP(AK492,Sifranti!V:Y,4,FALSE))","v":""}]
[{"$f":"IF(B493=\"\",\"\",VLOOKUP(B493,Sifranti!K:L,2,FALSE))","v":""},null,null,null,null,null,null,null,null,"",{"$f":"IF(L493=\"\",\"\",VLOOKUP(L493,Sifranti!A:B,2,FALSE))","v":""},null,{"$f":"IF(N493=\"\",\"\",VLOOKUP(N493,Sifranti!D:F,3,FALSE))","v":""},null,{"$f":"IF(P493=\"\",\"\",VLOOKUP(P493,Sifranti!H:I,2,FALSE))","v":""},null,null,null,null,null,null,null,null,null,null,null,null,null,null,null,null,null,null,null,null,null,null,null,null,null,{"$f":"IF(AN493=\"\",\"\",IF(LEN(VLOOKUP(AN493,Sifranti!BY:BZ,2,FALSE))=0,\"\",VLOOKUP(AN493,Sifranti!BY:BZ,2,FALSE)))","v":""},{"$f":"IF(C493=\"\",\"\",VLOOKUP(C493,Sifranti!P:R,2,FALSE))","v":""},"","",{"$f":"IF(C493=\"\",\"\",VLOOKUP(C493,Sifranti!P:R,3,FALSE))","v":""},{"$f":"IF(N493=\"\",\"\",VLOOKUP(N493,Sifranti!D:F,2,FALSE))","v":""},{"$f":"IF(AK493=\"\",\"\",VLOOKUP(AK493,Sifranti!V:Y,2,FALSE))","v":""},{"$f":"IF(AK493=\"\",\"\",IF(VLOOKUP(AK493,Sifranti!V:Y,3,FALSE)=\"\",\"\",VLOOKUP(AK493,Sifranti!V:Y,3,FALSE)))","v":""},{"$f":"IF(AK493=\"\",\"\",VLOOKUP(AK493,Sifranti!V:Y,4,FALSE))","v":""}]
[{"$f":"IF(B494=\"\",\"\",VLOOKUP(B494,Sifranti!K:L,2,FALSE))","v":""},null,null,null,null,null,null,null,null,"",{"$f":"IF(L494=\"\",\"\",VLOOKUP(L494,Sifranti!A:B,2,FALSE))","v":""},null,{"$f":"IF(N494=\"\",\"\",VLOOKUP(N494,Sifranti!D:F,3,FALSE))","v":""},null,{"$f":"IF(P494=\"\",\"\",VLOOKUP(P494,Sifranti!H:I,2,FALSE))","v":""},null,null,null,null,null,null,null,null,null,null,null,null,null,null,null,null,null,null,null,null,null,null,null,null,null,{"$f":"IF(AN494=\"\",\"\",IF(LEN(VLOOKUP(AN494,Sifranti!BY:BZ,2,FALSE))=0,\"\",VLOOKUP(AN494,Sifranti!BY:BZ,2,FALSE)))","v":""},{"$f":"IF(C494=\"\",\"\",VLOOKUP(C494,Sifranti!P:R,2,FALSE))","v":""},"","",{"$f":"IF(C494=\"\",\"\",VLOOKUP(C494,Sifranti!P:R,3,FALSE))","v":""},{"$f":"IF(N494=\"\",\"\",VLOOKUP(N494,Sifranti!D:F,2,FALSE))","v":""},{"$f":"IF(AK494=\"\",\"\",VLOOKUP(AK494,Sifranti!V:Y,2,FALSE))","v":""},{"$f":"IF(AK494=\"\",\"\",IF(VLOOKUP(AK494,Sifranti!V:Y,3,FALSE)=\"\",\"\",VLOOKUP(AK494,Sifranti!V:Y,3,FALSE)))","v":""},{"$f":"IF(AK494=\"\",\"\",VLOOKUP(AK494,Sifranti!V:Y,4,FALSE))","v":""}]
[{"$f":"IF(B495=\"\",\"\",VLOOKUP(B495,Sifranti!K:L,2,FALSE))","v":""},null,null,null,null,null,null,null,null,"",{"$f":"IF(L495=\"\",\"\",VLOOKUP(L495,Sifranti!A:B,2,FALSE))","v":""},null,{"$f":"IF(N495=\"\",\"\",VLOOKUP(N495,Sifranti!D:F,3,FALSE))","v":""},null,{"$f":"IF(P495=\"\",\"\",VLOOKUP(P495,Sifranti!H:I,2,FALSE))","v":""},null,null,null,null,null,null,null,null,null,null,null,null,null,null,null,null,null,null,null,null,null,null,null,null,null,{"$f":"IF(AN495=\"\",\"\",IF(LEN(VLOOKUP(AN495,Sifranti!BY:BZ,2,FALSE))=0,\"\",VLOOKUP(AN495,Sifranti!BY:BZ,2,FALSE)))","v":""},{"$f":"IF(C495=\"\",\"\",VLOOKUP(C495,Sifranti!P:R,2,FALSE))","v":""},"","",{"$f":"IF(C495=\"\",\"\",VLOOKUP(C495,Sifranti!P:R,3,FALSE))","v":""},{"$f":"IF(N495=\"\",\"\",VLOOKUP(N495,Sifranti!D:F,2,FALSE))","v":""},{"$f":"IF(AK495=\"\",\"\",VLOOKUP(AK495,Sifranti!V:Y,2,FALSE))","v":""},{"$f":"IF(AK495=\"\",\"\",IF(VLOOKUP(AK495,Sifranti!V:Y,3,FALSE)=\"\",\"\",VLOOKUP(AK495,Sifranti!V:Y,3,FALSE)))","v":""},{"$f":"IF(AK495=\"\",\"\",VLOOKUP(AK495,Sifranti!V:Y,4,FALSE))","v":""}]
[{"$f":"IF(B496=\"\",\"\",VLOOKUP(B496,Sifranti!K:L,2,FALSE))","v":""},null,null,null,null,null,null,null,null,"",{"$f":"IF(L496=\"\",\"\",VLOOKUP(L496,Sifranti!A:B,2,FALSE))","v":""},null,{"$f":"IF(N496=\"\",\"\",VLOOKUP(N496,Sifranti!D:F,3,FALSE))","v":""},null,{"$f":"IF(P496=\"\",\"\",VLOOKUP(P496,Sifranti!H:I,2,FALSE))","v":""},null,null,null,null,null,null,null,null,null,null,null,null,null,null,null,null,null,null,null,null,null,null,null,null,null,{"$f":"IF(AN496=\"\",\"\",IF(LEN(VLOOKUP(AN496,Sifranti!BY:BZ,2,FALSE))=0,\"\",VLOOKUP(AN496,Sifranti!BY:BZ,2,FALSE)))","v":""},{"$f":"IF(C496=\"\",\"\",VLOOKUP(C496,Sifranti!P:R,2,FALSE))","v":""},"","",{"$f":"IF(C496=\"\",\"\",VLOOKUP(C496,Sifranti!P:R,3,FALSE))","v":""},{"$f":"IF(N496=\"\",\"\",VLOOKUP(N496,Sifranti!D:F,2,FALSE))","v":""},{"$f":"IF(AK496=\"\",\"\",VLOOKUP(AK496,Sifranti!V:Y,2,FALSE))","v":""},{"$f":"IF(AK496=\"\",\"\",IF(VLOOKUP(AK496,Sifranti!V:Y,3,FALSE)=\"\",\"\",VLOOKUP(AK496,Sifranti!V:Y,3,FALSE)))","v":""},{"$f":"IF(AK496=\"\",\"\",VLOOKUP(AK496,Sifranti!V:Y,4,FALSE))","v":""}]
[{"$f":"IF(B497=\"\",\"\",VLOOKUP(B497,Sifranti!K:L,2,FALSE))","v":""},null,null,null,null,null,null,null,null,"",{"$f":"IF(L497=\"\",\"\",VLOOKUP(L497,Sifranti!A:B,2,FALSE))","v":""},null,{"$f":"IF(N497=\"\",\"\",VLOOKUP(N497,Sifranti!D:F,3,FALSE))","v":""},null,{"$f":"IF(P497=\"\",\"\",VLOOKUP(P497,Sifranti!H:I,2,FALSE))","v":""},null,null,null,null,null,null,null,null,null,null,null,null,null,null,null,null,null,null,null,null,null,null,null,null,null,{"$f":"IF(AN497=\"\",\"\",IF(LEN(VLOOKUP(AN497,Sifranti!BY:BZ,2,FALSE))=0,\"\",VLOOKUP(AN497,Sifranti!BY:BZ,2,FALSE)))","v":""},{"$f":"IF(C497=\"\",\"\",VLOOKUP(C497,Sifranti!P:R,2,FALSE))","v":""},"","",{"$f":"IF(C497=\"\",\"\",VLOOKUP(C497,Sifranti!P:R,3,FALSE))","v":""},{"$f":"IF(N497=\"\",\"\",VLOOKUP(N497,Sifranti!D:F,2,FALSE))","v":""},{"$f":"IF(AK497=\"\",\"\",VLOOKUP(AK497,Sifranti!V:Y,2,FALSE))","v":""},{"$f":"IF(AK497=\"\",\"\",IF(VLOOKUP(AK497,Sifranti!V:Y,3,FALSE)=\"\",\"\",VLOOKUP(AK497,Sifranti!V:Y,3,FALSE)))","v":""},{"$f":"IF(AK497=\"\",\"\",VLOOKUP(AK497,Sifranti!V:Y,4,FALSE))","v":""}]
[{"$f":"IF(B498=\"\",\"\",VLOOKUP(B498,Sifranti!K:L,2,FALSE))","v":""},null,null,null,null,null,null,null,null,"",{"$f":"IF(L498=\"\",\"\",VLOOKUP(L498,Sifranti!A:B,2,FALSE))","v":""},null,{"$f":"IF(N498=\"\",\"\",VLOOKUP(N498,Sifranti!D:F,3,FALSE))","v":""},null,{"$f":"IF(P498=\"\",\"\",VLOOKUP(P498,Sifranti!H:I,2,FALSE))","v":""},null,null,null,null,null,null,null,null,null,null,null,null,null,null,null,null,null,null,null,null,null,null,null,null,null,{"$f":"IF(AN498=\"\",\"\",IF(LEN(VLOOKUP(AN498,Sifranti!BY:BZ,2,FALSE))=0,\"\",VLOOKUP(AN498,Sifranti!BY:BZ,2,FALSE)))","v":""},{"$f":"IF(C498=\"\",\"\",VLOOKUP(C498,Sifranti!P:R,2,FALSE))","v":""},"","",{"$f":"IF(C498=\"\",\"\",VLOOKUP(C498,Sifranti!P:R,3,FALSE))","v":""},{"$f":"IF(N498=\"\",\"\",VLOOKUP(N498,Sifranti!D:F,2,FALSE))","v":""},{"$f":"IF(AK498=\"\",\"\",VLOOKUP(AK498,Sifranti!V:Y,2,FALSE))","v":""},{"$f":"IF(AK498=\"\",\"\",IF(VLOOKUP(AK498,Sifranti!V:Y,3,FALSE)=\"\",\"\",VLOOKUP(AK498,Sifranti!V:Y,3,FALSE)))","v":""},{"$f":"IF(AK498=\"\",\"\",VLOOKUP(AK498,Sifranti!V:Y,4,FALSE))","v":""}]
[{"$f":"IF(B499=\"\",\"\",VLOOKUP(B499,Sifranti!K:L,2,FALSE))","v":""},null,null,null,null,null,null,null,null,"",{"$f":"IF(L499=\"\",\"\",VLOOKUP(L499,Sifranti!A:B,2,FALSE))","v":""},null,{"$f":"IF(N499=\"\",\"\",VLOOKUP(N499,Sifranti!D:F,3,FALSE))","v":""},null,{"$f":"IF(P499=\"\",\"\",VLOOKUP(P499,Sifranti!H:I,2,FALSE))","v":""},null,null,null,null,null,null,null,null,null,null,null,null,null,null,null,null,null,null,null,null,null,null,null,null,null,{"$f":"IF(AN499=\"\",\"\",IF(LEN(VLOOKUP(AN499,Sifranti!BY:BZ,2,FALSE))=0,\"\",VLOOKUP(AN499,Sifranti!BY:BZ,2,FALSE)))","v":""},{"$f":"IF(C499=\"\",\"\",VLOOKUP(C499,Sifranti!P:R,2,FALSE))","v":""},"","",{"$f":"IF(C499=\"\",\"\",VLOOKUP(C499,Sifranti!P:R,3,FALSE))","v":""},{"$f":"IF(N499=\"\",\"\",VLOOKUP(N499,Sifranti!D:F,2,FALSE))","v":""},{"$f":"IF(AK499=\"\",\"\",VLOOKUP(AK499,Sifranti!V:Y,2,FALSE))","v":""},{"$f":"IF(AK499=\"\",\"\",IF(VLOOKUP(AK499,Sifranti!V:Y,3,FALSE)=\"\",\"\",VLOOKUP(AK499,Sifranti!V:Y,3,FALSE)))","v":""},{"$f":"IF(AK499=\"\",\"\",VLOOKUP(AK499,Sifranti!V:Y,4,FALSE))","v":""}]
[{"$f":"IF(B500=\"\",\"\",VLOOKUP(B500,Sifranti!K:L,2,FALSE))","v":""},null,null,null,null,null,null,null,null,"",{"$f":"IF(L500=\"\",\"\",VLOOKUP(L500,Sifranti!A:B,2,FALSE))","v":""},null,{"$f":"IF(N500=\"\",\"\",VLOOKUP(N500,Sifranti!D:F,3,FALSE))","v":""},null,{"$f":"IF(P500=\"\",\"\",VLOOKUP(P500,Sifranti!H:I,2,FALSE))","v":""},null,null,null,null,null,null,null,null,null,null,null,null,null,null,null,null,null,null,null,null,null,null,null,null,null,{"$f":"IF(AN500=\"\",\"\",IF(LEN(VLOOKUP(AN500,Sifranti!BY:BZ,2,FALSE))=0,\"\",VLOOKUP(AN500,Sifranti!BY:BZ,2,FALSE)))","v":""},{"$f":"IF(C500=\"\",\"\",VLOOKUP(C500,Sifranti!P:R,2,FALSE))","v":""},"","",{"$f":"IF(C500=\"\",\"\",VLOOKUP(C500,Sifranti!P:R,3,FALSE))","v":""},{"$f":"IF(N500=\"\",\"\",VLOOKUP(N500,Sifranti!D:F,2,FALSE))","v":""},{"$f":"IF(AK500=\"\",\"\",VLOOKUP(AK500,Sifranti!V:Y,2,FALSE))","v":""},{"$f":"IF(AK500=\"\",\"\",IF(VLOOKUP(AK500,Sifranti!V:Y,3,FALSE)=\"\",\"\",VLOOKUP(AK500,Sifranti!V:Y,3,FALSE)))","v":""},{"$f":"IF(AK500=\"\",\"\",VLOOKUP(AK500,Sifranti!V:Y,4,FALSE))","v":""}]
[{"$f":"IF(B506=\"\",\"\",VLOOKUP(B506,Sifranti!K:L,2,FALSE))","v":""},null,null,null,null,null,null,null,null,"",{"$f":"IF(L506=\"\",\"\",VLOOKUP(L506,Sifranti!A:B,2,FALSE))","v":""},null,{"$f":"IF(N506=\"\",\"\",VLOOKUP(N506,Sifranti!D:F,3,FALSE))","v":""},null,{"$f":"IF(P506=\"\",\"\",VLOOKUP(P506,Sifranti!H:I,2,FALSE))","v":""},null,null,null,null,null,null,null,null,null,null,null,null,null,null,null,null,null,null,null,null,null,null,null,null,null,{"$f":"IF(AN506=\"\",\"\",IF(LEN(VLOOKUP(AN506,Sifranti!BY:BZ,2,FALSE))=0,\"\",VLOOKUP(AN506,Sifranti!BY:BZ,2,FALSE)))","v":""},{"$f":"IF(C506=\"\",\"\",VLOOKUP(C506,Sifranti!P:R,2,FALSE))","v":""},"","",{"$f":"IF(C506=\"\",\"\",VLOOKUP(C506,Sifranti!P:R,3,FALSE))","v":""},{"$f":"IF(N506=\"\",\"\",VLOOKUP(N506,Sifranti!D:F,2,FALSE))","v":""},{"$f":"IF(AK506=\"\",\"\",VLOOKUP(AK506,Sifranti!V:Y,2,FALSE))","v":""},{"$f":"IF(AK506=\"\",\"\",IF(VLOOKUP(AK506,Sifranti!V:Y,3,FALSE)=\"\",\"\",VLOOKUP(AK506,Sifranti!V:Y,3,FALSE)))","v":""},{"$f":"IF(AK506=\"\",\"\",VLOOKUP(AK506,Sifranti!V:Y,4,FALSE))","v":""}]
[{"$f":"IF(B513=\"\",\"\",VLOOKUP(B513,Sifranti!K:L,2,FALSE))","v":""},null,null,null,null,null,null,null,null,"",{"$f":"IF(L513=\"\",\"\",VLOOKUP(L513,Sifranti!A:B,2,FALSE))","v":""},null,{"$f":"IF(N513=\"\",\"\",VLOOKUP(N513,Sifranti!D:F,3,FALSE))","v":""},null,{"$f":"IF(P513=\"\",\"\",VLOOKUP(P513,Sifranti!H:I,2,FALSE))","v":""},null,null,null,null,null,null,null,null,null,null,null,null,null,null,null,null,null,null,null,null,null,null,null,null,null,{"$f":"IF(AN513=\"\",\"\",IF(LEN(VLOOKUP(AN513,Sifranti!BY:BZ,2,FALSE))=0,\"\",VLOOKUP(AN513,Sifranti!BY:BZ,2,FALSE)))","v":""},{"$f":"IF(C513=\"\",\"\",VLOOKUP(C513,Sifranti!P:R,2,FALSE))","v":""},"","",{"$f":"IF(C513=\"\",\"\",VLOOKUP(C513,Sifranti!P:R,3,FALSE))","v":""},{"$f":"IF(N513=\"\",\"\",VLOOKUP(N513,Sifranti!D:F,2,FALSE))","v":""},{"$f":"IF(AK513=\"\",\"\",VLOOKUP(AK513,Sifranti!V:Y,2,FALSE))","v":""},{"$f":"IF(AK513=\"\",\"\",IF(VLOOKUP(AK513,Sifranti!V:Y,3,FALSE)=\"\",\"\",VLOOKUP(AK513,Sifranti!V:Y,3,FALSE)))","v":""},{"$f":"IF(AK513=\"\",\"\",VLOOKUP(AK513,Sifranti!V:Y,4,FALSE))","v":""}]
[{"$f":"IF(B530=\"\",\"\",VLOOKUP(B530,Sifranti!K:L,2,FALSE))","v":""},null,null,null,null,null,null,null,null,"",{"$f":"IF(L530=\"\",\"\",VLOOKUP(L530,Sifranti!A:B,2,FALSE))","v":""},null,{"$f":"IF(N530=\"\",\"\",VLOOKUP(N530,Sifranti!D:F,3,FALSE))","v":""},null,{"$f":"IF(P530=\"\",\"\",VLOOKUP(P530,Sifranti!H:I,2,FALSE))","v":""},null,null,null,null,null,null,null,null,null,null,null,null,null,null,null,null,null,null,null,null,null,null,null,null,null,{"$f":"IF(AN530=\"\",\"\",IF(LEN(VLOOKUP(AN530,Sifranti!BY:BZ,2,FALSE))=0,\"\",VLOOKUP(AN530,Sifranti!BY:BZ,2,FALSE)))","v":""},{"$f":"IF(C530=\"\",\"\",VLOOKUP(C530,Sifranti!P:R,2,FALSE))","v":""},"","",{"$f":"IF(C530=\"\",\"\",VLOOKUP(C530,Sifranti!P:R,3,FALSE))","v":""},{"$f":"IF(N530=\"\",\"\",VLOOKUP(N530,Sifranti!D:F,2,FALSE))","v":""},{"$f":"IF(AK530=\"\",\"\",VLOOKUP(AK530,Sifranti!V:Y,2,FALSE))","v":""},{"$f":"IF(AK530=\"\",\"\",IF(VLOOKUP(AK530,Sifranti!V:Y,3,FALSE)=\"\",\"\",VLOOKUP(AK530,Sifranti!V:Y,3,FALSE)))","v":""},{"$f":"IF(AK530=\"\",\"\",VLOOKUP(AK530,Sifranti!V:Y,4,FALSE))","v":""}]
[{"$f":"IF(B540=\"\",\"\",VLOOKUP(B540,Sifranti!K:L,2,FALSE))","v":""},null,null,null,null,null,null,null,null,"",{"$f":"IF(L540=\"\",\"\",VLOOKUP(L540,Sifranti!A:B,2,FALSE))","v":""},null,{"$f":"IF(N540=\"\",\"\",VLOOKUP(N540,Sifranti!D:F,3,FALSE))","v":""},null,{"$f":"IF(P540=\"\",\"\",VLOOKUP(P540,Sifranti!H:I,2,FALSE))","v":""},null,null,null,null,null,null,null,null,null,null,null,null,null,null,null,null,null,null,null,null,null,null,null,null,null,{"$f":"IF(AN540=\"\",\"\",IF(LEN(VLOOKUP(AN540,Sifranti!BY:BZ,2,FALSE))=0,\"\",VLOOKUP(AN540,Sifranti!BY:BZ,2,FALSE)))","v":""},{"$f":"IF(C540=\"\",\"\",VLOOKUP(C540,Sifranti!P:R,2,FALSE))","v":""},"","",{"$f":"IF(C540=\"\",\"\",VLOOKUP(C540,Sifranti!P:R,3,FALSE))","v":""},{"$f":"IF(N540=\"\",\"\",VLOOKUP(N540,Sifranti!D:F,2,FALSE))","v":""},{"$f":"IF(AK540=\"\",\"\",VLOOKUP(AK540,Sifranti!V:Y,2,FALSE))","v":""},{"$f":"IF(AK540=\"\",\"\",IF(VLOOKUP(AK540,Sifranti!V:Y,3,FALSE)=\"\",\"\",VLOOKUP(AK540,Sifranti!V:Y,3,FALSE)))","v":""},{"$f":"IF(AK540=\"\",\"\",VLOOKUP(AK540,Sifranti!V:Y,4,FALSE))","v":""}]
[{"$f":"IF(B551=\"\",\"\",VLOOKUP(B551,Sifranti!K:L,2,FALSE))","v":""},null,null,null,null,null,null,null,null,"",{"$f":"IF(L551=\"\",\"\",VLOOKUP(L551,Sifranti!A:B,2,FALSE))","v":""},null,{"$f":"IF(N551=\"\",\"\",VLOOKUP(N551,Sifranti!D:F,3,FALSE))","v":""},null,{"$f":"IF(P551=\"\",\"\",VLOOKUP(P551,Sifranti!H:I,2,FALSE))","v":""},null,null,null,null,null,null,null,null,null,null,null,null,null,null,null,null,null,null,null,null,null,null,null,null,null,{"$f":"IF(AN551=\"\",\"\",IF(LEN(VLOOKUP(AN551,Sifranti!BY:BZ,2,FALSE))=0,\"\",VLOOKUP(AN551,Sifranti!BY:BZ,2,FALSE)))","v":""},{"$f":"IF(C551=\"\",\"\",VLOOKUP(C551,Sifranti!P:R,2,FALSE))","v":""},"","",{"$f":"IF(C551=\"\",\"\",VLOOKUP(C551,Sifranti!P:R,3,FALSE))","v":""},{"$f":"IF(N551=\"\",\"\",VLOOKUP(N551,Sifranti!D:F,2,FALSE))","v":""},{"$f":"IF(AK551=\"\",\"\",VLOOKUP(AK551,Sifranti!V:Y,2,FALSE))","v":""},{"$f":"IF(AK551=\"\",\"\",IF(VLOOKUP(AK551,Sifranti!V:Y,3,FALSE)=\"\",\"\",VLOOKUP(AK551,Sifranti!V:Y,3,FALSE)))","v":""},{"$f":"IF(AK551=\"\",\"\",VLOOKUP(AK551,Sifranti!V:Y,4,FALSE))","v":""}]
[{"$f":"IF(B562=\"\",\"\",VLOOKUP(B562,Sifranti!K:L,2,FALSE))","v":""},null,null,null,null,null,null,null,null,"",{"$f":"IF(L562=\"\",\"\",VLOOKUP(L562,Sifranti!A:B,2,FALSE))","v":""},null,{"$f":"IF(N562=\"\",\"\",VLOOKUP(N562,Sifranti!D:F,3,FALSE))","v":""},null,{"$f":"IF(P562=\"\",\"\",VLOOKUP(P562,Sifranti!H:I,2,FALSE))","v":""},null,null,null,null,null,null,null,null,null,null,null,null,null,null,null,null,null,null,null,null,null,null,null,null,null,{"$f":"IF(AN562=\"\",\"\",IF(LEN(VLOOKUP(AN562,Sifranti!BY:BZ,2,FALSE))=0,\"\",VLOOKUP(AN562,Sifranti!BY:BZ,2,FALSE)))","v":""},{"$f":"IF(C562=\"\",\"\",VLOOKUP(C562,Sifranti!P:R,2,FALSE))","v":""},"","",{"$f":"IF(C562=\"\",\"\",VLOOKUP(C562,Sifranti!P:R,3,FALSE))","v":""},{"$f":"IF(N562=\"\",\"\",VLOOKUP(N562,Sifranti!D:F,2,FALSE))","v":""},{"$f":"IF(AK562=\"\",\"\",VLOOKUP(AK562,Sifranti!V:Y,2,FALSE))","v":""},{"$f":"IF(AK562=\"\",\"\",IF(VLOOKUP(AK562,Sifranti!V:Y,3,FALSE)=\"\",\"\",VLOOKUP(AK562,Sifranti!V:Y,3,FALSE)))","v":""},{"$f":"IF(AK562=\"\",\"\",VLOOKUP(AK562,Sifranti!V:Y,4,FALSE))","v":""}]
[{"$f":"IF(B572=\"\",\"\",VLOOKUP(B572,Sifranti!K:L,2,FALSE))","v":""},null,null,null,null,null,null,null,null,"",{"$f":"IF(L572=\"\",\"\",VLOOKUP(L572,Sifranti!A:B,2,FALSE))","v":""},null,{"$f":"IF(N572=\"\",\"\",VLOOKUP(N572,Sifranti!D:F,3,FALSE))","v":""},null,{"$f":"IF(P572=\"\",\"\",VLOOKUP(P572,Sifranti!H:I,2,FALSE))","v":""},null,null,null,null,null,null,null,null,null,null,null,null,null,null,null,null,null,null,null,null,null,null,null,null,null,{"$f":"IF(AN572=\"\",\"\",IF(LEN(VLOOKUP(AN572,Sifranti!BY:BZ,2,FALSE))=0,\"\",VLOOKUP(AN572,Sifranti!BY:BZ,2,FALSE)))","v":""},{"$f":"IF(C572=\"\",\"\",VLOOKUP(C572,Sifranti!P:R,2,FALSE))","v":""},"","",{"$f":"IF(C572=\"\",\"\",VLOOKUP(C572,Sifranti!P:R,3,FALSE))","v":""},{"$f":"IF(N572=\"\",\"\",VLOOKUP(N572,Sifranti!D:F,2,FALSE))","v":""},{"$f":"IF(AK572=\"\",\"\",VLOOKUP(AK572,Sifranti!V:Y,2,FALSE))","v":""},{"$f":"IF(AK572=\"\",\"\",IF(VLOOKUP(AK572,Sifranti!V:Y,3,FALSE)=\"\",\"\",VLOOKUP(AK572,Sifranti!V:Y,3,FALSE)))","v":""},{"$f":"IF(AK572=\"\",\"\",VLOOKUP(AK572,Sifranti!V:Y,4,FALSE))","v":""}]
[{"$f":"IF(B578=\"\",\"\",VLOOKUP(B578,Sifranti!K:L,2,FALSE))","v":""},null,null,null,null,null,null,null,null,{"$f":"IF(H578=\"\",\"\",YEAR(H578))","v":""},{"$f":"IF(L578=\"\",\"\",VLOOKUP(L578,Sifranti!A:B,2,FALSE))","v":""},null,{"$f":"IF(N578=\"\",\"\",VLOOKUP(N578,Sifranti!D:F,3,FALSE))","v":""},null,{"$f":"IF(P578=\"\",\"\",VLOOKUP(P578,Sifranti!H:I,2,FALSE))","v":""},null,null,null,null,null,null,null,null,null,null,null,null,null,null,null,null,null,null,null,null,null,null,null,null,null,{"$f":"IF(AN578=\"\",\"\",IF(LEN(VLOOKUP(AN578,Sifranti!BY:BZ,2,FALSE))=0,\"\",VLOOKUP(AN578,Sifranti!BY:BZ,2,FALSE)))","v":""},{"$f":"IF(C578=\"\",\"\",VLOOKUP(C578,Sifranti!P:R,2,FALSE))","v":""},{"$f":"IF(V578>0,IF(AS578=\"de minimis\",T578/S578*100,U578/AD578*100),\"\")","v":""},{"$f":"IF(AE578>0,AE578/U578*100,\"\")","v":""},{"$f":"IF(C578=\"\",\"\",VLOOKUP(C578,Sifranti!P:R,3,FALSE))","v":""},{"$f":"IF(N578=\"\",\"\",VLOOKUP(N578,Sifranti!D:F,2,FALSE))","v":""},{"$f":"IF(AK578=\"\",\"\",VLOOKUP(AK578,Sifranti!V:Y,2,FALSE))","v":""},{"$f":"IF(AK578=\"\",\"\",IF(VLOOKUP(AK578,Sifranti!V:Y,3,FALSE)=\"\",\"\",VLOOKUP(AK578,Sifranti!V:Y,3,FALSE)))","v":""},{"$f":"IF(AK578=\"\",\"\",VLOOKUP(AK578,Sifranti!V:Y,4,FALSE))","v":""}]
[{"$f":"IF(B596=\"\",\"\",VLOOKUP(B596,Sifranti!K:L,2,FALSE))","v":""},null,null,null,null,null,null,null,null,"",{"$f":"IF(L596=\"\",\"\",VLOOKUP(L596,Sifranti!A:B,2,FALSE))","v":""},null,{"$f":"IF(N596=\"\",\"\",VLOOKUP(N596,Sifranti!D:F,3,FALSE))","v":""},null,{"$f":"IF(P596=\"\",\"\",VLOOKUP(P596,Sifranti!H:I,2,FALSE))","v":""},null,null,null,null,null,null,null,null,null,null,null,null,null,null,null,null,null,null,null,null,null,null,null,null,null,{"$f":"IF(AN596=\"\",\"\",IF(LEN(VLOOKUP(AN596,Sifranti!BY:BZ,2,FALSE))=0,\"\",VLOOKUP(AN596,Sifranti!BY:BZ,2,FALSE)))","v":""},{"$f":"IF(C596=\"\",\"\",VLOOKUP(C596,Sifranti!P:R,2,FALSE))","v":""},"","",{"$f":"IF(C596=\"\",\"\",VLOOKUP(C596,Sifranti!P:R,3,FALSE))","v":""},{"$f":"IF(N596=\"\",\"\",VLOOKUP(N596,Sifranti!D:F,2,FALSE))","v":""},{"$f":"IF(AK596=\"\",\"\",VLOOKUP(AK596,Sifranti!V:Y,2,FALSE))","v":""},{"$f":"IF(AK596=\"\",\"\",IF(VLOOKUP(AK596,Sifranti!V:Y,3,FALSE)=\"\",\"\",VLOOKUP(AK596,Sifranti!V:Y,3,FALSE)))","v":""},{"$f":"IF(AK596=\"\",\"\",VLOOKUP(AK596,Sifranti!V:Y,4,FALSE))","v":""}]
[{"$f":"IF(B604=\"\",\"\",VLOOKUP(B604,Sifranti!K:L,2,FALSE))","v":""},null,null,null,null,null,null,null,null,"",{"$f":"IF(L604=\"\",\"\",VLOOKUP(L604,Sifranti!A:B,2,FALSE))","v":""},null,{"$f":"IF(N604=\"\",\"\",VLOOKUP(N604,Sifranti!D:F,3,FALSE))","v":""},null,{"$f":"IF(P604=\"\",\"\",VLOOKUP(P604,Sifranti!H:I,2,FALSE))","v":""},null,null,null,null,null,null,null,null,null,null,null,null,null,null,null,null,null,null,null,null,null,null,null,null,null,{"$f":"IF(AN604=\"\",\"\",IF(LEN(VLOOKUP(AN604,Sifranti!BY:BZ,2,FALSE))=0,\"\",VLOOKUP(AN604,Sifranti!BY:BZ,2,FALSE)))","v":""},{"$f":"IF(C604=\"\",\"\",VLOOKUP(C604,Sifranti!P:R,2,FALSE))","v":""},"","",{"$f":"IF(C604=\"\",\"\",VLOOKUP(C604,Sifranti!P:R,3,FALSE))","v":""},{"$f":"IF(N604=\"\",\"\",VLOOKUP(N604,Sifranti!D:F,2,FALSE))","v":""},{"$f":"IF(AK604=\"\",\"\",VLOOKUP(AK604,Sifranti!V:Y,2,FALSE))","v":""},{"$f":"IF(AK604=\"\",\"\",IF(VLOOKUP(AK604,Sifranti!V:Y,3,FALSE)=\"\",\"\",VLOOKUP(AK604,Sifranti!V:Y,3,FALSE)))","v":""},{"$f":"IF(AK604=\"\",\"\",VLOOKUP(AK604,Sifranti!V:Y,4,FALSE))","v":""}]
[{"$f":"IF(B610=\"\",\"\",VLOOKUP(B610,Sifranti!K:L,2,FALSE))","v":""},null,null,null,null,null,null,null,null,"",{"$f":"IF(L610=\"\",\"\",VLOOKUP(L610,Sifranti!A:B,2,FALSE))","v":""},null,{"$f":"IF(N610=\"\",\"\",VLOOKUP(N610,Sifranti!D:F,3,FALSE))","v":""},null,{"$f":"IF(P610=\"\",\"\",VLOOKUP(P610,Sifranti!H:I,2,FALSE))","v":""},null,null,null,null,null,null,null,null,null,null,null,null,null,null,null,null,null,null,null,null,null,null,null,null,null,{"$f":"IF(AN610=\"\",\"\",IF(LEN(VLOOKUP(AN610,Sifranti!BY:BZ,2,FALSE))=0,\"\",VLOOKUP(AN610,Sifranti!BY:BZ,2,FALSE)))","v":""},{"$f":"IF(C610=\"\",\"\",VLOOKUP(C610,Sifranti!P:R,2,FALSE))","v":""},"","",{"$f":"IF(C610=\"\",\"\",VLOOKUP(C610,Sifranti!P:R,3,FALSE))","v":""},{"$f":"IF(N610=\"\",\"\",VLOOKUP(N610,Sifranti!D:F,2,FALSE))","v":""},{"$f":"IF(AK610=\"\",\"\",VLOOKUP(AK610,Sifranti!V:Y,2,FALSE))","v":""},{"$f":"IF(AK610=\"\",\"\",IF(VLOOKUP(AK610,Sifranti!V:Y,3,FALSE)=\"\",\"\",VLOOKUP(AK610,Sifranti!V:Y,3,FALSE)))","v":""},{"$f":"IF(AK610=\"\",\"\",VLOOKUP(AK610,Sifranti!V:Y,4,FALSE))","v":""}]
[{"$f":"IF(B620=\"\",\"\",VLOOKUP(B620,Sifranti!K:L,2,FALSE))","v":""},null,null,null,null,null,null,null,null,"",{"$f":"IF(L620=\"\",\"\",VLOOKUP(L620,Sifranti!A:B,2,FALSE))","v":""},null,{"$f":"IF(N620=\"\",\"\",VLOOKUP(N620,Sifranti!D:F,3,FALSE))","v":""},null,{"$f":"IF(P620=\"\",\"\",VLOOKUP(P620,Sifranti!H:I,2,FALSE))","v":""},null,null,null,null,null,null,null,null,null,null,null,null,null,null,null,null,null,null,null,null,null,null,null,null,null,{"$f":"IF(AN620=\"\",\"\",IF(LEN(VLOOKUP(AN620,Sifranti!BY:BZ,2,FALSE))=0,\"\",VLOOKUP(AN620,Sifranti!BY:BZ,2,FALSE)))","v":""},{"$f":"IF(C620=\"\",\"\",VLOOKUP(C620,Sifranti!P:R,2,FALSE))","v":""},"","",{"$f":"IF(C620=\"\",\"\",VLOOKUP(C620,Sifranti!P:R,3,FALSE))","v":""},{"$f":"IF(N620=\"\",\"\",VLOOKUP(N620,Sifranti!D:F,2,FALSE))","v":""},{"$f":"IF(AK620=\"\",\"\",VLOOKUP(AK620,Sifranti!V:Y,2,FALSE))","v":""},{"$f":"IF(AK620=\"\",\"\",IF(VLOOKUP(AK620,Sifranti!V:Y,3,FALSE)=\"\",\"\",VLOOKUP(AK620,Sifranti!V:Y,3,FALSE)))","v":""},{"$f":"IF(AK620=\"\",\"\",VLOOKUP(AK620,Sifranti!V:Y,4,FALSE))","v":""}]
[{"$f":"IF(B635=\"\",\"\",VLOOKUP(B635,Sifranti!K:L,2,FALSE))","v":""},null,null,null,null,null,null,null,null,"",{"$f":"IF(L635=\"\",\"\",VLOOKUP(L635,Sifranti!A:B,2,FALSE))","v":""},null,{"$f":"IF(N635=\"\",\"\",VLOOKUP(N635,Sifranti!D:F,3,FALSE))","v":""},null,{"$f":"IF(P635=\"\",\"\",VLOOKUP(P635,Sifranti!H:I,2,FALSE))","v":""},null,null,null,null,null,null,null,null,null,null,null,null,null,null,null,null,null,null,null,null,null,null,null,null,null,{"$f":"IF(AN635=\"\",\"\",IF(LEN(VLOOKUP(AN635,Sifranti!BY:BZ,2,FALSE))=0,\"\",VLOOKUP(AN635,Sifranti!BY:BZ,2,FALSE)))","v":""},{"$f":"IF(C635=\"\",\"\",VLOOKUP(C635,Sifranti!P:R,2,FALSE))","v":""},"","",{"$f":"IF(C635=\"\",\"\",VLOOKUP(C635,Sifranti!P:R,3,FALSE))","v":""},{"$f":"IF(N635=\"\",\"\",VLOOKUP(N635,Sifranti!D:F,2,FALSE))","v":""},{"$f":"IF(AK635=\"\",\"\",VLOOKUP(AK635,Sifranti!V:Y,2,FALSE))","v":""},{"$f":"IF(AK635=\"\",\"\",IF(VLOOKUP(AK635,Sifranti!V:Y,3,FALSE)=\"\",\"\",VLOOKUP(AK635,Sifranti!V:Y,3,FALSE)))","v":""},{"$f":"IF(AK635=\"\",\"\",VLOOKUP(AK635,Sifranti!V:Y,4,FALSE))","v":""}]
[{"$f":"IF(B642=\"\",\"\",VLOOKUP(B642,Sifranti!K:L,2,FALSE))","v":""},null,null,null,null,null,null,null,null,{"$f":"IF(H642=\"\",\"\",YEAR(H642))","v":""},{"$f":"IF(L642=\"\",\"\",VLOOKUP(L642,Sifranti!A:B,2,FALSE))","v":""},null,{"$f":"IF(N642=\"\",\"\",VLOOKUP(N642,Sifranti!D:F,3,FALSE))","v":""},null,{"$f":"IF(P642=\"\",\"\",VLOOKUP(P642,Sifranti!H:I,2,FALSE))","v":""},null,null,null,null,null,null,null,null,null,null,null,null,null,null,null,null,null,null,null,null,null,null,null,null,null,{"$f":"IF(AN642=\"\",\"\",IF(LEN(VLOOKUP(AN642,Sifranti!BY:BZ,2,FALSE))=0,\"\",VLOOKUP(AN642,Sifranti!BY:BZ,2,FALSE)))","v":""},{"$f":"IF(C642=\"\",\"\",VLOOKUP(C642,Sifranti!P:R,2,FALSE))","v":""},{"$f":"IF(V642>0,IF(AS642=\"de minimis\",T642/S642*100,U642/AD642*100),\"\")","v":""},{"$f":"IF(AE642>0,AE642/U642*100,\"\")","v":""},{"$f":"IF(C642=\"\",\"\",VLOOKUP(C642,Sifranti!P:R,3,FALSE))","v":""},{"$f":"IF(N642=\"\",\"\",VLOOKUP(N642,Sifranti!D:F,2,FALSE))","v":""},{"$f":"IF(AK642=\"\",\"\",VLOOKUP(AK642,Sifranti!V:Y,2,FALSE))","v":""},{"$f":"IF(AK642=\"\",\"\",IF(VLOOKUP(AK642,Sifranti!V:Y,3,FALSE)=\"\",\"\",VLOOKUP(AK642,Sifranti!V:Y,3,FALSE)))","v":""},{"$f":"IF(AK642=\"\",\"\",VLOOKUP(AK642,Sifranti!V:Y,4,FALSE))","v":""}]
[{"$f":"IF(B652=\"\",\"\",VLOOKUP(B652,Sifranti!K:L,2,FALSE))","v":""},null,null,null,null,null,null,null,null,"",{"$f":"IF(L652=\"\",\"\",VLOOKUP(L652,Sifranti!A:B,2,FALSE))","v":""},null,{"$f":"IF(N652=\"\",\"\",VLOOKUP(N652,Sifranti!D:F,3,FALSE))","v":""},null,{"$f":"IF(P652=\"\",\"\",VLOOKUP(P652,Sifranti!H:I,2,FALSE))","v":""},null,null,null,null,null,null,null,null,null,null,null,null,null,null,null,null,null,null,null,null,null,null,null,null,null,{"$f":"IF(AN652=\"\",\"\",IF(LEN(VLOOKUP(AN652,Sifranti!BY:BZ,2,FALSE))=0,\"\",VLOOKUP(AN652,Sifranti!BY:BZ,2,FALSE)))","v":""},{"$f":"IF(C652=\"\",\"\",VLOOKUP(C652,Sifranti!P:R,2,FALSE))","v":""},"","",{"$f":"IF(C652=\"\",\"\",VLOOKUP(C652,Sifranti!P:R,3,FALSE))","v":""},{"$f":"IF(N652=\"\",\"\",VLOOKUP(N652,Sifranti!D:F,2,FALSE))","v":""},{"$f":"IF(AK652=\"\",\"\",VLOOKUP(AK652,Sifranti!V:Y,2,FALSE))","v":""},{"$f":"IF(AK652=\"\",\"\",IF(VLOOKUP(AK652,Sifranti!V:Y,3,FALSE)=\"\",\"\",VLOOKUP(AK652,Sifranti!V:Y,3,FALSE)))","v":""},{"$f":"IF(AK652=\"\",\"\",VLOOKUP(AK652,Sifranti!V:Y,4,FALSE))","v":""}]
[{"$f":"IF(B669=\"\",\"\",VLOOKUP(B669,Sifranti!K:L,2,FALSE))","v":""},null,null,null,null,null,null,null,null,"",{"$f":"IF(L669=\"\",\"\",VLOOKUP(L669,Sifranti!A:B,2,FALSE))","v":""},null,{"$f":"IF(N669=\"\",\"\",VLOOKUP(N669,Sifranti!D:F,3,FALSE))","v":""},null,{"$f":"IF(P669=\"\",\"\",VLOOKUP(P669,Sifranti!H:I,2,FALSE))","v":""},null,null,null,null,null,null,null,null,null,null,null,null,null,null,null,null,null,null,null,null,null,null,null,null,null,{"$f":"IF(AN669=\"\",\"\",IF(LEN(VLOOKUP(AN669,Sifranti!BY:BZ,2,FALSE))=0,\"\",VLOOKUP(AN669,Sifranti!BY:BZ,2,FALSE)))","v":""},{"$f":"IF(C669=\"\",\"\",VLOOKUP(C669,Sifranti!P:R,2,FALSE))","v":""},"","",{"$f":"IF(C669=\"\",\"\",VLOOKUP(C669,Sifranti!P:R,3,FALSE))","v":""},{"$f":"IF(N669=\"\",\"\",VLOOKUP(N669,Sifranti!D:F,2,FALSE))","v":""},{"$f":"IF(AK669=\"\",\"\",VLOOKUP(AK669,Sifranti!V:Y,2,FALSE))","v":""},{"$f":"IF(AK669=\"\",\"\",IF(VLOOKUP(AK669,Sifranti!V:Y,3,FALSE)=\"\",\"\",VLOOKUP(AK669,Sifranti!V:Y,3,FALSE)))","v":""},{"$f":"IF(AK669=\"\",\"\",VLOOKUP(AK669,Sifranti!V:Y,4,FALSE))","v":""}]
[{"$f":"IF(B680=\"\",\"\",VLOOKUP(B680,Sifranti!K:L,2,FALSE))","v":""},null,null,null,null,null,null,null,null,"",{"$f":"IF(L680=\"\",\"\",VLOOKUP(L680,Sifranti!A:B,2,FALSE))","v":""},null,{"$f":"IF(N680=\"\",\"\",VLOOKUP(N680,Sifranti!D:F,3,FALSE))","v":""},null,{"$f":"IF(P680=\"\",\"\",VLOOKUP(P680,Sifranti!H:I,2,FALSE))","v":""},null,null,null,null,null,null,null,null,null,null,null,null,null,null,null,null,null,null,null,null,null,null,null,null,null,{"$f":"IF(AN680=\"\",\"\",IF(LEN(VLOOKUP(AN680,Sifranti!BY:BZ,2,FALSE))=0,\"\",VLOOKUP(AN680,Sifranti!BY:BZ,2,FALSE)))","v":""},{"$f":"IF(C680=\"\",\"\",VLOOKUP(C680,Sifranti!P:R,2,FALSE))","v":""},"","",{"$f":"IF(C680=\"\",\"\",VLOOKUP(C680,Sifranti!P:R,3,FALSE))","v":""},{"$f":"IF(N680=\"\",\"\",VLOOKUP(N680,Sifranti!D:F,2,FALSE))","v":""},{"$f":"IF(AK680=\"\",\"\",VLOOKUP(AK680,Sifranti!V:Y,2,FALSE))","v":""},{"$f":"IF(AK680=\"\",\"\",IF(VLOOKUP(AK680,Sifranti!V:Y,3,FALSE)=\"\",\"\",VLOOKUP(AK680,Sifranti!V:Y,3,FALSE)))","v":""},{"$f":"IF(AK680=\"\",\"\",VLOOKUP(AK680,Sifranti!V:Y,4,FALSE))","v":""}]
[{"$f":"IF(B684=\"\",\"\",VLOOKUP(B684,Sifranti!K:L,2,FALSE))","v":""},null,null,null,null,null,null,null,null,"",{"$f":"IF(L684=\"\",\"\",VLOOKUP(L684,Sifranti!A:B,2,FALSE))","v":""},null,{"$f":"IF(N684=\"\",\"\",VLOOKUP(N684,Sifranti!D:F,3,FALSE))","v":""},null,{"$f":"IF(P684=\"\",\"\",VLOOKUP(P684,Sifranti!H:I,2,FALSE))","v":""},null,null,null,null,null,null,null,null,null,null,null,null,null,null,null,null,null,null,null,null,null,null,null,null,null,{"$f":"IF(AN684=\"\",\"\",IF(LEN(VLOOKUP(AN684,Sifranti!BY:BZ,2,FALSE))=0,\"\",VLOOKUP(AN684,Sifranti!BY:BZ,2,FALSE)))","v":""},{"$f":"IF(C684=\"\",\"\",VLOOKUP(C684,Sifranti!P:R,2,FALSE))","v":""},"","",{"$f":"IF(C684=\"\",\"\",VLOOKUP(C684,Sifranti!P:R,3,FALSE))","v":""},{"$f":"IF(N684=\"\",\"\",VLOOKUP(N684,Sifranti!D:F,2,FALSE))","v":""},{"$f":"IF(AK684=\"\",\"\",VLOOKUP(AK684,Sifranti!V:Y,2,FALSE))","v":""},{"$f":"IF(AK684=\"\",\"\",IF(VLOOKUP(AK684,Sifranti!V:Y,3,FALSE)=\"\",\"\",VLOOKUP(AK684,Sifranti!V:Y,3,FALSE)))","v":""},{"$f":"IF(AK684=\"\",\"\",VLOOKUP(AK684,Sifranti!V:Y,4,FALSE))","v":""}]
[{"$f":"IF(B701=\"\",\"\",VLOOKUP(B701,Sifranti!K:L,2,FALSE))","v":""},null,null,null,null,null,null,null,null,"",{"$f":"IF(L701=\"\",\"\",VLOOKUP(L701,Sifranti!A:B,2,FALSE))","v":""},null,{"$f":"IF(N701=\"\",\"\",VLOOKUP(N701,Sifranti!D:F,3,FALSE))","v":""},null,{"$f":"IF(P701=\"\",\"\",VLOOKUP(P701,Sifranti!H:I,2,FALSE))","v":""},null,null,null,null,null,null,null,null,null,null,null,null,null,null,null,null,null,null,null,null,null,null,null,null,null,{"$f":"IF(AN701=\"\",\"\",IF(LEN(VLOOKUP(AN701,Sifranti!BY:BZ,2,FALSE))=0,\"\",VLOOKUP(AN701,Sifranti!BY:BZ,2,FALSE)))","v":""},{"$f":"IF(C701=\"\",\"\",VLOOKUP(C701,Sifranti!P:R,2,FALSE))","v":""},"","",{"$f":"IF(C701=\"\",\"\",VLOOKUP(C701,Sifranti!P:R,3,FALSE))","v":""},{"$f":"IF(N701=\"\",\"\",VLOOKUP(N701,Sifranti!D:F,2,FALSE))","v":""},{"$f":"IF(AK701=\"\",\"\",VLOOKUP(AK701,Sifranti!V:Y,2,FALSE))","v":""},{"$f":"IF(AK701=\"\",\"\",IF(VLOOKUP(AK701,Sifranti!V:Y,3,FALSE)=\"\",\"\",VLOOKUP(AK701,Sifranti!V:Y,3,FALSE)))","v":""},{"$f":"IF(AK701=\"\",\"\",VLOOKUP(AK701,Sifranti!V:Y,4,FALSE))","v":""}]
[{"$f":"IF(B711=\"\",\"\",VLOOKUP(B711,Sifranti!K:L,2,FALSE))","v":""},null,null,null,null,null,null,null,null,"",{"$f":"IF(L711=\"\",\"\",VLOOKUP(L711,Sifranti!A:B,2,FALSE))","v":""},null,{"$f":"IF(N711=\"\",\"\",VLOOKUP(N711,Sifranti!D:F,3,FALSE))","v":""},null,{"$f":"IF(P711=\"\",\"\",VLOOKUP(P711,Sifranti!H:I,2,FALSE))","v":""},null,null,null,null,null,null,null,null,null,null,null,null,null,null,null,null,null,null,null,null,null,null,null,null,null,{"$f":"IF(AN711=\"\",\"\",IF(LEN(VLOOKUP(AN711,Sifranti!BY:BZ,2,FALSE))=0,\"\",VLOOKUP(AN711,Sifranti!BY:BZ,2,FALSE)))","v":""},{"$f":"IF(C711=\"\",\"\",VLOOKUP(C711,Sifranti!P:R,2,FALSE))","v":""},"","",{"$f":"IF(C711=\"\",\"\",VLOOKUP(C711,Sifranti!P:R,3,FALSE))","v":""},{"$f":"IF(N711=\"\",\"\",VLOOKUP(N711,Sifranti!D:F,2,FALSE))","v":""},{"$f":"IF(AK711=\"\",\"\",VLOOKUP(AK711,Sifranti!V:Y,2,FALSE))","v":""},{"$f":"IF(AK711=\"\",\"\",IF(VLOOKUP(AK711,Sifranti!V:Y,3,FALSE)=\"\",\"\",VLOOKUP(AK711,Sifranti!V:Y,3,FALSE)))","v":""},{"$f":"IF(AK711=\"\",\"\",VLOOKUP(AK711,Sifranti!V:Y,4,FALSE))","v":""}]
[{"$f":"IF(B719=\"\",\"\",VLOOKUP(B719,Sifranti!K:L,2,FALSE))","v":""},null,null,null,null,null,null,null,null,"",{"$f":"IF(L719=\"\",\"\",VLOOKUP(L719,Sifranti!A:B,2,FALSE))","v":""},null,{"$f":"IF(N719=\"\",\"\",VLOOKUP(N719,Sifranti!D:F,3,FALSE))","v":""},null,{"$f":"IF(P719=\"\",\"\",VLOOKUP(P719,Sifranti!H:I,2,FALSE))","v":""},null,null,null,null,null,null,null,null,null,null,null,null,null,null,null,null,null,null,null,null,null,null,null,null,null,{"$f":"IF(AN719=\"\",\"\",IF(LEN(VLOOKUP(AN719,Sifranti!BY:BZ,2,FALSE))=0,\"\",VLOOKUP(AN719,Sifranti!BY:BZ,2,FALSE)))","v":""},{"$f":"IF(C719=\"\",\"\",VLOOKUP(C719,Sifranti!P:R,2,FALSE))","v":""},"","",{"$f":"IF(C719=\"\",\"\",VLOOKUP(C719,Sifranti!P:R,3,FALSE))","v":""},{"$f":"IF(N719=\"\",\"\",VLOOKUP(N719,Sifranti!D:F,2,FALSE))","v":""},{"$f":"IF(AK719=\"\",\"\",VLOOKUP(AK719,Sifranti!V:Y,2,FALSE))","v":""},{"$f":"IF(AK719=\"\",\"\",IF(VLOOKUP(AK719,Sifranti!V:Y,3,FALSE)=\"\",\"\",VLOOKUP(AK719,Sifranti!V:Y,3,FALSE)))","v":""},{"$f":"IF(AK719=\"\",\"\",VLOOKUP(AK719,Sifranti!V:Y,4,FALSE))","v":""}]
[{"$f":"IF(B726=\"\",\"\",VLOOKUP(B726,Sifranti!K:L,2,FALSE))","v":""},null,null,null,null,null,null,null,null,"",{"$f":"IF(L726=\"\",\"\",VLOOKUP(L726,Sifranti!A:B,2,FALSE))","v":""},null,{"$f":"IF(N726=\"\",\"\",VLOOKUP(N726,Sifranti!D:F,3,FALSE))","v":""},null,{"$f":"IF(P726=\"\",\"\",VLOOKUP(P726,Sifranti!H:I,2,FALSE))","v":""},null,null,null,null,null,null,null,null,null,null,null,null,null,null,null,null,null,null,null,null,null,null,null,null,null,{"$f":"IF(AN726=\"\",\"\",IF(LEN(VLOOKUP(AN726,Sifranti!BY:BZ,2,FALSE))=0,\"\",VLOOKUP(AN726,Sifranti!BY:BZ,2,FALSE)))","v":""},{"$f":"IF(C726=\"\",\"\",VLOOKUP(C726,Sifranti!P:R,2,FALSE))","v":""},"","",{"$f":"IF(C726=\"\",\"\",VLOOKUP(C726,Sifranti!P:R,3,FALSE))","v":""},{"$f":"IF(N726=\"\",\"\",VLOOKUP(N726,Sifranti!D:F,2,FALSE))","v":""},{"$f":"IF(AK726=\"\",\"\",VLOOKUP(AK726,Sifranti!V:Y,2,FALSE))","v":""},{"$f":"IF(AK726=\"\",\"\",IF(VLOOKUP(AK726,Sifranti!V:Y,3,FALSE)=\"\",\"\",VLOOKUP(AK726,Sifranti!V:Y,3,FALSE)))","v":""},{"$f":"IF(AK726=\"\",\"\",VLOOKUP(AK726,Sifranti!V:Y,4,FALSE))","v":""}]
[{"$f":"IF(B743=\"\",\"\",VLOOKUP(B743,Sifranti!K:L,2,FALSE))","v":""},null,null,null,null,null,null,null,null,"",{"$f":"IF(L743=\"\",\"\",VLOOKUP(L743,Sifranti!A:B,2,FALSE))","v":""},null,{"$f":"IF(N743=\"\",\"\",VLOOKUP(N743,Sifranti!D:F,3,FALSE))","v":""},null,{"$f":"IF(P743=\"\",\"\",VLOOKUP(P743,Sifranti!H:I,2,FALSE))","v":""},null,null,null,null,null,null,null,null,null,null,null,null,null,null,null,null,null,null,null,null,null,null,null,null,null,{"$f":"IF(AN743=\"\",\"\",IF(LEN(VLOOKUP(AN743,Sifranti!BY:BZ,2,FALSE))=0,\"\",VLOOKUP(AN743,Sifranti!BY:BZ,2,FALSE)))","v":""},{"$f":"IF(C743=\"\",\"\",VLOOKUP(C743,Sifranti!P:R,2,FALSE))","v":""},"","",{"$f":"IF(C743=\"\",\"\",VLOOKUP(C743,Sifranti!P:R,3,FALSE))","v":""},{"$f":"IF(N743=\"\",\"\",VLOOKUP(N743,Sifranti!D:F,2,FALSE))","v":""},{"$f":"IF(AK743=\"\",\"\",VLOOKUP(AK743,Sifranti!V:Y,2,FALSE))","v":""},{"$f":"IF(AK743=\"\",\"\",IF(VLOOKUP(AK743,Sifranti!V:Y,3,FALSE)=\"\",\"\",VLOOKUP(AK743,Sifranti!V:Y,3,FALSE)))","v":""},{"$f":"IF(AK743=\"\",\"\",VLOOKUP(AK743,Sifranti!V:Y,4,FALSE))","v":""}]
[{"$f":"IF(B749=\"\",\"\",VLOOKUP(B749,Sifranti!K:L,2,FALSE))","v":""},null,null,null,null,null,null,null,null,"",{"$f":"IF(L749=\"\",\"\",VLOOKUP(L749,Sifranti!A:B,2,FALSE))","v":""},null,{"$f":"IF(N749=\"\",\"\",VLOOKUP(N749,Sifranti!D:F,3,FALSE))","v":""},null,{"$f":"IF(P749=\"\",\"\",VLOOKUP(P749,Sifranti!H:I,2,FALSE))","v":""},null,null,null,null,null,null,null,null,null,null,null,null,null,null,null,null,null,null,null,null,null,null,null,null,null,{"$f":"IF(AN749=\"\",\"\",IF(LEN(VLOOKUP(AN749,Sifranti!BY:BZ,2,FALSE))=0,\"\",VLOOKUP(AN749,Sifranti!BY:BZ,2,FALSE)))","v":""},{"$f":"IF(C749=\"\",\"\",VLOOKUP(C749,Sifranti!P:R,2,FALSE))","v":""},"","",{"$f":"IF(C749=\"\",\"\",VLOOKUP(C749,Sifranti!P:R,3,FALSE))","v":""},{"$f":"IF(N749=\"\",\"\",VLOOKUP(N749,Sifranti!D:F,2,FALSE))","v":""},{"$f":"IF(AK749=\"\",\"\",VLOOKUP(AK749,Sifranti!V:Y,2,FALSE))","v":""},{"$f":"IF(AK749=\"\",\"\",IF(VLOOKUP(AK749,Sifranti!V:Y,3,FALSE)=\"\",\"\",VLOOKUP(AK749,Sifranti!V:Y,3,FALSE)))","v":""},{"$f":"IF(AK749=\"\",\"\",VLOOKUP(AK749,Sifranti!V:Y,4,FALSE))","v":""}]
[{"$f":"IF(B764=\"\",\"\",VLOOKUP(B764,Sifranti!K:L,2,FALSE))","v":""},null,null,null,null,null,null,null,null,"",{"$f":"IF(L764=\"\",\"\",VLOOKUP(L764,Sifranti!A:B,2,FALSE))","v":""},null,{"$f":"IF(N764=\"\",\"\",VLOOKUP(N764,Sifranti!D:F,3,FALSE))","v":""},null,{"$f":"IF(P764=\"\",\"\",VLOOKUP(P764,Sifranti!H:I,2,FALSE))","v":""},null,null,null,null,null,null,null,null,null,null,null,null,null,null,null,null,null,null,null,null,null,null,null,null,null,{"$f":"IF(AN764=\"\",\"\",IF(LEN(VLOOKUP(AN764,Sifranti!BY:BZ,2,FALSE))=0,\"\",VLOOKUP(AN764,Sifranti!BY:BZ,2,FALSE)))","v":""},{"$f":"IF(C764=\"\",\"\",VLOOKUP(C764,Sifranti!P:R,2,FALSE))","v":""},"","",{"$f":"IF(C764=\"\",\"\",VLOOKUP(C764,Sifranti!P:R,3,FALSE))","v":""},{"$f":"IF(N764=\"\",\"\",VLOOKUP(N764,Sifranti!D:F,2,FALSE))","v":""},{"$f":"IF(AK764=\"\",\"\",VLOOKUP(AK764,Sifranti!V:Y,2,FALSE))","v":""},{"$f":"IF(AK764=\"\",\"\",IF(VLOOKUP(AK764,Sifranti!V:Y,3,FALSE)=\"\",\"\",VLOOKUP(AK764,Sifranti!V:Y,3,FALSE)))","v":""},{"$f":"IF(AK764=\"\",\"\",VLOOKUP(AK764,Sifranti!V:Y,4,FALSE))","v":""}]
[{"$f":"IF(B775=\"\",\"\",VLOOKUP(B775,Sifranti!K:L,2,FALSE))","v":""},null,null,null,null,null,null,null,null,"",{"$f":"IF(L775=\"\",\"\",VLOOKUP(L775,Sifranti!A:B,2,FALSE))","v":""},null,{"$f":"IF(N775=\"\",\"\",VLOOKUP(N775,Sifranti!D:F,3,FALSE))","v":""},null,{"$f":"IF(P775=\"\",\"\",VLOOKUP(P775,Sifranti!H:I,2,FALSE))","v":""},null,null,null,null,null,null,null,null,null,null,null,null,null,null,null,null,null,null,null,null,null,null,null,null,null,{"$f":"IF(AN775=\"\",\"\",IF(LEN(VLOOKUP(AN775,Sifranti!BY:BZ,2,FALSE))=0,\"\",VLOOKUP(AN775,Sifranti!BY:BZ,2,FALSE)))","v":""},{"$f":"IF(C775=\"\",\"\",VLOOKUP(C775,Sifranti!P:R,2,FALSE))","v":""},"","",{"$f":"IF(C775=\"\",\"\",VLOOKUP(C775,Sifranti!P:R,3,FALSE))","v":""},{"$f":"IF(N775=\"\",\"\",VLOOKUP(N775,Sifranti!D:F,2,FALSE))","v":""},{"$f":"IF(AK775=\"\",\"\",VLOOKUP(AK775,Sifranti!V:Y,2,FALSE))","v":""},{"$f":"IF(AK775=\"\",\"\",IF(VLOOKUP(AK775,Sifranti!V:Y,3,FALSE)=\"\",\"\",VLOOKUP(AK775,Sifranti!V:Y,3,FALSE)))","v":""},{"$f":"IF(AK775=\"\",\"\",VLOOKUP(AK775,Sifranti!V:Y,4,FALSE))","v":""}]
[{"$f":"IF(B781=\"\",\"\",VLOOKUP(B781,Sifranti!K:L,2,FALSE))","v":""},null,null,null,null,null,null,null,null,"",{"$f":"IF(L781=\"\",\"\",VLOOKUP(L781,Sifranti!A:B,2,FALSE))","v":""},null,{"$f":"IF(N781=\"\",\"\",VLOOKUP(N781,Sifranti!D:F,3,FALSE))","v":""},null,{"$f":"IF(P781=\"\",\"\",VLOOKUP(P781,Sifranti!H:I,2,FALSE))","v":""},null,null,null,null,null,null,null,null,null,null,null,null,null,null,null,null,null,null,null,null,null,null,null,null,null,{"$f":"IF(AN781=\"\",\"\",IF(LEN(VLOOKUP(AN781,Sifranti!BY:BZ,2,FALSE))=0,\"\",VLOOKUP(AN781,Sifranti!BY:BZ,2,FALSE)))","v":""},{"$f":"IF(C781=\"\",\"\",VLOOKUP(C781,Sifranti!P:R,2,FALSE))","v":""},"","",{"$f":"IF(C781=\"\",\"\",VLOOKUP(C781,Sifranti!P:R,3,FALSE))","v":""},{"$f":"IF(N781=\"\",\"\",VLOOKUP(N781,Sifranti!D:F,2,FALSE))","v":""},{"$f":"IF(AK781=\"\",\"\",VLOOKUP(AK781,Sifranti!V:Y,2,FALSE))","v":""},{"$f":"IF(AK781=\"\",\"\",IF(VLOOKUP(AK781,Sifranti!V:Y,3,FALSE)=\"\",\"\",VLOOKUP(AK781,Sifranti!V:Y,3,FALSE)))","v":""},{"$f":"IF(AK781=\"\",\"\",VLOOKUP(AK781,Sifranti!V:Y,4,FALSE))","v":""}]
[{"$f":"IF(B791=\"\",\"\",VLOOKUP(B791,Sifranti!K:L,2,FALSE))","v":""},null,null,null,null,null,null,null,null,"",{"$f":"IF(L791=\"\",\"\",VLOOKUP(L791,Sifranti!A:B,2,FALSE))","v":""},null,{"$f":"IF(N791=\"\",\"\",VLOOKUP(N791,Sifranti!D:F,3,FALSE))","v":""},null,{"$f":"IF(P791=\"\",\"\",VLOOKUP(P791,Sifranti!H:I,2,FALSE))","v":""},null,null,null,null,null,null,null,null,null,null,null,null,null,null,null,null,null,null,null,null,null,null,null,null,null,{"$f":"IF(AN791=\"\",\"\",IF(LEN(VLOOKUP(AN791,Sifranti!BY:BZ,2,FALSE))=0,\"\",VLOOKUP(AN791,Sifranti!BY:BZ,2,FALSE)))","v":""},{"$f":"IF(C791=\"\",\"\",VLOOKUP(C791,Sifranti!P:R,2,FALSE))","v":""},"","",{"$f":"IF(C791=\"\",\"\",VLOOKUP(C791,Sifranti!P:R,3,FALSE))","v":""},{"$f":"IF(N791=\"\",\"\",VLOOKUP(N791,Sifranti!D:F,2,FALSE))","v":""},{"$f":"IF(AK791=\"\",\"\",VLOOKUP(AK791,Sifranti!V:Y,2,FALSE))","v":""},{"$f":"IF(AK791=\"\",\"\",IF(VLOOKUP(AK791,Sifranti!V:Y,3,FALSE)=\"\",\"\",VLOOKUP(AK791,Sifranti!V:Y,3,FALSE)))","v":""},{"$f":"IF(AK791=\"\",\"\",VLOOKUP(AK791,Sifranti!V:Y,4,FALSE))","v":""}]
[{"$f":"IF(B803=\"\",\"\",VLOOKUP(B803,Sifranti!K:L,2,FALSE))","v":""},null,null,null,null,null,null,null,null,"",{"$f":"IF(L803=\"\",\"\",VLOOKUP(L803,Sifranti!A:B,2,FALSE))","v":""},null,{"$f":"IF(N803=\"\",\"\",VLOOKUP(N803,Sifranti!D:F,3,FALSE))","v":""},null,{"$f":"IF(P803=\"\",\"\",VLOOKUP(P803,Sifranti!H:I,2,FALSE))","v":""},null,null,null,null,null,null,null,null,null,null,null,null,null,null,null,null,null,null,null,null,null,null,null,null,null,{"$f":"IF(AN803=\"\",\"\",IF(LEN(VLOOKUP(AN803,Sifranti!BY:BZ,2,FALSE))=0,\"\",VLOOKUP(AN803,Sifranti!BY:BZ,2,FALSE)))","v":""},{"$f":"IF(C803=\"\",\"\",VLOOKUP(C803,Sifranti!P:R,2,FALSE))","v":""},"","",{"$f":"IF(C803=\"\",\"\",VLOOKUP(C803,Sifranti!P:R,3,FALSE))","v":""},{"$f":"IF(N803=\"\",\"\",VLOOKUP(N803,Sifranti!D:F,2,FALSE))","v":""},{"$f":"IF(AK803=\"\",\"\",VLOOKUP(AK803,Sifranti!V:Y,2,FALSE))","v":""},{"$f":"IF(AK803=\"\",\"\",IF(VLOOKUP(AK803,Sifranti!V:Y,3,FALSE)=\"\",\"\",VLOOKUP(AK803,Sifranti!V:Y,3,FALSE)))","v":""},{"$f":"IF(AK803=\"\",\"\",VLOOKUP(AK803,Sifranti!V:Y,4,FALSE))","v":""}]
[{"$f":"IF(B817=\"\",\"\",VLOOKUP(B817,Sifranti!K:L,2,FALSE))","v":""},null,null,null,null,null,null,null,null,"",{"$f":"IF(L817=\"\",\"\",VLOOKUP(L817,Sifranti!A:B,2,FALSE))","v":""},null,{"$f":"IF(N817=\"\",\"\",VLOOKUP(N817,Sifranti!D:F,3,FALSE))","v":""},null,{"$f":"IF(P817=\"\",\"\",VLOOKUP(P817,Sifranti!H:I,2,FALSE))","v":""},null,null,null,null,null,null,null,null,null,null,null,null,null,null,null,null,null,null,null,null,null,null,null,null,null,{"$f":"IF(AN817=\"\",\"\",IF(LEN(VLOOKUP(AN817,Sifranti!BY:BZ,2,FALSE))=0,\"\",VLOOKUP(AN817,Sifranti!BY:BZ,2,FALSE)))","v":""},{"$f":"IF(C817=\"\",\"\",VLOOKUP(C817,Sifranti!P:R,2,FALSE))","v":""},"","",{"$f":"IF(C817=\"\",\"\",VLOOKUP(C817,Sifranti!P:R,3,FALSE))","v":""},{"$f":"IF(N817=\"\",\"\",VLOOKUP(N817,Sifranti!D:F,2,FALSE))","v":""},{"$f":"IF(AK817=\"\",\"\",VLOOKUP(AK817,Sifranti!V:Y,2,FALSE))","v":""},{"$f":"IF(AK817=\"\",\"\",IF(VLOOKUP(AK817,Sifranti!V:Y,3,FALSE)=\"\",\"\",VLOOKUP(AK817,Sifranti!V:Y,3,FALSE)))","v":""},{"$f":"IF(AK817=\"\",\"\",VLOOKUP(AK817,Sifranti!V:Y,4,FALSE))","v":""}]
[{"$f":"IF(B823=\"\",\"\",VLOOKUP(B823,Sifranti!K:L,2,FALSE))","v":""},null,null,null,null,null,null,null,null,"",{"$f":"IF(L823=\"\",\"\",VLOOKUP(L823,Sifranti!A:B,2,FALSE))","v":""},null,{"$f":"IF(N823=\"\",\"\",VLOOKUP(N823,Sifranti!D:F,3,FALSE))","v":""},null,{"$f":"IF(P823=\"\",\"\",VLOOKUP(P823,Sifranti!H:I,2,FALSE))","v":""},null,null,null,null,null,null,null,null,null,null,null,null,null,null,null,null,null,null,null,null,null,null,null,null,null,{"$f":"IF(AN823=\"\",\"\",IF(LEN(VLOOKUP(AN823,Sifranti!BY:BZ,2,FALSE))=0,\"\",VLOOKUP(AN823,Sifranti!BY:BZ,2,FALSE)))","v":""},{"$f":"IF(C823=\"\",\"\",VLOOKUP(C823,Sifranti!P:R,2,FALSE))","v":""},"","",{"$f":"IF(C823=\"\",\"\",VLOOKUP(C823,Sifranti!P:R,3,FALSE))","v":""},{"$f":"IF(N823=\"\",\"\",VLOOKUP(N823,Sifranti!D:F,2,FALSE))","v":""},{"$f":"IF(AK823=\"\",\"\",VLOOKUP(AK823,Sifranti!V:Y,2,FALSE))","v":""},{"$f":"IF(AK823=\"\",\"\",IF(VLOOKUP(AK823,Sifranti!V:Y,3,FALSE)=\"\",\"\",VLOOKUP(AK823,Sifranti!V:Y,3,FALSE)))","v":""},{"$f":"IF(AK823=\"\",\"\",VLOOKUP(AK823,Sifranti!V:Y,4,FALSE))","v":""}]
[{"$f":"IF(B840=\"\",\"\",VLOOKUP(B840,Sifranti!K:L,2,FALSE))","v":""},null,null,null,null,null,null,null,null,"",{"$f":"IF(L840=\"\",\"\",VLOOKUP(L840,Sifranti!A:B,2,FALSE))","v":""},null,{"$f":"IF(N840=\"\",\"\",VLOOKUP(N840,Sifranti!D:F,3,FALSE))","v":""},null,{"$f":"IF(P840=\"\",\"\",VLOOKUP(P840,Sifranti!H:I,2,FALSE))","v":""},null,null,null,null,null,null,null,null,null,null,null,null,null,null,null,null,null,null,null,null,null,null,null,null,null,{"$f":"IF(AN840=\"\",\"\",IF(LEN(VLOOKUP(AN840,Sifranti!BY:BZ,2,FALSE))=0,\"\",VLOOKUP(AN840,Sifranti!BY:BZ,2,FALSE)))","v":""},{"$f":"IF(C840=\"\",\"\",VLOOKUP(C840,Sifranti!P:R,2,FALSE))","v":""},"","",{"$f":"IF(C840=\"\",\"\",VLOOKUP(C840,Sifranti!P:R,3,FALSE))","v":""},{"$f":"IF(N840=\"\",\"\",VLOOKUP(N840,Sifranti!D:F,2,FALSE))","v":""},{"$f":"IF(AK840=\"\",\"\",VLOOKUP(AK840,Sifranti!V:Y,2,FALSE))","v":""},{"$f":"IF(AK840=\"\",\"\",IF(VLOOKUP(AK840,Sifranti!V:Y,3,FALSE)=\"\",\"\",VLOOKUP(AK840,Sifranti!V:Y,3,FALSE)))","v":""},{"$f":"IF(AK840=\"\",\"\",VLOOKUP(AK840,Sifranti!V:Y,4,FALSE))","v":""}]
[{"$f":"IF(B848=\"\",\"\",VLOOKUP(B848,Sifranti!K:L,2,FALSE))","v":""},null,null,null,null,null,null,null,null,"",{"$f":"IF(L848=\"\",\"\",VLOOKUP(L848,Sifranti!A:B,2,FALSE))","v":""},null,{"$f":"IF(N848=\"\",\"\",VLOOKUP(N848,Sifranti!D:F,3,FALSE))","v":""},null,{"$f":"IF(P848=\"\",\"\",VLOOKUP(P848,Sifranti!H:I,2,FALSE))","v":""},null,null,null,null,null,null,null,null,null,null,null,null,null,null,null,null,null,null,null,null,null,null,null,null,null,{"$f":"IF(AN848=\"\",\"\",IF(LEN(VLOOKUP(AN848,Sifranti!BY:BZ,2,FALSE))=0,\"\",VLOOKUP(AN848,Sifranti!BY:BZ,2,FALSE)))","v":""},{"$f":"IF(C848=\"\",\"\",VLOOKUP(C848,Sifranti!P:R,2,FALSE))","v":""},"","",{"$f":"IF(C848=\"\",\"\",VLOOKUP(C848,Sifranti!P:R,3,FALSE))","v":""},{"$f":"IF(N848=\"\",\"\",VLOOKUP(N848,Sifranti!D:F,2,FALSE))","v":""},{"$f":"IF(AK848=\"\",\"\",VLOOKUP(AK848,Sifranti!V:Y,2,FALSE))","v":""},{"$f":"IF(AK848=\"\",\"\",IF(VLOOKUP(AK848,Sifranti!V:Y,3,FALSE)=\"\",\"\",VLOOKUP(AK848,Sifranti!V:Y,3,FALSE)))","v":""},{"$f":"IF(AK848=\"\",\"\",VLOOKUP(AK848,Sifranti!V:Y,4,FALSE))","v":""}]
[{"$f":"IF(B855=\"\",\"\",VLOOKUP(B855,Sifranti!K:L,2,FALSE))","v":""},null,null,null,null,null,null,null,null,"",{"$f":"IF(L855=\"\",\"\",VLOOKUP(L855,Sifranti!A:B,2,FALSE))","v":""},null,{"$f":"IF(N855=\"\",\"\",VLOOKUP(N855,Sifranti!D:F,3,FALSE))","v":""},null,{"$f":"IF(P855=\"\",\"\",VLOOKUP(P855,Sifranti!H:I,2,FALSE))","v":""},null,null,null,null,null,null,null,null,null,null,null,null,null,null,null,null,null,null,null,null,null,null,null,null,null,{"$f":"IF(AN855=\"\",\"\",IF(LEN(VLOOKUP(AN855,Sifranti!BY:BZ,2,FALSE))=0,\"\",VLOOKUP(AN855,Sifranti!BY:BZ,2,FALSE)))","v":""},{"$f":"IF(C855=\"\",\"\",VLOOKUP(C855,Sifranti!P:R,2,FALSE))","v":""},"","",{"$f":"IF(C855=\"\",\"\",VLOOKUP(C855,Sifranti!P:R,3,FALSE))","v":""},{"$f":"IF(N855=\"\",\"\",VLOOKUP(N855,Sifranti!D:F,2,FALSE))","v":""},{"$f":"IF(AK855=\"\",\"\",VLOOKUP(AK855,Sifranti!V:Y,2,FALSE))","v":""},{"$f":"IF(AK855=\"\",\"\",IF(VLOOKUP(AK855,Sifranti!V:Y,3,FALSE)=\"\",\"\",VLOOKUP(AK855,Sifranti!V:Y,3,FALSE)))","v":""},{"$f":"IF(AK855=\"\",\"\",VLOOKUP(AK855,Sifranti!V:Y,4,FALSE))","v":""}]
[{"$f":"IF(B872=\"\",\"\",VLOOKUP(B872,Sifranti!K:L,2,FALSE))","v":""},null,null,null,null,null,null,null,null,"",{"$f":"IF(L872=\"\",\"\",VLOOKUP(L872,Sifranti!A:B,2,FALSE))","v":""},null,{"$f":"IF(N872=\"\",\"\",VLOOKUP(N872,Sifranti!D:F,3,FALSE))","v":""},null,{"$f":"IF(P872=\"\",\"\",VLOOKUP(P872,Sifranti!H:I,2,FALSE))","v":""},null,null,null,null,null,null,null,null,null,null,null,null,null,null,null,null,null,null,null,null,null,null,null,null,null,{"$f":"IF(AN872=\"\",\"\",IF(LEN(VLOOKUP(AN872,Sifranti!BY:BZ,2,FALSE))=0,\"\",VLOOKUP(AN872,Sifranti!BY:BZ,2,FALSE)))","v":""},{"$f":"IF(C872=\"\",\"\",VLOOKUP(C872,Sifranti!P:R,2,FALSE))","v":""},"","",{"$f":"IF(C872=\"\",\"\",VLOOKUP(C872,Sifranti!P:R,3,FALSE))","v":""},{"$f":"IF(N872=\"\",\"\",VLOOKUP(N872,Sifranti!D:F,2,FALSE))","v":""},{"$f":"IF(AK872=\"\",\"\",VLOOKUP(AK872,Sifranti!V:Y,2,FALSE))","v":""},{"$f":"IF(AK872=\"\",\"\",IF(VLOOKUP(AK872,Sifranti!V:Y,3,FALSE)=\"\",\"\",VLOOKUP(AK872,Sifranti!V:Y,3,FALSE)))","v":""},{"$f":"IF(AK872=\"\",\"\",VLOOKUP(AK872,Sifranti!V:Y,4,FALSE))","v":""}]
[{"$f":"IF(B882=\"\",\"\",VLOOKUP(B882,Sifranti!K:L,2,FALSE))","v":""},null,null,null,null,null,null,null,null,"",{"$f":"IF(L882=\"\",\"\",VLOOKUP(L882,Sifranti!A:B,2,FALSE))","v":""},null,{"$f":"IF(N882=\"\",\"\",VLOOKUP(N882,Sifranti!D:F,3,FALSE))","v":""},null,{"$f":"IF(P882=\"\",\"\",VLOOKUP(P882,Sifranti!H:I,2,FALSE))","v":""},null,null,null,null,null,null,null,null,null,null,null,null,null,null,null,null,null,null,null,null,null,null,null,null,null,{"$f":"IF(AN882=\"\",\"\",IF(LEN(VLOOKUP(AN882,Sifranti!BY:BZ,2,FALSE))=0,\"\",VLOOKUP(AN882,Sifranti!BY:BZ,2,FALSE)))","v":""},{"$f":"IF(C882=\"\",\"\",VLOOKUP(C882,Sifranti!P:R,2,FALSE))","v":""},"","",{"$f":"IF(C882=\"\",\"\",VLOOKUP(C882,Sifranti!P:R,3,FALSE))","v":""},{"$f":"IF(N882=\"\",\"\",VLOOKUP(N882,Sifranti!D:F,2,FALSE))","v":""},{"$f":"IF(AK882=\"\",\"\",VLOOKUP(AK882,Sifranti!V:Y,2,FALSE))","v":""},{"$f":"IF(AK882=\"\",\"\",IF(VLOOKUP(AK882,Sifranti!V:Y,3,FALSE)=\"\",\"\",VLOOKUP(AK882,Sifranti!V:Y,3,FALSE)))","v":""},{"$f":"IF(AK882=\"\",\"\",VLOOKUP(AK882,Sifranti!V:Y,4,FALSE))","v":""}]
[{"$f":"IF(B897=\"\",\"\",VLOOKUP(B897,Sifranti!K:L,2,FALSE))","v":""},null,null,null,null,null,null,null,null,"",{"$f":"IF(L897=\"\",\"\",VLOOKUP(L897,Sifranti!A:B,2,FALSE))","v":""},null,{"$f":"IF(N897=\"\",\"\",VLOOKUP(N897,Sifranti!D:F,3,FALSE))","v":""},null,{"$f":"IF(P897=\"\",\"\",VLOOKUP(P897,Sifranti!H:I,2,FALSE))","v":""},null,null,null,null,null,null,null,null,null,null,null,null,null,null,null,null,null,null,null,null,null,null,null,null,null,{"$f":"IF(AN897=\"\",\"\",IF(LEN(VLOOKUP(AN897,Sifranti!BY:BZ,2,FALSE))=0,\"\",VLOOKUP(AN897,Sifranti!BY:BZ,2,FALSE)))","v":""},{"$f":"IF(C897=\"\",\"\",VLOOKUP(C897,Sifranti!P:R,2,FALSE))","v":""},"","",{"$f":"IF(C897=\"\",\"\",VLOOKUP(C897,Sifranti!P:R,3,FALSE))","v":""},{"$f":"IF(N897=\"\",\"\",VLOOKUP(N897,Sifranti!D:F,2,FALSE))","v":""},{"$f":"IF(AK897=\"\",\"\",VLOOKUP(AK897,Sifranti!V:Y,2,FALSE))","v":""},{"$f":"IF(AK897=\"\",\"\",IF(VLOOKUP(AK897,Sifranti!V:Y,3,FALSE)=\"\",\"\",VLOOKUP(AK897,Sifranti!V:Y,3,FALSE)))","v":""},{"$f":"IF(AK897=\"\",\"\",VLOOKUP(AK897,Sifranti!V:Y,4,FALSE))","v":""}]
[{"$f":"IF(B908=\"\",\"\",VLOOKUP(B908,Sifranti!K:L,2,FALSE))","v":""},null,null,null,null,null,null,null,null,"",{"$f":"IF(L908=\"\",\"\",VLOOKUP(L908,Sifranti!A:B,2,FALSE))","v":""},null,{"$f":"IF(N908=\"\",\"\",VLOOKUP(N908,Sifranti!D:F,3,FALSE))","v":""},null,{"$f":"IF(P908=\"\",\"\",VLOOKUP(P908,Sifranti!H:I,2,FALSE))","v":""},null,null,null,null,null,null,null,null,null,null,null,null,null,null,null,null,null,null,null,null,null,null,null,null,null,{"$f":"IF(AN908=\"\",\"\",IF(LEN(VLOOKUP(AN908,Sifranti!BY:BZ,2,FALSE))=0,\"\",VLOOKUP(AN908,Sifranti!BY:BZ,2,FALSE)))","v":""},{"$f":"IF(C908=\"\",\"\",VLOOKUP(C908,Sifranti!P:R,2,FALSE))","v":""},"","",{"$f":"IF(C908=\"\",\"\",VLOOKUP(C908,Sifranti!P:R,3,FALSE))","v":""},{"$f":"IF(N908=\"\",\"\",VLOOKUP(N908,Sifranti!D:F,2,FALSE))","v":""},{"$f":"IF(AK908=\"\",\"\",VLOOKUP(AK908,Sifranti!V:Y,2,FALSE))","v":""},{"$f":"IF(AK908=\"\",\"\",IF(VLOOKUP(AK908,Sifranti!V:Y,3,FALSE)=\"\",\"\",VLOOKUP(AK908,Sifranti!V:Y,3,FALSE)))","v":""},{"$f":"IF(AK908=\"\",\"\",VLOOKUP(AK908,Sifranti!V:Y,4,FALSE))","v":""}]
[{"$f":"IF(B914=\"\",\"\",VLOOKUP(B914,Sifranti!K:L,2,FALSE))","v":""},null,null,null,null,null,null,null,null,"",{"$f":"IF(L914=\"\",\"\",VLOOKUP(L914,Sifranti!A:B,2,FALSE))","v":""},null,{"$f":"IF(N914=\"\",\"\",VLOOKUP(N914,Sifranti!D:F,3,FALSE))","v":""},null,{"$f":"IF(P914=\"\",\"\",VLOOKUP(P914,Sifranti!H:I,2,FALSE))","v":""},null,null,null,null,null,null,null,null,null,null,null,null,null,null,null,null,null,null,null,null,null,null,null,null,null,{"$f":"IF(AN914=\"\",\"\",IF(LEN(VLOOKUP(AN914,Sifranti!BY:BZ,2,FALSE))=0,\"\",VLOOKUP(AN914,Sifranti!BY:BZ,2,FALSE)))","v":""},{"$f":"IF(C914=\"\",\"\",VLOOKUP(C914,Sifranti!P:R,2,FALSE))","v":""},"","",{"$f":"IF(C914=\"\",\"\",VLOOKUP(C914,Sifranti!P:R,3,FALSE))","v":""},{"$f":"IF(N914=\"\",\"\",VLOOKUP(N914,Sifranti!D:F,2,FALSE))","v":""},{"$f":"IF(AK914=\"\",\"\",VLOOKUP(AK914,Sifranti!V:Y,2,FALSE))","v":""},{"$f":"IF(AK914=\"\",\"\",IF(VLOOKUP(AK914,Sifranti!V:Y,3,FALSE)=\"\",\"\",VLOOKUP(AK914,Sifranti!V:Y,3,FALSE)))","v":""},{"$f":"IF(AK914=\"\",\"\",VLOOKUP(AK914,Sifranti!V:Y,4,FALSE))","v":""}]
[{"$f":"IF(B920=\"\",\"\",VLOOKUP(B920,Sifranti!K:L,2,FALSE))","v":""},null,null,null,null,null,null,null,null,"",{"$f":"IF(L920=\"\",\"\",VLOOKUP(L920,Sifranti!A:B,2,FALSE))","v":""},null,{"$f":"IF(N920=\"\",\"\",VLOOKUP(N920,Sifranti!D:F,3,FALSE))","v":""},null,{"$f":"IF(P920=\"\",\"\",VLOOKUP(P920,Sifranti!H:I,2,FALSE))","v":""},null,null,null,null,null,null,null,null,null,null,null,null,null,null,null,null,null,null,null,null,null,null,null,null,null,{"$f":"IF(AN920=\"\",\"\",IF(LEN(VLOOKUP(AN920,Sifranti!BY:BZ,2,FALSE))=0,\"\",VLOOKUP(AN920,Sifranti!BY:BZ,2,FALSE)))","v":""},{"$f":"IF(C920=\"\",\"\",VLOOKUP(C920,Sifranti!P:R,2,FALSE))","v":""},"","",{"$f":"IF(C920=\"\",\"\",VLOOKUP(C920,Sifranti!P:R,3,FALSE))","v":""},{"$f":"IF(N920=\"\",\"\",VLOOKUP(N920,Sifranti!D:F,2,FALSE))","v":""},{"$f":"IF(AK920=\"\",\"\",VLOOKUP(AK920,Sifranti!V:Y,2,FALSE))","v":""},{"$f":"IF(AK920=\"\",\"\",IF(VLOOKUP(AK920,Sifranti!V:Y,3,FALSE)=\"\",\"\",VLOOKUP(AK920,Sifranti!V:Y,3,FALSE)))","v":""},{"$f":"IF(AK920=\"\",\"\",VLOOKUP(AK920,Sifranti!V:Y,4,FALSE))","v":""}]
[{"$f":"IF(B932=\"\",\"\",VLOOKUP(B932,Sifranti!K:L,2,FALSE))","v":""},null,null,null,null,null,null,null,null,"",{"$f":"IF(L932=\"\",\"\",VLOOKUP(L932,Sifranti!A:B,2,FALSE))","v":""},null,{"$f":"IF(N932=\"\",\"\",VLOOKUP(N932,Sifranti!D:F,3,FALSE))","v":""},null,{"$f":"IF(P932=\"\",\"\",VLOOKUP(P932,Sifranti!H:I,2,FALSE))","v":""},null,null,null,null,null,null,null,null,null,null,null,null,null,null,null,null,null,null,null,null,null,null,null,null,null,{"$f":"IF(AN932=\"\",\"\",IF(LEN(VLOOKUP(AN932,Sifranti!BY:BZ,2,FALSE))=0,\"\",VLOOKUP(AN932,Sifranti!BY:BZ,2,FALSE)))","v":""},{"$f":"IF(C932=\"\",\"\",VLOOKUP(C932,Sifranti!P:R,2,FALSE))","v":""},"","",{"$f":"IF(C932=\"\",\"\",VLOOKUP(C932,Sifranti!P:R,3,FALSE))","v":""},{"$f":"IF(N932=\"\",\"\",VLOOKUP(N932,Sifranti!D:F,2,FALSE))","v":""},{"$f":"IF(AK932=\"\",\"\",VLOOKUP(AK932,Sifranti!V:Y,2,FALSE))","v":""},{"$f":"IF(AK932=\"\",\"\",IF(VLOOKUP(AK932,Sifranti!V:Y,3,FALSE)=\"\",\"\",VLOOKUP(AK932,Sifranti!V:Y,3,FALSE)))","v":""},{"$f":"IF(AK932=\"\",\"\",VLOOKUP(AK932,Sifranti!V:Y,4,FALSE))","v":""}]
[{"$f":"IF(B946=\"\",\"\",VLOOKUP(B946,Sifranti!K:L,2,FALSE))","v":""},null,null,null,null,null,null,null,null,"",{"$f":"IF(L946=\"\",\"\",VLOOKUP(L946,Sifranti!A:B,2,FALSE))","v":""},null,{"$f":"IF(N946=\"\",\"\",VLOOKUP(N946,Sifranti!D:F,3,FALSE))","v":""},null,{"$f":"IF(P946=\"\",\"\",VLOOKUP(P946,Sifranti!H:I,2,FALSE))","v":""},null,null,null,null,null,null,null,null,null,null,null,null,null,null,null,null,null,null,null,null,null,null,null,null,null,{"$f":"IF(AN946=\"\",\"\",IF(LEN(VLOOKUP(AN946,Sifranti!BY:BZ,2,FALSE))=0,\"\",VLOOKUP(AN946,Sifranti!BY:BZ,2,FALSE)))","v":""},{"$f":"IF(C946=\"\",\"\",VLOOKUP(C946,Sifranti!P:R,2,FALSE))","v":""},"","",{"$f":"IF(C946=\"\",\"\",VLOOKUP(C946,Sifranti!P:R,3,FALSE))","v":""},{"$f":"IF(N946=\"\",\"\",VLOOKUP(N946,Sifranti!D:F,2,FALSE))","v":""},{"$f":"IF(AK946=\"\",\"\",VLOOKUP(AK946,Sifranti!V:Y,2,FALSE))","v":""},{"$f":"IF(AK946=\"\",\"\",IF(VLOOKUP(AK946,Sifranti!V:Y,3,FALSE)=\"\",\"\",VLOOKUP(AK946,Sifranti!V:Y,3,FALSE)))","v":""},{"$f":"IF(AK946=\"\",\"\",VLOOKUP(AK946,Sifranti!V:Y,4,FALSE))","v":""}]
[{"$f":"IF(B956=\"\",\"\",VLOOKUP(B956,Sifranti!K:L,2,FALSE))","v":""},null,null,null,null,null,null,null,null,"",{"$f":"IF(L956=\"\",\"\",VLOOKUP(L956,Sifranti!A:B,2,FALSE))","v":""},null,{"$f":"IF(N956=\"\",\"\",VLOOKUP(N956,Sifranti!D:F,3,FALSE))","v":""},null,{"$f":"IF(P956=\"\",\"\",VLOOKUP(P956,Sifranti!H:I,2,FALSE))","v":""},null,null,null,null,null,null,null,null,null,null,null,null,null,null,null,null,null,null,null,null,null,null,null,null,null,{"$f":"IF(AN956=\"\",\"\",IF(LEN(VLOOKUP(AN956,Sifranti!BY:BZ,2,FALSE))=0,\"\",VLOOKUP(AN956,Sifranti!BY:BZ,2,FALSE)))","v":""},{"$f":"IF(C956=\"\",\"\",VLOOKUP(C956,Sifranti!P:R,2,FALSE))","v":""},"","",{"$f":"IF(C956=\"\",\"\",VLOOKUP(C956,Sifranti!P:R,3,FALSE))","v":""},{"$f":"IF(N956=\"\",\"\",VLOOKUP(N956,Sifranti!D:F,2,FALSE))","v":""},{"$f":"IF(AK956=\"\",\"\",VLOOKUP(AK956,Sifranti!V:Y,2,FALSE))","v":""},{"$f":"IF(AK956=\"\",\"\",IF(VLOOKUP(AK956,Sifranti!V:Y,3,FALSE)=\"\",\"\",VLOOKUP(AK956,Sifranti!V:Y,3,FALSE)))","v":""},{"$f":"IF(AK956=\"\",\"\",VLOOKUP(AK956,Sifranti!V:Y,4,FALSE))","v":""}]
[{"$f":"IF(B973=\"\",\"\",VLOOKUP(B973,Sifranti!K:L,2,FALSE))","v":""},null,null,null,null,null,null,null,null,"",{"$f":"IF(L973=\"\",\"\",VLOOKUP(L973,Sifranti!A:B,2,FALSE))","v":""},null,{"$f":"IF(N973=\"\",\"\",VLOOKUP(N973,Sifranti!D:F,3,FALSE))","v":""},null,{"$f":"IF(P973=\"\",\"\",VLOOKUP(P973,Sifranti!H:I,2,FALSE))","v":""},null,null,null,null,null,null,null,null,null,null,null,null,null,null,null,null,null,null,null,null,null,null,null,null,null,{"$f":"IF(AN973=\"\",\"\",IF(LEN(VLOOKUP(AN973,Sifranti!BY:BZ,2,FALSE))=0,\"\",VLOOKUP(AN973,Sifranti!BY:BZ,2,FALSE)))","v":""},{"$f":"IF(C973=\"\",\"\",VLOOKUP(C973,Sifranti!P:R,2,FALSE))","v":""},"","",{"$f":"IF(C973=\"\",\"\",VLOOKUP(C973,Sifranti!P:R,3,FALSE))","v":""},{"$f":"IF(N973=\"\",\"\",VLOOKUP(N973,Sifranti!D:F,2,FALSE))","v":""},{"$f":"IF(AK973=\"\",\"\",VLOOKUP(AK973,Sifranti!V:Y,2,FALSE))","v":""},{"$f":"IF(AK973=\"\",\"\",IF(VLOOKUP(AK973,Sifranti!V:Y,3,FALSE)=\"\",\"\",VLOOKUP(AK973,Sifranti!V:Y,3,FALSE)))","v":""},{"$f":"IF(AK973=\"\",\"\",VLOOKUP(AK973,Sifranti!V:Y,4,FALSE))","v":""}]
[{"$f":"IF(B981=\"\",\"\",VLOOKUP(B981,Sifranti!K:L,2,FALSE))","v":""},null,null,null,null,null,null,null,null,"",{"$f":"IF(L981=\"\",\"\",VLOOKUP(L981,Sifranti!A:B,2,FALSE))","v":""},null,{"$f":"IF(N981=\"\",\"\",VLOOKUP(N981,Sifranti!D:F,3,FALSE))","v":""},null,{"$f":"IF(P981=\"\",\"\",VLOOKUP(P981,Sifranti!H:I,2,FALSE))","v":""},null,null,null,null,null,null,null,null,null,null,null,null,null,null,null,null,null,null,null,null,null,null,null,null,null,{"$f":"IF(AN981=\"\",\"\",IF(LEN(VLOOKUP(AN981,Sifranti!BY:BZ,2,FALSE))=0,\"\",VLOOKUP(AN981,Sifranti!BY:BZ,2,FALSE)))","v":""},{"$f":"IF(C981=\"\",\"\",VLOOKUP(C981,Sifranti!P:R,2,FALSE))","v":""},"","",{"$f":"IF(C981=\"\",\"\",VLOOKUP(C981,Sifranti!P:R,3,FALSE))","v":""},{"$f":"IF(N981=\"\",\"\",VLOOKUP(N981,Sifranti!D:F,2,FALSE))","v":""},{"$f":"IF(AK981=\"\",\"\",VLOOKUP(AK981,Sifranti!V:Y,2,FALSE))","v":""},{"$f":"IF(AK981=\"\",\"\",IF(VLOOKUP(AK981,Sifranti!V:Y,3,FALSE)=\"\",\"\",VLOOKUP(AK981,Sifranti!V:Y,3,FALSE)))","v":""},{"$f":"IF(AK981=\"\",\"\",VLOOKUP(AK981,Sifranti!V:Y,4,FALSE))","v":""}]
[{"$f":"IF(B988=\"\",\"\",VLOOKUP(B988,Sifranti!K:L,2,FALSE))","v":""},null,null,null,null,null,null,null,null,"",{"$f":"IF(L988=\"\",\"\",VLOOKUP(L988,Sifranti!A:B,2,FALSE))","v":""},null,{"$f":"IF(N988=\"\",\"\",VLOOKUP(N988,Sifranti!D:F,3,FALSE))","v":""},null,{"$f":"IF(P988=\"\",\"\",VLOOKUP(P988,Sifranti!H:I,2,FALSE))","v":""},null,null,null,null,null,null,null,null,null,null,null,null,null,null,null,null,null,null,null,null,null,null,null,null,null,{"$f":"IF(AN988=\"\",\"\",IF(LEN(VLOOKUP(AN988,Sifranti!BY:BZ,2,FALSE))=0,\"\",VLOOKUP(AN988,Sifranti!BY:BZ,2,FALSE)))","v":""},{"$f":"IF(C988=\"\",\"\",VLOOKUP(C988,Sifranti!P:R,2,FALSE))","v":""},"","",{"$f":"IF(C988=\"\",\"\",VLOOKUP(C988,Sifranti!P:R,3,FALSE))","v":""},{"$f":"IF(N988=\"\",\"\",VLOOKUP(N988,Sifranti!D:F,2,FALSE))","v":""},{"$f":"IF(AK988=\"\",\"\",VLOOKUP(AK988,Sifranti!V:Y,2,FALSE))","v":""},{"$f":"IF(AK988=\"\",\"\",IF(VLOOKUP(AK988,Sifranti!V:Y,3,FALSE)=\"\",\"\",VLOOKUP(AK988,Sifranti!V:Y,3,FALSE)))","v":""},{"$f":"IF(AK988=\"\",\"\",VLOOKUP(AK988,Sifranti!V:Y,4,FALSE))","v":""}]
[{"$f":"IF(B1005=\"\",\"\",VLOOKUP(B1005,Sifranti!K:L,2,FALSE))","v":""},null,null,null,null,null,null,null,null,"",{"$f":"IF(L1005=\"\",\"\",VLOOKUP(L1005,Sifranti!A:B,2,FALSE))","v":""},null,{"$f":"IF(N1005=\"\",\"\",VLOOKUP(N1005,Sifranti!D:F,3,FALSE))","v":""},null,{"$f":"IF(P1005=\"\",\"\",VLOOKUP(P1005,Sifranti!H:I,2,FALSE))","v":""},null,null,null,null,null,null,null,null,null,null,null,null,null,null,null,null,null,null,null,null,null,null,null,null,null,{"$f":"IF(AN1005=\"\",\"\",IF(LEN(VLOOKUP(AN1005,Sifranti!BY:BZ,2,FALSE))=0,\"\",VLOOKUP(AN1005,Sifranti!BY:BZ,2,FALSE)))","v":""},{"$f":"IF(C1005=\"\",\"\",VLOOKUP(C1005,Sifranti!P:R,2,FALSE))","v":""},"","",{"$f":"IF(C1005=\"\",\"\",VLOOKUP(C1005,Sifranti!P:R,3,FALSE))","v":""},{"$f":"IF(N1005=\"\",\"\",VLOOKUP(N1005,Sifranti!D:F,2,FALSE))","v":""},{"$f":"IF(AK1005=\"\",\"\",VLOOKUP(AK1005,Sifranti!V:Y,2,FALSE))","v":""},{"$f":"IF(AK1005=\"\",\"\",IF(VLOOKUP(AK1005,Sifranti!V:Y,3,FALSE)=\"\",\"\",VLOOKUP(AK1005,Sifranti!V:Y,3,FALSE)))","v":""},{"$f":"IF(AK1005=\"\",\"\",VLOOKUP(AK1005,Sifranti!V:Y,4,FALSE))","v":""}]
[{"$f":"IF(B1011=\"\",\"\",VLOOKUP(B1011,Sifranti!K:L,2,FALSE))","v":""},null,null,null,null,null,null,null,null,"",{"$f":"IF(L1011=\"\",\"\",VLOOKUP(L1011,Sifranti!A:B,2,FALSE))","v":""},null,{"$f":"IF(N1011=\"\",\"\",VLOOKUP(N1011,Sifranti!D:F,3,FALSE))","v":""},null,{"$f":"IF(P1011=\"\",\"\",VLOOKUP(P1011,Sifranti!H:I,2,FALSE))","v":""},null,null,null,null,null,null,null,null,null,null,null,null,null,null,null,null,null,null,null,null,null,null,null,null,null,{"$f":"IF(AN1011=\"\",\"\",IF(LEN(VLOOKUP(AN1011,Sifranti!BY:BZ,2,FALSE))=0,\"\",VLOOKUP(AN1011,Sifranti!BY:BZ,2,FALSE)))","v":""},{"$f":"IF(C1011=\"\",\"\",VLOOKUP(C1011,Sifranti!P:R,2,FALSE))","v":""},"","",{"$f":"IF(C1011=\"\",\"\",VLOOKUP(C1011,Sifranti!P:R,3,FALSE))","v":""},{"$f":"IF(N1011=\"\",\"\",VLOOKUP(N1011,Sifranti!D:F,2,FALSE))","v":""},{"$f":"IF(AK1011=\"\",\"\",VLOOKUP(AK1011,Sifranti!V:Y,2,FALSE))","v":""},{"$f":"IF(AK1011=\"\",\"\",IF(VLOOKUP(AK1011,Sifranti!V:Y,3,FALSE)=\"\",\"\",VLOOKUP(AK1011,Sifranti!V:Y,3,FALSE)))","v":""},{"$f":"IF(AK1011=\"\",\"\",VLOOKUP(AK1011,Sifranti!V:Y,4,FALSE))","v":""}]
[{"$f":"IF(B1026=\"\",\"\",VLOOKUP(B1026,Sifranti!K:L,2,FALSE))","v":""},null,null,null,null,null,null,null,null,{"$f":"IF(H1026=\"\",\"\",YEAR(H1026))","v":""},{"$f":"IF(L1026=\"\",\"\",VLOOKUP(L1026,Sifranti!A:B,2,FALSE))","v":""},null,{"$f":"IF(N1026=\"\",\"\",VLOOKUP(N1026,Sifranti!D:F,3,FALSE))","v":""},null,{"$f":"IF(P1026=\"\",\"\",VLOOKUP(P1026,Sifranti!H:I,2,FALSE))","v":""},null,null,null,null,null,null,null,null,null,null,null,null,null,null,null,null,null,null,null,null,null,null,null,null,null,{"$f":"IF(AN1026=\"\",\"\",IF(LEN(VLOOKUP(AN1026,Sifranti!BY:BZ,2,FALSE))=0,\"\",VLOOKUP(AN1026,Sifranti!BY:BZ,2,FALSE)))","v":""},{"$f":"IF(C1026=\"\",\"\",VLOOKUP(C1026,Sifranti!P:R,2,FALSE))","v":""},{"$f":"IF(V1026>0,IF(AS1026=\"de minimis\",T1026/S1026*100,U1026/AD1026*100),\"\")","v":""},{"$f":"IF(AE1026>0,AE1026/U1026*100,\"\")","v":""},{"$f":"IF(C1026=\"\",\"\",VLOOKUP(C1026,Sifranti!P:R,3,FALSE))","v":""},{"$f":"IF(N1026=\"\",\"\",VLOOKUP(N1026,Sifranti!D:F,2,FALSE))","v":""},{"$f":"IF(AK1026=\"\",\"\",VLOOKUP(AK1026,Sifranti!V:Y,2,FALSE))","v":""},{"$f":"IF(AK1026=\"\",\"\",IF(VLOOKUP(AK1026,Sifranti!V:Y,3,FALSE)=\"\",\"\",VLOOKUP(AK1026,Sifranti!V:Y,3,FALSE)))","v":""},{"$f":"IF(AK1026=\"\",\"\",VLOOKUP(AK1026,Sifranti!V:Y,4,FALSE))","v":""}]
[{"$f":"IF(B1037=\"\",\"\",VLOOKUP(B1037,Sifranti!K:L,2,FALSE))","v":""},null,null,null,null,null,null,null,null,"",{"$f":"IF(L1037=\"\",\"\",VLOOKUP(L1037,Sifranti!A:B,2,FALSE))","v":""},null,{"$f":"IF(N1037=\"\",\"\",VLOOKUP(N1037,Sifranti!D:F,3,FALSE))","v":""},null,{"$f":"IF(P1037=\"\",\"\",VLOOKUP(P1037,Sifranti!H:I,2,FALSE))","v":""},null,null,null,null,null,null,null,null,null,null,null,null,null,null,null,null,null,null,null,null,null,null,null,null,null,{"$f":"IF(AN1037=\"\",\"\",IF(LEN(VLOOKUP(AN1037,Sifranti!BY:BZ,2,FALSE))=0,\"\",VLOOKUP(AN1037,Sifranti!BY:BZ,2,FALSE)))","v":""},{"$f":"IF(C1037=\"\",\"\",VLOOKUP(C1037,Sifranti!P:R,2,FALSE))","v":""},"","",{"$f":"IF(C1037=\"\",\"\",VLOOKUP(C1037,Sifranti!P:R,3,FALSE))","v":""},{"$f":"IF(N1037=\"\",\"\",VLOOKUP(N1037,Sifranti!D:F,2,FALSE))","v":""},{"$f":"IF(AK1037=\"\",\"\",VLOOKUP(AK1037,Sifranti!V:Y,2,FALSE))","v":""},{"$f":"IF(AK1037=\"\",\"\",IF(VLOOKUP(AK1037,Sifranti!V:Y,3,FALSE)=\"\",\"\",VLOOKUP(AK1037,Sifranti!V:Y,3,FALSE)))","v":""},{"$f":"IF(AK1037=\"\",\"\",VLOOKUP(AK1037,Sifranti!V:Y,4,FALSE))","v":""}]
[{"$f":"IF(B1047=\"\",\"\",VLOOKUP(B1047,Sifranti!K:L,2,FALSE))","v":""},null,null,null,null,null,null,null,null,"",{"$f":"IF(L1047=\"\",\"\",VLOOKUP(L1047,Sifranti!A:B,2,FALSE))","v":""},null,{"$f":"IF(N1047=\"\",\"\",VLOOKUP(N1047,Sifranti!D:F,3,FALSE))","v":""},null,{"$f":"IF(P1047=\"\",\"\",VLOOKUP(P1047,Sifranti!H:I,2,FALSE))","v":""},null,null,null,null,null,null,null,null,null,null,null,null,null,null,null,null,null,null,null,null,null,null,null,null,null,{"$f":"IF(AN1047=\"\",\"\",IF(LEN(VLOOKUP(AN1047,Sifranti!BY:BZ,2,FALSE))=0,\"\",VLOOKUP(AN1047,Sifranti!BY:BZ,2,FALSE)))","v":""},{"$f":"IF(C1047=\"\",\"\",VLOOKUP(C1047,Sifranti!P:R,2,FALSE))","v":""},"","",{"$f":"IF(C1047=\"\",\"\",VLOOKUP(C1047,Sifranti!P:R,3,FALSE))","v":""},{"$f":"IF(N1047=\"\",\"\",VLOOKUP(N1047,Sifranti!D:F,2,FALSE))","v":""},{"$f":"IF(AK1047=\"\",\"\",VLOOKUP(AK1047,Sifranti!V:Y,2,FALSE))","v":""},{"$f":"IF(AK1047=\"\",\"\",IF(VLOOKUP(AK1047,Sifranti!V:Y,3,FALSE)=\"\",\"\",VLOOKUP(AK1047,Sifranti!V:Y,3,FALSE)))","v":""},{"$f":"IF(AK1047=\"\",\"\",VLOOKUP(AK1047,Sifranti!V:Y,4,FALSE))","v":""}]
[{"$f":"IF(B1053=\"\",\"\",VLOOKUP(B1053,Sifranti!K:L,2,FALSE))","v":""},null,null,null,null,null,null,null,null,"",{"$f":"IF(L1053=\"\",\"\",VLOOKUP(L1053,Sifranti!A:B,2,FALSE))","v":""},null,{"$f":"IF(N1053=\"\",\"\",VLOOKUP(N1053,Sifranti!D:F,3,FALSE))","v":""},null,{"$f":"IF(P1053=\"\",\"\",VLOOKUP(P1053,Sifranti!H:I,2,FALSE))","v":""},null,null,null,null,null,null,null,null,null,null,null,null,null,null,null,null,null,null,null,null,null,null,null,null,null,{"$f":"IF(AN1053=\"\",\"\",IF(LEN(VLOOKUP(AN1053,Sifranti!BY:BZ,2,FALSE))=0,\"\",VLOOKUP(AN1053,Sifranti!BY:BZ,2,FALSE)))","v":""},{"$f":"IF(C1053=\"\",\"\",VLOOKUP(C1053,Sifranti!P:R,2,FALSE))","v":""},"","",{"$f":"IF(C1053=\"\",\"\",VLOOKUP(C1053,Sifranti!P:R,3,FALSE))","v":""},{"$f":"IF(N1053=\"\",\"\",VLOOKUP(N1053,Sifranti!D:F,2,FALSE))","v":""},{"$f":"IF(AK1053=\"\",\"\",VLOOKUP(AK1053,Sifranti!V:Y,2,FALSE))","v":""},{"$f":"IF(AK1053=\"\",\"\",IF(VLOOKUP(AK1053,Sifranti!V:Y,3,FALSE)=\"\",\"\",VLOOKUP(AK1053,Sifranti!V:Y,3,FALSE)))","v":""},{"$f":"IF(AK1053=\"\",\"\",VLOOKUP(AK1053,Sifranti!V:Y,4,FALSE))","v":""}]
[{"$f":"IF(B1065=\"\",\"\",VLOOKUP(B1065,Sifranti!K:L,2,FALSE))","v":""},null,null,null,null,null,null,null,null,"",{"$f":"IF(L1065=\"\",\"\",VLOOKUP(L1065,Sifranti!A:B,2,FALSE))","v":""},null,{"$f":"IF(N1065=\"\",\"\",VLOOKUP(N1065,Sifranti!D:F,3,FALSE))","v":""},null,{"$f":"IF(P1065=\"\",\"\",VLOOKUP(P1065,Sifranti!H:I,2,FALSE))","v":""},null,null,null,null,null,null,null,null,null,null,null,null,null,null,null,null,null,null,null,null,null,null,null,null,null,{"$f":"IF(AN1065=\"\",\"\",IF(LEN(VLOOKUP(AN1065,Sifranti!BY:BZ,2,FALSE))=0,\"\",VLOOKUP(AN1065,Sifranti!BY:BZ,2,FALSE)))","v":""},{"$f":"IF(C1065=\"\",\"\",VLOOKUP(C1065,Sifranti!P:R,2,FALSE))","v":""},"","",{"$f":"IF(C1065=\"\",\"\",VLOOKUP(C1065,Sifranti!P:R,3,FALSE))","v":""},{"$f":"IF(N1065=\"\",\"\",VLOOKUP(N1065,Sifranti!D:F,2,FALSE))","v":""},{"$f":"IF(AK1065=\"\",\"\",VLOOKUP(AK1065,Sifranti!V:Y,2,FALSE))","v":""},{"$f":"IF(AK1065=\"\",\"\",IF(VLOOKUP(AK1065,Sifranti!V:Y,3,FALSE)=\"\",\"\",VLOOKUP(AK1065,Sifranti!V:Y,3,FALSE)))","v":""},{"$f":"IF(AK1065=\"\",\"\",VLOOKUP(AK1065,Sifranti!V:Y,4,FALSE))","v":""}]
[{"$f":"IF(B1079=\"\",\"\",VLOOKUP(B1079,Sifranti!K:L,2,FALSE))","v":""},null,null,null,null,null,null,null,null,"",{"$f":"IF(L1079=\"\",\"\",VLOOKUP(L1079,Sifranti!A:B,2,FALSE))","v":""},null,{"$f":"IF(N1079=\"\",\"\",VLOOKUP(N1079,Sifranti!D:F,3,FALSE))","v":""},null,{"$f":"IF(P1079=\"\",\"\",VLOOKUP(P1079,Sifranti!H:I,2,FALSE))","v":""},null,null,null,null,null,null,null,null,null,null,null,null,null,null,null,null,null,null,null,null,null,null,null,null,null,{"$f":"IF(AN1079=\"\",\"\",IF(LEN(VLOOKUP(AN1079,Sifranti!BY:BZ,2,FALSE))=0,\"\",VLOOKUP(AN1079,Sifranti!BY:BZ,2,FALSE)))","v":""},{"$f":"IF(C1079=\"\",\"\",VLOOKUP(C1079,Sifranti!P:R,2,FALSE))","v":""},"","",{"$f":"IF(C1079=\"\",\"\",VLOOKUP(C1079,Sifranti!P:R,3,FALSE))","v":""},{"$f":"IF(N1079=\"\",\"\",VLOOKUP(N1079,Sifranti!D:F,2,FALSE))","v":""},{"$f":"IF(AK1079=\"\",\"\",VLOOKUP(AK1079,Sifranti!V:Y,2,FALSE))","v":""},{"$f":"IF(AK1079=\"\",\"\",IF(VLOOKUP(AK1079,Sifranti!V:Y,3,FALSE)=\"\",\"\",VLOOKUP(AK1079,Sifranti!V:Y,3,FALSE)))","v":""},{"$f":"IF(AK1079=\"\",\"\",VLOOKUP(AK1079,Sifranti!V:Y,4,FALSE))","v":""}]
[{"$f":"IF(B1085=\"\",\"\",VLOOKUP(B1085,Sifranti!K:L,2,FALSE))","v":""},null,null,null,null,null,null,null,null,"",{"$f":"IF(L1085=\"\",\"\",VLOOKUP(L1085,Sifranti!A:B,2,FALSE))","v":""},null,{"$f":"IF(N1085=\"\",\"\",VLOOKUP(N1085,Sifranti!D:F,3,FALSE))","v":""},null,{"$f":"IF(P1085=\"\",\"\",VLOOKUP(P1085,Sifranti!H:I,2,FALSE))","v":""},null,null,null,null,null,null,null,null,null,null,null,null,null,null,null,null,null,null,null,null,null,null,null,null,null,{"$f":"IF(AN1085=\"\",\"\",IF(LEN(VLOOKUP(AN1085,Sifranti!BY:BZ,2,FALSE))=0,\"\",VLOOKUP(AN1085,Sifranti!BY:BZ,2,FALSE)))","v":""},{"$f":"IF(C1085=\"\",\"\",VLOOKUP(C1085,Sifranti!P:R,2,FALSE))","v":""},"","",{"$f":"IF(C1085=\"\",\"\",VLOOKUP(C1085,Sifranti!P:R,3,FALSE))","v":""},{"$f":"IF(N1085=\"\",\"\",VLOOKUP(N1085,Sifranti!D:F,2,FALSE))","v":""},{"$f":"IF(AK1085=\"\",\"\",VLOOKUP(AK1085,Sifranti!V:Y,2,FALSE))","v":""},{"$f":"IF(AK1085=\"\",\"\",IF(VLOOKUP(AK1085,Sifranti!V:Y,3,FALSE)=\"\",\"\",VLOOKUP(AK1085,Sifranti!V:Y,3,FALSE)))","v":""},{"$f":"IF(AK1085=\"\",\"\",VLOOKUP(AK1085,Sifranti!V:Y,4,FALSE))","v":""}]
[{"$f":"IF(B1095=\"\",\"\",VLOOKUP(B1095,Sifranti!K:L,2,FALSE))","v":""},null,null,null,null,null,null,null,null,"",{"$f":"IF(L1095=\"\",\"\",VLOOKUP(L1095,Sifranti!A:B,2,FALSE))","v":""},null,{"$f":"IF(N1095=\"\",\"\",VLOOKUP(N1095,Sifranti!D:F,3,FALSE))","v":""},null,{"$f":"IF(P1095=\"\",\"\",VLOOKUP(P1095,Sifranti!H:I,2,FALSE))","v":""},null,null,null,null,null,null,null,null,null,null,null,null,null,null,null,null,null,null,null,null,null,null,null,null,null,{"$f":"IF(AN1095=\"\",\"\",IF(LEN(VLOOKUP(AN1095,Sifranti!BY:BZ,2,FALSE))=0,\"\",VLOOKUP(AN1095,Sifranti!BY:BZ,2,FALSE)))","v":""},{"$f":"IF(C1095=\"\",\"\",VLOOKUP(C1095,Sifranti!P:R,2,FALSE))","v":""},"","",{"$f":"IF(C1095=\"\",\"\",VLOOKUP(C1095,Sifranti!P:R,3,FALSE))","v":""},{"$f":"IF(N1095=\"\",\"\",VLOOKUP(N1095,Sifranti!D:F,2,FALSE))","v":""},{"$f":"IF(AK1095=\"\",\"\",VLOOKUP(AK1095,Sifranti!V:Y,2,FALSE))","v":""},{"$f":"IF(AK1095=\"\",\"\",IF(VLOOKUP(AK1095,Sifranti!V:Y,3,FALSE)=\"\",\"\",VLOOKUP(AK1095,Sifranti!V:Y,3,FALSE)))","v":""},{"$f":"IF(AK1095=\"\",\"\",VLOOKUP(AK1095,Sifranti!V:Y,4,FALSE))","v":""}]
[{"$f":"IF(B1110=\"\",\"\",VLOOKUP(B1110,Sifranti!K:L,2,FALSE))","v":""},null,null,null,null,null,null,null,null,"",{"$f":"IF(L1110=\"\",\"\",VLOOKUP(L1110,Sifranti!A:B,2,FALSE))","v":""},null,{"$f":"IF(N1110=\"\",\"\",VLOOKUP(N1110,Sifranti!D:F,3,FALSE))","v":""},null,{"$f":"IF(P1110=\"\",\"\",VLOOKUP(P1110,Sifranti!H:I,2,FALSE))","v":""},null,null,null,null,null,null,null,null,null,null,null,null,null,null,null,null,null,null,null,null,null,null,null,null,null,{"$f":"IF(AN1110=\"\",\"\",IF(LEN(VLOOKUP(AN1110,Sifranti!BY:BZ,2,FALSE))=0,\"\",VLOOKUP(AN1110,Sifranti!BY:BZ,2,FALSE)))","v":""},{"$f":"IF(C1110=\"\",\"\",VLOOKUP(C1110,Sifranti!P:R,2,FALSE))","v":""},"","",{"$f":"IF(C1110=\"\",\"\",VLOOKUP(C1110,Sifranti!P:R,3,FALSE))","v":""},{"$f":"IF(N1110=\"\",\"\",VLOOKUP(N1110,Sifranti!D:F,2,FALSE))","v":""},{"$f":"IF(AK1110=\"\",\"\",VLOOKUP(AK1110,Sifranti!V:Y,2,FALSE))","v":""},{"$f":"IF(AK1110=\"\",\"\",IF(VLOOKUP(AK1110,Sifranti!V:Y,3,FALSE)=\"\",\"\",VLOOKUP(AK1110,Sifranti!V:Y,3,FALSE)))","v":""},{"$f":"IF(AK1110=\"\",\"\",VLOOKUP(AK1110,Sifranti!V:Y,4,FALSE))","v":""}]
[{"$f":"IF(B1117=\"\",\"\",VLOOKUP(B1117,Sifranti!K:L,2,FALSE))","v":""},null,null,null,null,null,null,null,null,"",{"$f":"IF(L1117=\"\",\"\",VLOOKUP(L1117,Sifranti!A:B,2,FALSE))","v":""},null,{"$f":"IF(N1117=\"\",\"\",VLOOKUP(N1117,Sifranti!D:F,3,FALSE))","v":""},null,{"$f":"IF(P1117=\"\",\"\",VLOOKUP(P1117,Sifranti!H:I,2,FALSE))","v":""},null,null,null,null,null,null,null,null,null,null,null,null,null,null,null,null,null,null,null,null,null,null,null,null,null,{"$f":"IF(AN1117=\"\",\"\",IF(LEN(VLOOKUP(AN1117,Sifranti!BY:BZ,2,FALSE))=0,\"\",VLOOKUP(AN1117,Sifranti!BY:BZ,2,FALSE)))","v":""},{"$f":"IF(C1117=\"\",\"\",VLOOKUP(C1117,Sifranti!P:R,2,FALSE))","v":""},"","",{"$f":"IF(C1117=\"\",\"\",VLOOKUP(C1117,Sifranti!P:R,3,FALSE))","v":""},{"$f":"IF(N1117=\"\",\"\",VLOOKUP(N1117,Sifranti!D:F,2,FALSE))","v":""},{"$f":"IF(AK1117=\"\",\"\",VLOOKUP(AK1117,Sifranti!V:Y,2,FALSE))","v":""},{"$f":"IF(AK1117=\"\",\"\",IF(VLOOKUP(AK1117,Sifranti!V:Y,3,FALSE)=\"\",\"\",VLOOKUP(AK1117,Sifranti!V:Y,3,FALSE)))","v":""},{"$f":"IF(AK1117=\"\",\"\",VLOOKUP(AK1117,Sifranti!V:Y,4,FALSE))","v":""}]
[{"$f":"IF(B1127=\"\",\"\",VLOOKUP(B1127,Sifranti!K:L,2,FALSE))","v":""},null,null,null,null,null,null,null,null,"",{"$f":"IF(L1127=\"\",\"\",VLOOKUP(L1127,Sifranti!A:B,2,FALSE))","v":""},null,{"$f":"IF(N1127=\"\",\"\",VLOOKUP(N1127,Sifranti!D:F,3,FALSE))","v":""},null,{"$f":"IF(P1127=\"\",\"\",VLOOKUP(P1127,Sifranti!H:I,2,FALSE))","v":""},null,null,null,null,null,null,null,null,null,null,null,null,null,null,null,null,null,null,null,null,null,null,null,null,null,{"$f":"IF(AN1127=\"\",\"\",IF(LEN(VLOOKUP(AN1127,Sifranti!BY:BZ,2,FALSE))=0,\"\",VLOOKUP(AN1127,Sifranti!BY:BZ,2,FALSE)))","v":""},{"$f":"IF(C1127=\"\",\"\",VLOOKUP(C1127,Sifranti!P:R,2,FALSE))","v":""},"","",{"$f":"IF(C1127=\"\",\"\",VLOOKUP(C1127,Sifranti!P:R,3,FALSE))","v":""},{"$f":"IF(N1127=\"\",\"\",VLOOKUP(N1127,Sifranti!D:F,2,FALSE))","v":""},{"$f":"IF(AK1127=\"\",\"\",VLOOKUP(AK1127,Sifranti!V:Y,2,FALSE))","v":""},{"$f":"IF(AK1127=\"\",\"\",IF(VLOOKUP(AK1127,Sifranti!V:Y,3,FALSE)=\"\",\"\",VLOOKUP(AK1127,Sifranti!V:Y,3,FALSE)))","v":""},{"$f":"IF(AK1127=\"\",\"\",VLOOKUP(AK1127,Sifranti!V:Y,4,FALSE))","v":""}]
[{"$f":"IF(B1144=\"\",\"\",VLOOKUP(B1144,Sifranti!K:L,2,FALSE))","v":""},null,null,null,null,null,null,null,null,"",{"$f":"IF(L1144=\"\",\"\",VLOOKUP(L1144,Sifranti!A:B,2,FALSE))","v":""},null,{"$f":"IF(N1144=\"\",\"\",VLOOKUP(N1144,Sifranti!D:F,3,FALSE))","v":""},null,{"$f":"IF(P1144=\"\",\"\",VLOOKUP(P1144,Sifranti!H:I,2,FALSE))","v":""},null,null,null,null,null,null,null,null,null,null,null,null,null,null,null,null,null,null,null,null,null,null,null,null,null,{"$f":"IF(AN1144=\"\",\"\",IF(LEN(VLOOKUP(AN1144,Sifranti!BY:BZ,2,FALSE))=0,\"\",VLOOKUP(AN1144,Sifranti!BY:BZ,2,FALSE)))","v":""},{"$f":"IF(C1144=\"\",\"\",VLOOKUP(C1144,Sifranti!P:R,2,FALSE))","v":""},"","",{"$f":"IF(C1144=\"\",\"\",VLOOKUP(C1144,Sifranti!P:R,3,FALSE))","v":""},{"$f":"IF(N1144=\"\",\"\",VLOOKUP(N1144,Sifranti!D:F,2,FALSE))","v":""},{"$f":"IF(AK1144=\"\",\"\",VLOOKUP(AK1144,Sifranti!V:Y,2,FALSE))","v":""},{"$f":"IF(AK1144=\"\",\"\",IF(VLOOKUP(AK1144,Sifranti!V:Y,3,FALSE)=\"\",\"\",VLOOKUP(AK1144,Sifranti!V:Y,3,FALSE)))","v":""},{"$f":"IF(AK1144=\"\",\"\",VLOOKUP(AK1144,Sifranti!V:Y,4,FALSE))","v":""}]
[{"$f":"IF(B1149=\"\",\"\",VLOOKUP(B1149,Sifranti!K:L,2,FALSE))","v":""},null,null,null,null,null,null,null,null,"",{"$f":"IF(L1149=\"\",\"\",VLOOKUP(L1149,Sifranti!A:B,2,FALSE))","v":""},null,{"$f":"IF(N1149=\"\",\"\",VLOOKUP(N1149,Sifranti!D:F,3,FALSE))","v":""},null,{"$f":"IF(P1149=\"\",\"\",VLOOKUP(P1149,Sifranti!H:I,2,FALSE))","v":""},null,null,null,null,null,null,null,null,null,null,null,null,null,null,null,null,null,null,null,null,null,null,null,null,null,{"$f":"IF(AN1149=\"\",\"\",IF(LEN(VLOOKUP(AN1149,Sifranti!BY:BZ,2,FALSE))=0,\"\",VLOOKUP(AN1149,Sifranti!BY:BZ,2,FALSE)))","v":""},{"$f":"IF(C1149=\"\",\"\",VLOOKUP(C1149,Sifranti!P:R,2,FALSE))","v":""},"","",{"$f":"IF(C1149=\"\",\"\",VLOOKUP(C1149,Sifranti!P:R,3,FALSE))","v":""},{"$f":"IF(N1149=\"\",\"\",VLOOKUP(N1149,Sifranti!D:F,2,FALSE))","v":""},{"$f":"IF(AK1149=\"\",\"\",VLOOKUP(AK1149,Sifranti!V:Y,2,FALSE))","v":""},{"$f":"IF(AK1149=\"\",\"\",IF(VLOOKUP(AK1149,Sifranti!V:Y,3,FALSE)=\"\",\"\",VLOOKUP(AK1149,Sifranti!V:Y,3,FALSE)))","v":""},{"$f":"IF(AK1149=\"\",\"\",VLOOKUP(AK1149,Sifranti!V:Y,4,FALSE))","v":""}]
[{"$f":"IF(B1159=\"\",\"\",VLOOKUP(B1159,Sifranti!K:L,2,FALSE))","v":""},null,null,null,null,null,null,null,null,"",{"$f":"IF(L1159=\"\",\"\",VLOOKUP(L1159,Sifranti!A:B,2,FALSE))","v":""},null,{"$f":"IF(N1159=\"\",\"\",VLOOKUP(N1159,Sifranti!D:F,3,FALSE))","v":""},null,{"$f":"IF(P1159=\"\",\"\",VLOOKUP(P1159,Sifranti!H:I,2,FALSE))","v":""},null,null,null,null,null,null,null,null,null,null,null,null,null,null,null,null,null,null,null,null,null,null,null,null,null,{"$f":"IF(AN1159=\"\",\"\",IF(LEN(VLOOKUP(AN1159,Sifranti!BY:BZ,2,FALSE))=0,\"\",VLOOKUP(AN1159,Sifranti!BY:BZ,2,FALSE)))","v":""},{"$f":"IF(C1159=\"\",\"\",VLOOKUP(C1159,Sifranti!P:R,2,FALSE))","v":""},"","",{"$f":"IF(C1159=\"\",\"\",VLOOKUP(C1159,Sifranti!P:R,3,FALSE))","v":""},{"$f":"IF(N1159=\"\",\"\",VLOOKUP(N1159,Sifranti!D:F,2,FALSE))","v":""},{"$f":"IF(AK1159=\"\",\"\",VLOOKUP(AK1159,Sifranti!V:Y,2,FALSE))","v":""},{"$f":"IF(AK1159=\"\",\"\",IF(VLOOKUP(AK1159,Sifranti!V:Y,3,FALSE)=\"\",\"\",VLOOKUP(AK1159,Sifranti!V:Y,3,FALSE)))","v":""},{"$f":"IF(AK1159=\"\",\"\",VLOOKUP(AK1159,Sifranti!V:Y,4,FALSE))","v":""}]
[{"$f":"IF(B1176=\"\",\"\",VLOOKUP(B1176,Sifranti!K:L,2,FALSE))","v":""},null,null,null,null,null,null,null,null,"",{"$f":"IF(L1176=\"\",\"\",VLOOKUP(L1176,Sifranti!A:B,2,FALSE))","v":""},null,{"$f":"IF(N1176=\"\",\"\",VLOOKUP(N1176,Sifranti!D:F,3,FALSE))","v":""},null,{"$f":"IF(P1176=\"\",\"\",VLOOKUP(P1176,Sifranti!H:I,2,FALSE))","v":""},null,null,null,null,null,null,null,null,null,null,null,null,null,null,null,null,null,null,null,null,null,null,null,null,null,{"$f":"IF(AN1176=\"\",\"\",IF(LEN(VLOOKUP(AN1176,Sifranti!BY:BZ,2,FALSE))=0,\"\",VLOOKUP(AN1176,Sifranti!BY:BZ,2,FALSE)))","v":""},{"$f":"IF(C1176=\"\",\"\",VLOOKUP(C1176,Sifranti!P:R,2,FALSE))","v":""},"","",{"$f":"IF(C1176=\"\",\"\",VLOOKUP(C1176,Sifranti!P:R,3,FALSE))","v":""},{"$f":"IF(N1176=\"\",\"\",VLOOKUP(N1176,Sifranti!D:F,2,FALSE))","v":""},{"$f":"IF(AK1176=\"\",\"\",VLOOKUP(AK1176,Sifranti!V:Y,2,FALSE))","v":""},{"$f":"IF(AK1176=\"\",\"\",IF(VLOOKUP(AK1176,Sifranti!V:Y,3,FALSE)=\"\",\"\",VLOOKUP(AK1176,Sifranti!V:Y,3,FALSE)))","v":""},{"$f":"IF(AK1176=\"\",\"\",VLOOKUP(AK1176,Sifranti!V:Y,4,FALSE))","v":""}]
[{"$f":"IF(B1186=\"\",\"\",VLOOKUP(B1186,Sifranti!K:L,2,FALSE))","v":""},null,null,null,null,null,null,null,null,"",{"$f":"IF(L1186=\"\",\"\",VLOOKUP(L1186,Sifranti!A:B,2,FALSE))","v":""},null,{"$f":"IF(N1186=\"\",\"\",VLOOKUP(N1186,Sifranti!D:F,3,FALSE))","v":""},null,{"$f":"IF(P1186=\"\",\"\",VLOOKUP(P1186,Sifranti!H:I,2,FALSE))","v":""},null,null,null,null,null,null,null,null,null,null,null,null,null,null,null,null,null,null,null,null,null,null,null,null,null,{"$f":"IF(AN1186=\"\",\"\",IF(LEN(VLOOKUP(AN1186,Sifranti!BY:BZ,2,FALSE))=0,\"\",VLOOKUP(AN1186,Sifranti!BY:BZ,2,FALSE)))","v":""},{"$f":"IF(C1186=\"\",\"\",VLOOKUP(C1186,Sifranti!P:R,2,FALSE))","v":""},"","",{"$f":"IF(C1186=\"\",\"\",VLOOKUP(C1186,Sifranti!P:R,3,FALSE))","v":""},{"$f":"IF(N1186=\"\",\"\",VLOOKUP(N1186,Sifranti!D:F,2,FALSE))","v":""},{"$f":"IF(AK1186=\"\",\"\",VLOOKUP(AK1186,Sifranti!V:Y,2,FALSE))","v":""},{"$f":"IF(AK1186=\"\",\"\",IF(VLOOKUP(AK1186,Sifranti!V:Y,3,FALSE)=\"\",\"\",VLOOKUP(AK1186,Sifranti!V:Y,3,FALSE)))","v":""},{"$f":"IF(AK1186=\"\",\"\",VLOOKUP(AK1186,Sifranti!V:Y,4,FALSE))","v":""}]
[{"$f":"IF(B1194=\"\",\"\",VLOOKUP(B1194,Sifranti!K:L,2,FALSE))","v":""},null,null,null,null,null,null,null,null,"",{"$f":"IF(L1194=\"\",\"\",VLOOKUP(L1194,Sifranti!A:B,2,FALSE))","v":""},null,{"$f":"IF(N1194=\"\",\"\",VLOOKUP(N1194,Sifranti!D:F,3,FALSE))","v":""},null,{"$f":"IF(P1194=\"\",\"\",VLOOKUP(P1194,Sifranti!H:I,2,FALSE))","v":""},null,null,null,null,null,null,null,null,null,null,null,null,null,null,null,null,null,null,null,null,null,null,null,null,null,{"$f":"IF(AN1194=\"\",\"\",IF(LEN(VLOOKUP(AN1194,Sifranti!BY:BZ,2,FALSE))=0,\"\",VLOOKUP(AN1194,Sifranti!BY:BZ,2,FALSE)))","v":""},{"$f":"IF(C1194=\"\",\"\",VLOOKUP(C1194,Sifranti!P:R,2,FALSE))","v":""},"","",{"$f":"IF(C1194=\"\",\"\",VLOOKUP(C1194,Sifranti!P:R,3,FALSE))","v":""},{"$f":"IF(N1194=\"\",\"\",VLOOKUP(N1194,Sifranti!D:F,2,FALSE))","v":""},{"$f":"IF(AK1194=\"\",\"\",VLOOKUP(AK1194,Sifranti!V:Y,2,FALSE))","v":""},{"$f":"IF(AK1194=\"\",\"\",IF(VLOOKUP(AK1194,Sifranti!V:Y,3,FALSE)=\"\",\"\",VLOOKUP(AK1194,Sifranti!V:Y,3,FALSE)))","v":""},{"$f":"IF(AK1194=\"\",\"\",VLOOKUP(AK1194,Sifranti!V:Y,4,FALSE))","v":""}]
[{"$f":"IF(B1208=\"\",\"\",VLOOKUP(B1208,Sifranti!K:L,2,FALSE))","v":""},null,null,null,null,null,null,null,null,"",{"$f":"IF(L1208=\"\",\"\",VLOOKUP(L1208,Sifranti!A:B,2,FALSE))","v":""},null,{"$f":"IF(N1208=\"\",\"\",VLOOKUP(N1208,Sifranti!D:F,3,FALSE))","v":""},null,{"$f":"IF(P1208=\"\",\"\",VLOOKUP(P1208,Sifranti!H:I,2,FALSE))","v":""},null,null,null,null,null,null,null,null,null,null,null,null,null,null,null,null,null,null,null,null,null,null,null,null,null,{"$f":"IF(AN1208=\"\",\"\",IF(LEN(VLOOKUP(AN1208,Sifranti!BY:BZ,2,FALSE))=0,\"\",VLOOKUP(AN1208,Sifranti!BY:BZ,2,FALSE)))","v":""},{"$f":"IF(C1208=\"\",\"\",VLOOKUP(C1208,Sifranti!P:R,2,FALSE))","v":""},"","",{"$f":"IF(C1208=\"\",\"\",VLOOKUP(C1208,Sifranti!P:R,3,FALSE))","v":""},{"$f":"IF(N1208=\"\",\"\",VLOOKUP(N1208,Sifranti!D:F,2,FALSE))","v":""},{"$f":"IF(AK1208=\"\",\"\",VLOOKUP(AK1208,Sifranti!V:Y,2,FALSE))","v":""},{"$f":"IF(AK1208=\"\",\"\",IF(VLOOKUP(AK1208,Sifranti!V:Y,3,FALSE)=\"\",\"\",VLOOKUP(AK1208,Sifranti!V:Y,3,FALSE)))","v":""},{"$f":"IF(AK1208=\"\",\"\",VLOOKUP(AK1208,Sifranti!V:Y,4,FALSE))","v":""}]
[{"$f":"IF(B1218=\"\",\"\",VLOOKUP(B1218,Sifranti!K:L,2,FALSE))","v":""},null,null,null,null,null,null,null,null,{"$f":"IF(H1218=\"\",\"\",YEAR(H1218))","v":""},{"$f":"IF(L1218=\"\",\"\",VLOOKUP(L1218,Sifranti!A:B,2,FALSE))","v":""},null,{"$f":"IF(N1218=\"\",\"\",VLOOKUP(N1218,Sifranti!D:F,3,FALSE))","v":""},null,{"$f":"IF(P1218=\"\",\"\",VLOOKUP(P1218,Sifranti!H:I,2,FALSE))","v":""},null,null,null,null,null,null,null,null,null,null,null,null,null,null,null,null,null,null,null,null,null,null,null,null,null,{"$f":"IF(AN1218=\"\",\"\",IF(LEN(VLOOKUP(AN1218,Sifranti!BY:BZ,2,FALSE))=0,\"\",VLOOKUP(AN1218,Sifranti!BY:BZ,2,FALSE)))","v":""},{"$f":"IF(C1218=\"\",\"\",VLOOKUP(C1218,Sifranti!P:R,2,FALSE))","v":""},{"$f":"IF(V1218>0,IF(AS1218=\"de minimis\",T1218/S1218*100,U1218/AD1218*100),\"\")","v":""},{"$f":"IF(AE1218>0,AE1218/U1218*100,\"\")","v":""},{"$f":"IF(C1218=\"\",\"\",VLOOKUP(C1218,Sifranti!P:R,3,FALSE))","v":""},{"$f":"IF(N1218=\"\",\"\",VLOOKUP(N1218,Sifranti!D:F,2,FALSE))","v":""},{"$f":"IF(AK1218=\"\",\"\",VLOOKUP(AK1218,Sifranti!V:Y,2,FALSE))","v":""},{"$f":"IF(AK1218=\"\",\"\",IF(VLOOKUP(AK1218,Sifranti!V:Y,3,FALSE)=\"\",\"\",VLOOKUP(AK1218,Sifranti!V:Y,3,FALSE)))","v":""},{"$f":"IF(AK1218=\"\",\"\",VLOOKUP(AK1218,Sifranti!V:Y,4,FALSE))","v":""}]
[{"$f":"IF(B1224=\"\",\"\",VLOOKUP(B1224,Sifranti!K:L,2,FALSE))","v":""},null,null,null,null,null,null,null,null,"",{"$f":"IF(L1224=\"\",\"\",VLOOKUP(L1224,Sifranti!A:B,2,FALSE))","v":""},null,{"$f":"IF(N1224=\"\",\"\",VLOOKUP(N1224,Sifranti!D:F,3,FALSE))","v":""},null,{"$f":"IF(P1224=\"\",\"\",VLOOKUP(P1224,Sifranti!H:I,2,FALSE))","v":""},null,null,null,null,null,null,null,null,null,null,null,null,null,null,null,null,null,null,null,null,null,null,null,null,null,{"$f":"IF(AN1224=\"\",\"\",IF(LEN(VLOOKUP(AN1224,Sifranti!BY:BZ,2,FALSE))=0,\"\",VLOOKUP(AN1224,Sifranti!BY:BZ,2,FALSE)))","v":""},{"$f":"IF(C1224=\"\",\"\",VLOOKUP(C1224,Sifranti!P:R,2,FALSE))","v":""},"","",{"$f":"IF(C1224=\"\",\"\",VLOOKUP(C1224,Sifranti!P:R,3,FALSE))","v":""},{"$f":"IF(N1224=\"\",\"\",VLOOKUP(N1224,Sifranti!D:F,2,FALSE))","v":""},{"$f":"IF(AK1224=\"\",\"\",VLOOKUP(AK1224,Sifranti!V:Y,2,FALSE))","v":""},{"$f":"IF(AK1224=\"\",\"\",IF(VLOOKUP(AK1224,Sifranti!V:Y,3,FALSE)=\"\",\"\",VLOOKUP(AK1224,Sifranti!V:Y,3,FALSE)))","v":""},{"$f":"IF(AK1224=\"\",\"\",VLOOKUP(AK1224,Sifranti!V:Y,4,FALSE))","v":""}]
[{"$f":"IF(B1233=\"\",\"\",VLOOKUP(B1233,Sifranti!K:L,2,FALSE))","v":""},null,null,null,null,null,null,null,null,"",{"$f":"IF(L1233=\"\",\"\",VLOOKUP(L1233,Sifranti!A:B,2,FALSE))","v":""},null,{"$f":"IF(N1233=\"\",\"\",VLOOKUP(N1233,Sifranti!D:F,3,FALSE))","v":""},null,{"$f":"IF(P1233=\"\",\"\",VLOOKUP(P1233,Sifranti!H:I,2,FALSE))","v":""},null,null,null,null,null,null,null,null,null,null,null,null,null,null,null,null,null,null,null,null,null,null,null,null,null,{"$f":"IF(AN1233=\"\",\"\",IF(LEN(VLOOKUP(AN1233,Sifranti!BY:BZ,2,FALSE))=0,\"\",VLOOKUP(AN1233,Sifranti!BY:BZ,2,FALSE)))","v":""},{"$f":"IF(C1233=\"\",\"\",VLOOKUP(C1233,Sifranti!P:R,2,FALSE))","v":""},"","",{"$f":"IF(C1233=\"\",\"\",VLOOKUP(C1233,Sifranti!P:R,3,FALSE))","v":""},{"$f":"IF(N1233=\"\",\"\",VLOOKUP(N1233,Sifranti!D:F,2,FALSE))","v":""},{"$f":"IF(AK1233=\"\",\"\",VLOOKUP(AK1233,Sifranti!V:Y,2,FALSE))","v":""},{"$f":"IF(AK1233=\"\",\"\",IF(VLOOKUP(AK1233,Sifranti!V:Y,3,FALSE)=\"\",\"\",VLOOKUP(AK1233,Sifranti!V:Y,3,FALSE)))","v":""},{"$f":"IF(AK1233=\"\",\"\",VLOOKUP(AK1233,Sifranti!V:Y,4,FALSE))","v":""}]
[{"$f":"IF(B1250=\"\",\"\",VLOOKUP(B1250,Sifranti!K:L,2,FALSE))","v":""},null,null,null,null,null,null,null,null,"",{"$f":"IF(L1250=\"\",\"\",VLOOKUP(L1250,Sifranti!A:B,2,FALSE))","v":""},null,{"$f":"IF(N1250=\"\",\"\",VLOOKUP(N1250,Sifranti!D:F,3,FALSE))","v":""},null,{"$f":"IF(P1250=\"\",\"\",VLOOKUP(P1250,Sifranti!H:I,2,FALSE))","v":""},null,null,null,null,null,null,null,null,null,null,null,null,null,null,null,null,null,null,null,null,null,null,null,null,null,{"$f":"IF(AN1250=\"\",\"\",IF(LEN(VLOOKUP(AN1250,Sifranti!BY:BZ,2,FALSE))=0,\"\",VLOOKUP(AN1250,Sifranti!BY:BZ,2,FALSE)))","v":""},{"$f":"IF(C1250=\"\",\"\",VLOOKUP(C1250,Sifranti!P:R,2,FALSE))","v":""},"","",{"$f":"IF(C1250=\"\",\"\",VLOOKUP(C1250,Sifranti!P:R,3,FALSE))","v":""},{"$f":"IF(N1250=\"\",\"\",VLOOKUP(N1250,Sifranti!D:F,2,FALSE))","v":""},{"$f":"IF(AK1250=\"\",\"\",VLOOKUP(AK1250,Sifranti!V:Y,2,FALSE))","v":""},{"$f":"IF(AK1250=\"\",\"\",IF(VLOOKUP(AK1250,Sifranti!V:Y,3,FALSE)=\"\",\"\",VLOOKUP(AK1250,Sifranti!V:Y,3,FALSE)))","v":""},{"$f":"IF(AK1250=\"\",\"\",VLOOKUP(AK1250,Sifranti!V:Y,4,FALSE))","v":""}]
[{"$f":"IF(B1256=\"\",\"\",VLOOKUP(B1256,Sifranti!K:L,2,FALSE))","v":""},null,null,null,null,null,null,null,null,"",{"$f":"IF(L1256=\"\",\"\",VLOOKUP(L1256,Sifranti!A:B,2,FALSE))","v":""},null,{"$f":"IF(N1256=\"\",\"\",VLOOKUP(N1256,Sifranti!D:F,3,FALSE))","v":""},null,{"$f":"IF(P1256=\"\",\"\",VLOOKUP(P1256,Sifranti!H:I,2,FALSE))","v":""},null,null,null,null,null,null,null,null,null,null,null,null,null,null,null,null,null,null,null,null,null,null,null,null,null,{"$f":"IF(AN1256=\"\",\"\",IF(LEN(VLOOKUP(AN1256,Sifranti!BY:BZ,2,FALSE))=0,\"\",VLOOKUP(AN1256,Sifranti!BY:BZ,2,FALSE)))","v":""},{"$f":"IF(C1256=\"\",\"\",VLOOKUP(C1256,Sifranti!P:R,2,FALSE))","v":""},"","",{"$f":"IF(C1256=\"\",\"\",VLOOKUP(C1256,Sifranti!P:R,3,FALSE))","v":""},{"$f":"IF(N1256=\"\",\"\",VLOOKUP(N1256,Sifranti!D:F,2,FALSE))","v":""},{"$f":"IF(AK1256=\"\",\"\",VLOOKUP(AK1256,Sifranti!V:Y,2,FALSE))","v":""},{"$f":"IF(AK1256=\"\",\"\",IF(VLOOKUP(AK1256,Sifranti!V:Y,3,FALSE)=\"\",\"\",VLOOKUP(AK1256,Sifranti!V:Y,3,FALSE)))","v":""},{"$f":"IF(AK1256=\"\",\"\",VLOOKUP(AK1256,Sifranti!V:Y,4,FALSE))","v":""}]
[{"$f":"IF(B1266=\"\",\"\",VLOOKUP(B1266,Sifranti!K:L,2,FALSE))","v":""},null,null,null,null,null,null,null,null,"",{"$f":"IF(L1266=\"\",\"\",VLOOKUP(L1266,Sifranti!A:B,2,FALSE))","v":""},null,{"$f":"IF(N1266=\"\",\"\",VLOOKUP(N1266,Sifranti!D:F,3,FALSE))","v":""},null,{"$f":"IF(P1266=\"\",\"\",VLOOKUP(P1266,Sifranti!H:I,2,FALSE))","v":""},null,null,null,null,null,null,null,null,null,null,null,null,null,null,null,null,null,null,null,null,null,null,null,null,null,{"$f":"IF(AN1266=\"\",\"\",IF(LEN(VLOOKUP(AN1266,Sifranti!BY:BZ,2,FALSE))=0,\"\",VLOOKUP(AN1266,Sifranti!BY:BZ,2,FALSE)))","v":""},{"$f":"IF(C1266=\"\",\"\",VLOOKUP(C1266,Sifranti!P:R,2,FALSE))","v":""},"","",{"$f":"IF(C1266=\"\",\"\",VLOOKUP(C1266,Sifranti!P:R,3,FALSE))","v":""},{"$f":"IF(N1266=\"\",\"\",VLOOKUP(N1266,Sifranti!D:F,2,FALSE))","v":""},{"$f":"IF(AK1266=\"\",\"\",VLOOKUP(AK1266,Sifranti!V:Y,2,FALSE))","v":""},{"$f":"IF(AK1266=\"\",\"\",IF(VLOOKUP(AK1266,Sifranti!V:Y,3,FALSE)=\"\",\"\",VLOOKUP(AK1266,Sifranti!V:Y,3,FALSE)))","v":""},{"$f":"IF(AK1266=\"\",\"\",VLOOKUP(AK1266,Sifranti!V:Y,4,FALSE))","v":""}]
[{"$f":"IF(B1278=\"\",\"\",VLOOKUP(B1278,Sifranti!K:L,2,FALSE))","v":""},null,null,null,null,null,null,null,null,"",{"$f":"IF(L1278=\"\",\"\",VLOOKUP(L1278,Sifranti!A:B,2,FALSE))","v":""},null,{"$f":"IF(N1278=\"\",\"\",VLOOKUP(N1278,Sifranti!D:F,3,FALSE))","v":""},null,{"$f":"IF(P1278=\"\",\"\",VLOOKUP(P1278,Sifranti!H:I,2,FALSE))","v":""},null,null,null,null,null,null,null,null,null,null,null,null,null,null,null,null,null,null,null,null,null,null,null,null,null,{"$f":"IF(AN1278=\"\",\"\",IF(LEN(VLOOKUP(AN1278,Sifranti!BY:BZ,2,FALSE))=0,\"\",VLOOKUP(AN1278,Sifranti!BY:BZ,2,FALSE)))","v":""},{"$f":"IF(C1278=\"\",\"\",VLOOKUP(C1278,Sifranti!P:R,2,FALSE))","v":""},"","",{"$f":"IF(C1278=\"\",\"\",VLOOKUP(C1278,Sifranti!P:R,3,FALSE))","v":""},{"$f":"IF(N1278=\"\",\"\",VLOOKUP(N1278,Sifranti!D:F,2,FALSE))","v":""},{"$f":"IF(AK1278=\"\",\"\",VLOOKUP(AK1278,Sifranti!V:Y,2,FALSE))","v":""},{"$f":"IF(AK1278=\"\",\"\",IF(VLOOKUP(AK1278,Sifranti!V:Y,3,FALSE)=\"\",\"\",VLOOKUP(AK1278,Sifranti!V:Y,3,FALSE)))","v":""},{"$f":"IF(AK1278=\"\",\"\",VLOOKUP(AK1278,Sifranti!V:Y,4,FALSE))","v":""}]
[{"$f":"IF(B1288=\"\",\"\",VLOOKUP(B1288,Sifranti!K:L,2,FALSE))","v":""},null,null,null,null,null,null,null,null,"",{"$f":"IF(L1288=\"\",\"\",VLOOKUP(L1288,Sifranti!A:B,2,FALSE))","v":""},null,{"$f":"IF(N1288=\"\",\"\",VLOOKUP(N1288,Sifranti!D:F,3,FALSE))","v":""},null,{"$f":"IF(P1288=\"\",\"\",VLOOKUP(P1288,Sifranti!H:I,2,FALSE))","v":""},null,null,null,null,null,null,null,null,null,null,null,null,null,null,null,null,null,null,null,null,null,null,null,null,null,{"$f":"IF(AN1288=\"\",\"\",IF(LEN(VLOOKUP(AN1288,Sifranti!BY:BZ,2,FALSE))=0,\"\",VLOOKUP(AN1288,Sifranti!BY:BZ,2,FALSE)))","v":""},{"$f":"IF(C1288=\"\",\"\",VLOOKUP(C1288,Sifranti!P:R,2,FALSE))","v":""},"","",{"$f":"IF(C1288=\"\",\"\",VLOOKUP(C1288,Sifranti!P:R,3,FALSE))","v":""},{"$f":"IF(N1288=\"\",\"\",VLOOKUP(N1288,Sifranti!D:F,2,FALSE))","v":""},{"$f":"IF(AK1288=\"\",\"\",VLOOKUP(AK1288,Sifranti!V:Y,2,FALSE))","v":""},{"$f":"IF(AK1288=\"\",\"\",IF(VLOOKUP(AK1288,Sifranti!V:Y,3,FALSE)=\"\",\"\",VLOOKUP(AK1288,Sifranti!V:Y,3,FALSE)))","v":""},{"$f":"IF(AK1288=\"\",\"\",VLOOKUP(AK1288,Sifranti!V:Y,4,FALSE))","v":""}]
[{"$f":"IF(B1298=\"\",\"\",VLOOKUP(B1298,Sifranti!K:L,2,FALSE))","v":""},null,null,null,null,null,null,null,null,"",{"$f":"IF(L1298=\"\",\"\",VLOOKUP(L1298,Sifranti!A:B,2,FALSE))","v":""},null,{"$f":"IF(N1298=\"\",\"\",VLOOKUP(N1298,Sifranti!D:F,3,FALSE))","v":""},null,{"$f":"IF(P1298=\"\",\"\",VLOOKUP(P1298,Sifranti!H:I,2,FALSE))","v":""},null,null,null,null,null,null,null,null,null,null,null,null,null,null,null,null,null,null,null,null,null,null,null,null,null,{"$f":"IF(AN1298=\"\",\"\",IF(LEN(VLOOKUP(AN1298,Sifranti!BY:BZ,2,FALSE))=0,\"\",VLOOKUP(AN1298,Sifranti!BY:BZ,2,FALSE)))","v":""},{"$f":"IF(C1298=\"\",\"\",VLOOKUP(C1298,Sifranti!P:R,2,FALSE))","v":""},"","",{"$f":"IF(C1298=\"\",\"\",VLOOKUP(C1298,Sifranti!P:R,3,FALSE))","v":""},{"$f":"IF(N1298=\"\",\"\",VLOOKUP(N1298,Sifranti!D:F,2,FALSE))","v":""},{"$f":"IF(AK1298=\"\",\"\",VLOOKUP(AK1298,Sifranti!V:Y,2,FALSE))","v":""},{"$f":"IF(AK1298=\"\",\"\",IF(VLOOKUP(AK1298,Sifranti!V:Y,3,FALSE)=\"\",\"\",VLOOKUP(AK1298,Sifranti!V:Y,3,FALSE)))","v":""},{"$f":"IF(AK1298=\"\",\"\",VLOOKUP(AK1298,Sifranti!V:Y,4,FALSE))","v":""}]
[{"$f":"IF(B1315=\"\",\"\",VLOOKUP(B1315,Sifranti!K:L,2,FALSE))","v":""},null,null,null,null,null,null,null,null,"",{"$f":"IF(L1315=\"\",\"\",VLOOKUP(L1315,Sifranti!A:B,2,FALSE))","v":""},null,{"$f":"IF(N1315=\"\",\"\",VLOOKUP(N1315,Sifranti!D:F,3,FALSE))","v":""},null,{"$f":"IF(P1315=\"\",\"\",VLOOKUP(P1315,Sifranti!H:I,2,FALSE))","v":""},null,null,null,null,null,null,null,null,null,null,null,null,null,null,null,null,null,null,null,null,null,null,null,null,null,{"$f":"IF(AN1315=\"\",\"\",IF(LEN(VLOOKUP(AN1315,Sifranti!BY:BZ,2,FALSE))=0,\"\",VLOOKUP(AN1315,Sifranti!BY:BZ,2,FALSE)))","v":""},{"$f":"IF(C1315=\"\",\"\",VLOOKUP(C1315,Sifranti!P:R,2,FALSE))","v":""},"","",{"$f":"IF(C1315=\"\",\"\",VLOOKUP(C1315,Sifranti!P:R,3,FALSE))","v":""},{"$f":"IF(N1315=\"\",\"\",VLOOKUP(N1315,Sifranti!D:F,2,FALSE))","v":""},{"$f":"IF(AK1315=\"\",\"\",VLOOKUP(AK1315,Sifranti!V:Y,2,FALSE))","v":""},{"$f":"IF(AK1315=\"\",\"\",IF(VLOOKUP(AK1315,Sifranti!V:Y,3,FALSE)=\"\",\"\",VLOOKUP(AK1315,Sifranti!V:Y,3,FALSE)))","v":""},{"$f":"IF(AK1315=\"\",\"\",VLOOKUP(AK1315,Sifranti!V:Y,4,FALSE))","v":""}]
[{"$f":"IF(B1323=\"\",\"\",VLOOKUP(B1323,Sifranti!K:L,2,FALSE))","v":""},null,null,null,null,null,null,null,null,"",{"$f":"IF(L1323=\"\",\"\",VLOOKUP(L1323,Sifranti!A:B,2,FALSE))","v":""},null,{"$f":"IF(N1323=\"\",\"\",VLOOKUP(N1323,Sifranti!D:F,3,FALSE))","v":""},null,{"$f":"IF(P1323=\"\",\"\",VLOOKUP(P1323,Sifranti!H:I,2,FALSE))","v":""},null,null,null,null,null,null,null,null,null,null,null,null,null,null,null,null,null,null,null,null,null,null,null,null,null,{"$f":"IF(AN1323=\"\",\"\",IF(LEN(VLOOKUP(AN1323,Sifranti!BY:BZ,2,FALSE))=0,\"\",VLOOKUP(AN1323,Sifranti!BY:BZ,2,FALSE)))","v":""},{"$f":"IF(C1323=\"\",\"\",VLOOKUP(C1323,Sifranti!P:R,2,FALSE))","v":""},"","",{"$f":"IF(C1323=\"\",\"\",VLOOKUP(C1323,Sifranti!P:R,3,FALSE))","v":""},{"$f":"IF(N1323=\"\",\"\",VLOOKUP(N1323,Sifranti!D:F,2,FALSE))","v":""},{"$f":"IF(AK1323=\"\",\"\",VLOOKUP(AK1323,Sifranti!V:Y,2,FALSE))","v":""},{"$f":"IF(AK1323=\"\",\"\",IF(VLOOKUP(AK1323,Sifranti!V:Y,3,FALSE)=\"\",\"\",VLOOKUP(AK1323,Sifranti!V:Y,3,FALSE)))","v":""},{"$f":"IF(AK1323=\"\",\"\",VLOOKUP(AK1323,Sifranti!V:Y,4,FALSE))","v":""}]
[{"$f":"IF(B1330=\"\",\"\",VLOOKUP(B1330,Sifranti!K:L,2,FALSE))","v":""},null,null,null,null,null,null,null,null,"",{"$f":"IF(L1330=\"\",\"\",VLOOKUP(L1330,Sifranti!A:B,2,FALSE))","v":""},null,{"$f":"IF(N1330=\"\",\"\",VLOOKUP(N1330,Sifranti!D:F,3,FALSE))","v":""},null,{"$f":"IF(P1330=\"\",\"\",VLOOKUP(P1330,Sifranti!H:I,2,FALSE))","v":""},null,null,null,null,null,null,null,null,null,null,null,null,null,null,null,null,null,null,null,null,null,null,null,null,null,{"$f":"IF(AN1330=\"\",\"\",IF(LEN(VLOOKUP(AN1330,Sifranti!BY:BZ,2,FALSE))=0,\"\",VLOOKUP(AN1330,Sifranti!BY:BZ,2,FALSE)))","v":""},{"$f":"IF(C1330=\"\",\"\",VLOOKUP(C1330,Sifranti!P:R,2,FALSE))","v":""},"","",{"$f":"IF(C1330=\"\",\"\",VLOOKUP(C1330,Sifranti!P:R,3,FALSE))","v":""},{"$f":"IF(N1330=\"\",\"\",VLOOKUP(N1330,Sifranti!D:F,2,FALSE))","v":""},{"$f":"IF(AK1330=\"\",\"\",VLOOKUP(AK1330,Sifranti!V:Y,2,FALSE))","v":""},{"$f":"IF(AK1330=\"\",\"\",IF(VLOOKUP(AK1330,Sifranti!V:Y,3,FALSE)=\"\",\"\",VLOOKUP(AK1330,Sifranti!V:Y,3,FALSE)))","v":""},{"$f":"IF(AK1330=\"\",\"\",VLOOKUP(AK1330,Sifranti!V:Y,4,FALSE))","v":""}]
[{"$f":"IF(B1347=\"\",\"\",VLOOKUP(B1347,Sifranti!K:L,2,FALSE))","v":""},null,null,null,null,null,null,null,null,"",{"$f":"IF(L1347=\"\",\"\",VLOOKUP(L1347,Sifranti!A:B,2,FALSE))","v":""},null,{"$f":"IF(N1347=\"\",\"\",VLOOKUP(N1347,Sifranti!D:F,3,FALSE))","v":""},null,{"$f":"IF(P1347=\"\",\"\",VLOOKUP(P1347,Sifranti!H:I,2,FALSE))","v":""},null,null,null,null,null,null,null,null,null,null,null,null,null,null,null,null,null,null,null,null,null,null,null,null,null,{"$f":"IF(AN1347=\"\",\"\",IF(LEN(VLOOKUP(AN1347,Sifranti!BY:BZ,2,FALSE))=0,\"\",VLOOKUP(AN1347,Sifranti!BY:BZ,2,FALSE)))","v":""},{"$f":"IF(C1347=\"\",\"\",VLOOKUP(C1347,Sifranti!P:R,2,FALSE))","v":""},"","",{"$f":"IF(C1347=\"\",\"\",VLOOKUP(C1347,Sifranti!P:R,3,FALSE))","v":""},{"$f":"IF(N1347=\"\",\"\",VLOOKUP(N1347,Sifranti!D:F,2,FALSE))","v":""},{"$f":"IF(AK1347=\"\",\"\",VLOOKUP(AK1347,Sifranti!V:Y,2,FALSE))","v":""},{"$f":"IF(AK1347=\"\",\"\",IF(VLOOKUP(AK1347,Sifranti!V:Y,3,FALSE)=\"\",\"\",VLOOKUP(AK1347,Sifranti!V:Y,3,FALSE)))","v":""},{"$f":"IF(AK1347=\"\",\"\",VLOOKUP(AK1347,Sifranti!V:Y,4,FALSE))","v":""}]
[{"$f":"IF(B1357=\"\",\"\",VLOOKUP(B1357,Sifranti!K:L,2,FALSE))","v":""},null,null,null,null,null,null,null,null,"",{"$f":"IF(L1357=\"\",\"\",VLOOKUP(L1357,Sifranti!A:B,2,FALSE))","v":""},null,{"$f":"IF(N1357=\"\",\"\",VLOOKUP(N1357,Sifranti!D:F,3,FALSE))","v":""},null,{"$f":"IF(P1357=\"\",\"\",VLOOKUP(P1357,Sifranti!H:I,2,FALSE))","v":""},null,null,null,null,null,null,null,null,null,null,null,null,null,null,null,null,null,null,null,null,null,null,null,null,null,{"$f":"IF(AN1357=\"\",\"\",IF(LEN(VLOOKUP(AN1357,Sifranti!BY:BZ,2,FALSE))=0,\"\",VLOOKUP(AN1357,Sifranti!BY:BZ,2,FALSE)))","v":""},{"$f":"IF(C1357=\"\",\"\",VLOOKUP(C1357,Sifranti!P:R,2,FALSE))","v":""},"","",{"$f":"IF(C1357=\"\",\"\",VLOOKUP(C1357,Sifranti!P:R,3,FALSE))","v":""},{"$f":"IF(N1357=\"\",\"\",VLOOKUP(N1357,Sifranti!D:F,2,FALSE))","v":""},{"$f":"IF(AK1357=\"\",\"\",VLOOKUP(AK1357,Sifranti!V:Y,2,FALSE))","v":""},{"$f":"IF(AK1357=\"\",\"\",IF(VLOOKUP(AK1357,Sifranti!V:Y,3,FALSE)=\"\",\"\",VLOOKUP(AK1357,Sifranti!V:Y,3,FALSE)))","v":""},{"$f":"IF(AK1357=\"\",\"\",VLOOKUP(AK1357,Sifranti!V:Y,4,FALSE))","v":""}]
[{"$f":"IF(B1362=\"\",\"\",VLOOKUP(B1362,Sifranti!K:L,2,FALSE))","v":""},null,null,null,null,null,null,null,null,"",{"$f":"IF(L1362=\"\",\"\",VLOOKUP(L1362,Sifranti!A:B,2,FALSE))","v":""},null,{"$f":"IF(N1362=\"\",\"\",VLOOKUP(N1362,Sifranti!D:F,3,FALSE))","v":""},null,{"$f":"IF(P1362=\"\",\"\",VLOOKUP(P1362,Sifranti!H:I,2,FALSE))","v":""},null,null,null,null,null,null,null,null,null,null,null,null,null,null,null,null,null,null,null,null,null,null,null,null,null,{"$f":"IF(AN1362=\"\",\"\",IF(LEN(VLOOKUP(AN1362,Sifranti!BY:BZ,2,FALSE))=0,\"\",VLOOKUP(AN1362,Sifranti!BY:BZ,2,FALSE)))","v":""},{"$f":"IF(C1362=\"\",\"\",VLOOKUP(C1362,Sifranti!P:R,2,FALSE))","v":""},"","",{"$f":"IF(C1362=\"\",\"\",VLOOKUP(C1362,Sifranti!P:R,3,FALSE))","v":""},{"$f":"IF(N1362=\"\",\"\",VLOOKUP(N1362,Sifranti!D:F,2,FALSE))","v":""},{"$f":"IF(AK1362=\"\",\"\",VLOOKUP(AK1362,Sifranti!V:Y,2,FALSE))","v":""},{"$f":"IF(AK1362=\"\",\"\",IF(VLOOKUP(AK1362,Sifranti!V:Y,3,FALSE)=\"\",\"\",VLOOKUP(AK1362,Sifranti!V:Y,3,FALSE)))","v":""},{"$f":"IF(AK1362=\"\",\"\",VLOOKUP(AK1362,Sifranti!V:Y,4,FALSE))","v":""}]
[{"$f":"IF(B1379=\"\",\"\",VLOOKUP(B1379,Sifranti!K:L,2,FALSE))","v":""},null,null,null,null,null,null,null,null,"",{"$f":"IF(L1379=\"\",\"\",VLOOKUP(L1379,Sifranti!A:B,2,FALSE))","v":""},null,{"$f":"IF(N1379=\"\",\"\",VLOOKUP(N1379,Sifranti!D:F,3,FALSE))","v":""},null,{"$f":"IF(P1379=\"\",\"\",VLOOKUP(P1379,Sifranti!H:I,2,FALSE))","v":""},null,null,null,null,null,null,null,null,null,null,null,null,null,null,null,null,null,null,null,null,null,null,null,null,null,{"$f":"IF(AN1379=\"\",\"\",IF(LEN(VLOOKUP(AN1379,Sifranti!BY:BZ,2,FALSE))=0,\"\",VLOOKUP(AN1379,Sifranti!BY:BZ,2,FALSE)))","v":""},{"$f":"IF(C1379=\"\",\"\",VLOOKUP(C1379,Sifranti!P:R,2,FALSE))","v":""},"","",{"$f":"IF(C1379=\"\",\"\",VLOOKUP(C1379,Sifranti!P:R,3,FALSE))","v":""},{"$f":"IF(N1379=\"\",\"\",VLOOKUP(N1379,Sifranti!D:F,2,FALSE))","v":""},{"$f":"IF(AK1379=\"\",\"\",VLOOKUP(AK1379,Sifranti!V:Y,2,FALSE))","v":""},{"$f":"IF(AK1379=\"\",\"\",IF(VLOOKUP(AK1379,Sifranti!V:Y,3,FALSE)=\"\",\"\",VLOOKUP(AK1379,Sifranti!V:Y,3,FALSE)))","v":""},{"$f":"IF(AK1379=\"\",\"\",VLOOKUP(AK1379,Sifranti!V:Y,4,FALSE))","v":""}]
[{"$f":"IF(B1389=\"\",\"\",VLOOKUP(B1389,Sifranti!K:L,2,FALSE))","v":""},null,null,null,null,null,null,null,null,"",{"$f":"IF(L1389=\"\",\"\",VLOOKUP(L1389,Sifranti!A:B,2,FALSE))","v":""},null,{"$f":"IF(N1389=\"\",\"\",VLOOKUP(N1389,Sifranti!D:F,3,FALSE))","v":""},null,{"$f":"IF(P1389=\"\",\"\",VLOOKUP(P1389,Sifranti!H:I,2,FALSE))","v":""},null,null,null,null,null,null,null,null,null,null,null,null,null,null,null,null,null,null,null,null,null,null,null,null,null,{"$f":"IF(AN1389=\"\",\"\",IF(LEN(VLOOKUP(AN1389,Sifranti!BY:BZ,2,FALSE))=0,\"\",VLOOKUP(AN1389,Sifranti!BY:BZ,2,FALSE)))","v":""},{"$f":"IF(C1389=\"\",\"\",VLOOKUP(C1389,Sifranti!P:R,2,FALSE))","v":""},"","",{"$f":"IF(C1389=\"\",\"\",VLOOKUP(C1389,Sifranti!P:R,3,FALSE))","v":""},{"$f":"IF(N1389=\"\",\"\",VLOOKUP(N1389,Sifranti!D:F,2,FALSE))","v":""},{"$f":"IF(AK1389=\"\",\"\",VLOOKUP(AK1389,Sifranti!V:Y,2,FALSE))","v":""},{"$f":"IF(AK1389=\"\",\"\",IF(VLOOKUP(AK1389,Sifranti!V:Y,3,FALSE)=\"\",\"\",VLOOKUP(AK1389,Sifranti!V:Y,3,FALSE)))","v":""},{"$f":"IF(AK1389=\"\",\"\",VLOOKUP(AK1389,Sifranti!V:Y,4,FALSE))","v":""}]
[{"$f":"IF(B1395=\"\",\"\",VLOOKUP(B1395,Sifranti!K:L,2,FALSE))","v":""},null,null,null,null,null,null,null,null,"",{"$f":"IF(L1395=\"\",\"\",VLOOKUP(L1395,Sifranti!A:B,2,FALSE))","v":""},null,{"$f":"IF(N1395=\"\",\"\",VLOOKUP(N1395,Sifranti!D:F,3,FALSE))","v":""},null,{"$f":"IF(P1395=\"\",\"\",VLOOKUP(P1395,Sifranti!H:I,2,FALSE))","v":""},null,null,null,null,null,null,null,null,null,null,null,null,null,null,null,null,null,null,null,null,null,null,null,null,null,{"$f":"IF(AN1395=\"\",\"\",IF(LEN(VLOOKUP(AN1395,Sifranti!BY:BZ,2,FALSE))=0,\"\",VLOOKUP(AN1395,Sifranti!BY:BZ,2,FALSE)))","v":""},{"$f":"IF(C1395=\"\",\"\",VLOOKUP(C1395,Sifranti!P:R,2,FALSE))","v":""},"","",{"$f":"IF(C1395=\"\",\"\",VLOOKUP(C1395,Sifranti!P:R,3,FALSE))","v":""},{"$f":"IF(N1395=\"\",\"\",VLOOKUP(N1395,Sifranti!D:F,2,FALSE))","v":""},{"$f":"IF(AK1395=\"\",\"\",VLOOKUP(AK1395,Sifranti!V:Y,2,FALSE))","v":""},{"$f":"IF(AK1395=\"\",\"\",IF(VLOOKUP(AK1395,Sifranti!V:Y,3,FALSE)=\"\",\"\",VLOOKUP(AK1395,Sifranti!V:Y,3,FALSE)))","v":""},{"$f":"IF(AK1395=\"\",\"\",VLOOKUP(AK1395,Sifranti!V:Y,4,FALSE))","v":""}]
[{"$f":"IF(B1407=\"\",\"\",VLOOKUP(B1407,Sifranti!K:L,2,FALSE))","v":""},null,null,null,null,null,null,null,null,"",{"$f":"IF(L1407=\"\",\"\",VLOOKUP(L1407,Sifranti!A:B,2,FALSE))","v":""},null,{"$f":"IF(N1407=\"\",\"\",VLOOKUP(N1407,Sifranti!D:F,3,FALSE))","v":""},null,{"$f":"IF(P1407=\"\",\"\",VLOOKUP(P1407,Sifranti!H:I,2,FALSE))","v":""},null,null,null,null,null,null,null,null,null,null,null,null,null,null,null,null,null,null,null,null,null,null,null,null,null,{"$f":"IF(AN1407=\"\",\"\",IF(LEN(VLOOKUP(AN1407,Sifranti!BY:BZ,2,FALSE))=0,\"\",VLOOKUP(AN1407,Sifranti!BY:BZ,2,FALSE)))","v":""},{"$f":"IF(C1407=\"\",\"\",VLOOKUP(C1407,Sifranti!P:R,2,FALSE))","v":""},"","",{"$f":"IF(C1407=\"\",\"\",VLOOKUP(C1407,Sifranti!P:R,3,FALSE))","v":""},{"$f":"IF(N1407=\"\",\"\",VLOOKUP(N1407,Sifranti!D:F,2,FALSE))","v":""},{"$f":"IF(AK1407=\"\",\"\",VLOOKUP(AK1407,Sifranti!V:Y,2,FALSE))","v":""},{"$f":"IF(AK1407=\"\",\"\",IF(VLOOKUP(AK1407,Sifranti!V:Y,3,FALSE)=\"\",\"\",VLOOKUP(AK1407,Sifranti!V:Y,3,FALSE)))","v":""},{"$f":"IF(AK1407=\"\",\"\",VLOOKUP(AK1407,Sifranti!V:Y,4,FALSE))","v":""}]
[{"$f":"IF(B1421=\"\",\"\",VLOOKUP(B1421,Sifranti!K:L,2,FALSE))","v":""},null,null,null,null,null,null,null,null,"",{"$f":"IF(L1421=\"\",\"\",VLOOKUP(L1421,Sifranti!A:B,2,FALSE))","v":""},null,{"$f":"IF(N1421=\"\",\"\",VLOOKUP(N1421,Sifranti!D:F,3,FALSE))","v":""},null,{"$f":"IF(P1421=\"\",\"\",VLOOKUP(P1421,Sifranti!H:I,2,FALSE))","v":""},null,null,null,null,null,null,null,null,null,null,null,null,null,null,null,null,null,null,null,null,null,null,null,null,null,{"$f":"IF(AN1421=\"\",\"\",IF(LEN(VLOOKUP(AN1421,Sifranti!BY:BZ,2,FALSE))=0,\"\",VLOOKUP(AN1421,Sifranti!BY:BZ,2,FALSE)))","v":""},{"$f":"IF(C1421=\"\",\"\",VLOOKUP(C1421,Sifranti!P:R,2,FALSE))","v":""},"","",{"$f":"IF(C1421=\"\",\"\",VLOOKUP(C1421,Sifranti!P:R,3,FALSE))","v":""},{"$f":"IF(N1421=\"\",\"\",VLOOKUP(N1421,Sifranti!D:F,2,FALSE))","v":""},{"$f":"IF(AK1421=\"\",\"\",VLOOKUP(AK1421,Sifranti!V:Y,2,FALSE))","v":""},{"$f":"IF(AK1421=\"\",\"\",IF(VLOOKUP(AK1421,Sifranti!V:Y,3,FALSE)=\"\",\"\",VLOOKUP(AK1421,Sifranti!V:Y,3,FALSE)))","v":""},{"$f":"IF(AK1421=\"\",\"\",VLOOKUP(AK1421,Sifranti!V:Y,4,FALSE))","v":""}]
[{"$f":"IF(B1427=\"\",\"\",VLOOKUP(B1427,Sifranti!K:L,2,FALSE))","v":""},null,null,null,null,null,null,null,null,"",{"$f":"IF(L1427=\"\",\"\",VLOOKUP(L1427,Sifranti!A:B,2,FALSE))","v":""},null,{"$f":"IF(N1427=\"\",\"\",VLOOKUP(N1427,Sifranti!D:F,3,FALSE))","v":""},null,{"$f":"IF(P1427=\"\",\"\",VLOOKUP(P1427,Sifranti!H:I,2,FALSE))","v":""},null,null,null,null,null,null,null,null,null,null,null,null,null,null,null,null,null,null,null,null,null,null,null,null,null,{"$f":"IF(AN1427=\"\",\"\",IF(LEN(VLOOKUP(AN1427,Sifranti!BY:BZ,2,FALSE))=0,\"\",VLOOKUP(AN1427,Sifranti!BY:BZ,2,FALSE)))","v":""},{"$f":"IF(C1427=\"\",\"\",VLOOKUP(C1427,Sifranti!P:R,2,FALSE))","v":""},"","",{"$f":"IF(C1427=\"\",\"\",VLOOKUP(C1427,Sifranti!P:R,3,FALSE))","v":""},{"$f":"IF(N1427=\"\",\"\",VLOOKUP(N1427,Sifranti!D:F,2,FALSE))","v":""},{"$f":"IF(AK1427=\"\",\"\",VLOOKUP(AK1427,Sifranti!V:Y,2,FALSE))","v":""},{"$f":"IF(AK1427=\"\",\"\",IF(VLOOKUP(AK1427,Sifranti!V:Y,3,FALSE)=\"\",\"\",VLOOKUP(AK1427,Sifranti!V:Y,3,FALSE)))","v":""},{"$f":"IF(AK1427=\"\",\"\",VLOOKUP(AK1427,Sifranti!V:Y,4,FALSE))","v":""}]
[{"$f":"IF(B1437=\"\",\"\",VLOOKUP(B1437,Sifranti!K:L,2,FALSE))","v":""},null,null,null,null,null,null,null,null,"",{"$f":"IF(L1437=\"\",\"\",VLOOKUP(L1437,Sifranti!A:B,2,FALSE))","v":""},null,{"$f":"IF(N1437=\"\",\"\",VLOOKUP(N1437,Sifranti!D:F,3,FALSE))","v":""},null,{"$f":"IF(P1437=\"\",\"\",VLOOKUP(P1437,Sifranti!H:I,2,FALSE))","v":""},null,null,null,null,null,null,null,null,null,null,null,null,null,null,null,null,null,null,null,null,null,null,null,null,null,{"$f":"IF(AN1437=\"\",\"\",IF(LEN(VLOOKUP(AN1437,Sifranti!BY:BZ,2,FALSE))=0,\"\",VLOOKUP(AN1437,Sifranti!BY:BZ,2,FALSE)))","v":""},{"$f":"IF(C1437=\"\",\"\",VLOOKUP(C1437,Sifranti!P:R,2,FALSE))","v":""},"","",{"$f":"IF(C1437=\"\",\"\",VLOOKUP(C1437,Sifranti!P:R,3,FALSE))","v":""},{"$f":"IF(N1437=\"\",\"\",VLOOKUP(N1437,Sifranti!D:F,2,FALSE))","v":""},{"$f":"IF(AK1437=\"\",\"\",VLOOKUP(AK1437,Sifranti!V:Y,2,FALSE))","v":""},{"$f":"IF(AK1437=\"\",\"\",IF(VLOOKUP(AK1437,Sifranti!V:Y,3,FALSE)=\"\",\"\",VLOOKUP(AK1437,Sifranti!V:Y,3,FALSE)))","v":""},{"$f":"IF(AK1437=\"\",\"\",VLOOKUP(AK1437,Sifranti!V:Y,4,FALSE))","v":""}]
[{"$f":"IF(B1456=\"\",\"\",VLOOKUP(B1456,Sifranti!K:L,2,FALSE))","v":""},null,null,null,null,null,null,null,null,"",{"$f":"IF(L1456=\"\",\"\",VLOOKUP(L1456,Sifranti!A:B,2,FALSE))","v":""},null,{"$f":"IF(N1456=\"\",\"\",VLOOKUP(N1456,Sifranti!D:F,3,FALSE))","v":""},null,{"$f":"IF(P1456=\"\",\"\",VLOOKUP(P1456,Sifranti!H:I,2,FALSE))","v":""},null,null,null,null,null,null,null,null,null,null,null,null,null,null,null,null,null,null,null,null,null,null,null,null,null,{"$f":"IF(AN1456=\"\",\"\",IF(LEN(VLOOKUP(AN1456,Sifranti!BY:BZ,2,FALSE))=0,\"\",VLOOKUP(AN1456,Sifranti!BY:BZ,2,FALSE)))","v":""},{"$f":"IF(C1456=\"\",\"\",VLOOKUP(C1456,Sifranti!P:R,2,FALSE))","v":""},"","",{"$f":"IF(C1456=\"\",\"\",VLOOKUP(C1456,Sifranti!P:R,3,FALSE))","v":""},{"$f":"IF(N1456=\"\",\"\",VLOOKUP(N1456,Sifranti!D:F,2,FALSE))","v":""},{"$f":"IF(AK1456=\"\",\"\",VLOOKUP(AK1456,Sifranti!V:Y,2,FALSE))","v":""},{"$f":"IF(AK1456=\"\",\"\",IF(VLOOKUP(AK1456,Sifranti!V:Y,3,FALSE)=\"\",\"\",VLOOKUP(AK1456,Sifranti!V:Y,3,FALSE)))","v":""},{"$f":"IF(AK1456=\"\",\"\",VLOOKUP(AK1456,Sifranti!V:Y,4,FALSE))","v":""}]
[{"$f":"IF(B1459=\"\",\"\",VLOOKUP(B1459,Sifranti!K:L,2,FALSE))","v":""},null,null,null,null,null,null,null,null,"",{"$f":"IF(L1459=\"\",\"\",VLOOKUP(L1459,Sifranti!A:B,2,FALSE))","v":""},null,{"$f":"IF(N1459=\"\",\"\",VLOOKUP(N1459,Sifranti!D:F,3,FALSE))","v":""},null,{"$f":"IF(P1459=\"\",\"\",VLOOKUP(P1459,Sifranti!H:I,2,FALSE))","v":""},null,null,null,null,null,null,null,null,null,null,null,null,null,null,null,null,null,null,null,null,null,null,null,null,null,{"$f":"IF(AN1459=\"\",\"\",IF(LEN(VLOOKUP(AN1459,Sifranti!BY:BZ,2,FALSE))=0,\"\",VLOOKUP(AN1459,Sifranti!BY:BZ,2,FALSE)))","v":""},{"$f":"IF(C1459=\"\",\"\",VLOOKUP(C1459,Sifranti!P:R,2,FALSE))","v":""},"","",{"$f":"IF(C1459=\"\",\"\",VLOOKUP(C1459,Sifranti!P:R,3,FALSE))","v":""},{"$f":"IF(N1459=\"\",\"\",VLOOKUP(N1459,Sifranti!D:F,2,FALSE))","v":""},{"$f":"IF(AK1459=\"\",\"\",VLOOKUP(AK1459,Sifranti!V:Y,2,FALSE))","v":""},{"$f":"IF(AK1459=\"\",\"\",IF(VLOOKUP(AK1459,Sifranti!V:Y,3,FALSE)=\"\",\"\",VLOOKUP(AK1459,Sifranti!V:Y,3,FALSE)))","v":""},{"$f":"IF(AK1459=\"\",\"\",VLOOKUP(AK1459,Sifranti!V:Y,4,FALSE))","v":""}]
[{"$f":"IF(B1469=\"\",\"\",VLOOKUP(B1469,Sifranti!K:L,2,FALSE))","v":""},null,null,null,null,null,null,null,null,"",{"$f":"IF(L1469=\"\",\"\",VLOOKUP(L1469,Sifranti!A:B,2,FALSE))","v":""},null,{"$f":"IF(N1469=\"\",\"\",VLOOKUP(N1469,Sifranti!D:F,3,FALSE))","v":""},null,{"$f":"IF(P1469=\"\",\"\",VLOOKUP(P1469,Sifranti!H:I,2,FALSE))","v":""},null,null,null,null,null,null,null,null,null,null,null,null,null,null,null,null,null,null,null,null,null,null,null,null,null,{"$f":"IF(AN1469=\"\",\"\",IF(LEN(VLOOKUP(AN1469,Sifranti!BY:BZ,2,FALSE))=0,\"\",VLOOKUP(AN1469,Sifranti!BY:BZ,2,FALSE)))","v":""},{"$f":"IF(C1469=\"\",\"\",VLOOKUP(C1469,Sifranti!P:R,2,FALSE))","v":""},"","",{"$f":"IF(C1469=\"\",\"\",VLOOKUP(C1469,Sifranti!P:R,3,FALSE))","v":""},{"$f":"IF(N1469=\"\",\"\",VLOOKUP(N1469,Sifranti!D:F,2,FALSE))","v":""},{"$f":"IF(AK1469=\"\",\"\",VLOOKUP(AK1469,Sifranti!V:Y,2,FALSE))","v":""},{"$f":"IF(AK1469=\"\",\"\",IF(VLOOKUP(AK1469,Sifranti!V:Y,3,FALSE)=\"\",\"\",VLOOKUP(AK1469,Sifranti!V:Y,3,FALSE)))","v":""},{"$f":"IF(AK1469=\"\",\"\",VLOOKUP(AK1469,Sifranti!V:Y,4,FALSE))","v":""}]
[{"$f":"IF(B1486=\"\",\"\",VLOOKUP(B1486,Sifranti!K:L,2,FALSE))","v":""},null,null,null,null,null,null,null,null,"",{"$f":"IF(L1486=\"\",\"\",VLOOKUP(L1486,Sifranti!A:B,2,FALSE))","v":""},null,{"$f":"IF(N1486=\"\",\"\",VLOOKUP(N1486,Sifranti!D:F,3,FALSE))","v":""},null,{"$f":"IF(P1486=\"\",\"\",VLOOKUP(P1486,Sifranti!H:I,2,FALSE))","v":""},null,null,null,null,null,null,null,null,null,null,null,null,null,null,null,null,null,null,null,null,null,null,null,null,null,{"$f":"IF(AN1486=\"\",\"\",IF(LEN(VLOOKUP(AN1486,Sifranti!BY:BZ,2,FALSE))=0,\"\",VLOOKUP(AN1486,Sifranti!BY:BZ,2,FALSE)))","v":""},{"$f":"IF(C1486=\"\",\"\",VLOOKUP(C1486,Sifranti!P:R,2,FALSE))","v":""},"","",{"$f":"IF(C1486=\"\",\"\",VLOOKUP(C1486,Sifranti!P:R,3,FALSE))","v":""},{"$f":"IF(N1486=\"\",\"\",VLOOKUP(N1486,Sifranti!D:F,2,FALSE))","v":""},{"$f":"IF(AK1486=\"\",\"\",VLOOKUP(AK1486,Sifranti!V:Y,2,FALSE))","v":""},{"$f":"IF(AK1486=\"\",\"\",IF(VLOOKUP(AK1486,Sifranti!V:Y,3,FALSE)=\"\",\"\",VLOOKUP(AK1486,Sifranti!V:Y,3,FALSE)))","v":""},{"$f":"IF(AK1486=\"\",\"\",VLOOKUP(AK1486,Sifranti!V:Y,4,FALSE))","v":""}]
[{"$f":"IF(B1491=\"\",\"\",VLOOKUP(B1491,Sifranti!K:L,2,FALSE))","v":""},null,null,null,null,null,null,null,null,"",{"$f":"IF(L1491=\"\",\"\",VLOOKUP(L1491,Sifranti!A:B,2,FALSE))","v":""},null,{"$f":"IF(N1491=\"\",\"\",VLOOKUP(N1491,Sifranti!D:F,3,FALSE))","v":""},null,{"$f":"IF(P1491=\"\",\"\",VLOOKUP(P1491,Sifranti!H:I,2,FALSE))","v":""},null,null,null,null,null,null,null,null,null,null,null,null,null,null,null,null,null,null,null,null,null,null,null,null,null,{"$f":"IF(AN1491=\"\",\"\",IF(LEN(VLOOKUP(AN1491,Sifranti!BY:BZ,2,FALSE))=0,\"\",VLOOKUP(AN1491,Sifranti!BY:BZ,2,FALSE)))","v":""},{"$f":"IF(C1491=\"\",\"\",VLOOKUP(C1491,Sifranti!P:R,2,FALSE))","v":""},"","",{"$f":"IF(C1491=\"\",\"\",VLOOKUP(C1491,Sifranti!P:R,3,FALSE))","v":""},{"$f":"IF(N1491=\"\",\"\",VLOOKUP(N1491,Sifranti!D:F,2,FALSE))","v":""},{"$f":"IF(AK1491=\"\",\"\",VLOOKUP(AK1491,Sifranti!V:Y,2,FALSE))","v":""},{"$f":"IF(AK1491=\"\",\"\",IF(VLOOKUP(AK1491,Sifranti!V:Y,3,FALSE)=\"\",\"\",VLOOKUP(AK1491,Sifranti!V:Y,3,FALSE)))","v":""},{"$f":"IF(AK1491=\"\",\"\",VLOOKUP(AK1491,Sifranti!V:Y,4,FALSE))","v":""}]
[{"$f":"IF(B1501=\"\",\"\",VLOOKUP(B1501,Sifranti!K:L,2,FALSE))","v":""},null,null,null,null,null,null,null,null,"",{"$f":"IF(L1501=\"\",\"\",VLOOKUP(L1501,Sifranti!A:B,2,FALSE))","v":""},null,{"$f":"IF(N1501=\"\",\"\",VLOOKUP(N1501,Sifranti!D:F,3,FALSE))","v":""},null,{"$f":"IF(P1501=\"\",\"\",VLOOKUP(P1501,Sifranti!H:I,2,FALSE))","v":""},null,null,null,null,null,null,null,null,null,null,null,null,null,null,null,null,null,null,null,null,null,null,null,null,null,{"$f":"IF(AN1501=\"\",\"\",IF(LEN(VLOOKUP(AN1501,Sifranti!BY:BZ,2,FALSE))=0,\"\",VLOOKUP(AN1501,Sifranti!BY:BZ,2,FALSE)))","v":""},{"$f":"IF(C1501=\"\",\"\",VLOOKUP(C1501,Sifranti!P:R,2,FALSE))","v":""},"","",{"$f":"IF(C1501=\"\",\"\",VLOOKUP(C1501,Sifranti!P:R,3,FALSE))","v":""},{"$f":"IF(N1501=\"\",\"\",VLOOKUP(N1501,Sifranti!D:F,2,FALSE))","v":""},{"$f":"IF(AK1501=\"\",\"\",VLOOKUP(AK1501,Sifranti!V:Y,2,FALSE))","v":""},{"$f":"IF(AK1501=\"\",\"\",IF(VLOOKUP(AK1501,Sifranti!V:Y,3,FALSE)=\"\",\"\",VLOOKUP(AK1501,Sifranti!V:Y,3,FALSE)))","v":""},{"$f":"IF(AK1501=\"\",\"\",VLOOKUP(AK1501,Sifranti!V:Y,4,FALSE))","v":""}]
[{"$f":"IF(B1518=\"\",\"\",VLOOKUP(B1518,Sifranti!K:L,2,FALSE))","v":""},null,null,null,null,null,null,null,null,"",{"$f":"IF(L1518=\"\",\"\",VLOOKUP(L1518,Sifranti!A:B,2,FALSE))","v":""},null,{"$f":"IF(N1518=\"\",\"\",VLOOKUP(N1518,Sifranti!D:F,3,FALSE))","v":""},null,{"$f":"IF(P1518=\"\",\"\",VLOOKUP(P1518,Sifranti!H:I,2,FALSE))","v":""},null,null,null,null,null,null,null,null,null,null,null,null,null,null,null,null,null,null,null,null,null,null,null,null,null,{"$f":"IF(AN1518=\"\",\"\",IF(LEN(VLOOKUP(AN1518,Sifranti!BY:BZ,2,FALSE))=0,\"\",VLOOKUP(AN1518,Sifranti!BY:BZ,2,FALSE)))","v":""},{"$f":"IF(C1518=\"\",\"\",VLOOKUP(C1518,Sifranti!P:R,2,FALSE))","v":""},"","",{"$f":"IF(C1518=\"\",\"\",VLOOKUP(C1518,Sifranti!P:R,3,FALSE))","v":""},{"$f":"IF(N1518=\"\",\"\",VLOOKUP(N1518,Sifranti!D:F,2,FALSE))","v":""},{"$f":"IF(AK1518=\"\",\"\",VLOOKUP(AK1518,Sifranti!V:Y,2,FALSE))","v":""},{"$f":"IF(AK1518=\"\",\"\",IF(VLOOKUP(AK1518,Sifranti!V:Y,3,FALSE)=\"\",\"\",VLOOKUP(AK1518,Sifranti!V:Y,3,FALSE)))","v":""},{"$f":"IF(AK1518=\"\",\"\",VLOOKUP(AK1518,Sifranti!V:Y,4,FALSE))","v":""}]
[{"$f":"IF(B1528=\"\",\"\",VLOOKUP(B1528,Sifranti!K:L,2,FALSE))","v":""},null,null,null,null,null,null,null,null,"",{"$f":"IF(L1528=\"\",\"\",VLOOKUP(L1528,Sifranti!A:B,2,FALSE))","v":""},null,{"$f":"IF(N1528=\"\",\"\",VLOOKUP(N1528,Sifranti!D:F,3,FALSE))","v":""},null,{"$f":"IF(P1528=\"\",\"\",VLOOKUP(P1528,Sifranti!H:I,2,FALSE))","v":""},null,null,null,null,null,null,null,null,null,null,null,null,null,null,null,null,null,null,null,null,null,null,null,null,null,{"$f":"IF(AN1528=\"\",\"\",IF(LEN(VLOOKUP(AN1528,Sifranti!BY:BZ,2,FALSE))=0,\"\",VLOOKUP(AN1528,Sifranti!BY:BZ,2,FALSE)))","v":""},{"$f":"IF(C1528=\"\",\"\",VLOOKUP(C1528,Sifranti!P:R,2,FALSE))","v":""},"","",{"$f":"IF(C1528=\"\",\"\",VLOOKUP(C1528,Sifranti!P:R,3,FALSE))","v":""},{"$f":"IF(N1528=\"\",\"\",VLOOKUP(N1528,Sifranti!D:F,2,FALSE))","v":""},{"$f":"IF(AK1528=\"\",\"\",VLOOKUP(AK1528,Sifranti!V:Y,2,FALSE))","v":""},{"$f":"IF(AK1528=\"\",\"\",IF(VLOOKUP(AK1528,Sifranti!V:Y,3,FALSE)=\"\",\"\",VLOOKUP(AK1528,Sifranti!V:Y,3,FALSE)))","v":""},{"$f":"IF(AK1528=\"\",\"\",VLOOKUP(AK1528,Sifranti!V:Y,4,FALSE))","v":""}]
[{"$f":"IF(B1540=\"\",\"\",VLOOKUP(B1540,Sifranti!K:L,2,FALSE))","v":""},null,null,null,null,null,null,null,null,"",{"$f":"IF(L1540=\"\",\"\",VLOOKUP(L1540,Sifranti!A:B,2,FALSE))","v":""},null,{"$f":"IF(N1540=\"\",\"\",VLOOKUP(N1540,Sifranti!D:F,3,FALSE))","v":""},null,{"$f":"IF(P1540=\"\",\"\",VLOOKUP(P1540,Sifranti!H:I,2,FALSE))","v":""},null,null,null,null,null,null,null,null,null,null,null,null,null,null,null,null,null,null,null,null,null,null,null,null,null,{"$f":"IF(AN1540=\"\",\"\",IF(LEN(VLOOKUP(AN1540,Sifranti!BY:BZ,2,FALSE))=0,\"\",VLOOKUP(AN1540,Sifranti!BY:BZ,2,FALSE)))","v":""},{"$f":"IF(C1540=\"\",\"\",VLOOKUP(C1540,Sifranti!P:R,2,FALSE))","v":""},"","",{"$f":"IF(C1540=\"\",\"\",VLOOKUP(C1540,Sifranti!P:R,3,FALSE))","v":""},{"$f":"IF(N1540=\"\",\"\",VLOOKUP(N1540,Sifranti!D:F,2,FALSE))","v":""},{"$f":"IF(AK1540=\"\",\"\",VLOOKUP(AK1540,Sifranti!V:Y,2,FALSE))","v":""},{"$f":"IF(AK1540=\"\",\"\",IF(VLOOKUP(AK1540,Sifranti!V:Y,3,FALSE)=\"\",\"\",VLOOKUP(AK1540,Sifranti!V:Y,3,FALSE)))","v":""},{"$f":"IF(AK1540=\"\",\"\",VLOOKUP(AK1540,Sifranti!V:Y,4,FALSE))","v":""}]
[{"$f":"IF(B1543=\"\",\"\",VLOOKUP(B1543,Sifranti!K:L,2,FALSE))","v":""},null,null,null,null,null,null,null,null,"",{"$f":"IF(L1543=\"\",\"\",VLOOKUP(L1543,Sifranti!A:B,2,FALSE))","v":""},null,{"$f":"IF(N1543=\"\",\"\",VLOOKUP(N1543,Sifranti!D:F,3,FALSE))","v":""},null,{"$f":"IF(P1543=\"\",\"\",VLOOKUP(P1543,Sifranti!H:I,2,FALSE))","v":""},null,null,null,null,null,null,null,null,null,null,null,null,null,null,null,null,null,null,null,null,null,null,null,null,null,{"$f":"IF(AN1543=\"\",\"\",IF(LEN(VLOOKUP(AN1543,Sifranti!BY:BZ,2,FALSE))=0,\"\",VLOOKUP(AN1543,Sifranti!BY:BZ,2,FALSE)))","v":""},{"$f":"IF(C1543=\"\",\"\",VLOOKUP(C1543,Sifranti!P:R,2,FALSE))","v":""},"","",{"$f":"IF(C1543=\"\",\"\",VLOOKUP(C1543,Sifranti!P:R,3,FALSE))","v":""},{"$f":"IF(N1543=\"\",\"\",VLOOKUP(N1543,Sifranti!D:F,2,FALSE))","v":""},{"$f":"IF(AK1543=\"\",\"\",VLOOKUP(AK1543,Sifranti!V:Y,2,FALSE))","v":""},{"$f":"IF(AK1543=\"\",\"\",IF(VLOOKUP(AK1543,Sifranti!V:Y,3,FALSE)=\"\",\"\",VLOOKUP(AK1543,Sifranti!V:Y,3,FALSE)))","v":""},{"$f":"IF(AK1543=\"\",\"\",VLOOKUP(AK1543,Sifranti!V:Y,4,FALSE))","v":""}]
[{"$f":"IF(B1560=\"\",\"\",VLOOKUP(B1560,Sifranti!K:L,2,FALSE))","v":""},null,null,null,null,null,null,null,null,"",{"$f":"IF(L1560=\"\",\"\",VLOOKUP(L1560,Sifranti!A:B,2,FALSE))","v":""},null,{"$f":"IF(N1560=\"\",\"\",VLOOKUP(N1560,Sifranti!D:F,3,FALSE))","v":""},null,{"$f":"IF(P1560=\"\",\"\",VLOOKUP(P1560,Sifranti!H:I,2,FALSE))","v":""},null,null,null,null,null,null,null,null,null,null,null,null,null,null,null,null,null,null,null,null,null,null,null,null,null,{"$f":"IF(AN1560=\"\",\"\",IF(LEN(VLOOKUP(AN1560,Sifranti!BY:BZ,2,FALSE))=0,\"\",VLOOKUP(AN1560,Sifranti!BY:BZ,2,FALSE)))","v":""},{"$f":"IF(C1560=\"\",\"\",VLOOKUP(C1560,Sifranti!P:R,2,FALSE))","v":""},"","",{"$f":"IF(C1560=\"\",\"\",VLOOKUP(C1560,Sifranti!P:R,3,FALSE))","v":""},{"$f":"IF(N1560=\"\",\"\",VLOOKUP(N1560,Sifranti!D:F,2,FALSE))","v":""},{"$f":"IF(AK1560=\"\",\"\",VLOOKUP(AK1560,Sifranti!V:Y,2,FALSE))","v":""},{"$f":"IF(AK1560=\"\",\"\",IF(VLOOKUP(AK1560,Sifranti!V:Y,3,FALSE)=\"\",\"\",VLOOKUP(AK1560,Sifranti!V:Y,3,FALSE)))","v":""},{"$f":"IF(AK1560=\"\",\"\",VLOOKUP(AK1560,Sifranti!V:Y,4,FALSE))","v":""}]
[{"$f":"IF(B1566=\"\",\"\",VLOOKUP(B1566,Sifranti!K:L,2,FALSE))","v":""},null,null,null,null,null,null,null,null,"",{"$f":"IF(L1566=\"\",\"\",VLOOKUP(L1566,Sifranti!A:B,2,FALSE))","v":""},null,{"$f":"IF(N1566=\"\",\"\",VLOOKUP(N1566,Sifranti!D:F,3,FALSE))","v":""},null,{"$f":"IF(P1566=\"\",\"\",VLOOKUP(P1566,Sifranti!H:I,2,FALSE))","v":""},null,null,null,null,null,null,null,null,null,null,null,null,null,null,null,null,null,null,null,null,null,null,null,null,null,{"$f":"IF(AN1566=\"\",\"\",IF(LEN(VLOOKUP(AN1566,Sifranti!BY:BZ,2,FALSE))=0,\"\",VLOOKUP(AN1566,Sifranti!BY:BZ,2,FALSE)))","v":""},{"$f":"IF(C1566=\"\",\"\",VLOOKUP(C1566,Sifranti!P:R,2,FALSE))","v":""},"","",{"$f":"IF(C1566=\"\",\"\",VLOOKUP(C1566,Sifranti!P:R,3,FALSE))","v":""},{"$f":"IF(N1566=\"\",\"\",VLOOKUP(N1566,Sifranti!D:F,2,FALSE))","v":""},{"$f":"IF(AK1566=\"\",\"\",VLOOKUP(AK1566,Sifranti!V:Y,2,FALSE))","v":""},{"$f":"IF(AK1566=\"\",\"\",IF(VLOOKUP(AK1566,Sifranti!V:Y,3,FALSE)=\"\",\"\",VLOOKUP(AK1566,Sifranti!V:Y,3,FALSE)))","v":""},{"$f":"IF(AK1566=\"\",\"\",VLOOKUP(AK1566,Sifranti!V:Y,4,FALSE))","v":""}]
[{"$f":"IF(B1585=\"\",\"\",VLOOKUP(B1585,Sifranti!K:L,2,FALSE))","v":""},null,null,null,null,null,null,null,null,"",{"$f":"IF(L1585=\"\",\"\",VLOOKUP(L1585,Sifranti!A:B,2,FALSE))","v":""},null,{"$f":"IF(N1585=\"\",\"\",VLOOKUP(N1585,Sifranti!D:F,3,FALSE))","v":""},null,{"$f":"IF(P1585=\"\",\"\",VLOOKUP(P1585,Sifranti!H:I,2,FALSE))","v":""},null,null,null,null,null,null,null,null,null,null,null,null,null,null,null,null,null,null,null,null,null,null,null,null,null,{"$f":"IF(AN1585=\"\",\"\",IF(LEN(VLOOKUP(AN1585,Sifranti!BY:BZ,2,FALSE))=0,\"\",VLOOKUP(AN1585,Sifranti!BY:BZ,2,FALSE)))","v":""},{"$f":"IF(C1585=\"\",\"\",VLOOKUP(C1585,Sifranti!P:R,2,FALSE))","v":""},"","",{"$f":"IF(C1585=\"\",\"\",VLOOKUP(C1585,Sifranti!P:R,3,FALSE))","v":""},{"$f":"IF(N1585=\"\",\"\",VLOOKUP(N1585,Sifranti!D:F,2,FALSE))","v":""},{"$f":"IF(AK1585=\"\",\"\",VLOOKUP(AK1585,Sifranti!V:Y,2,FALSE))","v":""},{"$f":"IF(AK1585=\"\",\"\",IF(VLOOKUP(AK1585,Sifranti!V:Y,3,FALSE)=\"\",\"\",VLOOKUP(AK1585,Sifranti!V:Y,3,FALSE)))","v":""},{"$f":"IF(AK1585=\"\",\"\",VLOOKUP(AK1585,Sifranti!V:Y,4,FALSE))","v":""}]
[{"$f":"IF(B1592=\"\",\"\",VLOOKUP(B1592,Sifranti!K:L,2,FALSE))","v":""},null,null,null,null,null,null,null,null,"",{"$f":"IF(L1592=\"\",\"\",VLOOKUP(L1592,Sifranti!A:B,2,FALSE))","v":""},null,{"$f":"IF(N1592=\"\",\"\",VLOOKUP(N1592,Sifranti!D:F,3,FALSE))","v":""},null,{"$f":"IF(P1592=\"\",\"\",VLOOKUP(P1592,Sifranti!H:I,2,FALSE))","v":""},null,null,null,null,null,null,null,null,null,null,null,null,null,null,null,null,null,null,null,null,null,null,null,null,null,{"$f":"IF(AN1592=\"\",\"\",IF(LEN(VLOOKUP(AN1592,Sifranti!BY:BZ,2,FALSE))=0,\"\",VLOOKUP(AN1592,Sifranti!BY:BZ,2,FALSE)))","v":""},{"$f":"IF(C1592=\"\",\"\",VLOOKUP(C1592,Sifranti!P:R,2,FALSE))","v":""},"","",{"$f":"IF(C1592=\"\",\"\",VLOOKUP(C1592,Sifranti!P:R,3,FALSE))","v":""},{"$f":"IF(N1592=\"\",\"\",VLOOKUP(N1592,Sifranti!D:F,2,FALSE))","v":""},{"$f":"IF(AK1592=\"\",\"\",VLOOKUP(AK1592,Sifranti!V:Y,2,FALSE))","v":""},{"$f":"IF(AK1592=\"\",\"\",IF(VLOOKUP(AK1592,Sifranti!V:Y,3,FALSE)=\"\",\"\",VLOOKUP(AK1592,Sifranti!V:Y,3,FALSE)))","v":""},{"$f":"IF(AK1592=\"\",\"\",VLOOKUP(AK1592,Sifranti!V:Y,4,FALSE))","v":""}]
[{"$f":"IF(B1598=\"\",\"\",VLOOKUP(B1598,Sifranti!K:L,2,FALSE))","v":""},null,null,null,null,null,null,null,null,"",{"$f":"IF(L1598=\"\",\"\",VLOOKUP(L1598,Sifranti!A:B,2,FALSE))","v":""},null,{"$f":"IF(N1598=\"\",\"\",VLOOKUP(N1598,Sifranti!D:F,3,FALSE))","v":""},null,{"$f":"IF(P1598=\"\",\"\",VLOOKUP(P1598,Sifranti!H:I,2,FALSE))","v":""},null,null,null,null,null,null,null,null,null,null,null,null,null,null,null,null,null,null,null,null,null,null,null,null,null,{"$f":"IF(AN1598=\"\",\"\",IF(LEN(VLOOKUP(AN1598,Sifranti!BY:BZ,2,FALSE))=0,\"\",VLOOKUP(AN1598,Sifranti!BY:BZ,2,FALSE)))","v":""},{"$f":"IF(C1598=\"\",\"\",VLOOKUP(C1598,Sifranti!P:R,2,FALSE))","v":""},"","",{"$f":"IF(C1598=\"\",\"\",VLOOKUP(C1598,Sifranti!P:R,3,FALSE))","v":""},{"$f":"IF(N1598=\"\",\"\",VLOOKUP(N1598,Sifranti!D:F,2,FALSE))","v":""},{"$f":"IF(AK1598=\"\",\"\",VLOOKUP(AK1598,Sifranti!V:Y,2,FALSE))","v":""},{"$f":"IF(AK1598=\"\",\"\",IF(VLOOKUP(AK1598,Sifranti!V:Y,3,FALSE)=\"\",\"\",VLOOKUP(AK1598,Sifranti!V:Y,3,FALSE)))","v":""},{"$f":"IF(AK1598=\"\",\"\",VLOOKUP(AK1598,Sifranti!V:Y,4,FALSE))","v":""}]
[{"$f":"IF(B1608=\"\",\"\",VLOOKUP(B1608,Sifranti!K:L,2,FALSE))","v":""},null,null,null,null,null,null,null,null,"",{"$f":"IF(L1608=\"\",\"\",VLOOKUP(L1608,Sifranti!A:B,2,FALSE))","v":""},null,{"$f":"IF(N1608=\"\",\"\",VLOOKUP(N1608,Sifranti!D:F,3,FALSE))","v":""},null,{"$f":"IF(P1608=\"\",\"\",VLOOKUP(P1608,Sifranti!H:I,2,FALSE))","v":""},null,null,null,null,null,null,null,null,null,null,null,null,null,null,null,null,null,null,null,null,null,null,null,null,null,{"$f":"IF(AN1608=\"\",\"\",IF(LEN(VLOOKUP(AN1608,Sifranti!BY:BZ,2,FALSE))=0,\"\",VLOOKUP(AN1608,Sifranti!BY:BZ,2,FALSE)))","v":""},{"$f":"IF(C1608=\"\",\"\",VLOOKUP(C1608,Sifranti!P:R,2,FALSE))","v":""},"","",{"$f":"IF(C1608=\"\",\"\",VLOOKUP(C1608,Sifranti!P:R,3,FALSE))","v":""},{"$f":"IF(N1608=\"\",\"\",VLOOKUP(N1608,Sifranti!D:F,2,FALSE))","v":""},{"$f":"IF(AK1608=\"\",\"\",VLOOKUP(AK1608,Sifranti!V:Y,2,FALSE))","v":""},{"$f":"IF(AK1608=\"\",\"\",IF(VLOOKUP(AK1608,Sifranti!V:Y,3,FALSE)=\"\",\"\",VLOOKUP(AK1608,Sifranti!V:Y,3,FALSE)))","v":""},{"$f":"IF(AK1608=\"\",\"\",VLOOKUP(AK1608,Sifranti!V:Y,4,FALSE))","v":""}]
[{"$f":"IF(B1624=\"\",\"\",VLOOKUP(B1624,Sifranti!K:L,2,FALSE))","v":""},null,null,null,null,null,null,null,null,"",{"$f":"IF(L1624=\"\",\"\",VLOOKUP(L1624,Sifranti!A:B,2,FALSE))","v":""},null,{"$f":"IF(N1624=\"\",\"\",VLOOKUP(N1624,Sifranti!D:F,3,FALSE))","v":""},null,{"$f":"IF(P1624=\"\",\"\",VLOOKUP(P1624,Sifranti!H:I,2,FALSE))","v":""},null,null,null,null,null,null,null,null,null,null,null,null,null,null,null,null,null,null,null,null,null,null,null,null,null,{"$f":"IF(AN1624=\"\",\"\",IF(LEN(VLOOKUP(AN1624,Sifranti!BY:BZ,2,FALSE))=0,\"\",VLOOKUP(AN1624,Sifranti!BY:BZ,2,FALSE)))","v":""},{"$f":"IF(C1624=\"\",\"\",VLOOKUP(C1624,Sifranti!P:R,2,FALSE))","v":""},"","",{"$f":"IF(C1624=\"\",\"\",VLOOKUP(C1624,Sifranti!P:R,3,FALSE))","v":""},{"$f":"IF(N1624=\"\",\"\",VLOOKUP(N1624,Sifranti!D:F,2,FALSE))","v":""},{"$f":"IF(AK1624=\"\",\"\",VLOOKUP(AK1624,Sifranti!V:Y,2,FALSE))","v":""},{"$f":"IF(AK1624=\"\",\"\",IF(VLOOKUP(AK1624,Sifranti!V:Y,3,FALSE)=\"\",\"\",VLOOKUP(AK1624,Sifranti!V:Y,3,FALSE)))","v":""},{"$f":"IF(AK1624=\"\",\"\",VLOOKUP(AK1624,Sifranti!V:Y,4,FALSE))","v":""}]
[{"$f":"IF(B1634=\"\",\"\",VLOOKUP(B1634,Sifranti!K:L,2,FALSE))","v":""},null,null,null,null,null,null,null,null,"",{"$f":"IF(L1634=\"\",\"\",VLOOKUP(L1634,Sifranti!A:B,2,FALSE))","v":""},null,{"$f":"IF(N1634=\"\",\"\",VLOOKUP(N1634,Sifranti!D:F,3,FALSE))","v":""},null,{"$f":"IF(P1634=\"\",\"\",VLOOKUP(P1634,Sifranti!H:I,2,FALSE))","v":""},null,null,null,null,null,null,null,null,null,null,null,null,null,null,null,null,null,null,null,null,null,null,null,null,null,{"$f":"IF(AN1634=\"\",\"\",IF(LEN(VLOOKUP(AN1634,Sifranti!BY:BZ,2,FALSE))=0,\"\",VLOOKUP(AN1634,Sifranti!BY:BZ,2,FALSE)))","v":""},{"$f":"IF(C1634=\"\",\"\",VLOOKUP(C1634,Sifranti!P:R,2,FALSE))","v":""},"","",{"$f":"IF(C1634=\"\",\"\",VLOOKUP(C1634,Sifranti!P:R,3,FALSE))","v":""},{"$f":"IF(N1634=\"\",\"\",VLOOKUP(N1634,Sifranti!D:F,2,FALSE))","v":""},{"$f":"IF(AK1634=\"\",\"\",VLOOKUP(AK1634,Sifranti!V:Y,2,FALSE))","v":""},{"$f":"IF(AK1634=\"\",\"\",IF(VLOOKUP(AK1634,Sifranti!V:Y,3,FALSE)=\"\",\"\",VLOOKUP(AK1634,Sifranti!V:Y,3,FALSE)))","v":""},{"$f":"IF(AK1634=\"\",\"\",VLOOKUP(AK1634,Sifranti!V:Y,4,FALSE))","v":""}]
[{"$f":"IF(B1640=\"\",\"\",VLOOKUP(B1640,Sifranti!K:L,2,FALSE))","v":""},null,null,null,null,null,null,null,null,"",{"$f":"IF(L1640=\"\",\"\",VLOOKUP(L1640,Sifranti!A:B,2,FALSE))","v":""},null,{"$f":"IF(N1640=\"\",\"\",VLOOKUP(N1640,Sifranti!D:F,3,FALSE))","v":""},null,{"$f":"IF(P1640=\"\",\"\",VLOOKUP(P1640,Sifranti!H:I,2,FALSE))","v":""},null,null,null,null,null,null,null,null,null,null,null,null,null,null,null,null,null,null,null,null,null,null,null,null,null,{"$f":"IF(AN1640=\"\",\"\",IF(LEN(VLOOKUP(AN1640,Sifranti!BY:BZ,2,FALSE))=0,\"\",VLOOKUP(AN1640,Sifranti!BY:BZ,2,FALSE)))","v":""},{"$f":"IF(C1640=\"\",\"\",VLOOKUP(C1640,Sifranti!P:R,2,FALSE))","v":""},"","",{"$f":"IF(C1640=\"\",\"\",VLOOKUP(C1640,Sifranti!P:R,3,FALSE))","v":""},{"$f":"IF(N1640=\"\",\"\",VLOOKUP(N1640,Sifranti!D:F,2,FALSE))","v":""},{"$f":"IF(AK1640=\"\",\"\",VLOOKUP(AK1640,Sifranti!V:Y,2,FALSE))","v":""},{"$f":"IF(AK1640=\"\",\"\",IF(VLOOKUP(AK1640,Sifranti!V:Y,3,FALSE)=\"\",\"\",VLOOKUP(AK1640,Sifranti!V:Y,3,FALSE)))","v":""},{"$f":"IF(AK1640=\"\",\"\",VLOOKUP(AK1640,Sifranti!V:Y,4,FALSE))","v":""}]
[{"$f":"IF(B1657=\"\",\"\",VLOOKUP(B1657,Sifranti!K:L,2,FALSE))","v":""},null,null,null,null,null,null,null,null,"",{"$f":"IF(L1657=\"\",\"\",VLOOKUP(L1657,Sifranti!A:B,2,FALSE))","v":""},null,{"$f":"IF(N1657=\"\",\"\",VLOOKUP(N1657,Sifranti!D:F,3,FALSE))","v":""},null,{"$f":"IF(P1657=\"\",\"\",VLOOKUP(P1657,Sifranti!H:I,2,FALSE))","v":""},null,null,null,null,null,null,null,null,null,null,null,null,null,null,null,null,null,null,null,null,null,null,null,null,null,{"$f":"IF(AN1657=\"\",\"\",IF(LEN(VLOOKUP(AN1657,Sifranti!BY:BZ,2,FALSE))=0,\"\",VLOOKUP(AN1657,Sifranti!BY:BZ,2,FALSE)))","v":""},{"$f":"IF(C1657=\"\",\"\",VLOOKUP(C1657,Sifranti!P:R,2,FALSE))","v":""},"","",{"$f":"IF(C1657=\"\",\"\",VLOOKUP(C1657,Sifranti!P:R,3,FALSE))","v":""},{"$f":"IF(N1657=\"\",\"\",VLOOKUP(N1657,Sifranti!D:F,2,FALSE))","v":""},{"$f":"IF(AK1657=\"\",\"\",VLOOKUP(AK1657,Sifranti!V:Y,2,FALSE))","v":""},{"$f":"IF(AK1657=\"\",\"\",IF(VLOOKUP(AK1657,Sifranti!V:Y,3,FALSE)=\"\",\"\",VLOOKUP(AK1657,Sifranti!V:Y,3,FALSE)))","v":""},{"$f":"IF(AK1657=\"\",\"\",VLOOKUP(AK1657,Sifranti!V:Y,4,FALSE))","v":""}]
[{"$f":"IF(B1669=\"\",\"\",VLOOKUP(B1669,Sifranti!K:L,2,FALSE))","v":""},null,null,null,null,null,null,null,null,"",{"$f":"IF(L1669=\"\",\"\",VLOOKUP(L1669,Sifranti!A:B,2,FALSE))","v":""},null,{"$f":"IF(N1669=\"\",\"\",VLOOKUP(N1669,Sifranti!D:F,3,FALSE))","v":""},null,{"$f":"IF(P1669=\"\",\"\",VLOOKUP(P1669,Sifranti!H:I,2,FALSE))","v":""},null,null,null,null,null,null,null,null,null,null,null,null,null,null,null,null,null,null,null,null,null,null,null,null,null,{"$f":"IF(AN1669=\"\",\"\",IF(LEN(VLOOKUP(AN1669,Sifranti!BY:BZ,2,FALSE))=0,\"\",VLOOKUP(AN1669,Sifranti!BY:BZ,2,FALSE)))","v":""},{"$f":"IF(C1669=\"\",\"\",VLOOKUP(C1669,Sifranti!P:R,2,FALSE))","v":""},"","",{"$f":"IF(C1669=\"\",\"\",VLOOKUP(C1669,Sifranti!P:R,3,FALSE))","v":""},{"$f":"IF(N1669=\"\",\"\",VLOOKUP(N1669,Sifranti!D:F,2,FALSE))","v":""},{"$f":"IF(AK1669=\"\",\"\",VLOOKUP(AK1669,Sifranti!V:Y,2,FALSE))","v":""},{"$f":"IF(AK1669=\"\",\"\",IF(VLOOKUP(AK1669,Sifranti!V:Y,3,FALSE)=\"\",\"\",VLOOKUP(AK1669,Sifranti!V:Y,3,FALSE)))","v":""},{"$f":"IF(AK1669=\"\",\"\",VLOOKUP(AK1669,Sifranti!V:Y,4,FALSE))","v":""}]
[{"$f":"IF(B1672=\"\",\"\",VLOOKUP(B1672,Sifranti!K:L,2,FALSE))","v":""},null,null,null,null,null,null,null,null,"",{"$f":"IF(L1672=\"\",\"\",VLOOKUP(L1672,Sifranti!A:B,2,FALSE))","v":""},null,{"$f":"IF(N1672=\"\",\"\",VLOOKUP(N1672,Sifranti!D:F,3,FALSE))","v":""},null,{"$f":"IF(P1672=\"\",\"\",VLOOKUP(P1672,Sifranti!H:I,2,FALSE))","v":""},null,null,null,null,null,null,null,null,null,null,null,null,null,null,null,null,null,null,null,null,null,null,null,null,null,{"$f":"IF(AN1672=\"\",\"\",IF(LEN(VLOOKUP(AN1672,Sifranti!BY:BZ,2,FALSE))=0,\"\",VLOOKUP(AN1672,Sifranti!BY:BZ,2,FALSE)))","v":""},{"$f":"IF(C1672=\"\",\"\",VLOOKUP(C1672,Sifranti!P:R,2,FALSE))","v":""},"","",{"$f":"IF(C1672=\"\",\"\",VLOOKUP(C1672,Sifranti!P:R,3,FALSE))","v":""},{"$f":"IF(N1672=\"\",\"\",VLOOKUP(N1672,Sifranti!D:F,2,FALSE))","v":""},{"$f":"IF(AK1672=\"\",\"\",VLOOKUP(AK1672,Sifranti!V:Y,2,FALSE))","v":""},{"$f":"IF(AK1672=\"\",\"\",IF(VLOOKUP(AK1672,Sifranti!V:Y,3,FALSE)=\"\",\"\",VLOOKUP(AK1672,Sifranti!V:Y,3,FALSE)))","v":""},{"$f":"IF(AK1672=\"\",\"\",VLOOKUP(AK1672,Sifranti!V:Y,4,FALSE))","v":""}]
[{"$f":"IF(B1693=\"\",\"\",VLOOKUP(B1693,Sifranti!K:L,2,FALSE))","v":""},null,null,null,null,null,null,null,null,"",{"$f":"IF(L1693=\"\",\"\",VLOOKUP(L1693,Sifranti!A:B,2,FALSE))","v":""},null,{"$f":"IF(N1693=\"\",\"\",VLOOKUP(N1693,Sifranti!D:F,3,FALSE))","v":""},null,{"$f":"IF(P1693=\"\",\"\",VLOOKUP(P1693,Sifranti!H:I,2,FALSE))","v":""},null,null,null,null,null,null,null,null,null,null,null,null,null,null,null,null,null,null,null,null,null,null,null,null,null,{"$f":"IF(AN1693=\"\",\"\",IF(LEN(VLOOKUP(AN1693,Sifranti!BY:BZ,2,FALSE))=0,\"\",VLOOKUP(AN1693,Sifranti!BY:BZ,2,FALSE)))","v":""},{"$f":"IF(C1693=\"\",\"\",VLOOKUP(C1693,Sifranti!P:R,2,FALSE))","v":""},"","",{"$f":"IF(C1693=\"\",\"\",VLOOKUP(C1693,Sifranti!P:R,3,FALSE))","v":""},{"$f":"IF(N1693=\"\",\"\",VLOOKUP(N1693,Sifranti!D:F,2,FALSE))","v":""},{"$f":"IF(AK1693=\"\",\"\",VLOOKUP(AK1693,Sifranti!V:Y,2,FALSE))","v":""},{"$f":"IF(AK1693=\"\",\"\",IF(VLOOKUP(AK1693,Sifranti!V:Y,3,FALSE)=\"\",\"\",VLOOKUP(AK1693,Sifranti!V:Y,3,FALSE)))","v":""},{"$f":"IF(AK1693=\"\",\"\",VLOOKUP(AK1693,Sifranti!V:Y,4,FALSE))","v":""}]
[{"$f":"IF(B1699=\"\",\"\",VLOOKUP(B1699,Sifranti!K:L,2,FALSE))","v":""},null,null,null,null,null,null,null,null,"",{"$f":"IF(L1699=\"\",\"\",VLOOKUP(L1699,Sifranti!A:B,2,FALSE))","v":""},null,{"$f":"IF(N1699=\"\",\"\",VLOOKUP(N1699,Sifranti!D:F,3,FALSE))","v":""},null,{"$f":"IF(P1699=\"\",\"\",VLOOKUP(P1699,Sifranti!H:I,2,FALSE))","v":""},null,null,null,null,null,null,null,null,null,null,null,null,null,null,null,null,null,null,null,null,null,null,null,null,null,{"$f":"IF(AN1699=\"\",\"\",IF(LEN(VLOOKUP(AN1699,Sifranti!BY:BZ,2,FALSE))=0,\"\",VLOOKUP(AN1699,Sifranti!BY:BZ,2,FALSE)))","v":""},{"$f":"IF(C1699=\"\",\"\",VLOOKUP(C1699,Sifranti!P:R,2,FALSE))","v":""},"","",{"$f":"IF(C1699=\"\",\"\",VLOOKUP(C1699,Sifranti!P:R,3,FALSE))","v":""},{"$f":"IF(N1699=\"\",\"\",VLOOKUP(N1699,Sifranti!D:F,2,FALSE))","v":""},{"$f":"IF(AK1699=\"\",\"\",VLOOKUP(AK1699,Sifranti!V:Y,2,FALSE))","v":""},{"$f":"IF(AK1699=\"\",\"\",IF(VLOOKUP(AK1699,Sifranti!V:Y,3,FALSE)=\"\",\"\",VLOOKUP(AK1699,Sifranti!V:Y,3,FALSE)))","v":""},{"$f":"IF(AK1699=\"\",\"\",VLOOKUP(AK1699,Sifranti!V:Y,4,FALSE))","v":""}]
[{"$f":"IF(B1708=\"\",\"\",VLOOKUP(B1708,Sifranti!K:L,2,FALSE))","v":""},null,null,null,null,null,null,null,null,"",{"$f":"IF(L1708=\"\",\"\",VLOOKUP(L1708,Sifranti!A:B,2,FALSE))","v":""},null,{"$f":"IF(N1708=\"\",\"\",VLOOKUP(N1708,Sifranti!D:F,3,FALSE))","v":""},null,{"$f":"IF(P1708=\"\",\"\",VLOOKUP(P1708,Sifranti!H:I,2,FALSE))","v":""},null,null,null,null,null,null,null,null,null,null,null,null,null,null,null,null,null,null,null,null,null,null,null,null,null,{"$f":"IF(AN1708=\"\",\"\",IF(LEN(VLOOKUP(AN1708,Sifranti!BY:BZ,2,FALSE))=0,\"\",VLOOKUP(AN1708,Sifranti!BY:BZ,2,FALSE)))","v":""},{"$f":"IF(C1708=\"\",\"\",VLOOKUP(C1708,Sifranti!P:R,2,FALSE))","v":""},"","",{"$f":"IF(C1708=\"\",\"\",VLOOKUP(C1708,Sifranti!P:R,3,FALSE))","v":""},{"$f":"IF(N1708=\"\",\"\",VLOOKUP(N1708,Sifranti!D:F,2,FALSE))","v":""},{"$f":"IF(AK1708=\"\",\"\",VLOOKUP(AK1708,Sifranti!V:Y,2,FALSE))","v":""},{"$f":"IF(AK1708=\"\",\"\",IF(VLOOKUP(AK1708,Sifranti!V:Y,3,FALSE)=\"\",\"\",VLOOKUP(AK1708,Sifranti!V:Y,3,FALSE)))","v":""},{"$f":"IF(AK1708=\"\",\"\",VLOOKUP(AK1708,Sifranti!V:Y,4,FALSE))","v":""}]
[{"$f":"IF(B1725=\"\",\"\",VLOOKUP(B1725,Sifranti!K:L,2,FALSE))","v":""},null,null,null,null,null,null,null,null,"",{"$f":"IF(L1725=\"\",\"\",VLOOKUP(L1725,Sifranti!A:B,2,FALSE))","v":""},null,{"$f":"IF(N1725=\"\",\"\",VLOOKUP(N1725,Sifranti!D:F,3,FALSE))","v":""},null,{"$f":"IF(P1725=\"\",\"\",VLOOKUP(P1725,Sifranti!H:I,2,FALSE))","v":""},null,null,null,null,null,null,null,null,null,null,null,null,null,null,null,null,null,null,null,null,null,null,null,null,null,{"$f":"IF(AN1725=\"\",\"\",IF(LEN(VLOOKUP(AN1725,Sifranti!BY:BZ,2,FALSE))=0,\"\",VLOOKUP(AN1725,Sifranti!BY:BZ,2,FALSE)))","v":""},{"$f":"IF(C1725=\"\",\"\",VLOOKUP(C1725,Sifranti!P:R,2,FALSE))","v":""},"","",{"$f":"IF(C1725=\"\",\"\",VLOOKUP(C1725,Sifranti!P:R,3,FALSE))","v":""},{"$f":"IF(N1725=\"\",\"\",VLOOKUP(N1725,Sifranti!D:F,2,FALSE))","v":""},{"$f":"IF(AK1725=\"\",\"\",VLOOKUP(AK1725,Sifranti!V:Y,2,FALSE))","v":""},{"$f":"IF(AK1725=\"\",\"\",IF(VLOOKUP(AK1725,Sifranti!V:Y,3,FALSE)=\"\",\"\",VLOOKUP(AK1725,Sifranti!V:Y,3,FALSE)))","v":""},{"$f":"IF(AK1725=\"\",\"\",VLOOKUP(AK1725,Sifranti!V:Y,4,FALSE))","v":""}]
[{"$f":"IF(B1731=\"\",\"\",VLOOKUP(B1731,Sifranti!K:L,2,FALSE))","v":""},null,null,null,null,null,null,null,null,"",{"$f":"IF(L1731=\"\",\"\",VLOOKUP(L1731,Sifranti!A:B,2,FALSE))","v":""},null,{"$f":"IF(N1731=\"\",\"\",VLOOKUP(N1731,Sifranti!D:F,3,FALSE))","v":""},null,{"$f":"IF(P1731=\"\",\"\",VLOOKUP(P1731,Sifranti!H:I,2,FALSE))","v":""},null,null,null,null,null,null,null,null,null,null,null,null,null,null,null,null,null,null,null,null,null,null,null,null,null,{"$f":"IF(AN1731=\"\",\"\",IF(LEN(VLOOKUP(AN1731,Sifranti!BY:BZ,2,FALSE))=0,\"\",VLOOKUP(AN1731,Sifranti!BY:BZ,2,FALSE)))","v":""},{"$f":"IF(C1731=\"\",\"\",VLOOKUP(C1731,Sifranti!P:R,2,FALSE))","v":""},"","",{"$f":"IF(C1731=\"\",\"\",VLOOKUP(C1731,Sifranti!P:R,3,FALSE))","v":""},{"$f":"IF(N1731=\"\",\"\",VLOOKUP(N1731,Sifranti!D:F,2,FALSE))","v":""},{"$f":"IF(AK1731=\"\",\"\",VLOOKUP(AK1731,Sifranti!V:Y,2,FALSE))","v":""},{"$f":"IF(AK1731=\"\",\"\",IF(VLOOKUP(AK1731,Sifranti!V:Y,3,FALSE)=\"\",\"\",VLOOKUP(AK1731,Sifranti!V:Y,3,FALSE)))","v":""},{"$f":"IF(AK1731=\"\",\"\",VLOOKUP(AK1731,Sifranti!V:Y,4,FALSE))","v":""}]
[{"$f":"IF(B1737=\"\",\"\",VLOOKUP(B1737,Sifranti!K:L,2,FALSE))","v":""},null,null,null,null,null,null,null,null,"",{"$f":"IF(L1737=\"\",\"\",VLOOKUP(L1737,Sifranti!A:B,2,FALSE))","v":""},null,{"$f":"IF(N1737=\"\",\"\",VLOOKUP(N1737,Sifranti!D:F,3,FALSE))","v":""},null,{"$f":"IF(P1737=\"\",\"\",VLOOKUP(P1737,Sifranti!H:I,2,FALSE))","v":""},null,null,null,null,null,null,null,null,null,null,null,null,null,null,null,null,null,null,null,null,null,null,null,null,null,{"$f":"IF(AN1737=\"\",\"\",IF(LEN(VLOOKUP(AN1737,Sifranti!BY:BZ,2,FALSE))=0,\"\",VLOOKUP(AN1737,Sifranti!BY:BZ,2,FALSE)))","v":""},{"$f":"IF(C1737=\"\",\"\",VLOOKUP(C1737,Sifranti!P:R,2,FALSE))","v":""},"","",{"$f":"IF(C1737=\"\",\"\",VLOOKUP(C1737,Sifranti!P:R,3,FALSE))","v":""},{"$f":"IF(N1737=\"\",\"\",VLOOKUP(N1737,Sifranti!D:F,2,FALSE))","v":""},{"$f":"IF(AK1737=\"\",\"\",VLOOKUP(AK1737,Sifranti!V:Y,2,FALSE))","v":""},{"$f":"IF(AK1737=\"\",\"\",IF(VLOOKUP(AK1737,Sifranti!V:Y,3,FALSE)=\"\",\"\",VLOOKUP(AK1737,Sifranti!V:Y,3,FALSE)))","v":""},{"$f":"IF(AK1737=\"\",\"\",VLOOKUP(AK1737,Sifranti!V:Y,4,FALSE))","v":""}]
[{"$f":"IF(B1753=\"\",\"\",VLOOKUP(B1753,Sifranti!K:L,2,FALSE))","v":""},null,null,null,null,null,null,null,null,"",{"$f":"IF(L1753=\"\",\"\",VLOOKUP(L1753,Sifranti!A:B,2,FALSE))","v":""},null,{"$f":"IF(N1753=\"\",\"\",VLOOKUP(N1753,Sifranti!D:F,3,FALSE))","v":""},null,{"$f":"IF(P1753=\"\",\"\",VLOOKUP(P1753,Sifranti!H:I,2,FALSE))","v":""},null,null,null,null,null,null,null,null,null,null,null,null,null,null,null,null,null,null,null,null,null,null,null,null,null,{"$f":"IF(AN1753=\"\",\"\",IF(LEN(VLOOKUP(AN1753,Sifranti!BY:BZ,2,FALSE))=0,\"\",VLOOKUP(AN1753,Sifranti!BY:BZ,2,FALSE)))","v":""},{"$f":"IF(C1753=\"\",\"\",VLOOKUP(C1753,Sifranti!P:R,2,FALSE))","v":""},"","",{"$f":"IF(C1753=\"\",\"\",VLOOKUP(C1753,Sifranti!P:R,3,FALSE))","v":""},{"$f":"IF(N1753=\"\",\"\",VLOOKUP(N1753,Sifranti!D:F,2,FALSE))","v":""},{"$f":"IF(AK1753=\"\",\"\",VLOOKUP(AK1753,Sifranti!V:Y,2,FALSE))","v":""},{"$f":"IF(AK1753=\"\",\"\",IF(VLOOKUP(AK1753,Sifranti!V:Y,3,FALSE)=\"\",\"\",VLOOKUP(AK1753,Sifranti!V:Y,3,FALSE)))","v":""},{"$f":"IF(AK1753=\"\",\"\",VLOOKUP(AK1753,Sifranti!V:Y,4,FALSE))","v":""}]
[{"$f":"IF(B1763=\"\",\"\",VLOOKUP(B1763,Sifranti!K:L,2,FALSE))","v":""},null,null,null,null,null,null,null,null,"",{"$f":"IF(L1763=\"\",\"\",VLOOKUP(L1763,Sifranti!A:B,2,FALSE))","v":""},null,{"$f":"IF(N1763=\"\",\"\",VLOOKUP(N1763,Sifranti!D:F,3,FALSE))","v":""},null,{"$f":"IF(P1763=\"\",\"\",VLOOKUP(P1763,Sifranti!H:I,2,FALSE))","v":""},null,null,null,null,null,null,null,null,null,null,null,null,null,null,null,null,null,null,null,null,null,null,null,null,null,{"$f":"IF(AN1763=\"\",\"\",IF(LEN(VLOOKUP(AN1763,Sifranti!BY:BZ,2,FALSE))=0,\"\",VLOOKUP(AN1763,Sifranti!BY:BZ,2,FALSE)))","v":""},{"$f":"IF(C1763=\"\",\"\",VLOOKUP(C1763,Sifranti!P:R,2,FALSE))","v":""},"","",{"$f":"IF(C1763=\"\",\"\",VLOOKUP(C1763,Sifranti!P:R,3,FALSE))","v":""},{"$f":"IF(N1763=\"\",\"\",VLOOKUP(N1763,Sifranti!D:F,2,FALSE))","v":""},{"$f":"IF(AK1763=\"\",\"\",VLOOKUP(AK1763,Sifranti!V:Y,2,FALSE))","v":""},{"$f":"IF(AK1763=\"\",\"\",IF(VLOOKUP(AK1763,Sifranti!V:Y,3,FALSE)=\"\",\"\",VLOOKUP(AK1763,Sifranti!V:Y,3,FALSE)))","v":""},{"$f":"IF(AK1763=\"\",\"\",VLOOKUP(AK1763,Sifranti!V:Y,4,FALSE))","v":""}]
[{"$f":"IF(B1773=\"\",\"\",VLOOKUP(B1773,Sifranti!K:L,2,FALSE))","v":""},null,null,null,null,null,null,null,null,"",{"$f":"IF(L1773=\"\",\"\",VLOOKUP(L1773,Sifranti!A:B,2,FALSE))","v":""},null,{"$f":"IF(N1773=\"\",\"\",VLOOKUP(N1773,Sifranti!D:F,3,FALSE))","v":""},null,{"$f":"IF(P1773=\"\",\"\",VLOOKUP(P1773,Sifranti!H:I,2,FALSE))","v":""},null,null,null,null,null,null,null,null,null,null,null,null,null,null,null,null,null,null,null,null,null,null,null,null,null,{"$f":"IF(AN1773=\"\",\"\",IF(LEN(VLOOKUP(AN1773,Sifranti!BY:BZ,2,FALSE))=0,\"\",VLOOKUP(AN1773,Sifranti!BY:BZ,2,FALSE)))","v":""},{"$f":"IF(C1773=\"\",\"\",VLOOKUP(C1773,Sifranti!P:R,2,FALSE))","v":""},"","",{"$f":"IF(C1773=\"\",\"\",VLOOKUP(C1773,Sifranti!P:R,3,FALSE))","v":""},{"$f":"IF(N1773=\"\",\"\",VLOOKUP(N1773,Sifranti!D:F,2,FALSE))","v":""},{"$f":"IF(AK1773=\"\",\"\",VLOOKUP(AK1773,Sifranti!V:Y,2,FALSE))","v":""},{"$f":"IF(AK1773=\"\",\"\",IF(VLOOKUP(AK1773,Sifranti!V:Y,3,FALSE)=\"\",\"\",VLOOKUP(AK1773,Sifranti!V:Y,3,FALSE)))","v":""},{"$f":"IF(AK1773=\"\",\"\",VLOOKUP(AK1773,Sifranti!V:Y,4,FALSE))","v":""}]
[{"$f":"IF(B1790=\"\",\"\",VLOOKUP(B1790,Sifranti!K:L,2,FALSE))","v":""},null,null,null,null,null,null,null,null,"",{"$f":"IF(L1790=\"\",\"\",VLOOKUP(L1790,Sifranti!A:B,2,FALSE))","v":""},null,{"$f":"IF(N1790=\"\",\"\",VLOOKUP(N1790,Sifranti!D:F,3,FALSE))","v":""},null,{"$f":"IF(P1790=\"\",\"\",VLOOKUP(P1790,Sifranti!H:I,2,FALSE))","v":""},null,null,null,null,null,null,null,null,null,null,null,null,null,null,null,null,null,null,null,null,null,null,null,null,null,{"$f":"IF(AN1790=\"\",\"\",IF(LEN(VLOOKUP(AN1790,Sifranti!BY:BZ,2,FALSE))=0,\"\",VLOOKUP(AN1790,Sifranti!BY:BZ,2,FALSE)))","v":""},{"$f":"IF(C1790=\"\",\"\",VLOOKUP(C1790,Sifranti!P:R,2,FALSE))","v":""},"","",{"$f":"IF(C1790=\"\",\"\",VLOOKUP(C1790,Sifranti!P:R,3,FALSE))","v":""},{"$f":"IF(N1790=\"\",\"\",VLOOKUP(N1790,Sifranti!D:F,2,FALSE))","v":""},{"$f":"IF(AK1790=\"\",\"\",VLOOKUP(AK1790,Sifranti!V:Y,2,FALSE))","v":""},{"$f":"IF(AK1790=\"\",\"\",IF(VLOOKUP(AK1790,Sifranti!V:Y,3,FALSE)=\"\",\"\",VLOOKUP(AK1790,Sifranti!V:Y,3,FALSE)))","v":""},{"$f":"IF(AK1790=\"\",\"\",VLOOKUP(AK1790,Sifranti!V:Y,4,FALSE))","v":""}]
[{"$f":"IF(B1792=\"\",\"\",VLOOKUP(B1792,Sifranti!K:L,2,FALSE))","v":""},null,null,null,null,null,null,null,null,"",{"$f":"IF(L1792=\"\",\"\",VLOOKUP(L1792,Sifranti!A:B,2,FALSE))","v":""},null,{"$f":"IF(N1792=\"\",\"\",VLOOKUP(N1792,Sifranti!D:F,3,FALSE))","v":""},null,{"$f":"IF(P1792=\"\",\"\",VLOOKUP(P1792,Sifranti!H:I,2,FALSE))","v":""},null,null,null,null,null,null,null,null,null,null,null,null,null,null,null,null,null,null,null,null,null,null,null,null,null,{"$f":"IF(AN1792=\"\",\"\",IF(LEN(VLOOKUP(AN1792,Sifranti!BY:BZ,2,FALSE))=0,\"\",VLOOKUP(AN1792,Sifranti!BY:BZ,2,FALSE)))","v":""},{"$f":"IF(C1792=\"\",\"\",VLOOKUP(C1792,Sifranti!P:R,2,FALSE))","v":""},"","",{"$f":"IF(C1792=\"\",\"\",VLOOKUP(C1792,Sifranti!P:R,3,FALSE))","v":""},{"$f":"IF(N1792=\"\",\"\",VLOOKUP(N1792,Sifranti!D:F,2,FALSE))","v":""},{"$f":"IF(AK1792=\"\",\"\",VLOOKUP(AK1792,Sifranti!V:Y,2,FALSE))","v":""},{"$f":"IF(AK1792=\"\",\"\",IF(VLOOKUP(AK1792,Sifranti!V:Y,3,FALSE)=\"\",\"\",VLOOKUP(AK1792,Sifranti!V:Y,3,FALSE)))","v":""},{"$f":"IF(AK1792=\"\",\"\",VLOOKUP(AK1792,Sifranti!V:Y,4,FALSE))","v":""}]
[{"$f":"IF(B1805=\"\",\"\",VLOOKUP(B1805,Sifranti!K:L,2,FALSE))","v":""},null,null,null,null,null,null,null,null,"",{"$f":"IF(L1805=\"\",\"\",VLOOKUP(L1805,Sifranti!A:B,2,FALSE))","v":""},null,{"$f":"IF(N1805=\"\",\"\",VLOOKUP(N1805,Sifranti!D:F,3,FALSE))","v":""},null,{"$f":"IF(P1805=\"\",\"\",VLOOKUP(P1805,Sifranti!H:I,2,FALSE))","v":""},null,null,null,null,null,null,null,null,null,null,null,null,null,null,null,null,null,null,null,null,null,null,null,null,null,{"$f":"IF(AN1805=\"\",\"\",IF(LEN(VLOOKUP(AN1805,Sifranti!BY:BZ,2,FALSE))=0,\"\",VLOOKUP(AN1805,Sifranti!BY:BZ,2,FALSE)))","v":""},{"$f":"IF(C1805=\"\",\"\",VLOOKUP(C1805,Sifranti!P:R,2,FALSE))","v":""},"","",{"$f":"IF(C1805=\"\",\"\",VLOOKUP(C1805,Sifranti!P:R,3,FALSE))","v":""},{"$f":"IF(N1805=\"\",\"\",VLOOKUP(N1805,Sifranti!D:F,2,FALSE))","v":""},{"$f":"IF(AK1805=\"\",\"\",VLOOKUP(AK1805,Sifranti!V:Y,2,FALSE))","v":""},{"$f":"IF(AK1805=\"\",\"\",IF(VLOOKUP(AK1805,Sifranti!V:Y,3,FALSE)=\"\",\"\",VLOOKUP(AK1805,Sifranti!V:Y,3,FALSE)))","v":""},{"$f":"IF(AK1805=\"\",\"\",VLOOKUP(AK1805,Sifranti!V:Y,4,FALSE))","v":""}]
[{"$f":"IF(B1822=\"\",\"\",VLOOKUP(B1822,Sifranti!K:L,2,FALSE))","v":""},null,null,null,null,null,null,null,null,"",{"$f":"IF(L1822=\"\",\"\",VLOOKUP(L1822,Sifranti!A:B,2,FALSE))","v":""},null,{"$f":"IF(N1822=\"\",\"\",VLOOKUP(N1822,Sifranti!D:F,3,FALSE))","v":""},null,{"$f":"IF(P1822=\"\",\"\",VLOOKUP(P1822,Sifranti!H:I,2,FALSE))","v":""},null,null,null,null,null,null,null,null,null,null,null,null,null,null,null,null,null,null,null,null,null,null,null,null,null,{"$f":"IF(AN1822=\"\",\"\",IF(LEN(VLOOKUP(AN1822,Sifranti!BY:BZ,2,FALSE))=0,\"\",VLOOKUP(AN1822,Sifranti!BY:BZ,2,FALSE)))","v":""},{"$f":"IF(C1822=\"\",\"\",VLOOKUP(C1822,Sifranti!P:R,2,FALSE))","v":""},"","",{"$f":"IF(C1822=\"\",\"\",VLOOKUP(C1822,Sifranti!P:R,3,FALSE))","v":""},{"$f":"IF(N1822=\"\",\"\",VLOOKUP(N1822,Sifranti!D:F,2,FALSE))","v":""},{"$f":"IF(AK1822=\"\",\"\",VLOOKUP(AK1822,Sifranti!V:Y,2,FALSE))","v":""},{"$f":"IF(AK1822=\"\",\"\",IF(VLOOKUP(AK1822,Sifranti!V:Y,3,FALSE)=\"\",\"\",VLOOKUP(AK1822,Sifranti!V:Y,3,FALSE)))","v":""},{"$f":"IF(AK1822=\"\",\"\",VLOOKUP(AK1822,Sifranti!V:Y,4,FALSE))","v":""}]
[{"$f":"IF(B1828=\"\",\"\",VLOOKUP(B1828,Sifranti!K:L,2,FALSE))","v":""},null,null,null,null,null,null,null,null,"",{"$f":"IF(L1828=\"\",\"\",VLOOKUP(L1828,Sifranti!A:B,2,FALSE))","v":""},null,{"$f":"IF(N1828=\"\",\"\",VLOOKUP(N1828,Sifranti!D:F,3,FALSE))","v":""},null,{"$f":"IF(P1828=\"\",\"\",VLOOKUP(P1828,Sifranti!H:I,2,FALSE))","v":""},null,null,null,null,null,null,null,null,null,null,null,null,null,null,null,null,null,null,null,null,null,null,null,null,null,{"$f":"IF(AN1828=\"\",\"\",IF(LEN(VLOOKUP(AN1828,Sifranti!BY:BZ,2,FALSE))=0,\"\",VLOOKUP(AN1828,Sifranti!BY:BZ,2,FALSE)))","v":""},{"$f":"IF(C1828=\"\",\"\",VLOOKUP(C1828,Sifranti!P:R,2,FALSE))","v":""},"","",{"$f":"IF(C1828=\"\",\"\",VLOOKUP(C1828,Sifranti!P:R,3,FALSE))","v":""},{"$f":"IF(N1828=\"\",\"\",VLOOKUP(N1828,Sifranti!D:F,2,FALSE))","v":""},{"$f":"IF(AK1828=\"\",\"\",VLOOKUP(AK1828,Sifranti!V:Y,2,FALSE))","v":""},{"$f":"IF(AK1828=\"\",\"\",IF(VLOOKUP(AK1828,Sifranti!V:Y,3,FALSE)=\"\",\"\",VLOOKUP(AK1828,Sifranti!V:Y,3,FALSE)))","v":""},{"$f":"IF(AK1828=\"\",\"\",VLOOKUP(AK1828,Sifranti!V:Y,4,FALSE))","v":""}]
[{"$f":"IF(B1837=\"\",\"\",VLOOKUP(B1837,Sifranti!K:L,2,FALSE))","v":""},null,null,null,null,null,null,null,null,"",{"$f":"IF(L1837=\"\",\"\",VLOOKUP(L1837,Sifranti!A:B,2,FALSE))","v":""},null,{"$f":"IF(N1837=\"\",\"\",VLOOKUP(N1837,Sifranti!D:F,3,FALSE))","v":""},null,{"$f":"IF(P1837=\"\",\"\",VLOOKUP(P1837,Sifranti!H:I,2,FALSE))","v":""},null,null,null,null,null,null,null,null,null,null,null,null,null,null,null,null,null,null,null,null,null,null,null,null,null,{"$f":"IF(AN1837=\"\",\"\",IF(LEN(VLOOKUP(AN1837,Sifranti!BY:BZ,2,FALSE))=0,\"\",VLOOKUP(AN1837,Sifranti!BY:BZ,2,FALSE)))","v":""},{"$f":"IF(C1837=\"\",\"\",VLOOKUP(C1837,Sifranti!P:R,2,FALSE))","v":""},"","",{"$f":"IF(C1837=\"\",\"\",VLOOKUP(C1837,Sifranti!P:R,3,FALSE))","v":""},{"$f":"IF(N1837=\"\",\"\",VLOOKUP(N1837,Sifranti!D:F,2,FALSE))","v":""},{"$f":"IF(AK1837=\"\",\"\",VLOOKUP(AK1837,Sifranti!V:Y,2,FALSE))","v":""},{"$f":"IF(AK1837=\"\",\"\",IF(VLOOKUP(AK1837,Sifranti!V:Y,3,FALSE)=\"\",\"\",VLOOKUP(AK1837,Sifranti!V:Y,3,FALSE)))","v":""},{"$f":"IF(AK1837=\"\",\"\",VLOOKUP(AK1837,Sifranti!V:Y,4,FALSE))","v":""}]
[{"$f":"IF(B1854=\"\",\"\",VLOOKUP(B1854,Sifranti!K:L,2,FALSE))","v":""},null,null,null,null,null,null,null,null,"",{"$f":"IF(L1854=\"\",\"\",VLOOKUP(L1854,Sifranti!A:B,2,FALSE))","v":""},null,{"$f":"IF(N1854=\"\",\"\",VLOOKUP(N1854,Sifranti!D:F,3,FALSE))","v":""},null,{"$f":"IF(P1854=\"\",\"\",VLOOKUP(P1854,Sifranti!H:I,2,FALSE))","v":""},null,null,null,null,null,null,null,null,null,null,null,null,null,null,null,null,null,null,null,null,null,null,null,null,null,{"$f":"IF(AN1854=\"\",\"\",IF(LEN(VLOOKUP(AN1854,Sifranti!BY:BZ,2,FALSE))=0,\"\",VLOOKUP(AN1854,Sifranti!BY:BZ,2,FALSE)))","v":""},{"$f":"IF(C1854=\"\",\"\",VLOOKUP(C1854,Sifranti!P:R,2,FALSE))","v":""},"","",{"$f":"IF(C1854=\"\",\"\",VLOOKUP(C1854,Sifranti!P:R,3,FALSE))","v":""},{"$f":"IF(N1854=\"\",\"\",VLOOKUP(N1854,Sifranti!D:F,2,FALSE))","v":""},{"$f":"IF(AK1854=\"\",\"\",VLOOKUP(AK1854,Sifranti!V:Y,2,FALSE))","v":""},{"$f":"IF(AK1854=\"\",\"\",IF(VLOOKUP(AK1854,Sifranti!V:Y,3,FALSE)=\"\",\"\",VLOOKUP(AK1854,Sifranti!V:Y,3,FALSE)))","v":""},{"$f":"IF(AK1854=\"\",\"\",VLOOKUP(AK1854,Sifranti!V:Y,4,FALSE))","v":""}]
[{"$f":"IF(B1864=\"\",\"\",VLOOKUP(B1864,Sifranti!K:L,2,FALSE))","v":""},null,null,null,null,null,null,null,null,"",{"$f":"IF(L1864=\"\",\"\",VLOOKUP(L1864,Sifranti!A:B,2,FALSE))","v":""},null,{"$f":"IF(N1864=\"\",\"\",VLOOKUP(N1864,Sifranti!D:F,3,FALSE))","v":""},null,{"$f":"IF(P1864=\"\",\"\",VLOOKUP(P1864,Sifranti!H:I,2,FALSE))","v":""},null,null,null,null,null,null,null,null,null,null,null,null,null,null,null,null,null,null,null,null,null,null,null,null,null,{"$f":"IF(AN1864=\"\",\"\",IF(LEN(VLOOKUP(AN1864,Sifranti!BY:BZ,2,FALSE))=0,\"\",VLOOKUP(AN1864,Sifranti!BY:BZ,2,FALSE)))","v":""},{"$f":"IF(C1864=\"\",\"\",VLOOKUP(C1864,Sifranti!P:R,2,FALSE))","v":""},"","",{"$f":"IF(C1864=\"\",\"\",VLOOKUP(C1864,Sifranti!P:R,3,FALSE))","v":""},{"$f":"IF(N1864=\"\",\"\",VLOOKUP(N1864,Sifranti!D:F,2,FALSE))","v":""},{"$f":"IF(AK1864=\"\",\"\",VLOOKUP(AK1864,Sifranti!V:Y,2,FALSE))","v":""},{"$f":"IF(AK1864=\"\",\"\",IF(VLOOKUP(AK1864,Sifranti!V:Y,3,FALSE)=\"\",\"\",VLOOKUP(AK1864,Sifranti!V:Y,3,FALSE)))","v":""},{"$f":"IF(AK1864=\"\",\"\",VLOOKUP(AK1864,Sifranti!V:Y,4,FALSE))","v":""}]
[{"$f":"IF(B1870=\"\",\"\",VLOOKUP(B1870,Sifranti!K:L,2,FALSE))","v":""},null,null,null,null,null,null,null,null,"",{"$f":"IF(L1870=\"\",\"\",VLOOKUP(L1870,Sifranti!A:B,2,FALSE))","v":""},null,{"$f":"IF(N1870=\"\",\"\",VLOOKUP(N1870,Sifranti!D:F,3,FALSE))","v":""},null,{"$f":"IF(P1870=\"\",\"\",VLOOKUP(P1870,Sifranti!H:I,2,FALSE))","v":""},null,null,null,null,null,null,null,null,null,null,null,null,null,null,null,null,null,null,null,null,null,null,null,null,null,{"$f":"IF(AN1870=\"\",\"\",IF(LEN(VLOOKUP(AN1870,Sifranti!BY:BZ,2,FALSE))=0,\"\",VLOOKUP(AN1870,Sifranti!BY:BZ,2,FALSE)))","v":""},{"$f":"IF(C1870=\"\",\"\",VLOOKUP(C1870,Sifranti!P:R,2,FALSE))","v":""},"","",{"$f":"IF(C1870=\"\",\"\",VLOOKUP(C1870,Sifranti!P:R,3,FALSE))","v":""},{"$f":"IF(N1870=\"\",\"\",VLOOKUP(N1870,Sifranti!D:F,2,FALSE))","v":""},{"$f":"IF(AK1870=\"\",\"\",VLOOKUP(AK1870,Sifranti!V:Y,2,FALSE))","v":""},{"$f":"IF(AK1870=\"\",\"\",IF(VLOOKUP(AK1870,Sifranti!V:Y,3,FALSE)=\"\",\"\",VLOOKUP(AK1870,Sifranti!V:Y,3,FALSE)))","v":""},{"$f":"IF(AK1870=\"\",\"\",VLOOKUP(AK1870,Sifranti!V:Y,4,FALSE))","v":""}]
[{"$f":"IF(B1886=\"\",\"\",VLOOKUP(B1886,Sifranti!K:L,2,FALSE))","v":""},null,null,null,null,null,null,null,null,"",{"$f":"IF(L1886=\"\",\"\",VLOOKUP(L1886,Sifranti!A:B,2,FALSE))","v":""},null,{"$f":"IF(N1886=\"\",\"\",VLOOKUP(N1886,Sifranti!D:F,3,FALSE))","v":""},null,{"$f":"IF(P1886=\"\",\"\",VLOOKUP(P1886,Sifranti!H:I,2,FALSE))","v":""},null,null,null,null,null,null,null,null,null,null,null,null,null,null,null,null,null,null,null,null,null,null,null,null,null,{"$f":"IF(AN1886=\"\",\"\",IF(LEN(VLOOKUP(AN1886,Sifranti!BY:BZ,2,FALSE))=0,\"\",VLOOKUP(AN1886,Sifranti!BY:BZ,2,FALSE)))","v":""},{"$f":"IF(C1886=\"\",\"\",VLOOKUP(C1886,Sifranti!P:R,2,FALSE))","v":""},"","",{"$f":"IF(C1886=\"\",\"\",VLOOKUP(C1886,Sifranti!P:R,3,FALSE))","v":""},{"$f":"IF(N1886=\"\",\"\",VLOOKUP(N1886,Sifranti!D:F,2,FALSE))","v":""},{"$f":"IF(AK1886=\"\",\"\",VLOOKUP(AK1886,Sifranti!V:Y,2,FALSE))","v":""},{"$f":"IF(AK1886=\"\",\"\",IF(VLOOKUP(AK1886,Sifranti!V:Y,3,FALSE)=\"\",\"\",VLOOKUP(AK1886,Sifranti!V:Y,3,FALSE)))","v":""},{"$f":"IF(AK1886=\"\",\"\",VLOOKUP(AK1886,Sifranti!V:Y,4,FALSE))","v":""}]
[{"$f":"IF(B1896=\"\",\"\",VLOOKUP(B1896,Sifranti!K:L,2,FALSE))","v":""},null,null,null,null,null,null,null,null,"",{"$f":"IF(L1896=\"\",\"\",VLOOKUP(L1896,Sifranti!A:B,2,FALSE))","v":""},null,{"$f":"IF(N1896=\"\",\"\",VLOOKUP(N1896,Sifranti!D:F,3,FALSE))","v":""},null,{"$f":"IF(P1896=\"\",\"\",VLOOKUP(P1896,Sifranti!H:I,2,FALSE))","v":""},null,null,null,null,null,null,null,null,null,null,null,null,null,null,null,null,null,null,null,null,null,null,null,null,null,{"$f":"IF(AN1896=\"\",\"\",IF(LEN(VLOOKUP(AN1896,Sifranti!BY:BZ,2,FALSE))=0,\"\",VLOOKUP(AN1896,Sifranti!BY:BZ,2,FALSE)))","v":""},{"$f":"IF(C1896=\"\",\"\",VLOOKUP(C1896,Sifranti!P:R,2,FALSE))","v":""},"","",{"$f":"IF(C1896=\"\",\"\",VLOOKUP(C1896,Sifranti!P:R,3,FALSE))","v":""},{"$f":"IF(N1896=\"\",\"\",VLOOKUP(N1896,Sifranti!D:F,2,FALSE))","v":""},{"$f":"IF(AK1896=\"\",\"\",VLOOKUP(AK1896,Sifranti!V:Y,2,FALSE))","v":""},{"$f":"IF(AK1896=\"\",\"\",IF(VLOOKUP(AK1896,Sifranti!V:Y,3,FALSE)=\"\",\"\",VLOOKUP(AK1896,Sifranti!V:Y,3,FALSE)))","v":""},{"$f":"IF(AK1896=\"\",\"\",VLOOKUP(AK1896,Sifranti!V:Y,4,FALSE))","v":""}]
[{"$f":"IF(B1902=\"\",\"\",VLOOKUP(B1902,Sifranti!K:L,2,FALSE))","v":""},null,null,null,null,null,null,null,null,"",{"$f":"IF(L1902=\"\",\"\",VLOOKUP(L1902,Sifranti!A:B,2,FALSE))","v":""},null,{"$f":"IF(N1902=\"\",\"\",VLOOKUP(N1902,Sifranti!D:F,3,FALSE))","v":""},null,{"$f":"IF(P1902=\"\",\"\",VLOOKUP(P1902,Sifranti!H:I,2,FALSE))","v":""},null,null,null,null,null,null,null,null,null,null,null,null,null,null,null,null,null,null,null,null,null,null,null,null,null,{"$f":"IF(AN1902=\"\",\"\",IF(LEN(VLOOKUP(AN1902,Sifranti!BY:BZ,2,FALSE))=0,\"\",VLOOKUP(AN1902,Sifranti!BY:BZ,2,FALSE)))","v":""},{"$f":"IF(C1902=\"\",\"\",VLOOKUP(C1902,Sifranti!P:R,2,FALSE))","v":""},"","",{"$f":"IF(C1902=\"\",\"\",VLOOKUP(C1902,Sifranti!P:R,3,FALSE))","v":""},{"$f":"IF(N1902=\"\",\"\",VLOOKUP(N1902,Sifranti!D:F,2,FALSE))","v":""},{"$f":"IF(AK1902=\"\",\"\",VLOOKUP(AK1902,Sifranti!V:Y,2,FALSE))","v":""},{"$f":"IF(AK1902=\"\",\"\",IF(VLOOKUP(AK1902,Sifranti!V:Y,3,FALSE)=\"\",\"\",VLOOKUP(AK1902,Sifranti!V:Y,3,FALSE)))","v":""},{"$f":"IF(AK1902=\"\",\"\",VLOOKUP(AK1902,Sifranti!V:Y,4,FALSE))","v":""}]
[{"$f":"IF(B1912=\"\",\"\",VLOOKUP(B1912,Sifranti!K:L,2,FALSE))","v":""},null,null,null,null,null,null,null,null,"",{"$f":"IF(L1912=\"\",\"\",VLOOKUP(L1912,Sifranti!A:B,2,FALSE))","v":""},null,{"$f":"IF(N1912=\"\",\"\",VLOOKUP(N1912,Sifranti!D:F,3,FALSE))","v":""},null,{"$f":"IF(P1912=\"\",\"\",VLOOKUP(P1912,Sifranti!H:I,2,FALSE))","v":""},null,null,null,null,null,null,null,null,null,null,null,null,null,null,null,null,null,null,null,null,null,null,null,null,null,{"$f":"IF(AN1912=\"\",\"\",IF(LEN(VLOOKUP(AN1912,Sifranti!BY:BZ,2,FALSE))=0,\"\",VLOOKUP(AN1912,Sifranti!BY:BZ,2,FALSE)))","v":""},{"$f":"IF(C1912=\"\",\"\",VLOOKUP(C1912,Sifranti!P:R,2,FALSE))","v":""},"","",{"$f":"IF(C1912=\"\",\"\",VLOOKUP(C1912,Sifranti!P:R,3,FALSE))","v":""},{"$f":"IF(N1912=\"\",\"\",VLOOKUP(N1912,Sifranti!D:F,2,FALSE))","v":""},{"$f":"IF(AK1912=\"\",\"\",VLOOKUP(AK1912,Sifranti!V:Y,2,FALSE))","v":""},{"$f":"IF(AK1912=\"\",\"\",IF(VLOOKUP(AK1912,Sifranti!V:Y,3,FALSE)=\"\",\"\",VLOOKUP(AK1912,Sifranti!V:Y,3,FALSE)))","v":""},{"$f":"IF(AK1912=\"\",\"\",VLOOKUP(AK1912,Sifranti!V:Y,4,FALSE))","v":""}]
[{"$f":"IF(B1921=\"\",\"\",VLOOKUP(B1921,Sifranti!K:L,2,FALSE))","v":""},null,null,null,null,null,null,null,null,"",{"$f":"IF(L1921=\"\",\"\",VLOOKUP(L1921,Sifranti!A:B,2,FALSE))","v":""},null,{"$f":"IF(N1921=\"\",\"\",VLOOKUP(N1921,Sifranti!D:F,3,FALSE))","v":""},null,{"$f":"IF(P1921=\"\",\"\",VLOOKUP(P1921,Sifranti!H:I,2,FALSE))","v":""},null,null,null,null,null,null,null,null,null,null,null,null,null,null,null,null,null,null,null,null,null,null,null,null,null,{"$f":"IF(AN1921=\"\",\"\",IF(LEN(VLOOKUP(AN1921,Sifranti!BY:BZ,2,FALSE))=0,\"\",VLOOKUP(AN1921,Sifranti!BY:BZ,2,FALSE)))","v":""},{"$f":"IF(C1921=\"\",\"\",VLOOKUP(C1921,Sifranti!P:R,2,FALSE))","v":""},"","",{"$f":"IF(C1921=\"\",\"\",VLOOKUP(C1921,Sifranti!P:R,3,FALSE))","v":""},{"$f":"IF(N1921=\"\",\"\",VLOOKUP(N1921,Sifranti!D:F,2,FALSE))","v":""},{"$f":"IF(AK1921=\"\",\"\",VLOOKUP(AK1921,Sifranti!V:Y,2,FALSE))","v":""},{"$f":"IF(AK1921=\"\",\"\",IF(VLOOKUP(AK1921,Sifranti!V:Y,3,FALSE)=\"\",\"\",VLOOKUP(AK1921,Sifranti!V:Y,3,FALSE)))","v":""},{"$f":"IF(AK1921=\"\",\"\",VLOOKUP(AK1921,Sifranti!V:Y,4,FALSE))","v":""}]
[{"$f":"IF(B1934=\"\",\"\",VLOOKUP(B1934,Sifranti!K:L,2,FALSE))","v":""},null,null,null,null,null,null,null,null,"",{"$f":"IF(L1934=\"\",\"\",VLOOKUP(L1934,Sifranti!A:B,2,FALSE))","v":""},null,{"$f":"IF(N1934=\"\",\"\",VLOOKUP(N1934,Sifranti!D:F,3,FALSE))","v":""},null,{"$f":"IF(P1934=\"\",\"\",VLOOKUP(P1934,Sifranti!H:I,2,FALSE))","v":""},null,null,null,null,null,null,null,null,null,null,null,null,null,null,null,null,null,null,null,null,null,null,null,null,null,{"$f":"IF(AN1934=\"\",\"\",IF(LEN(VLOOKUP(AN1934,Sifranti!BY:BZ,2,FALSE))=0,\"\",VLOOKUP(AN1934,Sifranti!BY:BZ,2,FALSE)))","v":""},{"$f":"IF(C1934=\"\",\"\",VLOOKUP(C1934,Sifranti!P:R,2,FALSE))","v":""},"","",{"$f":"IF(C1934=\"\",\"\",VLOOKUP(C1934,Sifranti!P:R,3,FALSE))","v":""},{"$f":"IF(N1934=\"\",\"\",VLOOKUP(N1934,Sifranti!D:F,2,FALSE))","v":""},{"$f":"IF(AK1934=\"\",\"\",VLOOKUP(AK1934,Sifranti!V:Y,2,FALSE))","v":""},{"$f":"IF(AK1934=\"\",\"\",IF(VLOOKUP(AK1934,Sifranti!V:Y,3,FALSE)=\"\",\"\",VLOOKUP(AK1934,Sifranti!V:Y,3,FALSE)))","v":""},{"$f":"IF(AK1934=\"\",\"\",VLOOKUP(AK1934,Sifranti!V:Y,4,FALSE))","v":""}]
[{"$f":"IF(B1944=\"\",\"\",VLOOKUP(B1944,Sifranti!K:L,2,FALSE))","v":""},null,null,null,null,null,null,null,null,"",{"$f":"IF(L1944=\"\",\"\",VLOOKUP(L1944,Sifranti!A:B,2,FALSE))","v":""},null,{"$f":"IF(N1944=\"\",\"\",VLOOKUP(N1944,Sifranti!D:F,3,FALSE))","v":""},null,{"$f":"IF(P1944=\"\",\"\",VLOOKUP(P1944,Sifranti!H:I,2,FALSE))","v":""},null,null,null,null,null,null,null,null,null,null,null,null,null,null,null,null,null,null,null,null,null,null,null,null,null,{"$f":"IF(AN1944=\"\",\"\",IF(LEN(VLOOKUP(AN1944,Sifranti!BY:BZ,2,FALSE))=0,\"\",VLOOKUP(AN1944,Sifranti!BY:BZ,2,FALSE)))","v":""},{"$f":"IF(C1944=\"\",\"\",VLOOKUP(C1944,Sifranti!P:R,2,FALSE))","v":""},"","",{"$f":"IF(C1944=\"\",\"\",VLOOKUP(C1944,Sifranti!P:R,3,FALSE))","v":""},{"$f":"IF(N1944=\"\",\"\",VLOOKUP(N1944,Sifranti!D:F,2,FALSE))","v":""},{"$f":"IF(AK1944=\"\",\"\",VLOOKUP(AK1944,Sifranti!V:Y,2,FALSE))","v":""},{"$f":"IF(AK1944=\"\",\"\",IF(VLOOKUP(AK1944,Sifranti!V:Y,3,FALSE)=\"\",\"\",VLOOKUP(AK1944,Sifranti!V:Y,3,FALSE)))","v":""},{"$f":"IF(AK1944=\"\",\"\",VLOOKUP(AK1944,Sifranti!V:Y,4,FALSE))","v":""}]
[{"$f":"IF(B1961=\"\",\"\",VLOOKUP(B1961,Sifranti!K:L,2,FALSE))","v":""},null,null,null,null,null,null,null,null,"",{"$f":"IF(L1961=\"\",\"\",VLOOKUP(L1961,Sifranti!A:B,2,FALSE))","v":""},null,{"$f":"IF(N1961=\"\",\"\",VLOOKUP(N1961,Sifranti!D:F,3,FALSE))","v":""},null,{"$f":"IF(P1961=\"\",\"\",VLOOKUP(P1961,Sifranti!H:I,2,FALSE))","v":""},null,null,null,null,null,null,null,null,null,null,null,null,null,null,null,null,null,null,null,null,null,null,null,null,null,{"$f":"IF(AN1961=\"\",\"\",IF(LEN(VLOOKUP(AN1961,Sifranti!BY:BZ,2,FALSE))=0,\"\",VLOOKUP(AN1961,Sifranti!BY:BZ,2,FALSE)))","v":""},{"$f":"IF(C1961=\"\",\"\",VLOOKUP(C1961,Sifranti!P:R,2,FALSE))","v":""},"","",{"$f":"IF(C1961=\"\",\"\",VLOOKUP(C1961,Sifranti!P:R,3,FALSE))","v":""},{"$f":"IF(N1961=\"\",\"\",VLOOKUP(N1961,Sifranti!D:F,2,FALSE))","v":""},{"$f":"IF(AK1961=\"\",\"\",VLOOKUP(AK1961,Sifranti!V:Y,2,FALSE))","v":""},{"$f":"IF(AK1961=\"\",\"\",IF(VLOOKUP(AK1961,Sifranti!V:Y,3,FALSE)=\"\",\"\",VLOOKUP(AK1961,Sifranti!V:Y,3,FALSE)))","v":""},{"$f":"IF(AK1961=\"\",\"\",VLOOKUP(AK1961,Sifranti!V:Y,4,FALSE))","v":""}]
[{"$f":"IF(B1970=\"\",\"\",VLOOKUP(B1970,Sifranti!K:L,2,FALSE))","v":""},null,null,null,null,null,null,null,null,"",{"$f":"IF(L1970=\"\",\"\",VLOOKUP(L1970,Sifranti!A:B,2,FALSE))","v":""},null,{"$f":"IF(N1970=\"\",\"\",VLOOKUP(N1970,Sifranti!D:F,3,FALSE))","v":""},null,{"$f":"IF(P1970=\"\",\"\",VLOOKUP(P1970,Sifranti!H:I,2,FALSE))","v":""},null,null,null,null,null,null,null,null,null,null,null,null,null,null,null,null,null,null,null,null,null,null,null,null,null,{"$f":"IF(AN1970=\"\",\"\",IF(LEN(VLOOKUP(AN1970,Sifranti!BY:BZ,2,FALSE))=0,\"\",VLOOKUP(AN1970,Sifranti!BY:BZ,2,FALSE)))","v":""},{"$f":"IF(C1970=\"\",\"\",VLOOKUP(C1970,Sifranti!P:R,2,FALSE))","v":""},"","",{"$f":"IF(C1970=\"\",\"\",VLOOKUP(C1970,Sifranti!P:R,3,FALSE))","v":""},{"$f":"IF(N1970=\"\",\"\",VLOOKUP(N1970,Sifranti!D:F,2,FALSE))","v":""},{"$f":"IF(AK1970=\"\",\"\",VLOOKUP(AK1970,Sifranti!V:Y,2,FALSE))","v":""},{"$f":"IF(AK1970=\"\",\"\",IF(VLOOKUP(AK1970,Sifranti!V:Y,3,FALSE)=\"\",\"\",VLOOKUP(AK1970,Sifranti!V:Y,3,FALSE)))","v":""},{"$f":"IF(AK1970=\"\",\"\",VLOOKUP(AK1970,Sifranti!V:Y,4,FALSE))","v":""}]
[{"$f":"IF(B1976=\"\",\"\",VLOOKUP(B1976,Sifranti!K:L,2,FALSE))","v":""},null,null,null,null,null,null,null,null,"",{"$f":"IF(L1976=\"\",\"\",VLOOKUP(L1976,Sifranti!A:B,2,FALSE))","v":""},null,{"$f":"IF(N1976=\"\",\"\",VLOOKUP(N1976,Sifranti!D:F,3,FALSE))","v":""},null,{"$f":"IF(P1976=\"\",\"\",VLOOKUP(P1976,Sifranti!H:I,2,FALSE))","v":""},null,null,null,null,null,null,null,null,null,null,null,null,null,null,null,null,null,null,null,null,null,null,null,null,null,{"$f":"IF(AN1976=\"\",\"\",IF(LEN(VLOOKUP(AN1976,Sifranti!BY:BZ,2,FALSE))=0,\"\",VLOOKUP(AN1976,Sifranti!BY:BZ,2,FALSE)))","v":""},{"$f":"IF(C1976=\"\",\"\",VLOOKUP(C1976,Sifranti!P:R,2,FALSE))","v":""},"","",{"$f":"IF(C1976=\"\",\"\",VLOOKUP(C1976,Sifranti!P:R,3,FALSE))","v":""},{"$f":"IF(N1976=\"\",\"\",VLOOKUP(N1976,Sifranti!D:F,2,FALSE))","v":""},{"$f":"IF(AK1976=\"\",\"\",VLOOKUP(AK1976,Sifranti!V:Y,2,FALSE))","v":""},{"$f":"IF(AK1976=\"\",\"\",IF(VLOOKUP(AK1976,Sifranti!V:Y,3,FALSE)=\"\",\"\",VLOOKUP(AK1976,Sifranti!V:Y,3,FALSE)))","v":""},{"$f":"IF(AK1976=\"\",\"\",VLOOKUP(AK1976,Sifranti!V:Y,4,FALSE))","v":""}]
[{"$f":"IF(B1993=\"\",\"\",VLOOKUP(B1993,Sifranti!K:L,2,FALSE))","v":""},null,null,null,null,null,null,null,null,"",{"$f":"IF(L1993=\"\",\"\",VLOOKUP(L1993,Sifranti!A:B,2,FALSE))","v":""},null,{"$f":"IF(N1993=\"\",\"\",VLOOKUP(N1993,Sifranti!D:F,3,FALSE))","v":""},null,{"$f":"IF(P1993=\"\",\"\",VLOOKUP(P1993,Sifranti!H:I,2,FALSE))","v":""},null,null,null,null,null,null,null,null,null,null,null,null,null,null,null,null,null,null,null,null,null,null,null,null,null,{"$f":"IF(AN1993=\"\",\"\",IF(LEN(VLOOKUP(AN1993,Sifranti!BY:BZ,2,FALSE))=0,\"\",VLOOKUP(AN1993,Sifranti!BY:BZ,2,FALSE)))","v":""},{"$f":"IF(C1993=\"\",\"\",VLOOKUP(C1993,Sifranti!P:R,2,FALSE))","v":""},"","",{"$f":"IF(C1993=\"\",\"\",VLOOKUP(C1993,Sifranti!P:R,3,FALSE))","v":""},{"$f":"IF(N1993=\"\",\"\",VLOOKUP(N1993,Sifranti!D:F,2,FALSE))","v":""},{"$f":"IF(AK1993=\"\",\"\",VLOOKUP(AK1993,Sifranti!V:Y,2,FALSE))","v":""},{"$f":"IF(AK1993=\"\",\"\",IF(VLOOKUP(AK1993,Sifranti!V:Y,3,FALSE)=\"\",\"\",VLOOKUP(AK1993,Sifranti!V:Y,3,FALSE)))","v":""},{"$f":"IF(AK1993=\"\",\"\",VLOOKUP(AK1993,Sifranti!V:Y,4,FALSE))","v":""}]
[{"$f":"IF(B2003=\"\",\"\",VLOOKUP(B2003,Sifranti!K:L,2,FALSE))","v":""},null,null,null,null,null,null,null,null,"",{"$f":"IF(L2003=\"\",\"\",VLOOKUP(L2003,Sifranti!A:B,2,FALSE))","v":""},null,{"$f":"IF(N2003=\"\",\"\",VLOOKUP(N2003,Sifranti!D:F,3,FALSE))","v":""},null,{"$f":"IF(P2003=\"\",\"\",VLOOKUP(P2003,Sifranti!H:I,2,FALSE))","v":""},null,null,null,null,null,null,null,null,null,null,null,null,null,null,null,null,null,null,null,null,null,null,null,null,null,{"$f":"IF(AN2003=\"\",\"\",IF(LEN(VLOOKUP(AN2003,Sifranti!BY:BZ,2,FALSE))=0,\"\",VLOOKUP(AN2003,Sifranti!BY:BZ,2,FALSE)))","v":""},{"$f":"IF(C2003=\"\",\"\",VLOOKUP(C2003,Sifranti!P:R,2,FALSE))","v":""},"","",{"$f":"IF(C2003=\"\",\"\",VLOOKUP(C2003,Sifranti!P:R,3,FALSE))","v":""},{"$f":"IF(N2003=\"\",\"\",VLOOKUP(N2003,Sifranti!D:F,2,FALSE))","v":""},{"$f":"IF(AK2003=\"\",\"\",VLOOKUP(AK2003,Sifranti!V:Y,2,FALSE))","v":""},{"$f":"IF(AK2003=\"\",\"\",IF(VLOOKUP(AK2003,Sifranti!V:Y,3,FALSE)=\"\",\"\",VLOOKUP(AK2003,Sifranti!V:Y,3,FALSE)))","v":""},{"$f":"IF(AK2003=\"\",\"\",VLOOKUP(AK2003,Sifranti!V:Y,4,FALSE))","v":""}]
[{"$f":"IF(B2015=\"\",\"\",VLOOKUP(B2015,Sifranti!K:L,2,FALSE))","v":""},null,null,null,null,null,null,null,null,"",{"$f":"IF(L2015=\"\",\"\",VLOOKUP(L2015,Sifranti!A:B,2,FALSE))","v":""},null,{"$f":"IF(N2015=\"\",\"\",VLOOKUP(N2015,Sifranti!D:F,3,FALSE))","v":""},null,{"$f":"IF(P2015=\"\",\"\",VLOOKUP(P2015,Sifranti!H:I,2,FALSE))","v":""},null,null,null,null,null,null,null,null,null,null,null,null,null,null,null,null,null,null,null,null,null,null,null,null,null,{"$f":"IF(AN2015=\"\",\"\",IF(LEN(VLOOKUP(AN2015,Sifranti!BY:BZ,2,FALSE))=0,\"\",VLOOKUP(AN2015,Sifranti!BY:BZ,2,FALSE)))","v":""},{"$f":"IF(C2015=\"\",\"\",VLOOKUP(C2015,Sifranti!P:R,2,FALSE))","v":""},"","",{"$f":"IF(C2015=\"\",\"\",VLOOKUP(C2015,Sifranti!P:R,3,FALSE))","v":""},{"$f":"IF(N2015=\"\",\"\",VLOOKUP(N2015,Sifranti!D:F,2,FALSE))","v":""},{"$f":"IF(AK2015=\"\",\"\",VLOOKUP(AK2015,Sifranti!V:Y,2,FALSE))","v":""},{"$f":"IF(AK2015=\"\",\"\",IF(VLOOKUP(AK2015,Sifranti!V:Y,3,FALSE)=\"\",\"\",VLOOKUP(AK2015,Sifranti!V:Y,3,FALSE)))","v":""},{"$f":"IF(AK2015=\"\",\"\",VLOOKUP(AK2015,Sifranti!V:Y,4,FALSE))","v":""}]
[{"$f":"IF(B2025=\"\",\"\",VLOOKUP(B2025,Sifranti!K:L,2,FALSE))","v":""},null,null,null,null,null,null,null,null,"",{"$f":"IF(L2025=\"\",\"\",VLOOKUP(L2025,Sifranti!A:B,2,FALSE))","v":""},null,{"$f":"IF(N2025=\"\",\"\",VLOOKUP(N2025,Sifranti!D:F,3,FALSE))","v":""},null,{"$f":"IF(P2025=\"\",\"\",VLOOKUP(P2025,Sifranti!H:I,2,FALSE))","v":""},null,null,null,null,null,null,null,null,null,null,null,null,null,null,null,null,null,null,null,null,null,null,null,null,null,{"$f":"IF(AN2025=\"\",\"\",IF(LEN(VLOOKUP(AN2025,Sifranti!BY:BZ,2,FALSE))=0,\"\",VLOOKUP(AN2025,Sifranti!BY:BZ,2,FALSE)))","v":""},{"$f":"IF(C2025=\"\",\"\",VLOOKUP(C2025,Sifranti!P:R,2,FALSE))","v":""},"","",{"$f":"IF(C2025=\"\",\"\",VLOOKUP(C2025,Sifranti!P:R,3,FALSE))","v":""},{"$f":"IF(N2025=\"\",\"\",VLOOKUP(N2025,Sifranti!D:F,2,FALSE))","v":""},{"$f":"IF(AK2025=\"\",\"\",VLOOKUP(AK2025,Sifranti!V:Y,2,FALSE))","v":""},{"$f":"IF(AK2025=\"\",\"\",IF(VLOOKUP(AK2025,Sifranti!V:Y,3,FALSE)=\"\",\"\",VLOOKUP(AK2025,Sifranti!V:Y,3,FALSE)))","v":""},{"$f":"IF(AK2025=\"\",\"\",VLOOKUP(AK2025,Sifranti!V:Y,4,FALSE))","v":""}]
[{"$f":"IF(B2035=\"\",\"\",VLOOKUP(B2035,Sifranti!K:L,2,FALSE))","v":""},null,null,null,null,null,null,null,null,"",{"$f":"IF(L2035=\"\",\"\",VLOOKUP(L2035,Sifranti!A:B,2,FALSE))","v":""},null,{"$f":"IF(N2035=\"\",\"\",VLOOKUP(N2035,Sifranti!D:F,3,FALSE))","v":""},null,{"$f":"IF(P2035=\"\",\"\",VLOOKUP(P2035,Sifranti!H:I,2,FALSE))","v":""},null,null,null,null,null,null,null,null,null,null,null,null,null,null,null,null,null,null,null,null,null,null,null,null,null,{"$f":"IF(AN2035=\"\",\"\",IF(LEN(VLOOKUP(AN2035,Sifranti!BY:BZ,2,FALSE))=0,\"\",VLOOKUP(AN2035,Sifranti!BY:BZ,2,FALSE)))","v":""},{"$f":"IF(C2035=\"\",\"\",VLOOKUP(C2035,Sifranti!P:R,2,FALSE))","v":""},"","",{"$f":"IF(C2035=\"\",\"\",VLOOKUP(C2035,Sifranti!P:R,3,FALSE))","v":""},{"$f":"IF(N2035=\"\",\"\",VLOOKUP(N2035,Sifranti!D:F,2,FALSE))","v":""},{"$f":"IF(AK2035=\"\",\"\",VLOOKUP(AK2035,Sifranti!V:Y,2,FALSE))","v":""},{"$f":"IF(AK2035=\"\",\"\",IF(VLOOKUP(AK2035,Sifranti!V:Y,3,FALSE)=\"\",\"\",VLOOKUP(AK2035,Sifranti!V:Y,3,FALSE)))","v":""},{"$f":"IF(AK2035=\"\",\"\",VLOOKUP(AK2035,Sifranti!V:Y,4,FALSE))","v":""}]
[{"$f":"IF(B2041=\"\",\"\",VLOOKUP(B2041,Sifranti!K:L,2,FALSE))","v":""},null,null,null,null,null,null,null,null,"",{"$f":"IF(L2041=\"\",\"\",VLOOKUP(L2041,Sifranti!A:B,2,FALSE))","v":""},null,{"$f":"IF(N2041=\"\",\"\",VLOOKUP(N2041,Sifranti!D:F,3,FALSE))","v":""},null,{"$f":"IF(P2041=\"\",\"\",VLOOKUP(P2041,Sifranti!H:I,2,FALSE))","v":""},null,null,null,null,null,null,null,null,null,null,null,null,null,null,null,null,null,null,null,null,null,null,null,null,null,{"$f":"IF(AN2041=\"\",\"\",IF(LEN(VLOOKUP(AN2041,Sifranti!BY:BZ,2,FALSE))=0,\"\",VLOOKUP(AN2041,Sifranti!BY:BZ,2,FALSE)))","v":""},{"$f":"IF(C2041=\"\",\"\",VLOOKUP(C2041,Sifranti!P:R,2,FALSE))","v":""},"","",{"$f":"IF(C2041=\"\",\"\",VLOOKUP(C2041,Sifranti!P:R,3,FALSE))","v":""},{"$f":"IF(N2041=\"\",\"\",VLOOKUP(N2041,Sifranti!D:F,2,FALSE))","v":""},{"$f":"IF(AK2041=\"\",\"\",VLOOKUP(AK2041,Sifranti!V:Y,2,FALSE))","v":""},{"$f":"IF(AK2041=\"\",\"\",IF(VLOOKUP(AK2041,Sifranti!V:Y,3,FALSE)=\"\",\"\",VLOOKUP(AK2041,Sifranti!V:Y,3,FALSE)))","v":""},{"$f":"IF(AK2041=\"\",\"\",VLOOKUP(AK2041,Sifranti!V:Y,4,FALSE))","v":""}]
[{"$f":"IF(B2050=\"\",\"\",VLOOKUP(B2050,Sifranti!K:L,2,FALSE))","v":""},null,null,null,null,null,null,null,null,{"$f":"IF(H2050=\"\",\"\",YEAR(H2050))","v":""},{"$f":"IF(L2050=\"\",\"\",VLOOKUP(L2050,Sifranti!A:B,2,FALSE))","v":""},null,{"$f":"IF(N2050=\"\",\"\",VLOOKUP(N2050,Sifranti!D:F,3,FALSE))","v":""},null,{"$f":"IF(P2050=\"\",\"\",VLOOKUP(P2050,Sifranti!H:I,2,FALSE))","v":""},null,null,null,null,null,null,null,null,null,null,null,null,null,null,null,null,null,null,null,null,null,null,null,null,null,{"$f":"IF(AN2050=\"\",\"\",IF(LEN(VLOOKUP(AN2050,Sifranti!BY:BZ,2,FALSE))=0,\"\",VLOOKUP(AN2050,Sifranti!BY:BZ,2,FALSE)))","v":""},{"$f":"IF(C2050=\"\",\"\",VLOOKUP(C2050,Sifranti!P:R,2,FALSE))","v":""},{"$f":"IF(V2050>0,IF(AS2050=\"de minimis\",T2050/S2050*100,U2050/AD2050*100),\"\")","v":""},{"$f":"IF(AE2050>0,AE2050/U2050*100,\"\")","v":""},{"$f":"IF(C2050=\"\",\"\",VLOOKUP(C2050,Sifranti!P:R,3,FALSE))","v":""},{"$f":"IF(N2050=\"\",\"\",VLOOKUP(N2050,Sifranti!D:F,2,FALSE))","v":""},{"$f":"IF(AK2050=\"\",\"\",VLOOKUP(AK2050,Sifranti!V:Y,2,FALSE))","v":""},{"$f":"IF(AK2050=\"\",\"\",IF(VLOOKUP(AK2050,Sifranti!V:Y,3,FALSE)=\"\",\"\",VLOOKUP(AK2050,Sifranti!V:Y,3,FALSE)))","v":""},{"$f":"IF(AK2050=\"\",\"\",VLOOKUP(AK2050,Sifranti!V:Y,4,FALSE))","v":""}]
[{"$f":"IF(B2067=\"\",\"\",VLOOKUP(B2067,Sifranti!K:L,2,FALSE))","v":""},null,null,null,null,null,null,null,null,"",{"$f":"IF(L2067=\"\",\"\",VLOOKUP(L2067,Sifranti!A:B,2,FALSE))","v":""},null,{"$f":"IF(N2067=\"\",\"\",VLOOKUP(N2067,Sifranti!D:F,3,FALSE))","v":""},null,{"$f":"IF(P2067=\"\",\"\",VLOOKUP(P2067,Sifranti!H:I,2,FALSE))","v":""},null,null,null,null,null,null,null,null,null,null,null,null,null,null,null,null,null,null,null,null,null,null,null,null,null,{"$f":"IF(AN2067=\"\",\"\",IF(LEN(VLOOKUP(AN2067,Sifranti!BY:BZ,2,FALSE))=0,\"\",VLOOKUP(AN2067,Sifranti!BY:BZ,2,FALSE)))","v":""},{"$f":"IF(C2067=\"\",\"\",VLOOKUP(C2067,Sifranti!P:R,2,FALSE))","v":""},"","",{"$f":"IF(C2067=\"\",\"\",VLOOKUP(C2067,Sifranti!P:R,3,FALSE))","v":""},{"$f":"IF(N2067=\"\",\"\",VLOOKUP(N2067,Sifranti!D:F,2,FALSE))","v":""},{"$f":"IF(AK2067=\"\",\"\",VLOOKUP(AK2067,Sifranti!V:Y,2,FALSE))","v":""},{"$f":"IF(AK2067=\"\",\"\",IF(VLOOKUP(AK2067,Sifranti!V:Y,3,FALSE)=\"\",\"\",VLOOKUP(AK2067,Sifranti!V:Y,3,FALSE)))","v":""},{"$f":"IF(AK2067=\"\",\"\",VLOOKUP(AK2067,Sifranti!V:Y,4,FALSE))","v":""}]
[{"$f":"IF(B2073=\"\",\"\",VLOOKUP(B2073,Sifranti!K:L,2,FALSE))","v":""},null,null,null,null,null,null,null,null,"",{"$f":"IF(L2073=\"\",\"\",VLOOKUP(L2073,Sifranti!A:B,2,FALSE))","v":""},null,{"$f":"IF(N2073=\"\",\"\",VLOOKUP(N2073,Sifranti!D:F,3,FALSE))","v":""},null,{"$f":"IF(P2073=\"\",\"\",VLOOKUP(P2073,Sifranti!H:I,2,FALSE))","v":""},null,null,null,null,null,null,null,null,null,null,null,null,null,null,null,null,null,null,null,null,null,null,null,null,null,{"$f":"IF(AN2073=\"\",\"\",IF(LEN(VLOOKUP(AN2073,Sifranti!BY:BZ,2,FALSE))=0,\"\",VLOOKUP(AN2073,Sifranti!BY:BZ,2,FALSE)))","v":""},{"$f":"IF(C2073=\"\",\"\",VLOOKUP(C2073,Sifranti!P:R,2,FALSE))","v":""},"","",{"$f":"IF(C2073=\"\",\"\",VLOOKUP(C2073,Sifranti!P:R,3,FALSE))","v":""},{"$f":"IF(N2073=\"\",\"\",VLOOKUP(N2073,Sifranti!D:F,2,FALSE))","v":""},{"$f":"IF(AK2073=\"\",\"\",VLOOKUP(AK2073,Sifranti!V:Y,2,FALSE))","v":""},{"$f":"IF(AK2073=\"\",\"\",IF(VLOOKUP(AK2073,Sifranti!V:Y,3,FALSE)=\"\",\"\",VLOOKUP(AK2073,Sifranti!V:Y,3,FALSE)))","v":""},{"$f":"IF(AK2073=\"\",\"\",VLOOKUP(AK2073,Sifranti!V:Y,4,FALSE))","v":""}]
[{"$f":"IF(B2083=\"\",\"\",VLOOKUP(B2083,Sifranti!K:L,2,FALSE))","v":""},null,null,null,null,null,null,null,null,"",{"$f":"IF(L2083=\"\",\"\",VLOOKUP(L2083,Sifranti!A:B,2,FALSE))","v":""},null,{"$f":"IF(N2083=\"\",\"\",VLOOKUP(N2083,Sifranti!D:F,3,FALSE))","v":""},null,{"$f":"IF(P2083=\"\",\"\",VLOOKUP(P2083,Sifranti!H:I,2,FALSE))","v":""},null,null,null,null,null,null,null,null,null,null,null,null,null,null,null,null,null,null,null,null,null,null,null,null,null,{"$f":"IF(AN2083=\"\",\"\",IF(LEN(VLOOKUP(AN2083,Sifranti!BY:BZ,2,FALSE))=0,\"\",VLOOKUP(AN2083,Sifranti!BY:BZ,2,FALSE)))","v":""},{"$f":"IF(C2083=\"\",\"\",VLOOKUP(C2083,Sifranti!P:R,2,FALSE))","v":""},"","",{"$f":"IF(C2083=\"\",\"\",VLOOKUP(C2083,Sifranti!P:R,3,FALSE))","v":""},{"$f":"IF(N2083=\"\",\"\",VLOOKUP(N2083,Sifranti!D:F,2,FALSE))","v":""},{"$f":"IF(AK2083=\"\",\"\",VLOOKUP(AK2083,Sifranti!V:Y,2,FALSE))","v":""},{"$f":"IF(AK2083=\"\",\"\",IF(VLOOKUP(AK2083,Sifranti!V:Y,3,FALSE)=\"\",\"\",VLOOKUP(AK2083,Sifranti!V:Y,3,FALSE)))","v":""},{"$f":"IF(AK2083=\"\",\"\",VLOOKUP(AK2083,Sifranti!V:Y,4,FALSE))","v":""}]
[{"$f":"IF(B2099=\"\",\"\",VLOOKUP(B2099,Sifranti!K:L,2,FALSE))","v":""},null,null,null,null,null,null,null,null,"",{"$f":"IF(L2099=\"\",\"\",VLOOKUP(L2099,Sifranti!A:B,2,FALSE))","v":""},null,{"$f":"IF(N2099=\"\",\"\",VLOOKUP(N2099,Sifranti!D:F,3,FALSE))","v":""},null,{"$f":"IF(P2099=\"\",\"\",VLOOKUP(P2099,Sifranti!H:I,2,FALSE))","v":""},null,null,null,null,null,null,null,null,null,null,null,null,null,null,null,null,null,null,null,null,null,null,null,null,null,{"$f":"IF(AN2099=\"\",\"\",IF(LEN(VLOOKUP(AN2099,Sifranti!BY:BZ,2,FALSE))=0,\"\",VLOOKUP(AN2099,Sifranti!BY:BZ,2,FALSE)))","v":""},{"$f":"IF(C2099=\"\",\"\",VLOOKUP(C2099,Sifranti!P:R,2,FALSE))","v":""},"","",{"$f":"IF(C2099=\"\",\"\",VLOOKUP(C2099,Sifranti!P:R,3,FALSE))","v":""},{"$f":"IF(N2099=\"\",\"\",VLOOKUP(N2099,Sifranti!D:F,2,FALSE))","v":""},{"$f":"IF(AK2099=\"\",\"\",VLOOKUP(AK2099,Sifranti!V:Y,2,FALSE))","v":""},{"$f":"IF(AK2099=\"\",\"\",IF(VLOOKUP(AK2099,Sifranti!V:Y,3,FALSE)=\"\",\"\",VLOOKUP(AK2099,Sifranti!V:Y,3,FALSE)))","v":""},{"$f":"IF(AK2099=\"\",\"\",VLOOKUP(AK2099,Sifranti!V:Y,4,FALSE))","v":""}]
[{"$f":"IF(B2105=\"\",\"\",VLOOKUP(B2105,Sifranti!K:L,2,FALSE))","v":""},null,null,null,null,null,null,null,null,"",{"$f":"IF(L2105=\"\",\"\",VLOOKUP(L2105,Sifranti!A:B,2,FALSE))","v":""},null,{"$f":"IF(N2105=\"\",\"\",VLOOKUP(N2105,Sifranti!D:F,3,FALSE))","v":""},null,{"$f":"IF(P2105=\"\",\"\",VLOOKUP(P2105,Sifranti!H:I,2,FALSE))","v":""},null,null,null,null,null,null,null,null,null,null,null,null,null,null,null,null,null,null,null,null,null,null,null,null,null,{"$f":"IF(AN2105=\"\",\"\",IF(LEN(VLOOKUP(AN2105,Sifranti!BY:BZ,2,FALSE))=0,\"\",VLOOKUP(AN2105,Sifranti!BY:BZ,2,FALSE)))","v":""},{"$f":"IF(C2105=\"\",\"\",VLOOKUP(C2105,Sifranti!P:R,2,FALSE))","v":""},"","",{"$f":"IF(C2105=\"\",\"\",VLOOKUP(C2105,Sifranti!P:R,3,FALSE))","v":""},{"$f":"IF(N2105=\"\",\"\",VLOOKUP(N2105,Sifranti!D:F,2,FALSE))","v":""},{"$f":"IF(AK2105=\"\",\"\",VLOOKUP(AK2105,Sifranti!V:Y,2,FALSE))","v":""},{"$f":"IF(AK2105=\"\",\"\",IF(VLOOKUP(AK2105,Sifranti!V:Y,3,FALSE)=\"\",\"\",VLOOKUP(AK2105,Sifranti!V:Y,3,FALSE)))","v":""},{"$f":"IF(AK2105=\"\",\"\",VLOOKUP(AK2105,Sifranti!V:Y,4,FALSE))","v":""}]
[{"$f":"IF(B2115=\"\",\"\",VLOOKUP(B2115,Sifranti!K:L,2,FALSE))","v":""},null,null,null,null,null,null,null,null,"",{"$f":"IF(L2115=\"\",\"\",VLOOKUP(L2115,Sifranti!A:B,2,FALSE))","v":""},null,{"$f":"IF(N2115=\"\",\"\",VLOOKUP(N2115,Sifranti!D:F,3,FALSE))","v":""},null,{"$f":"IF(P2115=\"\",\"\",VLOOKUP(P2115,Sifranti!H:I,2,FALSE))","v":""},null,null,null,null,null,null,null,null,null,null,null,null,null,null,null,null,null,null,null,null,null,null,null,null,null,{"$f":"IF(AN2115=\"\",\"\",IF(LEN(VLOOKUP(AN2115,Sifranti!BY:BZ,2,FALSE))=0,\"\",VLOOKUP(AN2115,Sifranti!BY:BZ,2,FALSE)))","v":""},{"$f":"IF(C2115=\"\",\"\",VLOOKUP(C2115,Sifranti!P:R,2,FALSE))","v":""},"","",{"$f":"IF(C2115=\"\",\"\",VLOOKUP(C2115,Sifranti!P:R,3,FALSE))","v":""},{"$f":"IF(N2115=\"\",\"\",VLOOKUP(N2115,Sifranti!D:F,2,FALSE))","v":""},{"$f":"IF(AK2115=\"\",\"\",VLOOKUP(AK2115,Sifranti!V:Y,2,FALSE))","v":""},{"$f":"IF(AK2115=\"\",\"\",IF(VLOOKUP(AK2115,Sifranti!V:Y,3,FALSE)=\"\",\"\",VLOOKUP(AK2115,Sifranti!V:Y,3,FALSE)))","v":""},{"$f":"IF(AK2115=\"\",\"\",VLOOKUP(AK2115,Sifranti!V:Y,4,FALSE))","v":""}]
[{"$f":"IF(B2132=\"\",\"\",VLOOKUP(B2132,Sifranti!K:L,2,FALSE))","v":""},null,null,null,null,null,null,null,null,"",{"$f":"IF(L2132=\"\",\"\",VLOOKUP(L2132,Sifranti!A:B,2,FALSE))","v":""},null,{"$f":"IF(N2132=\"\",\"\",VLOOKUP(N2132,Sifranti!D:F,3,FALSE))","v":""},null,{"$f":"IF(P2132=\"\",\"\",VLOOKUP(P2132,Sifranti!H:I,2,FALSE))","v":""},null,null,null,null,null,null,null,null,null,null,null,null,null,null,null,null,null,null,null,null,null,null,null,null,null,{"$f":"IF(AN2132=\"\",\"\",IF(LEN(VLOOKUP(AN2132,Sifranti!BY:BZ,2,FALSE))=0,\"\",VLOOKUP(AN2132,Sifranti!BY:BZ,2,FALSE)))","v":""},{"$f":"IF(C2132=\"\",\"\",VLOOKUP(C2132,Sifranti!P:R,2,FALSE))","v":""},"","",{"$f":"IF(C2132=\"\",\"\",VLOOKUP(C2132,Sifranti!P:R,3,FALSE))","v":""},{"$f":"IF(N2132=\"\",\"\",VLOOKUP(N2132,Sifranti!D:F,2,FALSE))","v":""},{"$f":"IF(AK2132=\"\",\"\",VLOOKUP(AK2132,Sifranti!V:Y,2,FALSE))","v":""},{"$f":"IF(AK2132=\"\",\"\",IF(VLOOKUP(AK2132,Sifranti!V:Y,3,FALSE)=\"\",\"\",VLOOKUP(AK2132,Sifranti!V:Y,3,FALSE)))","v":""},{"$f":"IF(AK2132=\"\",\"\",VLOOKUP(AK2132,Sifranti!V:Y,4,FALSE))","v":""}]
[{"$f":"IF(B2144=\"\",\"\",VLOOKUP(B2144,Sifranti!K:L,2,FALSE))","v":""},null,null,null,null,null,null,null,null,"",{"$f":"IF(L2144=\"\",\"\",VLOOKUP(L2144,Sifranti!A:B,2,FALSE))","v":""},null,{"$f":"IF(N2144=\"\",\"\",VLOOKUP(N2144,Sifranti!D:F,3,FALSE))","v":""},null,{"$f":"IF(P2144=\"\",\"\",VLOOKUP(P2144,Sifranti!H:I,2,FALSE))","v":""},null,null,null,null,null,null,null,null,null,null,null,null,null,null,null,null,null,null,null,null,null,null,null,null,null,{"$f":"IF(AN2144=\"\",\"\",IF(LEN(VLOOKUP(AN2144,Sifranti!BY:BZ,2,FALSE))=0,\"\",VLOOKUP(AN2144,Sifranti!BY:BZ,2,FALSE)))","v":""},{"$f":"IF(C2144=\"\",\"\",VLOOKUP(C2144,Sifranti!P:R,2,FALSE))","v":""},"","",{"$f":"IF(C2144=\"\",\"\",VLOOKUP(C2144,Sifranti!P:R,3,FALSE))","v":""},{"$f":"IF(N2144=\"\",\"\",VLOOKUP(N2144,Sifranti!D:F,2,FALSE))","v":""},{"$f":"IF(AK2144=\"\",\"\",VLOOKUP(AK2144,Sifranti!V:Y,2,FALSE))","v":""},{"$f":"IF(AK2144=\"\",\"\",IF(VLOOKUP(AK2144,Sifranti!V:Y,3,FALSE)=\"\",\"\",VLOOKUP(AK2144,Sifranti!V:Y,3,FALSE)))","v":""},{"$f":"IF(AK2144=\"\",\"\",VLOOKUP(AK2144,Sifranti!V:Y,4,FALSE))","v":""}]
[{"$f":"IF(B2147=\"\",\"\",VLOOKUP(B2147,Sifranti!K:L,2,FALSE))","v":""},null,null,null,null,null,null,null,null,"",{"$f":"IF(L2147=\"\",\"\",VLOOKUP(L2147,Sifranti!A:B,2,FALSE))","v":""},null,{"$f":"IF(N2147=\"\",\"\",VLOOKUP(N2147,Sifranti!D:F,3,FALSE))","v":""},null,{"$f":"IF(P2147=\"\",\"\",VLOOKUP(P2147,Sifranti!H:I,2,FALSE))","v":""},null,null,null,null,null,null,null,null,null,null,null,null,null,null,null,null,null,null,null,null,null,null,null,null,null,{"$f":"IF(AN2147=\"\",\"\",IF(LEN(VLOOKUP(AN2147,Sifranti!BY:BZ,2,FALSE))=0,\"\",VLOOKUP(AN2147,Sifranti!BY:BZ,2,FALSE)))","v":""},{"$f":"IF(C2147=\"\",\"\",VLOOKUP(C2147,Sifranti!P:R,2,FALSE))","v":""},"","",{"$f":"IF(C2147=\"\",\"\",VLOOKUP(C2147,Sifranti!P:R,3,FALSE))","v":""},{"$f":"IF(N2147=\"\",\"\",VLOOKUP(N2147,Sifranti!D:F,2,FALSE))","v":""},{"$f":"IF(AK2147=\"\",\"\",VLOOKUP(AK2147,Sifranti!V:Y,2,FALSE))","v":""},{"$f":"IF(AK2147=\"\",\"\",IF(VLOOKUP(AK2147,Sifranti!V:Y,3,FALSE)=\"\",\"\",VLOOKUP(AK2147,Sifranti!V:Y,3,FALSE)))","v":""},{"$f":"IF(AK2147=\"\",\"\",VLOOKUP(AK2147,Sifranti!V:Y,4,FALSE))","v":""}]
[{"$f":"IF(B2164=\"\",\"\",VLOOKUP(B2164,Sifranti!K:L,2,FALSE))","v":""},null,null,null,null,null,null,null,null,"",{"$f":"IF(L2164=\"\",\"\",VLOOKUP(L2164,Sifranti!A:B,2,FALSE))","v":""},null,{"$f":"IF(N2164=\"\",\"\",VLOOKUP(N2164,Sifranti!D:F,3,FALSE))","v":""},null,{"$f":"IF(P2164=\"\",\"\",VLOOKUP(P2164,Sifranti!H:I,2,FALSE))","v":""},null,null,null,null,null,null,null,null,null,null,null,null,null,null,null,null,null,null,null,null,null,null,null,null,null,{"$f":"IF(AN2164=\"\",\"\",IF(LEN(VLOOKUP(AN2164,Sifranti!BY:BZ,2,FALSE))=0,\"\",VLOOKUP(AN2164,Sifranti!BY:BZ,2,FALSE)))","v":""},{"$f":"IF(C2164=\"\",\"\",VLOOKUP(C2164,Sifranti!P:R,2,FALSE))","v":""},"","",{"$f":"IF(C2164=\"\",\"\",VLOOKUP(C2164,Sifranti!P:R,3,FALSE))","v":""},{"$f":"IF(N2164=\"\",\"\",VLOOKUP(N2164,Sifranti!D:F,2,FALSE))","v":""},{"$f":"IF(AK2164=\"\",\"\",VLOOKUP(AK2164,Sifranti!V:Y,2,FALSE))","v":""},{"$f":"IF(AK2164=\"\",\"\",IF(VLOOKUP(AK2164,Sifranti!V:Y,3,FALSE)=\"\",\"\",VLOOKUP(AK2164,Sifranti!V:Y,3,FALSE)))","v":""},{"$f":"IF(AK2164=\"\",\"\",VLOOKUP(AK2164,Sifranti!V:Y,4,FALSE))","v":""}]
[{"$f":"IF(B2174=\"\",\"\",VLOOKUP(B2174,Sifranti!K:L,2,FALSE))","v":""},null,null,null,null,null,null,null,null,"",{"$f":"IF(L2174=\"\",\"\",VLOOKUP(L2174,Sifranti!A:B,2,FALSE))","v":""},null,{"$f":"IF(N2174=\"\",\"\",VLOOKUP(N2174,Sifranti!D:F,3,FALSE))","v":""},null,{"$f":"IF(P2174=\"\",\"\",VLOOKUP(P2174,Sifranti!H:I,2,FALSE))","v":""},null,null,null,null,null,null,null,null,null,null,null,null,null,null,null,null,null,null,null,null,null,null,null,null,null,{"$f":"IF(AN2174=\"\",\"\",IF(LEN(VLOOKUP(AN2174,Sifranti!BY:BZ,2,FALSE))=0,\"\",VLOOKUP(AN2174,Sifranti!BY:BZ,2,FALSE)))","v":""},{"$f":"IF(C2174=\"\",\"\",VLOOKUP(C2174,Sifranti!P:R,2,FALSE))","v":""},"","",{"$f":"IF(C2174=\"\",\"\",VLOOKUP(C2174,Sifranti!P:R,3,FALSE))","v":""},{"$f":"IF(N2174=\"\",\"\",VLOOKUP(N2174,Sifranti!D:F,2,FALSE))","v":""},{"$f":"IF(AK2174=\"\",\"\",VLOOKUP(AK2174,Sifranti!V:Y,2,FALSE))","v":""},{"$f":"IF(AK2174=\"\",\"\",IF(VLOOKUP(AK2174,Sifranti!V:Y,3,FALSE)=\"\",\"\",VLOOKUP(AK2174,Sifranti!V:Y,3,FALSE)))","v":""},{"$f":"IF(AK2174=\"\",\"\",VLOOKUP(AK2174,Sifranti!V:Y,4,FALSE))","v":""}]
[{"$f":"IF(B2183=\"\",\"\",VLOOKUP(B2183,Sifranti!K:L,2,FALSE))","v":""},null,null,null,null,null,null,null,null,"",{"$f":"IF(L2183=\"\",\"\",VLOOKUP(L2183,Sifranti!A:B,2,FALSE))","v":""},null,{"$f":"IF(N2183=\"\",\"\",VLOOKUP(N2183,Sifranti!D:F,3,FALSE))","v":""},null,{"$f":"IF(P2183=\"\",\"\",VLOOKUP(P2183,Sifranti!H:I,2,FALSE))","v":""},null,null,null,null,null,null,null,null,null,null,null,null,null,null,null,null,null,null,null,null,null,null,null,null,null,{"$f":"IF(AN2183=\"\",\"\",IF(LEN(VLOOKUP(AN2183,Sifranti!BY:BZ,2,FALSE))=0,\"\",VLOOKUP(AN2183,Sifranti!BY:BZ,2,FALSE)))","v":""},{"$f":"IF(C2183=\"\",\"\",VLOOKUP(C2183,Sifranti!P:R,2,FALSE))","v":""},"","",{"$f":"IF(C2183=\"\",\"\",VLOOKUP(C2183,Sifranti!P:R,3,FALSE))","v":""},{"$f":"IF(N2183=\"\",\"\",VLOOKUP(N2183,Sifranti!D:F,2,FALSE))","v":""},{"$f":"IF(AK2183=\"\",\"\",VLOOKUP(AK2183,Sifranti!V:Y,2,FALSE))","v":""},{"$f":"IF(AK2183=\"\",\"\",IF(VLOOKUP(AK2183,Sifranti!V:Y,3,FALSE)=\"\",\"\",VLOOKUP(AK2183,Sifranti!V:Y,3,FALSE)))","v":""},{"$f":"IF(AK2183=\"\",\"\",VLOOKUP(AK2183,Sifranti!V:Y,4,FALSE))","v":""}]
[{"$f":"IF(B2196=\"\",\"\",VLOOKUP(B2196,Sifranti!K:L,2,FALSE))","v":""},null,null,null,null,null,null,null,null,"",{"$f":"IF(L2196=\"\",\"\",VLOOKUP(L2196,Sifranti!A:B,2,FALSE))","v":""},null,{"$f":"IF(N2196=\"\",\"\",VLOOKUP(N2196,Sifranti!D:F,3,FALSE))","v":""},null,{"$f":"IF(P2196=\"\",\"\",VLOOKUP(P2196,Sifranti!H:I,2,FALSE))","v":""},null,null,null,null,null,null,null,null,null,null,null,null,null,null,null,null,null,null,null,null,null,null,null,null,null,{"$f":"IF(AN2196=\"\",\"\",IF(LEN(VLOOKUP(AN2196,Sifranti!BY:BZ,2,FALSE))=0,\"\",VLOOKUP(AN2196,Sifranti!BY:BZ,2,FALSE)))","v":""},{"$f":"IF(C2196=\"\",\"\",VLOOKUP(C2196,Sifranti!P:R,2,FALSE))","v":""},"","",{"$f":"IF(C2196=\"\",\"\",VLOOKUP(C2196,Sifranti!P:R,3,FALSE))","v":""},{"$f":"IF(N2196=\"\",\"\",VLOOKUP(N2196,Sifranti!D:F,2,FALSE))","v":""},{"$f":"IF(AK2196=\"\",\"\",VLOOKUP(AK2196,Sifranti!V:Y,2,FALSE))","v":""},{"$f":"IF(AK2196=\"\",\"\",IF(VLOOKUP(AK2196,Sifranti!V:Y,3,FALSE)=\"\",\"\",VLOOKUP(AK2196,Sifranti!V:Y,3,FALSE)))","v":""},{"$f":"IF(AK2196=\"\",\"\",VLOOKUP(AK2196,Sifranti!V:Y,4,FALSE))","v":""}]
[{"$f":"IF(B2206=\"\",\"\",VLOOKUP(B2206,Sifranti!K:L,2,FALSE))","v":""},null,null,null,null,null,null,null,null,"",{"$f":"IF(L2206=\"\",\"\",VLOOKUP(L2206,Sifranti!A:B,2,FALSE))","v":""},null,{"$f":"IF(N2206=\"\",\"\",VLOOKUP(N2206,Sifranti!D:F,3,FALSE))","v":""},null,{"$f":"IF(P2206=\"\",\"\",VLOOKUP(P2206,Sifranti!H:I,2,FALSE))","v":""},null,null,null,null,null,null,null,null,null,null,null,null,null,null,null,null,null,null,null,null,null,null,null,null,null,{"$f":"IF(AN2206=\"\",\"\",IF(LEN(VLOOKUP(AN2206,Sifranti!BY:BZ,2,FALSE))=0,\"\",VLOOKUP(AN2206,Sifranti!BY:BZ,2,FALSE)))","v":""},{"$f":"IF(C2206=\"\",\"\",VLOOKUP(C2206,Sifranti!P:R,2,FALSE))","v":""},"","",{"$f":"IF(C2206=\"\",\"\",VLOOKUP(C2206,Sifranti!P:R,3,FALSE))","v":""},{"$f":"IF(N2206=\"\",\"\",VLOOKUP(N2206,Sifranti!D:F,2,FALSE))","v":""},{"$f":"IF(AK2206=\"\",\"\",VLOOKUP(AK2206,Sifranti!V:Y,2,FALSE))","v":""},{"$f":"IF(AK2206=\"\",\"\",IF(VLOOKUP(AK2206,Sifranti!V:Y,3,FALSE)=\"\",\"\",VLOOKUP(AK2206,Sifranti!V:Y,3,FALSE)))","v":""},{"$f":"IF(AK2206=\"\",\"\",VLOOKUP(AK2206,Sifranti!V:Y,4,FALSE))","v":""}]
[{"$f":"IF(B2212=\"\",\"\",VLOOKUP(B2212,Sifranti!K:L,2,FALSE))","v":""},null,null,null,null,null,null,null,null,"",{"$f":"IF(L2212=\"\",\"\",VLOOKUP(L2212,Sifranti!A:B,2,FALSE))","v":""},null,{"$f":"IF(N2212=\"\",\"\",VLOOKUP(N2212,Sifranti!D:F,3,FALSE))","v":""},null,{"$f":"IF(P2212=\"\",\"\",VLOOKUP(P2212,Sifranti!H:I,2,FALSE))","v":""},null,null,null,null,null,null,null,null,null,null,null,null,null,null,null,null,null,null,null,null,null,null,null,null,null,{"$f":"IF(AN2212=\"\",\"\",IF(LEN(VLOOKUP(AN2212,Sifranti!BY:BZ,2,FALSE))=0,\"\",VLOOKUP(AN2212,Sifranti!BY:BZ,2,FALSE)))","v":""},{"$f":"IF(C2212=\"\",\"\",VLOOKUP(C2212,Sifranti!P:R,2,FALSE))","v":""},"","",{"$f":"IF(C2212=\"\",\"\",VLOOKUP(C2212,Sifranti!P:R,3,FALSE))","v":""},{"$f":"IF(N2212=\"\",\"\",VLOOKUP(N2212,Sifranti!D:F,2,FALSE))","v":""},{"$f":"IF(AK2212=\"\",\"\",VLOOKUP(AK2212,Sifranti!V:Y,2,FALSE))","v":""},{"$f":"IF(AK2212=\"\",\"\",IF(VLOOKUP(AK2212,Sifranti!V:Y,3,FALSE)=\"\",\"\",VLOOKUP(AK2212,Sifranti!V:Y,3,FALSE)))","v":""},{"$f":"IF(AK2212=\"\",\"\",VLOOKUP(AK2212,Sifranti!V:Y,4,FALSE))","v":""}]
[{"$f":"IF(B2228=\"\",\"\",VLOOKUP(B2228,Sifranti!K:L,2,FALSE))","v":""},null,null,null,null,null,null,null,null,"",{"$f":"IF(L2228=\"\",\"\",VLOOKUP(L2228,Sifranti!A:B,2,FALSE))","v":""},null,{"$f":"IF(N2228=\"\",\"\",VLOOKUP(N2228,Sifranti!D:F,3,FALSE))","v":""},null,{"$f":"IF(P2228=\"\",\"\",VLOOKUP(P2228,Sifranti!H:I,2,FALSE))","v":""},null,null,null,null,null,null,null,null,null,null,null,null,null,null,null,null,null,null,null,null,null,null,null,null,null,{"$f":"IF(AN2228=\"\",\"\",IF(LEN(VLOOKUP(AN2228,Sifranti!BY:BZ,2,FALSE))=0,\"\",VLOOKUP(AN2228,Sifranti!BY:BZ,2,FALSE)))","v":""},{"$f":"IF(C2228=\"\",\"\",VLOOKUP(C2228,Sifranti!P:R,2,FALSE))","v":""},"","",{"$f":"IF(C2228=\"\",\"\",VLOOKUP(C2228,Sifranti!P:R,3,FALSE))","v":""},{"$f":"IF(N2228=\"\",\"\",VLOOKUP(N2228,Sifranti!D:F,2,FALSE))","v":""},{"$f":"IF(AK2228=\"\",\"\",VLOOKUP(AK2228,Sifranti!V:Y,2,FALSE))","v":""},{"$f":"IF(AK2228=\"\",\"\",IF(VLOOKUP(AK2228,Sifranti!V:Y,3,FALSE)=\"\",\"\",VLOOKUP(AK2228,Sifranti!V:Y,3,FALSE)))","v":""},{"$f":"IF(AK2228=\"\",\"\",VLOOKUP(AK2228,Sifranti!V:Y,4,FALSE))","v":""}]
[{"$f":"IF(B2238=\"\",\"\",VLOOKUP(B2238,Sifranti!K:L,2,FALSE))","v":""},null,null,null,null,null,null,null,null,"",{"$f":"IF(L2238=\"\",\"\",VLOOKUP(L2238,Sifranti!A:B,2,FALSE))","v":""},null,{"$f":"IF(N2238=\"\",\"\",VLOOKUP(N2238,Sifranti!D:F,3,FALSE))","v":""},null,{"$f":"IF(P2238=\"\",\"\",VLOOKUP(P2238,Sifranti!H:I,2,FALSE))","v":""},null,null,null,null,null,null,null,null,null,null,null,null,null,null,null,null,null,null,null,null,null,null,null,null,null,{"$f":"IF(AN2238=\"\",\"\",IF(LEN(VLOOKUP(AN2238,Sifranti!BY:BZ,2,FALSE))=0,\"\",VLOOKUP(AN2238,Sifranti!BY:BZ,2,FALSE)))","v":""},{"$f":"IF(C2238=\"\",\"\",VLOOKUP(C2238,Sifranti!P:R,2,FALSE))","v":""},"","",{"$f":"IF(C2238=\"\",\"\",VLOOKUP(C2238,Sifranti!P:R,3,FALSE))","v":""},{"$f":"IF(N2238=\"\",\"\",VLOOKUP(N2238,Sifranti!D:F,2,FALSE))","v":""},{"$f":"IF(AK2238=\"\",\"\",VLOOKUP(AK2238,Sifranti!V:Y,2,FALSE))","v":""},{"$f":"IF(AK2238=\"\",\"\",IF(VLOOKUP(AK2238,Sifranti!V:Y,3,FALSE)=\"\",\"\",VLOOKUP(AK2238,Sifranti!V:Y,3,FALSE)))","v":""},{"$f":"IF(AK2238=\"\",\"\",VLOOKUP(AK2238,Sifranti!V:Y,4,FALSE))","v":""}]
[{"$f":"IF(B2244=\"\",\"\",VLOOKUP(B2244,Sifranti!K:L,2,FALSE))","v":""},null,null,null,null,null,null,null,null,"",{"$f":"IF(L2244=\"\",\"\",VLOOKUP(L2244,Sifranti!A:B,2,FALSE))","v":""},null,{"$f":"IF(N2244=\"\",\"\",VLOOKUP(N2244,Sifranti!D:F,3,FALSE))","v":""},null,{"$f":"IF(P2244=\"\",\"\",VLOOKUP(P2244,Sifranti!H:I,2,FALSE))","v":""},null,null,null,null,null,null,null,null,null,null,null,null,null,null,null,null,null,null,null,null,null,null,null,null,null,{"$f":"IF(AN2244=\"\",\"\",IF(LEN(VLOOKUP(AN2244,Sifranti!BY:BZ,2,FALSE))=0,\"\",VLOOKUP(AN2244,Sifranti!BY:BZ,2,FALSE)))","v":""},{"$f":"IF(C2244=\"\",\"\",VLOOKUP(C2244,Sifranti!P:R,2,FALSE))","v":""},"","",{"$f":"IF(C2244=\"\",\"\",VLOOKUP(C2244,Sifranti!P:R,3,FALSE))","v":""},{"$f":"IF(N2244=\"\",\"\",VLOOKUP(N2244,Sifranti!D:F,2,FALSE))","v":""},{"$f":"IF(AK2244=\"\",\"\",VLOOKUP(AK2244,Sifranti!V:Y,2,FALSE))","v":""},{"$f":"IF(AK2244=\"\",\"\",IF(VLOOKUP(AK2244,Sifranti!V:Y,3,FALSE)=\"\",\"\",VLOOKUP(AK2244,Sifranti!V:Y,3,FALSE)))","v":""},{"$f":"IF(AK2244=\"\",\"\",VLOOKUP(AK2244,Sifranti!V:Y,4,FALSE))","v":""}]
[{"$f":"IF(B2254=\"\",\"\",VLOOKUP(B2254,Sifranti!K:L,2,FALSE))","v":""},null,null,null,null,null,null,null,null,"",{"$f":"IF(L2254=\"\",\"\",VLOOKUP(L2254,Sifranti!A:B,2,FALSE))","v":""},null,{"$f":"IF(N2254=\"\",\"\",VLOOKUP(N2254,Sifranti!D:F,3,FALSE))","v":""},null,{"$f":"IF(P2254=\"\",\"\",VLOOKUP(P2254,Sifranti!H:I,2,FALSE))","v":""},null,null,null,null,null,null,null,null,null,null,null,null,null,null,null,null,null,null,null,null,null,null,null,null,null,{"$f":"IF(AN2254=\"\",\"\",IF(LEN(VLOOKUP(AN2254,Sifranti!BY:BZ,2,FALSE))=0,\"\",VLOOKUP(AN2254,Sifranti!BY:BZ,2,FALSE)))","v":""},{"$f":"IF(C2254=\"\",\"\",VLOOKUP(C2254,Sifranti!P:R,2,FALSE))","v":""},"","",{"$f":"IF(C2254=\"\",\"\",VLOOKUP(C2254,Sifranti!P:R,3,FALSE))","v":""},{"$f":"IF(N2254=\"\",\"\",VLOOKUP(N2254,Sifranti!D:F,2,FALSE))","v":""},{"$f":"IF(AK2254=\"\",\"\",VLOOKUP(AK2254,Sifranti!V:Y,2,FALSE))","v":""},{"$f":"IF(AK2254=\"\",\"\",IF(VLOOKUP(AK2254,Sifranti!V:Y,3,FALSE)=\"\",\"\",VLOOKUP(AK2254,Sifranti!V:Y,3,FALSE)))","v":""},{"$f":"IF(AK2254=\"\",\"\",VLOOKUP(AK2254,Sifranti!V:Y,4,FALSE))","v":""}]
[{"$f":"IF(B2267=\"\",\"\",VLOOKUP(B2267,Sifranti!K:L,2,FALSE))","v":""},null,null,null,null,null,null,null,null,"",{"$f":"IF(L2267=\"\",\"\",VLOOKUP(L2267,Sifranti!A:B,2,FALSE))","v":""},null,{"$f":"IF(N2267=\"\",\"\",VLOOKUP(N2267,Sifranti!D:F,3,FALSE))","v":""},null,{"$f":"IF(P2267=\"\",\"\",VLOOKUP(P2267,Sifranti!H:I,2,FALSE))","v":""},null,null,null,null,null,null,null,null,null,null,null,null,null,null,null,null,null,null,null,null,null,null,null,null,null,{"$f":"IF(AN2267=\"\",\"\",IF(LEN(VLOOKUP(AN2267,Sifranti!BY:BZ,2,FALSE))=0,\"\",VLOOKUP(AN2267,Sifranti!BY:BZ,2,FALSE)))","v":""},{"$f":"IF(C2267=\"\",\"\",VLOOKUP(C2267,Sifranti!P:R,2,FALSE))","v":""},"","",{"$f":"IF(C2267=\"\",\"\",VLOOKUP(C2267,Sifranti!P:R,3,FALSE))","v":""},{"$f":"IF(N2267=\"\",\"\",VLOOKUP(N2267,Sifranti!D:F,2,FALSE))","v":""},{"$f":"IF(AK2267=\"\",\"\",VLOOKUP(AK2267,Sifranti!V:Y,2,FALSE))","v":""},{"$f":"IF(AK2267=\"\",\"\",IF(VLOOKUP(AK2267,Sifranti!V:Y,3,FALSE)=\"\",\"\",VLOOKUP(AK2267,Sifranti!V:Y,3,FALSE)))","v":""},{"$f":"IF(AK2267=\"\",\"\",VLOOKUP(AK2267,Sifranti!V:Y,4,FALSE))","v":""}]
[{"$f":"IF(B2280=\"\",\"\",VLOOKUP(B2280,Sifranti!K:L,2,FALSE))","v":""},null,null,null,null,null,null,null,null,"",{"$f":"IF(L2280=\"\",\"\",VLOOKUP(L2280,Sifranti!A:B,2,FALSE))","v":""},null,{"$f":"IF(N2280=\"\",\"\",VLOOKUP(N2280,Sifranti!D:F,3,FALSE))","v":""},null,{"$f":"IF(P2280=\"\",\"\",VLOOKUP(P2280,Sifranti!H:I,2,FALSE))","v":""},null,null,null,null,null,null,null,null,null,null,null,null,null,null,null,null,null,null,null,null,null,null,null,null,null,{"$f":"IF(AN2280=\"\",\"\",IF(LEN(VLOOKUP(AN2280,Sifranti!BY:BZ,2,FALSE))=0,\"\",VLOOKUP(AN2280,Sifranti!BY:BZ,2,FALSE)))","v":""},{"$f":"IF(C2280=\"\",\"\",VLOOKUP(C2280,Sifranti!P:R,2,FALSE))","v":""},"","",{"$f":"IF(C2280=\"\",\"\",VLOOKUP(C2280,Sifranti!P:R,3,FALSE))","v":""},{"$f":"IF(N2280=\"\",\"\",VLOOKUP(N2280,Sifranti!D:F,2,FALSE))","v":""},{"$f":"IF(AK2280=\"\",\"\",VLOOKUP(AK2280,Sifranti!V:Y,2,FALSE))","v":""},{"$f":"IF(AK2280=\"\",\"\",IF(VLOOKUP(AK2280,Sifranti!V:Y,3,FALSE)=\"\",\"\",VLOOKUP(AK2280,Sifranti!V:Y,3,FALSE)))","v":""},{"$f":"IF(AK2280=\"\",\"\",VLOOKUP(AK2280,Sifranti!V:Y,4,FALSE))","v":""}]
[{"$f":"IF(B2286=\"\",\"\",VLOOKUP(B2286,Sifranti!K:L,2,FALSE))","v":""},null,null,null,null,null,null,null,null,"",{"$f":"IF(L2286=\"\",\"\",VLOOKUP(L2286,Sifranti!A:B,2,FALSE))","v":""},null,{"$f":"IF(N2286=\"\",\"\",VLOOKUP(N2286,Sifranti!D:F,3,FALSE))","v":""},null,{"$f":"IF(P2286=\"\",\"\",VLOOKUP(P2286,Sifranti!H:I,2,FALSE))","v":""},null,null,null,null,null,null,null,null,null,null,null,null,null,null,null,null,null,null,null,null,null,null,null,null,null,{"$f":"IF(AN2286=\"\",\"\",IF(LEN(VLOOKUP(AN2286,Sifranti!BY:BZ,2,FALSE))=0,\"\",VLOOKUP(AN2286,Sifranti!BY:BZ,2,FALSE)))","v":""},{"$f":"IF(C2286=\"\",\"\",VLOOKUP(C2286,Sifranti!P:R,2,FALSE))","v":""},"","",{"$f":"IF(C2286=\"\",\"\",VLOOKUP(C2286,Sifranti!P:R,3,FALSE))","v":""},{"$f":"IF(N2286=\"\",\"\",VLOOKUP(N2286,Sifranti!D:F,2,FALSE))","v":""},{"$f":"IF(AK2286=\"\",\"\",VLOOKUP(AK2286,Sifranti!V:Y,2,FALSE))","v":""},{"$f":"IF(AK2286=\"\",\"\",IF(VLOOKUP(AK2286,Sifranti!V:Y,3,FALSE)=\"\",\"\",VLOOKUP(AK2286,Sifranti!V:Y,3,FALSE)))","v":""},{"$f":"IF(AK2286=\"\",\"\",VLOOKUP(AK2286,Sifranti!V:Y,4,FALSE))","v":""}]
[{"$f":"IF(B2303=\"\",\"\",VLOOKUP(B2303,Sifranti!K:L,2,FALSE))","v":""},null,null,null,null,null,null,null,null,"",{"$f":"IF(L2303=\"\",\"\",VLOOKUP(L2303,Sifranti!A:B,2,FALSE))","v":""},null,{"$f":"IF(N2303=\"\",\"\",VLOOKUP(N2303,Sifranti!D:F,3,FALSE))","v":""},null,{"$f":"IF(P2303=\"\",\"\",VLOOKUP(P2303,Sifranti!H:I,2,FALSE))","v":""},null,null,null,null,null,null,null,null,null,null,null,null,null,null,null,null,null,null,null,null,null,null,null,null,null,{"$f":"IF(AN2303=\"\",\"\",IF(LEN(VLOOKUP(AN2303,Sifranti!BY:BZ,2,FALSE))=0,\"\",VLOOKUP(AN2303,Sifranti!BY:BZ,2,FALSE)))","v":""},{"$f":"IF(C2303=\"\",\"\",VLOOKUP(C2303,Sifranti!P:R,2,FALSE))","v":""},"","",{"$f":"IF(C2303=\"\",\"\",VLOOKUP(C2303,Sifranti!P:R,3,FALSE))","v":""},{"$f":"IF(N2303=\"\",\"\",VLOOKUP(N2303,Sifranti!D:F,2,FALSE))","v":""},{"$f":"IF(AK2303=\"\",\"\",VLOOKUP(AK2303,Sifranti!V:Y,2,FALSE))","v":""},{"$f":"IF(AK2303=\"\",\"\",IF(VLOOKUP(AK2303,Sifranti!V:Y,3,FALSE)=\"\",\"\",VLOOKUP(AK2303,Sifranti!V:Y,3,FALSE)))","v":""},{"$f":"IF(AK2303=\"\",\"\",VLOOKUP(AK2303,Sifranti!V:Y,4,FALSE))","v":""}]
[{"$f":"IF(B2312=\"\",\"\",VLOOKUP(B2312,Sifranti!K:L,2,FALSE))","v":""},null,null,null,null,null,null,null,null,"",{"$f":"IF(L2312=\"\",\"\",VLOOKUP(L2312,Sifranti!A:B,2,FALSE))","v":""},null,{"$f":"IF(N2312=\"\",\"\",VLOOKUP(N2312,Sifranti!D:F,3,FALSE))","v":""},null,{"$f":"IF(P2312=\"\",\"\",VLOOKUP(P2312,Sifranti!H:I,2,FALSE))","v":""},null,null,null,null,null,null,null,null,null,null,null,null,null,null,null,null,null,null,null,null,null,null,null,null,null,{"$f":"IF(AN2312=\"\",\"\",IF(LEN(VLOOKUP(AN2312,Sifranti!BY:BZ,2,FALSE))=0,\"\",VLOOKUP(AN2312,Sifranti!BY:BZ,2,FALSE)))","v":""},{"$f":"IF(C2312=\"\",\"\",VLOOKUP(C2312,Sifranti!P:R,2,FALSE))","v":""},"","",{"$f":"IF(C2312=\"\",\"\",VLOOKUP(C2312,Sifranti!P:R,3,FALSE))","v":""},{"$f":"IF(N2312=\"\",\"\",VLOOKUP(N2312,Sifranti!D:F,2,FALSE))","v":""},{"$f":"IF(AK2312=\"\",\"\",VLOOKUP(AK2312,Sifranti!V:Y,2,FALSE))","v":""},{"$f":"IF(AK2312=\"\",\"\",IF(VLOOKUP(AK2312,Sifranti!V:Y,3,FALSE)=\"\",\"\",VLOOKUP(AK2312,Sifranti!V:Y,3,FALSE)))","v":""},{"$f":"IF(AK2312=\"\",\"\",VLOOKUP(AK2312,Sifranti!V:Y,4,FALSE))","v":""}]
[{"$f":"IF(B2318=\"\",\"\",VLOOKUP(B2318,Sifranti!K:L,2,FALSE))","v":""},null,null,null,null,null,null,null,null,"",{"$f":"IF(L2318=\"\",\"\",VLOOKUP(L2318,Sifranti!A:B,2,FALSE))","v":""},null,{"$f":"IF(N2318=\"\",\"\",VLOOKUP(N2318,Sifranti!D:F,3,FALSE))","v":""},null,{"$f":"IF(P2318=\"\",\"\",VLOOKUP(P2318,Sifranti!H:I,2,FALSE))","v":""},null,null,null,null,null,null,null,null,null,null,null,null,null,null,null,null,null,null,null,null,null,null,null,null,null,{"$f":"IF(AN2318=\"\",\"\",IF(LEN(VLOOKUP(AN2318,Sifranti!BY:BZ,2,FALSE))=0,\"\",VLOOKUP(AN2318,Sifranti!BY:BZ,2,FALSE)))","v":""},{"$f":"IF(C2318=\"\",\"\",VLOOKUP(C2318,Sifranti!P:R,2,FALSE))","v":""},"","",{"$f":"IF(C2318=\"\",\"\",VLOOKUP(C2318,Sifranti!P:R,3,FALSE))","v":""},{"$f":"IF(N2318=\"\",\"\",VLOOKUP(N2318,Sifranti!D:F,2,FALSE))","v":""},{"$f":"IF(AK2318=\"\",\"\",VLOOKUP(AK2318,Sifranti!V:Y,2,FALSE))","v":""},{"$f":"IF(AK2318=\"\",\"\",IF(VLOOKUP(AK2318,Sifranti!V:Y,3,FALSE)=\"\",\"\",VLOOKUP(AK2318,Sifranti!V:Y,3,FALSE)))","v":""},{"$f":"IF(AK2318=\"\",\"\",VLOOKUP(AK2318,Sifranti!V:Y,4,FALSE))","v":""}]
[{"$f":"IF(B2335=\"\",\"\",VLOOKUP(B2335,Sifranti!K:L,2,FALSE))","v":""},null,null,null,null,null,null,null,null,"",{"$f":"IF(L2335=\"\",\"\",VLOOKUP(L2335,Sifranti!A:B,2,FALSE))","v":""},null,{"$f":"IF(N2335=\"\",\"\",VLOOKUP(N2335,Sifranti!D:F,3,FALSE))","v":""},null,{"$f":"IF(P2335=\"\",\"\",VLOOKUP(P2335,Sifranti!H:I,2,FALSE))","v":""},null,null,null,null,null,null,null,null,null,null,null,null,null,null,null,null,null,null,null,null,null,null,null,null,null,{"$f":"IF(AN2335=\"\",\"\",IF(LEN(VLOOKUP(AN2335,Sifranti!BY:BZ,2,FALSE))=0,\"\",VLOOKUP(AN2335,Sifranti!BY:BZ,2,FALSE)))","v":""},{"$f":"IF(C2335=\"\",\"\",VLOOKUP(C2335,Sifranti!P:R,2,FALSE))","v":""},"","",{"$f":"IF(C2335=\"\",\"\",VLOOKUP(C2335,Sifranti!P:R,3,FALSE))","v":""},{"$f":"IF(N2335=\"\",\"\",VLOOKUP(N2335,Sifranti!D:F,2,FALSE))","v":""},{"$f":"IF(AK2335=\"\",\"\",VLOOKUP(AK2335,Sifranti!V:Y,2,FALSE))","v":""},{"$f":"IF(AK2335=\"\",\"\",IF(VLOOKUP(AK2335,Sifranti!V:Y,3,FALSE)=\"\",\"\",VLOOKUP(AK2335,Sifranti!V:Y,3,FALSE)))","v":""},{"$f":"IF(AK2335=\"\",\"\",VLOOKUP(AK2335,Sifranti!V:Y,4,FALSE))","v":""}]
[{"$f":"IF(B2345=\"\",\"\",VLOOKUP(B2345,Sifranti!K:L,2,FALSE))","v":""},null,null,null,null,null,null,null,null,"",{"$f":"IF(L2345=\"\",\"\",VLOOKUP(L2345,Sifranti!A:B,2,FALSE))","v":""},null,{"$f":"IF(N2345=\"\",\"\",VLOOKUP(N2345,Sifranti!D:F,3,FALSE))","v":""},null,{"$f":"IF(P2345=\"\",\"\",VLOOKUP(P2345,Sifranti!H:I,2,FALSE))","v":""},null,null,null,null,null,null,null,null,null,null,null,null,null,null,null,null,null,null,null,null,null,null,null,null,null,{"$f":"IF(AN2345=\"\",\"\",IF(LEN(VLOOKUP(AN2345,Sifranti!BY:BZ,2,FALSE))=0,\"\",VLOOKUP(AN2345,Sifranti!BY:BZ,2,FALSE)))","v":""},{"$f":"IF(C2345=\"\",\"\",VLOOKUP(C2345,Sifranti!P:R,2,FALSE))","v":""},"","",{"$f":"IF(C2345=\"\",\"\",VLOOKUP(C2345,Sifranti!P:R,3,FALSE))","v":""},{"$f":"IF(N2345=\"\",\"\",VLOOKUP(N2345,Sifranti!D:F,2,FALSE))","v":""},{"$f":"IF(AK2345=\"\",\"\",VLOOKUP(AK2345,Sifranti!V:Y,2,FALSE))","v":""},{"$f":"IF(AK2345=\"\",\"\",IF(VLOOKUP(AK2345,Sifranti!V:Y,3,FALSE)=\"\",\"\",VLOOKUP(AK2345,Sifranti!V:Y,3,FALSE)))","v":""},{"$f":"IF(AK2345=\"\",\"\",VLOOKUP(AK2345,Sifranti!V:Y,4,FALSE))","v":""}]
[{"$f":"IF(B2351=\"\",\"\",VLOOKUP(B2351,Sifranti!K:L,2,FALSE))","v":""},null,null,null,null,null,null,null,null,"",{"$f":"IF(L2351=\"\",\"\",VLOOKUP(L2351,Sifranti!A:B,2,FALSE))","v":""},null,{"$f":"IF(N2351=\"\",\"\",VLOOKUP(N2351,Sifranti!D:F,3,FALSE))","v":""},null,{"$f":"IF(P2351=\"\",\"\",VLOOKUP(P2351,Sifranti!H:I,2,FALSE))","v":""},null,null,null,null,null,null,null,null,null,null,null,null,null,null,null,null,null,null,null,null,null,null,null,null,null,{"$f":"IF(AN2351=\"\",\"\",IF(LEN(VLOOKUP(AN2351,Sifranti!BY:BZ,2,FALSE))=0,\"\",VLOOKUP(AN2351,Sifranti!BY:BZ,2,FALSE)))","v":""},{"$f":"IF(C2351=\"\",\"\",VLOOKUP(C2351,Sifranti!P:R,2,FALSE))","v":""},"","",{"$f":"IF(C2351=\"\",\"\",VLOOKUP(C2351,Sifranti!P:R,3,FALSE))","v":""},{"$f":"IF(N2351=\"\",\"\",VLOOKUP(N2351,Sifranti!D:F,2,FALSE))","v":""},{"$f":"IF(AK2351=\"\",\"\",VLOOKUP(AK2351,Sifranti!V:Y,2,FALSE))","v":""},{"$f":"IF(AK2351=\"\",\"\",IF(VLOOKUP(AK2351,Sifranti!V:Y,3,FALSE)=\"\",\"\",VLOOKUP(AK2351,Sifranti!V:Y,3,FALSE)))","v":""},{"$f":"IF(AK2351=\"\",\"\",VLOOKUP(AK2351,Sifranti!V:Y,4,FALSE))","v":""}]
[{"$f":"IF(B2360=\"\",\"\",VLOOKUP(B2360,Sifranti!K:L,2,FALSE))","v":""},null,null,null,null,null,null,null,null,"",{"$f":"IF(L2360=\"\",\"\",VLOOKUP(L2360,Sifranti!A:B,2,FALSE))","v":""},null,{"$f":"IF(N2360=\"\",\"\",VLOOKUP(N2360,Sifranti!D:F,3,FALSE))","v":""},null,{"$f":"IF(P2360=\"\",\"\",VLOOKUP(P2360,Sifranti!H:I,2,FALSE))","v":""},null,null,null,null,null,null,null,null,null,null,null,null,null,null,null,null,null,null,null,null,null,null,null,null,null,{"$f":"IF(AN2360=\"\",\"\",IF(LEN(VLOOKUP(AN2360,Sifranti!BY:BZ,2,FALSE))=0,\"\",VLOOKUP(AN2360,Sifranti!BY:BZ,2,FALSE)))","v":""},{"$f":"IF(C2360=\"\",\"\",VLOOKUP(C2360,Sifranti!P:R,2,FALSE))","v":""},"","",{"$f":"IF(C2360=\"\",\"\",VLOOKUP(C2360,Sifranti!P:R,3,FALSE))","v":""},{"$f":"IF(N2360=\"\",\"\",VLOOKUP(N2360,Sifranti!D:F,2,FALSE))","v":""},{"$f":"IF(AK2360=\"\",\"\",VLOOKUP(AK2360,Sifranti!V:Y,2,FALSE))","v":""},{"$f":"IF(AK2360=\"\",\"\",IF(VLOOKUP(AK2360,Sifranti!V:Y,3,FALSE)=\"\",\"\",VLOOKUP(AK2360,Sifranti!V:Y,3,FALSE)))","v":""},{"$f":"IF(AK2360=\"\",\"\",VLOOKUP(AK2360,Sifranti!V:Y,4,FALSE))","v":""}]
[{"$f":"IF(B2377=\"\",\"\",VLOOKUP(B2377,Sifranti!K:L,2,FALSE))","v":""},null,null,null,null,null,null,null,null,"",{"$f":"IF(L2377=\"\",\"\",VLOOKUP(L2377,Sifranti!A:B,2,FALSE))","v":""},null,{"$f":"IF(N2377=\"\",\"\",VLOOKUP(N2377,Sifranti!D:F,3,FALSE))","v":""},null,{"$f":"IF(P2377=\"\",\"\",VLOOKUP(P2377,Sifranti!H:I,2,FALSE))","v":""},null,null,null,null,null,null,null,null,null,null,null,null,null,null,null,null,null,null,null,null,null,null,null,null,null,{"$f":"IF(AN2377=\"\",\"\",IF(LEN(VLOOKUP(AN2377,Sifranti!BY:BZ,2,FALSE))=0,\"\",VLOOKUP(AN2377,Sifranti!BY:BZ,2,FALSE)))","v":""},{"$f":"IF(C2377=\"\",\"\",VLOOKUP(C2377,Sifranti!P:R,2,FALSE))","v":""},"","",{"$f":"IF(C2377=\"\",\"\",VLOOKUP(C2377,Sifranti!P:R,3,FALSE))","v":""},{"$f":"IF(N2377=\"\",\"\",VLOOKUP(N2377,Sifranti!D:F,2,FALSE))","v":""},{"$f":"IF(AK2377=\"\",\"\",VLOOKUP(AK2377,Sifranti!V:Y,2,FALSE))","v":""},{"$f":"IF(AK2377=\"\",\"\",IF(VLOOKUP(AK2377,Sifranti!V:Y,3,FALSE)=\"\",\"\",VLOOKUP(AK2377,Sifranti!V:Y,3,FALSE)))","v":""},{"$f":"IF(AK2377=\"\",\"\",VLOOKUP(AK2377,Sifranti!V:Y,4,FALSE))","v":""}]
[{"$f":"IF(B2383=\"\",\"\",VLOOKUP(B2383,Sifranti!K:L,2,FALSE))","v":""},null,null,null,null,null,null,null,null,"",{"$f":"IF(L2383=\"\",\"\",VLOOKUP(L2383,Sifranti!A:B,2,FALSE))","v":""},null,{"$f":"IF(N2383=\"\",\"\",VLOOKUP(N2383,Sifranti!D:F,3,FALSE))","v":""},null,{"$f":"IF(P2383=\"\",\"\",VLOOKUP(P2383,Sifranti!H:I,2,FALSE))","v":""},null,null,null,null,null,null,null,null,null,null,null,null,null,null,null,null,null,null,null,null,null,null,null,null,null,{"$f":"IF(AN2383=\"\",\"\",IF(LEN(VLOOKUP(AN2383,Sifranti!BY:BZ,2,FALSE))=0,\"\",VLOOKUP(AN2383,Sifranti!BY:BZ,2,FALSE)))","v":""},{"$f":"IF(C2383=\"\",\"\",VLOOKUP(C2383,Sifranti!P:R,2,FALSE))","v":""},"","",{"$f":"IF(C2383=\"\",\"\",VLOOKUP(C2383,Sifranti!P:R,3,FALSE))","v":""},{"$f":"IF(N2383=\"\",\"\",VLOOKUP(N2383,Sifranti!D:F,2,FALSE))","v":""},{"$f":"IF(AK2383=\"\",\"\",VLOOKUP(AK2383,Sifranti!V:Y,2,FALSE))","v":""},{"$f":"IF(AK2383=\"\",\"\",IF(VLOOKUP(AK2383,Sifranti!V:Y,3,FALSE)=\"\",\"\",VLOOKUP(AK2383,Sifranti!V:Y,3,FALSE)))","v":""},{"$f":"IF(AK2383=\"\",\"\",VLOOKUP(AK2383,Sifranti!V:Y,4,FALSE))","v":""}]
[{"$f":"IF(B2396=\"\",\"\",VLOOKUP(B2396,Sifranti!K:L,2,FALSE))","v":""},null,null,null,null,null,null,null,null,"",{"$f":"IF(L2396=\"\",\"\",VLOOKUP(L2396,Sifranti!A:B,2,FALSE))","v":""},null,{"$f":"IF(N2396=\"\",\"\",VLOOKUP(N2396,Sifranti!D:F,3,FALSE))","v":""},null,{"$f":"IF(P2396=\"\",\"\",VLOOKUP(P2396,Sifranti!H:I,2,FALSE))","v":""},null,null,null,null,null,null,null,null,null,null,null,null,null,null,null,null,null,null,null,null,null,null,null,null,null,{"$f":"IF(AN2396=\"\",\"\",IF(LEN(VLOOKUP(AN2396,Sifranti!BY:BZ,2,FALSE))=0,\"\",VLOOKUP(AN2396,Sifranti!BY:BZ,2,FALSE)))","v":""},{"$f":"IF(C2396=\"\",\"\",VLOOKUP(C2396,Sifranti!P:R,2,FALSE))","v":""},"","",{"$f":"IF(C2396=\"\",\"\",VLOOKUP(C2396,Sifranti!P:R,3,FALSE))","v":""},{"$f":"IF(N2396=\"\",\"\",VLOOKUP(N2396,Sifranti!D:F,2,FALSE))","v":""},{"$f":"IF(AK2396=\"\",\"\",VLOOKUP(AK2396,Sifranti!V:Y,2,FALSE))","v":""},{"$f":"IF(AK2396=\"\",\"\",IF(VLOOKUP(AK2396,Sifranti!V:Y,3,FALSE)=\"\",\"\",VLOOKUP(AK2396,Sifranti!V:Y,3,FALSE)))","v":""},{"$f":"IF(AK2396=\"\",\"\",VLOOKUP(AK2396,Sifranti!V:Y,4,FALSE))","v":""}]
[{"$f":"IF(B2409=\"\",\"\",VLOOKUP(B2409,Sifranti!K:L,2,FALSE))","v":""},null,null,null,null,null,null,null,null,"",{"$f":"IF(L2409=\"\",\"\",VLOOKUP(L2409,Sifranti!A:B,2,FALSE))","v":""},null,{"$f":"IF(N2409=\"\",\"\",VLOOKUP(N2409,Sifranti!D:F,3,FALSE))","v":""},null,{"$f":"IF(P2409=\"\",\"\",VLOOKUP(P2409,Sifranti!H:I,2,FALSE))","v":""},null,null,null,null,null,null,null,null,null,null,null,null,null,null,null,null,null,null,null,null,null,null,null,null,null,{"$f":"IF(AN2409=\"\",\"\",IF(LEN(VLOOKUP(AN2409,Sifranti!BY:BZ,2,FALSE))=0,\"\",VLOOKUP(AN2409,Sifranti!BY:BZ,2,FALSE)))","v":""},{"$f":"IF(C2409=\"\",\"\",VLOOKUP(C2409,Sifranti!P:R,2,FALSE))","v":""},"","",{"$f":"IF(C2409=\"\",\"\",VLOOKUP(C2409,Sifranti!P:R,3,FALSE))","v":""},{"$f":"IF(N2409=\"\",\"\",VLOOKUP(N2409,Sifranti!D:F,2,FALSE))","v":""},{"$f":"IF(AK2409=\"\",\"\",VLOOKUP(AK2409,Sifranti!V:Y,2,FALSE))","v":""},{"$f":"IF(AK2409=\"\",\"\",IF(VLOOKUP(AK2409,Sifranti!V:Y,3,FALSE)=\"\",\"\",VLOOKUP(AK2409,Sifranti!V:Y,3,FALSE)))","v":""},{"$f":"IF(AK2409=\"\",\"\",VLOOKUP(AK2409,Sifranti!V:Y,4,FALSE))","v":""}]
[{"$f":"IF(B2415=\"\",\"\",VLOOKUP(B2415,Sifranti!K:L,2,FALSE))","v":""},null,null,null,null,null,null,null,null,"",{"$f":"IF(L2415=\"\",\"\",VLOOKUP(L2415,Sifranti!A:B,2,FALSE))","v":""},null,{"$f":"IF(N2415=\"\",\"\",VLOOKUP(N2415,Sifranti!D:F,3,FALSE))","v":""},null,{"$f":"IF(P2415=\"\",\"\",VLOOKUP(P2415,Sifranti!H:I,2,FALSE))","v":""},null,null,null,null,null,null,null,null,null,null,null,null,null,null,null,null,null,null,null,null,null,null,null,null,null,{"$f":"IF(AN2415=\"\",\"\",IF(LEN(VLOOKUP(AN2415,Sifranti!BY:BZ,2,FALSE))=0,\"\",VLOOKUP(AN2415,Sifranti!BY:BZ,2,FALSE)))","v":""},{"$f":"IF(C2415=\"\",\"\",VLOOKUP(C2415,Sifranti!P:R,2,FALSE))","v":""},"","",{"$f":"IF(C2415=\"\",\"\",VLOOKUP(C2415,Sifranti!P:R,3,FALSE))","v":""},{"$f":"IF(N2415=\"\",\"\",VLOOKUP(N2415,Sifranti!D:F,2,FALSE))","v":""},{"$f":"IF(AK2415=\"\",\"\",VLOOKUP(AK2415,Sifranti!V:Y,2,FALSE))","v":""},{"$f":"IF(AK2415=\"\",\"\",IF(VLOOKUP(AK2415,Sifranti!V:Y,3,FALSE)=\"\",\"\",VLOOKUP(AK2415,Sifranti!V:Y,3,FALSE)))","v":""},{"$f":"IF(AK2415=\"\",\"\",VLOOKUP(AK2415,Sifranti!V:Y,4,FALSE))","v":""}]
[{"$f":"IF(B2425=\"\",\"\",VLOOKUP(B2425,Sifranti!K:L,2,FALSE))","v":""},null,null,null,null,null,null,null,null,"",{"$f":"IF(L2425=\"\",\"\",VLOOKUP(L2425,Sifranti!A:B,2,FALSE))","v":""},null,{"$f":"IF(N2425=\"\",\"\",VLOOKUP(N2425,Sifranti!D:F,3,FALSE))","v":""},null,{"$f":"IF(P2425=\"\",\"\",VLOOKUP(P2425,Sifranti!H:I,2,FALSE))","v":""},null,null,null,null,null,null,null,null,null,null,null,null,null,null,null,null,null,null,null,null,null,null,null,null,null,{"$f":"IF(AN2425=\"\",\"\",IF(LEN(VLOOKUP(AN2425,Sifranti!BY:BZ,2,FALSE))=0,\"\",VLOOKUP(AN2425,Sifranti!BY:BZ,2,FALSE)))","v":""},{"$f":"IF(C2425=\"\",\"\",VLOOKUP(C2425,Sifranti!P:R,2,FALSE))","v":""},"","",{"$f":"IF(C2425=\"\",\"\",VLOOKUP(C2425,Sifranti!P:R,3,FALSE))","v":""},{"$f":"IF(N2425=\"\",\"\",VLOOKUP(N2425,Sifranti!D:F,2,FALSE))","v":""},{"$f":"IF(AK2425=\"\",\"\",VLOOKUP(AK2425,Sifranti!V:Y,2,FALSE))","v":""},{"$f":"IF(AK2425=\"\",\"\",IF(VLOOKUP(AK2425,Sifranti!V:Y,3,FALSE)=\"\",\"\",VLOOKUP(AK2425,Sifranti!V:Y,3,FALSE)))","v":""},{"$f":"IF(AK2425=\"\",\"\",VLOOKUP(AK2425,Sifranti!V:Y,4,FALSE))","v":""}]
[{"$f":"IF(B2445=\"\",\"\",VLOOKUP(B2445,Sifranti!K:L,2,FALSE))","v":""},null,null,null,null,null,null,null,null,"",{"$f":"IF(L2445=\"\",\"\",VLOOKUP(L2445,Sifranti!A:B,2,FALSE))","v":""},null,{"$f":"IF(N2445=\"\",\"\",VLOOKUP(N2445,Sifranti!D:F,3,FALSE))","v":""},null,{"$f":"IF(P2445=\"\",\"\",VLOOKUP(P2445,Sifranti!H:I,2,FALSE))","v":""},null,null,null,null,null,null,null,null,null,null,null,null,null,null,null,null,null,null,null,null,null,null,null,null,null,{"$f":"IF(AN2445=\"\",\"\",IF(LEN(VLOOKUP(AN2445,Sifranti!BY:BZ,2,FALSE))=0,\"\",VLOOKUP(AN2445,Sifranti!BY:BZ,2,FALSE)))","v":""},{"$f":"IF(C2445=\"\",\"\",VLOOKUP(C2445,Sifranti!P:R,2,FALSE))","v":""},"","",{"$f":"IF(C2445=\"\",\"\",VLOOKUP(C2445,Sifranti!P:R,3,FALSE))","v":""},{"$f":"IF(N2445=\"\",\"\",VLOOKUP(N2445,Sifranti!D:F,2,FALSE))","v":""},{"$f":"IF(AK2445=\"\",\"\",VLOOKUP(AK2445,Sifranti!V:Y,2,FALSE))","v":""},{"$f":"IF(AK2445=\"\",\"\",IF(VLOOKUP(AK2445,Sifranti!V:Y,3,FALSE)=\"\",\"\",VLOOKUP(AK2445,Sifranti!V:Y,3,FALSE)))","v":""},{"$f":"IF(AK2445=\"\",\"\",VLOOKUP(AK2445,Sifranti!V:Y,4,FALSE))","v":""}]
[{"$f":"IF(B2451=\"\",\"\",VLOOKUP(B2451,Sifranti!K:L,2,FALSE))","v":""},null,null,null,null,null,null,null,null,"",{"$f":"IF(L2451=\"\",\"\",VLOOKUP(L2451,Sifranti!A:B,2,FALSE))","v":""},null,{"$f":"IF(N2451=\"\",\"\",VLOOKUP(N2451,Sifranti!D:F,3,FALSE))","v":""},null,{"$f":"IF(P2451=\"\",\"\",VLOOKUP(P2451,Sifranti!H:I,2,FALSE))","v":""},null,null,null,null,null,null,null,null,null,null,null,null,null,null,null,null,null,null,null,null,null,null,null,null,null,{"$f":"IF(AN2451=\"\",\"\",IF(LEN(VLOOKUP(AN2451,Sifranti!BY:BZ,2,FALSE))=0,\"\",VLOOKUP(AN2451,Sifranti!BY:BZ,2,FALSE)))","v":""},{"$f":"IF(C2451=\"\",\"\",VLOOKUP(C2451,Sifranti!P:R,2,FALSE))","v":""},"","",{"$f":"IF(C2451=\"\",\"\",VLOOKUP(C2451,Sifranti!P:R,3,FALSE))","v":""},{"$f":"IF(N2451=\"\",\"\",VLOOKUP(N2451,Sifranti!D:F,2,FALSE))","v":""},{"$f":"IF(AK2451=\"\",\"\",VLOOKUP(AK2451,Sifranti!V:Y,2,FALSE))","v":""},{"$f":"IF(AK2451=\"\",\"\",IF(VLOOKUP(AK2451,Sifranti!V:Y,3,FALSE)=\"\",\"\",VLOOKUP(AK2451,Sifranti!V:Y,3,FALSE)))","v":""},{"$f":"IF(AK2451=\"\",\"\",VLOOKUP(AK2451,Sifranti!V:Y,4,FALSE))","v":""}]
[{"$f":"IF(B2457=\"\",\"\",VLOOKUP(B2457,Sifranti!K:L,2,FALSE))","v":""},null,null,null,null,null,null,null,null,"",{"$f":"IF(L2457=\"\",\"\",VLOOKUP(L2457,Sifranti!A:B,2,FALSE))","v":""},null,{"$f":"IF(N2457=\"\",\"\",VLOOKUP(N2457,Sifranti!D:F,3,FALSE))","v":""},null,{"$f":"IF(P2457=\"\",\"\",VLOOKUP(P2457,Sifranti!H:I,2,FALSE))","v":""},null,null,null,null,null,null,null,null,null,null,null,null,null,null,null,null,null,null,null,null,null,null,null,null,null,{"$f":"IF(AN2457=\"\",\"\",IF(LEN(VLOOKUP(AN2457,Sifranti!BY:BZ,2,FALSE))=0,\"\",VLOOKUP(AN2457,Sifranti!BY:BZ,2,FALSE)))","v":""},{"$f":"IF(C2457=\"\",\"\",VLOOKUP(C2457,Sifranti!P:R,2,FALSE))","v":""},"","",{"$f":"IF(C2457=\"\",\"\",VLOOKUP(C2457,Sifranti!P:R,3,FALSE))","v":""},{"$f":"IF(N2457=\"\",\"\",VLOOKUP(N2457,Sifranti!D:F,2,FALSE))","v":""},{"$f":"IF(AK2457=\"\",\"\",VLOOKUP(AK2457,Sifranti!V:Y,2,FALSE))","v":""},{"$f":"IF(AK2457=\"\",\"\",IF(VLOOKUP(AK2457,Sifranti!V:Y,3,FALSE)=\"\",\"\",VLOOKUP(AK2457,Sifranti!V:Y,3,FALSE)))","v":""},{"$f":"IF(AK2457=\"\",\"\",VLOOKUP(AK2457,Sifranti!V:Y,4,FALSE))","v":""}]
[{"$f":"IF(B2474=\"\",\"\",VLOOKUP(B2474,Sifranti!K:L,2,FALSE))","v":""},null,null,null,null,null,null,null,null,"",{"$f":"IF(L2474=\"\",\"\",VLOOKUP(L2474,Sifranti!A:B,2,FALSE))","v":""},null,{"$f":"IF(N2474=\"\",\"\",VLOOKUP(N2474,Sifranti!D:F,3,FALSE))","v":""},null,{"$f":"IF(P2474=\"\",\"\",VLOOKUP(P2474,Sifranti!H:I,2,FALSE))","v":""},null,null,null,null,null,null,null,null,null,null,null,null,null,null,null,null,null,null,null,null,null,null,null,null,null,{"$f":"IF(AN2474=\"\",\"\",IF(LEN(VLOOKUP(AN2474,Sifranti!BY:BZ,2,FALSE))=0,\"\",VLOOKUP(AN2474,Sifranti!BY:BZ,2,FALSE)))","v":""},{"$f":"IF(C2474=\"\",\"\",VLOOKUP(C2474,Sifranti!P:R,2,FALSE))","v":""},"","",{"$f":"IF(C2474=\"\",\"\",VLOOKUP(C2474,Sifranti!P:R,3,FALSE))","v":""},{"$f":"IF(N2474=\"\",\"\",VLOOKUP(N2474,Sifranti!D:F,2,FALSE))","v":""},{"$f":"IF(AK2474=\"\",\"\",VLOOKUP(AK2474,Sifranti!V:Y,2,FALSE))","v":""},{"$f":"IF(AK2474=\"\",\"\",IF(VLOOKUP(AK2474,Sifranti!V:Y,3,FALSE)=\"\",\"\",VLOOKUP(AK2474,Sifranti!V:Y,3,FALSE)))","v":""},{"$f":"IF(AK2474=\"\",\"\",VLOOKUP(AK2474,Sifranti!V:Y,4,FALSE))","v":""}]
[{"$f":"IF(B2480=\"\",\"\",VLOOKUP(B2480,Sifranti!K:L,2,FALSE))","v":""},null,null,null,null,null,null,null,null,"",{"$f":"IF(L2480=\"\",\"\",VLOOKUP(L2480,Sifranti!A:B,2,FALSE))","v":""},null,{"$f":"IF(N2480=\"\",\"\",VLOOKUP(N2480,Sifranti!D:F,3,FALSE))","v":""},null,{"$f":"IF(P2480=\"\",\"\",VLOOKUP(P2480,Sifranti!H:I,2,FALSE))","v":""},null,null,null,null,null,null,null,null,null,null,null,null,null,null,null,null,null,null,null,null,null,null,null,null,null,{"$f":"IF(AN2480=\"\",\"\",IF(LEN(VLOOKUP(AN2480,Sifranti!BY:BZ,2,FALSE))=0,\"\",VLOOKUP(AN2480,Sifranti!BY:BZ,2,FALSE)))","v":""},{"$f":"IF(C2480=\"\",\"\",VLOOKUP(C2480,Sifranti!P:R,2,FALSE))","v":""},"","",{"$f":"IF(C2480=\"\",\"\",VLOOKUP(C2480,Sifranti!P:R,3,FALSE))","v":""},{"$f":"IF(N2480=\"\",\"\",VLOOKUP(N2480,Sifranti!D:F,2,FALSE))","v":""},{"$f":"IF(AK2480=\"\",\"\",VLOOKUP(AK2480,Sifranti!V:Y,2,FALSE))","v":""},{"$f":"IF(AK2480=\"\",\"\",IF(VLOOKUP(AK2480,Sifranti!V:Y,3,FALSE)=\"\",\"\",VLOOKUP(AK2480,Sifranti!V:Y,3,FALSE)))","v":""},{"$f":"IF(AK2480=\"\",\"\",VLOOKUP(AK2480,Sifranti!V:Y,4,FALSE))","v":""}]
[{"$f":"IF(B2489=\"\",\"\",VLOOKUP(B2489,Sifranti!K:L,2,FALSE))","v":""},null,null,null,null,null,null,null,null,"",{"$f":"IF(L2489=\"\",\"\",VLOOKUP(L2489,Sifranti!A:B,2,FALSE))","v":""},null,{"$f":"IF(N2489=\"\",\"\",VLOOKUP(N2489,Sifranti!D:F,3,FALSE))","v":""},null,{"$f":"IF(P2489=\"\",\"\",VLOOKUP(P2489,Sifranti!H:I,2,FALSE))","v":""},null,null,null,null,null,null,null,null,null,null,null,null,null,null,null,null,null,null,null,null,null,null,null,null,null,{"$f":"IF(AN2489=\"\",\"\",IF(LEN(VLOOKUP(AN2489,Sifranti!BY:BZ,2,FALSE))=0,\"\",VLOOKUP(AN2489,Sifranti!BY:BZ,2,FALSE)))","v":""},{"$f":"IF(C2489=\"\",\"\",VLOOKUP(C2489,Sifranti!P:R,2,FALSE))","v":""},"","",{"$f":"IF(C2489=\"\",\"\",VLOOKUP(C2489,Sifranti!P:R,3,FALSE))","v":""},{"$f":"IF(N2489=\"\",\"\",VLOOKUP(N2489,Sifranti!D:F,2,FALSE))","v":""},{"$f":"IF(AK2489=\"\",\"\",VLOOKUP(AK2489,Sifranti!V:Y,2,FALSE))","v":""},{"$f":"IF(AK2489=\"\",\"\",IF(VLOOKUP(AK2489,Sifranti!V:Y,3,FALSE)=\"\",\"\",VLOOKUP(AK2489,Sifranti!V:Y,3,FALSE)))","v":""},{"$f":"IF(AK2489=\"\",\"\",VLOOKUP(AK2489,Sifranti!V:Y,4,FALSE))","v":""}]
[{"$f":"IF(B2510=\"\",\"\",VLOOKUP(B2510,Sifranti!K:L,2,FALSE))","v":""},null,null,null,null,null,null,null,null,"",{"$f":"IF(L2510=\"\",\"\",VLOOKUP(L2510,Sifranti!A:B,2,FALSE))","v":""},null,{"$f":"IF(N2510=\"\",\"\",VLOOKUP(N2510,Sifranti!D:F,3,FALSE))","v":""},null,{"$f":"IF(P2510=\"\",\"\",VLOOKUP(P2510,Sifranti!H:I,2,FALSE))","v":""},null,null,null,null,null,null,null,null,null,null,null,null,null,null,null,null,null,null,null,null,null,null,null,null,null,{"$f":"IF(AN2510=\"\",\"\",IF(LEN(VLOOKUP(AN2510,Sifranti!BY:BZ,2,FALSE))=0,\"\",VLOOKUP(AN2510,Sifranti!BY:BZ,2,FALSE)))","v":""},{"$f":"IF(C2510=\"\",\"\",VLOOKUP(C2510,Sifranti!P:R,2,FALSE))","v":""},"","",{"$f":"IF(C2510=\"\",\"\",VLOOKUP(C2510,Sifranti!P:R,3,FALSE))","v":""},{"$f":"IF(N2510=\"\",\"\",VLOOKUP(N2510,Sifranti!D:F,2,FALSE))","v":""},{"$f":"IF(AK2510=\"\",\"\",VLOOKUP(AK2510,Sifranti!V:Y,2,FALSE))","v":""},{"$f":"IF(AK2510=\"\",\"\",IF(VLOOKUP(AK2510,Sifranti!V:Y,3,FALSE)=\"\",\"\",VLOOKUP(AK2510,Sifranti!V:Y,3,FALSE)))","v":""},{"$f":"IF(AK2510=\"\",\"\",VLOOKUP(AK2510,Sifranti!V:Y,4,FALSE))","v":""}]
[{"$f":"IF(B2516=\"\",\"\",VLOOKUP(B2516,Sifranti!K:L,2,FALSE))","v":""},null,null,null,null,null,null,null,null,"",{"$f":"IF(L2516=\"\",\"\",VLOOKUP(L2516,Sifranti!A:B,2,FALSE))","v":""},null,{"$f":"IF(N2516=\"\",\"\",VLOOKUP(N2516,Sifranti!D:F,3,FALSE))","v":""},null,{"$f":"IF(P2516=\"\",\"\",VLOOKUP(P2516,Sifranti!H:I,2,FALSE))","v":""},null,null,null,null,null,null,null,null,null,null,null,null,null,null,null,null,null,null,null,null,null,null,null,null,null,{"$f":"IF(AN2516=\"\",\"\",IF(LEN(VLOOKUP(AN2516,Sifranti!BY:BZ,2,FALSE))=0,\"\",VLOOKUP(AN2516,Sifranti!BY:BZ,2,FALSE)))","v":""},{"$f":"IF(C2516=\"\",\"\",VLOOKUP(C2516,Sifranti!P:R,2,FALSE))","v":""},"","",{"$f":"IF(C2516=\"\",\"\",VLOOKUP(C2516,Sifranti!P:R,3,FALSE))","v":""},{"$f":"IF(N2516=\"\",\"\",VLOOKUP(N2516,Sifranti!D:F,2,FALSE))","v":""},{"$f":"IF(AK2516=\"\",\"\",VLOOKUP(AK2516,Sifranti!V:Y,2,FALSE))","v":""},{"$f":"IF(AK2516=\"\",\"\",IF(VLOOKUP(AK2516,Sifranti!V:Y,3,FALSE)=\"\",\"\",VLOOKUP(AK2516,Sifranti!V:Y,3,FALSE)))","v":""},{"$f":"IF(AK2516=\"\",\"\",VLOOKUP(AK2516,Sifranti!V:Y,4,FALSE))","v":""}]
[{"$f":"IF(B2529=\"\",\"\",VLOOKUP(B2529,Sifranti!K:L,2,FALSE))","v":""},null,null,null,null,null,null,null,null,"",{"$f":"IF(L2529=\"\",\"\",VLOOKUP(L2529,Sifranti!A:B,2,FALSE))","v":""},null,{"$f":"IF(N2529=\"\",\"\",VLOOKUP(N2529,Sifranti!D:F,3,FALSE))","v":""},null,{"$f":"IF(P2529=\"\",\"\",VLOOKUP(P2529,Sifranti!H:I,2,FALSE))","v":""},null,null,null,null,null,null,null,null,null,null,null,null,null,null,null,null,null,null,null,null,null,null,null,null,null,{"$f":"IF(AN2529=\"\",\"\",IF(LEN(VLOOKUP(AN2529,Sifranti!BY:BZ,2,FALSE))=0,\"\",VLOOKUP(AN2529,Sifranti!BY:BZ,2,FALSE)))","v":""},{"$f":"IF(C2529=\"\",\"\",VLOOKUP(C2529,Sifranti!P:R,2,FALSE))","v":""},"","",{"$f":"IF(C2529=\"\",\"\",VLOOKUP(C2529,Sifranti!P:R,3,FALSE))","v":""},{"$f":"IF(N2529=\"\",\"\",VLOOKUP(N2529,Sifranti!D:F,2,FALSE))","v":""},{"$f":"IF(AK2529=\"\",\"\",VLOOKUP(AK2529,Sifranti!V:Y,2,FALSE))","v":""},{"$f":"IF(AK2529=\"\",\"\",IF(VLOOKUP(AK2529,Sifranti!V:Y,3,FALSE)=\"\",\"\",VLOOKUP(AK2529,Sifranti!V:Y,3,FALSE)))","v":""},{"$f":"IF(AK2529=\"\",\"\",VLOOKUP(AK2529,Sifranti!V:Y,4,FALSE))","v":""}]
[{"$f":"IF(B2542=\"\",\"\",VLOOKUP(B2542,Sifranti!K:L,2,FALSE))","v":""},null,null,null,null,null,null,null,null,"",{"$f":"IF(L2542=\"\",\"\",VLOOKUP(L2542,Sifranti!A:B,2,FALSE))","v":""},null,{"$f":"IF(N2542=\"\",\"\",VLOOKUP(N2542,Sifranti!D:F,3,FALSE))","v":""},null,{"$f":"IF(P2542=\"\",\"\",VLOOKUP(P2542,Sifranti!H:I,2,FALSE))","v":""},null,null,null,null,null,null,null,null,null,null,null,null,null,null,null,null,null,null,null,null,null,null,null,null,null,{"$f":"IF(AN2542=\"\",\"\",IF(LEN(VLOOKUP(AN2542,Sifranti!BY:BZ,2,FALSE))=0,\"\",VLOOKUP(AN2542,Sifranti!BY:BZ,2,FALSE)))","v":""},{"$f":"IF(C2542=\"\",\"\",VLOOKUP(C2542,Sifranti!P:R,2,FALSE))","v":""},"","",{"$f":"IF(C2542=\"\",\"\",VLOOKUP(C2542,Sifranti!P:R,3,FALSE))","v":""},{"$f":"IF(N2542=\"\",\"\",VLOOKUP(N2542,Sifranti!D:F,2,FALSE))","v":""},{"$f":"IF(AK2542=\"\",\"\",VLOOKUP(AK2542,Sifranti!V:Y,2,FALSE))","v":""},{"$f":"IF(AK2542=\"\",\"\",IF(VLOOKUP(AK2542,Sifranti!V:Y,3,FALSE)=\"\",\"\",VLOOKUP(AK2542,Sifranti!V:Y,3,FALSE)))","v":""},{"$f":"IF(AK2542=\"\",\"\",VLOOKUP(AK2542,Sifranti!V:Y,4,FALSE))","v":""}]
[{"$f":"IF(B2548=\"\",\"\",VLOOKUP(B2548,Sifranti!K:L,2,FALSE))","v":""},null,null,null,null,null,null,null,null,"",{"$f":"IF(L2548=\"\",\"\",VLOOKUP(L2548,Sifranti!A:B,2,FALSE))","v":""},null,{"$f":"IF(N2548=\"\",\"\",VLOOKUP(N2548,Sifranti!D:F,3,FALSE))","v":""},null,{"$f":"IF(P2548=\"\",\"\",VLOOKUP(P2548,Sifranti!H:I,2,FALSE))","v":""},null,null,null,null,null,null,null,null,null,null,null,null,null,null,null,null,null,null,null,null,null,null,null,null,null,{"$f":"IF(AN2548=\"\",\"\",IF(LEN(VLOOKUP(AN2548,Sifranti!BY:BZ,2,FALSE))=0,\"\",VLOOKUP(AN2548,Sifranti!BY:BZ,2,FALSE)))","v":""},{"$f":"IF(C2548=\"\",\"\",VLOOKUP(C2548,Sifranti!P:R,2,FALSE))","v":""},"","",{"$f":"IF(C2548=\"\",\"\",VLOOKUP(C2548,Sifranti!P:R,3,FALSE))","v":""},{"$f":"IF(N2548=\"\",\"\",VLOOKUP(N2548,Sifranti!D:F,2,FALSE))","v":""},{"$f":"IF(AK2548=\"\",\"\",VLOOKUP(AK2548,Sifranti!V:Y,2,FALSE))","v":""},{"$f":"IF(AK2548=\"\",\"\",IF(VLOOKUP(AK2548,Sifranti!V:Y,3,FALSE)=\"\",\"\",VLOOKUP(AK2548,Sifranti!V:Y,3,FALSE)))","v":""},{"$f":"IF(AK2548=\"\",\"\",VLOOKUP(AK2548,Sifranti!V:Y,4,FALSE))","v":""}]
[{"$f":"IF(B2554=\"\",\"\",VLOOKUP(B2554,Sifranti!K:L,2,FALSE))","v":""},null,null,null,null,null,null,null,null,"",{"$f":"IF(L2554=\"\",\"\",VLOOKUP(L2554,Sifranti!A:B,2,FALSE))","v":""},null,{"$f":"IF(N2554=\"\",\"\",VLOOKUP(N2554,Sifranti!D:F,3,FALSE))","v":""},null,{"$f":"IF(P2554=\"\",\"\",VLOOKUP(P2554,Sifranti!H:I,2,FALSE))","v":""},null,null,null,null,null,null,null,null,null,null,null,null,null,null,null,null,null,null,null,null,null,null,null,null,null,{"$f":"IF(AN2554=\"\",\"\",IF(LEN(VLOOKUP(AN2554,Sifranti!BY:BZ,2,FALSE))=0,\"\",VLOOKUP(AN2554,Sifranti!BY:BZ,2,FALSE)))","v":""},{"$f":"IF(C2554=\"\",\"\",VLOOKUP(C2554,Sifranti!P:R,2,FALSE))","v":""},"","",{"$f":"IF(C2554=\"\",\"\",VLOOKUP(C2554,Sifranti!P:R,3,FALSE))","v":""},{"$f":"IF(N2554=\"\",\"\",VLOOKUP(N2554,Sifranti!D:F,2,FALSE))","v":""},{"$f":"IF(AK2554=\"\",\"\",VLOOKUP(AK2554,Sifranti!V:Y,2,FALSE))","v":""},{"$f":"IF(AK2554=\"\",\"\",IF(VLOOKUP(AK2554,Sifranti!V:Y,3,FALSE)=\"\",\"\",VLOOKUP(AK2554,Sifranti!V:Y,3,FALSE)))","v":""},{"$f":"IF(AK2554=\"\",\"\",VLOOKUP(AK2554,Sifranti!V:Y,4,FALSE))","v":""}]
[{"$f":"IF(B2574=\"\",\"\",VLOOKUP(B2574,Sifranti!K:L,2,FALSE))","v":""},null,null,null,null,null,null,null,null,"",{"$f":"IF(L2574=\"\",\"\",VLOOKUP(L2574,Sifranti!A:B,2,FALSE))","v":""},null,{"$f":"IF(N2574=\"\",\"\",VLOOKUP(N2574,Sifranti!D:F,3,FALSE))","v":""},null,{"$f":"IF(P2574=\"\",\"\",VLOOKUP(P2574,Sifranti!H:I,2,FALSE))","v":""},null,null,null,null,null,null,null,null,null,null,null,null,null,null,null,null,null,null,null,null,null,null,null,null,null,{"$f":"IF(AN2574=\"\",\"\",IF(LEN(VLOOKUP(AN2574,Sifranti!BY:BZ,2,FALSE))=0,\"\",VLOOKUP(AN2574,Sifranti!BY:BZ,2,FALSE)))","v":""},{"$f":"IF(C2574=\"\",\"\",VLOOKUP(C2574,Sifranti!P:R,2,FALSE))","v":""},"","",{"$f":"IF(C2574=\"\",\"\",VLOOKUP(C2574,Sifranti!P:R,3,FALSE))","v":""},{"$f":"IF(N2574=\"\",\"\",VLOOKUP(N2574,Sifranti!D:F,2,FALSE))","v":""},{"$f":"IF(AK2574=\"\",\"\",VLOOKUP(AK2574,Sifranti!V:Y,2,FALSE))","v":""},{"$f":"IF(AK2574=\"\",\"\",IF(VLOOKUP(AK2574,Sifranti!V:Y,3,FALSE)=\"\",\"\",VLOOKUP(AK2574,Sifranti!V:Y,3,FALSE)))","v":""},{"$f":"IF(AK2574=\"\",\"\",VLOOKUP(AK2574,Sifranti!V:Y,4,FALSE))","v":""}]
[{"$f":"IF(B2580=\"\",\"\",VLOOKUP(B2580,Sifranti!K:L,2,FALSE))","v":""},null,null,null,null,null,null,null,null,"",{"$f":"IF(L2580=\"\",\"\",VLOOKUP(L2580,Sifranti!A:B,2,FALSE))","v":""},null,{"$f":"IF(N2580=\"\",\"\",VLOOKUP(N2580,Sifranti!D:F,3,FALSE))","v":""},null,{"$f":"IF(P2580=\"\",\"\",VLOOKUP(P2580,Sifranti!H:I,2,FALSE))","v":""},null,null,null,null,null,null,null,null,null,null,null,null,null,null,null,null,null,null,null,null,null,null,null,null,null,{"$f":"IF(AN2580=\"\",\"\",IF(LEN(VLOOKUP(AN2580,Sifranti!BY:BZ,2,FALSE))=0,\"\",VLOOKUP(AN2580,Sifranti!BY:BZ,2,FALSE)))","v":""},{"$f":"IF(C2580=\"\",\"\",VLOOKUP(C2580,Sifranti!P:R,2,FALSE))","v":""},"","",{"$f":"IF(C2580=\"\",\"\",VLOOKUP(C2580,Sifranti!P:R,3,FALSE))","v":""},{"$f":"IF(N2580=\"\",\"\",VLOOKUP(N2580,Sifranti!D:F,2,FALSE))","v":""},{"$f":"IF(AK2580=\"\",\"\",VLOOKUP(AK2580,Sifranti!V:Y,2,FALSE))","v":""},{"$f":"IF(AK2580=\"\",\"\",IF(VLOOKUP(AK2580,Sifranti!V:Y,3,FALSE)=\"\",\"\",VLOOKUP(AK2580,Sifranti!V:Y,3,FALSE)))","v":""},{"$f":"IF(AK2580=\"\",\"\",VLOOKUP(AK2580,Sifranti!V:Y,4,FALSE))","v":""}]
[{"$f":"IF(B2590=\"\",\"\",VLOOKUP(B2590,Sifranti!K:L,2,FALSE))","v":""},null,null,null,null,null,null,null,null,"",{"$f":"IF(L2590=\"\",\"\",VLOOKUP(L2590,Sifranti!A:B,2,FALSE))","v":""},null,{"$f":"IF(N2590=\"\",\"\",VLOOKUP(N2590,Sifranti!D:F,3,FALSE))","v":""},null,{"$f":"IF(P2590=\"\",\"\",VLOOKUP(P2590,Sifranti!H:I,2,FALSE))","v":""},null,null,null,null,null,null,null,null,null,null,null,null,null,null,null,null,null,null,null,null,null,null,null,null,null,{"$f":"IF(AN2590=\"\",\"\",IF(LEN(VLOOKUP(AN2590,Sifranti!BY:BZ,2,FALSE))=0,\"\",VLOOKUP(AN2590,Sifranti!BY:BZ,2,FALSE)))","v":""},{"$f":"IF(C2590=\"\",\"\",VLOOKUP(C2590,Sifranti!P:R,2,FALSE))","v":""},"","",{"$f":"IF(C2590=\"\",\"\",VLOOKUP(C2590,Sifranti!P:R,3,FALSE))","v":""},{"$f":"IF(N2590=\"\",\"\",VLOOKUP(N2590,Sifranti!D:F,2,FALSE))","v":""},{"$f":"IF(AK2590=\"\",\"\",VLOOKUP(AK2590,Sifranti!V:Y,2,FALSE))","v":""},{"$f":"IF(AK2590=\"\",\"\",IF(VLOOKUP(AK2590,Sifranti!V:Y,3,FALSE)=\"\",\"\",VLOOKUP(AK2590,Sifranti!V:Y,3,FALSE)))","v":""},{"$f":"IF(AK2590=\"\",\"\",VLOOKUP(AK2590,Sifranti!V:Y,4,FALSE))","v":""}]
[{"$f":"IF(B2607=\"\",\"\",VLOOKUP(B2607,Sifranti!K:L,2,FALSE))","v":""},null,null,null,null,null,null,null,null,"",{"$f":"IF(L2607=\"\",\"\",VLOOKUP(L2607,Sifranti!A:B,2,FALSE))","v":""},null,{"$f":"IF(N2607=\"\",\"\",VLOOKUP(N2607,Sifranti!D:F,3,FALSE))","v":""},null,{"$f":"IF(P2607=\"\",\"\",VLOOKUP(P2607,Sifranti!H:I,2,FALSE))","v":""},null,null,null,null,null,null,null,null,null,null,null,null,null,null,null,null,null,null,null,null,null,null,null,null,null,{"$f":"IF(AN2607=\"\",\"\",IF(LEN(VLOOKUP(AN2607,Sifranti!BY:BZ,2,FALSE))=0,\"\",VLOOKUP(AN2607,Sifranti!BY:BZ,2,FALSE)))","v":""},{"$f":"IF(C2607=\"\",\"\",VLOOKUP(C2607,Sifranti!P:R,2,FALSE))","v":""},"","",{"$f":"IF(C2607=\"\",\"\",VLOOKUP(C2607,Sifranti!P:R,3,FALSE))","v":""},{"$f":"IF(N2607=\"\",\"\",VLOOKUP(N2607,Sifranti!D:F,2,FALSE))","v":""},{"$f":"IF(AK2607=\"\",\"\",VLOOKUP(AK2607,Sifranti!V:Y,2,FALSE))","v":""},{"$f":"IF(AK2607=\"\",\"\",IF(VLOOKUP(AK2607,Sifranti!V:Y,3,FALSE)=\"\",\"\",VLOOKUP(AK2607,Sifranti!V:Y,3,FALSE)))","v":""},{"$f":"IF(AK2607=\"\",\"\",VLOOKUP(AK2607,Sifranti!V:Y,4,FALSE))","v":""}]
[{"$f":"IF(B2613=\"\",\"\",VLOOKUP(B2613,Sifranti!K:L,2,FALSE))","v":""},null,null,null,null,null,null,null,null,"",{"$f":"IF(L2613=\"\",\"\",VLOOKUP(L2613,Sifranti!A:B,2,FALSE))","v":""},null,{"$f":"IF(N2613=\"\",\"\",VLOOKUP(N2613,Sifranti!D:F,3,FALSE))","v":""},null,{"$f":"IF(P2613=\"\",\"\",VLOOKUP(P2613,Sifranti!H:I,2,FALSE))","v":""},null,null,null,null,null,null,null,null,null,null,null,null,null,null,null,null,null,null,null,null,null,null,null,null,null,{"$f":"IF(AN2613=\"\",\"\",IF(LEN(VLOOKUP(AN2613,Sifranti!BY:BZ,2,FALSE))=0,\"\",VLOOKUP(AN2613,Sifranti!BY:BZ,2,FALSE)))","v":""},{"$f":"IF(C2613=\"\",\"\",VLOOKUP(C2613,Sifranti!P:R,2,FALSE))","v":""},"","",{"$f":"IF(C2613=\"\",\"\",VLOOKUP(C2613,Sifranti!P:R,3,FALSE))","v":""},{"$f":"IF(N2613=\"\",\"\",VLOOKUP(N2613,Sifranti!D:F,2,FALSE))","v":""},{"$f":"IF(AK2613=\"\",\"\",VLOOKUP(AK2613,Sifranti!V:Y,2,FALSE))","v":""},{"$f":"IF(AK2613=\"\",\"\",IF(VLOOKUP(AK2613,Sifranti!V:Y,3,FALSE)=\"\",\"\",VLOOKUP(AK2613,Sifranti!V:Y,3,FALSE)))","v":""},{"$f":"IF(AK2613=\"\",\"\",VLOOKUP(AK2613,Sifranti!V:Y,4,FALSE))","v":""}]
[{"$f":"IF(B2622=\"\",\"\",VLOOKUP(B2622,Sifranti!K:L,2,FALSE))","v":""},null,null,null,null,null,null,null,null,"",{"$f":"IF(L2622=\"\",\"\",VLOOKUP(L2622,Sifranti!A:B,2,FALSE))","v":""},null,{"$f":"IF(N2622=\"\",\"\",VLOOKUP(N2622,Sifranti!D:F,3,FALSE))","v":""},null,{"$f":"IF(P2622=\"\",\"\",VLOOKUP(P2622,Sifranti!H:I,2,FALSE))","v":""},null,null,null,null,null,null,null,null,null,null,null,null,null,null,null,null,null,null,null,null,null,null,null,null,null,{"$f":"IF(AN2622=\"\",\"\",IF(LEN(VLOOKUP(AN2622,Sifranti!BY:BZ,2,FALSE))=0,\"\",VLOOKUP(AN2622,Sifranti!BY:BZ,2,FALSE)))","v":""},{"$f":"IF(C2622=\"\",\"\",VLOOKUP(C2622,Sifranti!P:R,2,FALSE))","v":""},"","",{"$f":"IF(C2622=\"\",\"\",VLOOKUP(C2622,Sifranti!P:R,3,FALSE))","v":""},{"$f":"IF(N2622=\"\",\"\",VLOOKUP(N2622,Sifranti!D:F,2,FALSE))","v":""},{"$f":"IF(AK2622=\"\",\"\",VLOOKUP(AK2622,Sifranti!V:Y,2,FALSE))","v":""},{"$f":"IF(AK2622=\"\",\"\",IF(VLOOKUP(AK2622,Sifranti!V:Y,3,FALSE)=\"\",\"\",VLOOKUP(AK2622,Sifranti!V:Y,3,FALSE)))","v":""},{"$f":"IF(AK2622=\"\",\"\",VLOOKUP(AK2622,Sifranti!V:Y,4,FALSE))","v":""}]
[{"$f":"IF(B2639=\"\",\"\",VLOOKUP(B2639,Sifranti!K:L,2,FALSE))","v":""},null,null,null,null,null,null,null,null,"",{"$f":"IF(L2639=\"\",\"\",VLOOKUP(L2639,Sifranti!A:B,2,FALSE))","v":""},null,{"$f":"IF(N2639=\"\",\"\",VLOOKUP(N2639,Sifranti!D:F,3,FALSE))","v":""},null,{"$f":"IF(P2639=\"\",\"\",VLOOKUP(P2639,Sifranti!H:I,2,FALSE))","v":""},null,null,null,null,null,null,null,null,null,null,null,null,null,null,null,null,null,null,null,null,null,null,null,null,null,{"$f":"IF(AN2639=\"\",\"\",IF(LEN(VLOOKUP(AN2639,Sifranti!BY:BZ,2,FALSE))=0,\"\",VLOOKUP(AN2639,Sifranti!BY:BZ,2,FALSE)))","v":""},{"$f":"IF(C2639=\"\",\"\",VLOOKUP(C2639,Sifranti!P:R,2,FALSE))","v":""},"","",{"$f":"IF(C2639=\"\",\"\",VLOOKUP(C2639,Sifranti!P:R,3,FALSE))","v":""},{"$f":"IF(N2639=\"\",\"\",VLOOKUP(N2639,Sifranti!D:F,2,FALSE))","v":""},{"$f":"IF(AK2639=\"\",\"\",VLOOKUP(AK2639,Sifranti!V:Y,2,FALSE))","v":""},{"$f":"IF(AK2639=\"\",\"\",IF(VLOOKUP(AK2639,Sifranti!V:Y,3,FALSE)=\"\",\"\",VLOOKUP(AK2639,Sifranti!V:Y,3,FALSE)))","v":""},{"$f":"IF(AK2639=\"\",\"\",VLOOKUP(AK2639,Sifranti!V:Y,4,FALSE))","v":""}]
[{"$f":"IF(B2649=\"\",\"\",VLOOKUP(B2649,Sifranti!K:L,2,FALSE))","v":""},null,null,null,null,null,null,null,null,"",{"$f":"IF(L2649=\"\",\"\",VLOOKUP(L2649,Sifranti!A:B,2,FALSE))","v":""},null,{"$f":"IF(N2649=\"\",\"\",VLOOKUP(N2649,Sifranti!D:F,3,FALSE))","v":""},null,{"$f":"IF(P2649=\"\",\"\",VLOOKUP(P2649,Sifranti!H:I,2,FALSE))","v":""},null,null,null,null,null,null,null,null,null,null,null,null,null,null,null,null,null,null,null,null,null,null,null,null,null,{"$f":"IF(AN2649=\"\",\"\",IF(LEN(VLOOKUP(AN2649,Sifranti!BY:BZ,2,FALSE))=0,\"\",VLOOKUP(AN2649,Sifranti!BY:BZ,2,FALSE)))","v":""},{"$f":"IF(C2649=\"\",\"\",VLOOKUP(C2649,Sifranti!P:R,2,FALSE))","v":""},"","",{"$f":"IF(C2649=\"\",\"\",VLOOKUP(C2649,Sifranti!P:R,3,FALSE))","v":""},{"$f":"IF(N2649=\"\",\"\",VLOOKUP(N2649,Sifranti!D:F,2,FALSE))","v":""},{"$f":"IF(AK2649=\"\",\"\",VLOOKUP(AK2649,Sifranti!V:Y,2,FALSE))","v":""},{"$f":"IF(AK2649=\"\",\"\",IF(VLOOKUP(AK2649,Sifranti!V:Y,3,FALSE)=\"\",\"\",VLOOKUP(AK2649,Sifranti!V:Y,3,FALSE)))","v":""},{"$f":"IF(AK2649=\"\",\"\",VLOOKUP(AK2649,Sifranti!V:Y,4,FALSE))","v":""}]
[{"$f":"IF(B2658=\"\",\"\",VLOOKUP(B2658,Sifranti!K:L,2,FALSE))","v":""},null,null,null,null,null,null,null,null,"",{"$f":"IF(L2658=\"\",\"\",VLOOKUP(L2658,Sifranti!A:B,2,FALSE))","v":""},null,{"$f":"IF(N2658=\"\",\"\",VLOOKUP(N2658,Sifranti!D:F,3,FALSE))","v":""},null,{"$f":"IF(P2658=\"\",\"\",VLOOKUP(P2658,Sifranti!H:I,2,FALSE))","v":""},null,null,null,null,null,null,null,null,null,null,null,null,null,null,null,null,null,null,null,null,null,null,null,null,null,{"$f":"IF(AN2658=\"\",\"\",IF(LEN(VLOOKUP(AN2658,Sifranti!BY:BZ,2,FALSE))=0,\"\",VLOOKUP(AN2658,Sifranti!BY:BZ,2,FALSE)))","v":""},{"$f":"IF(C2658=\"\",\"\",VLOOKUP(C2658,Sifranti!P:R,2,FALSE))","v":""},"","",{"$f":"IF(C2658=\"\",\"\",VLOOKUP(C2658,Sifranti!P:R,3,FALSE))","v":""},{"$f":"IF(N2658=\"\",\"\",VLOOKUP(N2658,Sifranti!D:F,2,FALSE))","v":""},{"$f":"IF(AK2658=\"\",\"\",VLOOKUP(AK2658,Sifranti!V:Y,2,FALSE))","v":""},{"$f":"IF(AK2658=\"\",\"\",IF(VLOOKUP(AK2658,Sifranti!V:Y,3,FALSE)=\"\",\"\",VLOOKUP(AK2658,Sifranti!V:Y,3,FALSE)))","v":""},{"$f":"IF(AK2658=\"\",\"\",VLOOKUP(AK2658,Sifranti!V:Y,4,FALSE))","v":""}]
[{"$f":"IF(B2671=\"\",\"\",VLOOKUP(B2671,Sifranti!K:L,2,FALSE))","v":""},null,null,null,null,null,null,null,null,"",{"$f":"IF(L2671=\"\",\"\",VLOOKUP(L2671,Sifranti!A:B,2,FALSE))","v":""},null,{"$f":"IF(N2671=\"\",\"\",VLOOKUP(N2671,Sifranti!D:F,3,FALSE))","v":""},null,{"$f":"IF(P2671=\"\",\"\",VLOOKUP(P2671,Sifranti!H:I,2,FALSE))","v":""},null,null,null,null,null,null,null,null,null,null,null,null,null,null,null,null,null,null,null,null,null,null,null,null,null,{"$f":"IF(AN2671=\"\",\"\",IF(LEN(VLOOKUP(AN2671,Sifranti!BY:BZ,2,FALSE))=0,\"\",VLOOKUP(AN2671,Sifranti!BY:BZ,2,FALSE)))","v":""},{"$f":"IF(C2671=\"\",\"\",VLOOKUP(C2671,Sifranti!P:R,2,FALSE))","v":""},"","",{"$f":"IF(C2671=\"\",\"\",VLOOKUP(C2671,Sifranti!P:R,3,FALSE))","v":""},{"$f":"IF(N2671=\"\",\"\",VLOOKUP(N2671,Sifranti!D:F,2,FALSE))","v":""},{"$f":"IF(AK2671=\"\",\"\",VLOOKUP(AK2671,Sifranti!V:Y,2,FALSE))","v":""},{"$f":"IF(AK2671=\"\",\"\",IF(VLOOKUP(AK2671,Sifranti!V:Y,3,FALSE)=\"\",\"\",VLOOKUP(AK2671,Sifranti!V:Y,3,FALSE)))","v":""},{"$f":"IF(AK2671=\"\",\"\",VLOOKUP(AK2671,Sifranti!V:Y,4,FALSE))","v":""}]
[{"$f":"IF(B2681=\"\",\"\",VLOOKUP(B2681,Sifranti!K:L,2,FALSE))","v":""},null,null,null,null,null,null,null,null,"",{"$f":"IF(L2681=\"\",\"\",VLOOKUP(L2681,Sifranti!A:B,2,FALSE))","v":""},null,{"$f":"IF(N2681=\"\",\"\",VLOOKUP(N2681,Sifranti!D:F,3,FALSE))","v":""},null,{"$f":"IF(P2681=\"\",\"\",VLOOKUP(P2681,Sifranti!H:I,2,FALSE))","v":""},null,null,null,null,null,null,null,null,null,null,null,null,null,null,null,null,null,null,null,null,null,null,null,null,null,{"$f":"IF(AN2681=\"\",\"\",IF(LEN(VLOOKUP(AN2681,Sifranti!BY:BZ,2,FALSE))=0,\"\",VLOOKUP(AN2681,Sifranti!BY:BZ,2,FALSE)))","v":""},{"$f":"IF(C2681=\"\",\"\",VLOOKUP(C2681,Sifranti!P:R,2,FALSE))","v":""},"","",{"$f":"IF(C2681=\"\",\"\",VLOOKUP(C2681,Sifranti!P:R,3,FALSE))","v":""},{"$f":"IF(N2681=\"\",\"\",VLOOKUP(N2681,Sifranti!D:F,2,FALSE))","v":""},{"$f":"IF(AK2681=\"\",\"\",VLOOKUP(AK2681,Sifranti!V:Y,2,FALSE))","v":""},{"$f":"IF(AK2681=\"\",\"\",IF(VLOOKUP(AK2681,Sifranti!V:Y,3,FALSE)=\"\",\"\",VLOOKUP(AK2681,Sifranti!V:Y,3,FALSE)))","v":""},{"$f":"IF(AK2681=\"\",\"\",VLOOKUP(AK2681,Sifranti!V:Y,4,FALSE))","v":""}]
[{"$f":"IF(B2687=\"\",\"\",VLOOKUP(B2687,Sifranti!K:L,2,FALSE))","v":""},null,null,null,null,null,null,null,null,"",{"$f":"IF(L2687=\"\",\"\",VLOOKUP(L2687,Sifranti!A:B,2,FALSE))","v":""},null,{"$f":"IF(N2687=\"\",\"\",VLOOKUP(N2687,Sifranti!D:F,3,FALSE))","v":""},null,{"$f":"IF(P2687=\"\",\"\",VLOOKUP(P2687,Sifranti!H:I,2,FALSE))","v":""},null,null,null,null,null,null,null,null,null,null,null,null,null,null,null,null,null,null,null,null,null,null,null,null,null,{"$f":"IF(AN2687=\"\",\"\",IF(LEN(VLOOKUP(AN2687,Sifranti!BY:BZ,2,FALSE))=0,\"\",VLOOKUP(AN2687,Sifranti!BY:BZ,2,FALSE)))","v":""},{"$f":"IF(C2687=\"\",\"\",VLOOKUP(C2687,Sifranti!P:R,2,FALSE))","v":""},"","",{"$f":"IF(C2687=\"\",\"\",VLOOKUP(C2687,Sifranti!P:R,3,FALSE))","v":""},{"$f":"IF(N2687=\"\",\"\",VLOOKUP(N2687,Sifranti!D:F,2,FALSE))","v":""},{"$f":"IF(AK2687=\"\",\"\",VLOOKUP(AK2687,Sifranti!V:Y,2,FALSE))","v":""},{"$f":"IF(AK2687=\"\",\"\",IF(VLOOKUP(AK2687,Sifranti!V:Y,3,FALSE)=\"\",\"\",VLOOKUP(AK2687,Sifranti!V:Y,3,FALSE)))","v":""},{"$f":"IF(AK2687=\"\",\"\",VLOOKUP(AK2687,Sifranti!V:Y,4,FALSE))","v":""}]
[{"$f":"IF(B2697=\"\",\"\",VLOOKUP(B2697,Sifranti!K:L,2,FALSE))","v":""},null,null,null,null,null,null,null,null,"",{"$f":"IF(L2697=\"\",\"\",VLOOKUP(L2697,Sifranti!A:B,2,FALSE))","v":""},null,{"$f":"IF(N2697=\"\",\"\",VLOOKUP(N2697,Sifranti!D:F,3,FALSE))","v":""},null,{"$f":"IF(P2697=\"\",\"\",VLOOKUP(P2697,Sifranti!H:I,2,FALSE))","v":""},null,null,null,null,null,null,null,null,null,null,null,null,null,null,null,null,null,null,null,null,null,null,null,null,null,{"$f":"IF(AN2697=\"\",\"\",IF(LEN(VLOOKUP(AN2697,Sifranti!BY:BZ,2,FALSE))=0,\"\",VLOOKUP(AN2697,Sifranti!BY:BZ,2,FALSE)))","v":""},{"$f":"IF(C2697=\"\",\"\",VLOOKUP(C2697,Sifranti!P:R,2,FALSE))","v":""},"","",{"$f":"IF(C2697=\"\",\"\",VLOOKUP(C2697,Sifranti!P:R,3,FALSE))","v":""},{"$f":"IF(N2697=\"\",\"\",VLOOKUP(N2697,Sifranti!D:F,2,FALSE))","v":""},{"$f":"IF(AK2697=\"\",\"\",VLOOKUP(AK2697,Sifranti!V:Y,2,FALSE))","v":""},{"$f":"IF(AK2697=\"\",\"\",IF(VLOOKUP(AK2697,Sifranti!V:Y,3,FALSE)=\"\",\"\",VLOOKUP(AK2697,Sifranti!V:Y,3,FALSE)))","v":""},{"$f":"IF(AK2697=\"\",\"\",VLOOKUP(AK2697,Sifranti!V:Y,4,FALSE))","v":""}]
[{"$f":"IF(B2713=\"\",\"\",VLOOKUP(B2713,Sifranti!K:L,2,FALSE))","v":""},null,null,null,null,null,null,null,null,"",{"$f":"IF(L2713=\"\",\"\",VLOOKUP(L2713,Sifranti!A:B,2,FALSE))","v":""},null,{"$f":"IF(N2713=\"\",\"\",VLOOKUP(N2713,Sifranti!D:F,3,FALSE))","v":""},null,{"$f":"IF(P2713=\"\",\"\",VLOOKUP(P2713,Sifranti!H:I,2,FALSE))","v":""},null,null,null,null,null,null,null,null,null,null,null,null,null,null,null,null,null,null,null,null,null,null,null,null,null,{"$f":"IF(AN2713=\"\",\"\",IF(LEN(VLOOKUP(AN2713,Sifranti!BY:BZ,2,FALSE))=0,\"\",VLOOKUP(AN2713,Sifranti!BY:BZ,2,FALSE)))","v":""},{"$f":"IF(C2713=\"\",\"\",VLOOKUP(C2713,Sifranti!P:R,2,FALSE))","v":""},"","",{"$f":"IF(C2713=\"\",\"\",VLOOKUP(C2713,Sifranti!P:R,3,FALSE))","v":""},{"$f":"IF(N2713=\"\",\"\",VLOOKUP(N2713,Sifranti!D:F,2,FALSE))","v":""},{"$f":"IF(AK2713=\"\",\"\",VLOOKUP(AK2713,Sifranti!V:Y,2,FALSE))","v":""},{"$f":"IF(AK2713=\"\",\"\",IF(VLOOKUP(AK2713,Sifranti!V:Y,3,FALSE)=\"\",\"\",VLOOKUP(AK2713,Sifranti!V:Y,3,FALSE)))","v":""},{"$f":"IF(AK2713=\"\",\"\",VLOOKUP(AK2713,Sifranti!V:Y,4,FALSE))","v":""}]
[{"$f":"IF(B2719=\"\",\"\",VLOOKUP(B2719,Sifranti!K:L,2,FALSE))","v":""},null,null,null,null,null,null,null,null,"",{"$f":"IF(L2719=\"\",\"\",VLOOKUP(L2719,Sifranti!A:B,2,FALSE))","v":""},null,{"$f":"IF(N2719=\"\",\"\",VLOOKUP(N2719,Sifranti!D:F,3,FALSE))","v":""},null,{"$f":"IF(P2719=\"\",\"\",VLOOKUP(P2719,Sifranti!H:I,2,FALSE))","v":""},null,null,null,null,null,null,null,null,null,null,null,null,null,null,null,null,null,null,null,null,null,null,null,null,null,{"$f":"IF(AN2719=\"\",\"\",IF(LEN(VLOOKUP(AN2719,Sifranti!BY:BZ,2,FALSE))=0,\"\",VLOOKUP(AN2719,Sifranti!BY:BZ,2,FALSE)))","v":""},{"$f":"IF(C2719=\"\",\"\",VLOOKUP(C2719,Sifranti!P:R,2,FALSE))","v":""},"","",{"$f":"IF(C2719=\"\",\"\",VLOOKUP(C2719,Sifranti!P:R,3,FALSE))","v":""},{"$f":"IF(N2719=\"\",\"\",VLOOKUP(N2719,Sifranti!D:F,2,FALSE))","v":""},{"$f":"IF(AK2719=\"\",\"\",VLOOKUP(AK2719,Sifranti!V:Y,2,FALSE))","v":""},{"$f":"IF(AK2719=\"\",\"\",IF(VLOOKUP(AK2719,Sifranti!V:Y,3,FALSE)=\"\",\"\",VLOOKUP(AK2719,Sifranti!V:Y,3,FALSE)))","v":""},{"$f":"IF(AK2719=\"\",\"\",VLOOKUP(AK2719,Sifranti!V:Y,4,FALSE))","v":""}]
[{"$f":"IF(B2729=\"\",\"\",VLOOKUP(B2729,Sifranti!K:L,2,FALSE))","v":""},null,null,null,null,null,null,null,null,"",{"$f":"IF(L2729=\"\",\"\",VLOOKUP(L2729,Sifranti!A:B,2,FALSE))","v":""},null,{"$f":"IF(N2729=\"\",\"\",VLOOKUP(N2729,Sifranti!D:F,3,FALSE))","v":""},null,{"$f":"IF(P2729=\"\",\"\",VLOOKUP(P2729,Sifranti!H:I,2,FALSE))","v":""},null,null,null,null,null,null,null,null,null,null,null,null,null,null,null,null,null,null,null,null,null,null,null,null,null,{"$f":"IF(AN2729=\"\",\"\",IF(LEN(VLOOKUP(AN2729,Sifranti!BY:BZ,2,FALSE))=0,\"\",VLOOKUP(AN2729,Sifranti!BY:BZ,2,FALSE)))","v":""},{"$f":"IF(C2729=\"\",\"\",VLOOKUP(C2729,Sifranti!P:R,2,FALSE))","v":""},"","",{"$f":"IF(C2729=\"\",\"\",VLOOKUP(C2729,Sifranti!P:R,3,FALSE))","v":""},{"$f":"IF(N2729=\"\",\"\",VLOOKUP(N2729,Sifranti!D:F,2,FALSE))","v":""},{"$f":"IF(AK2729=\"\",\"\",VLOOKUP(AK2729,Sifranti!V:Y,2,FALSE))","v":""},{"$f":"IF(AK2729=\"\",\"\",IF(VLOOKUP(AK2729,Sifranti!V:Y,3,FALSE)=\"\",\"\",VLOOKUP(AK2729,Sifranti!V:Y,3,FALSE)))","v":""},{"$f":"IF(AK2729=\"\",\"\",VLOOKUP(AK2729,Sifranti!V:Y,4,FALSE))","v":""}]
[{"$f":"IF(B2742=\"\",\"\",VLOOKUP(B2742,Sifranti!K:L,2,FALSE))","v":""},null,null,null,null,null,null,null,null,"",{"$f":"IF(L2742=\"\",\"\",VLOOKUP(L2742,Sifranti!A:B,2,FALSE))","v":""},null,{"$f":"IF(N2742=\"\",\"\",VLOOKUP(N2742,Sifranti!D:F,3,FALSE))","v":""},null,{"$f":"IF(P2742=\"\",\"\",VLOOKUP(P2742,Sifranti!H:I,2,FALSE))","v":""},null,null,null,null,null,null,null,null,null,null,null,null,null,null,null,null,null,null,null,null,null,null,null,null,null,{"$f":"IF(AN2742=\"\",\"\",IF(LEN(VLOOKUP(AN2742,Sifranti!BY:BZ,2,FALSE))=0,\"\",VLOOKUP(AN2742,Sifranti!BY:BZ,2,FALSE)))","v":""},{"$f":"IF(C2742=\"\",\"\",VLOOKUP(C2742,Sifranti!P:R,2,FALSE))","v":""},"","",{"$f":"IF(C2742=\"\",\"\",VLOOKUP(C2742,Sifranti!P:R,3,FALSE))","v":""},{"$f":"IF(N2742=\"\",\"\",VLOOKUP(N2742,Sifranti!D:F,2,FALSE))","v":""},{"$f":"IF(AK2742=\"\",\"\",VLOOKUP(AK2742,Sifranti!V:Y,2,FALSE))","v":""},{"$f":"IF(AK2742=\"\",\"\",IF(VLOOKUP(AK2742,Sifranti!V:Y,3,FALSE)=\"\",\"\",VLOOKUP(AK2742,Sifranti!V:Y,3,FALSE)))","v":""},{"$f":"IF(AK2742=\"\",\"\",VLOOKUP(AK2742,Sifranti!V:Y,4,FALSE))","v":""}]
[{"$f":"IF(B2751=\"\",\"\",VLOOKUP(B2751,Sifranti!K:L,2,FALSE))","v":""},null,null,null,null,null,null,null,null,"",{"$f":"IF(L2751=\"\",\"\",VLOOKUP(L2751,Sifranti!A:B,2,FALSE))","v":""},null,{"$f":"IF(N2751=\"\",\"\",VLOOKUP(N2751,Sifranti!D:F,3,FALSE))","v":""},null,{"$f":"IF(P2751=\"\",\"\",VLOOKUP(P2751,Sifranti!H:I,2,FALSE))","v":""},null,null,null,null,null,null,null,null,null,null,null,null,null,null,null,null,null,null,null,null,null,null,null,null,null,{"$f":"IF(AN2751=\"\",\"\",IF(LEN(VLOOKUP(AN2751,Sifranti!BY:BZ,2,FALSE))=0,\"\",VLOOKUP(AN2751,Sifranti!BY:BZ,2,FALSE)))","v":""},{"$f":"IF(C2751=\"\",\"\",VLOOKUP(C2751,Sifranti!P:R,2,FALSE))","v":""},"","",{"$f":"IF(C2751=\"\",\"\",VLOOKUP(C2751,Sifranti!P:R,3,FALSE))","v":""},{"$f":"IF(N2751=\"\",\"\",VLOOKUP(N2751,Sifranti!D:F,2,FALSE))","v":""},{"$f":"IF(AK2751=\"\",\"\",VLOOKUP(AK2751,Sifranti!V:Y,2,FALSE))","v":""},{"$f":"IF(AK2751=\"\",\"\",IF(VLOOKUP(AK2751,Sifranti!V:Y,3,FALSE)=\"\",\"\",VLOOKUP(AK2751,Sifranti!V:Y,3,FALSE)))","v":""},{"$f":"IF(AK2751=\"\",\"\",VLOOKUP(AK2751,Sifranti!V:Y,4,FALSE))","v":""}]
[{"$f":"IF(B2761=\"\",\"\",VLOOKUP(B2761,Sifranti!K:L,2,FALSE))","v":""},null,null,null,null,null,null,null,null,"",{"$f":"IF(L2761=\"\",\"\",VLOOKUP(L2761,Sifranti!A:B,2,FALSE))","v":""},null,{"$f":"IF(N2761=\"\",\"\",VLOOKUP(N2761,Sifranti!D:F,3,FALSE))","v":""},null,{"$f":"IF(P2761=\"\",\"\",VLOOKUP(P2761,Sifranti!H:I,2,FALSE))","v":""},null,null,null,null,null,null,null,null,null,null,null,null,null,null,null,null,null,null,null,null,null,null,null,null,null,{"$f":"IF(AN2761=\"\",\"\",IF(LEN(VLOOKUP(AN2761,Sifranti!BY:BZ,2,FALSE))=0,\"\",VLOOKUP(AN2761,Sifranti!BY:BZ,2,FALSE)))","v":""},{"$f":"IF(C2761=\"\",\"\",VLOOKUP(C2761,Sifranti!P:R,2,FALSE))","v":""},"","",{"$f":"IF(C2761=\"\",\"\",VLOOKUP(C2761,Sifranti!P:R,3,FALSE))","v":""},{"$f":"IF(N2761=\"\",\"\",VLOOKUP(N2761,Sifranti!D:F,2,FALSE))","v":""},{"$f":"IF(AK2761=\"\",\"\",VLOOKUP(AK2761,Sifranti!V:Y,2,FALSE))","v":""},{"$f":"IF(AK2761=\"\",\"\",IF(VLOOKUP(AK2761,Sifranti!V:Y,3,FALSE)=\"\",\"\",VLOOKUP(AK2761,Sifranti!V:Y,3,FALSE)))","v":""},{"$f":"IF(AK2761=\"\",\"\",VLOOKUP(AK2761,Sifranti!V:Y,4,FALSE))","v":""}]
[{"$f":"IF(B2778=\"\",\"\",VLOOKUP(B2778,Sifranti!K:L,2,FALSE))","v":""},null,null,null,null,null,null,null,null,"",{"$f":"IF(L2778=\"\",\"\",VLOOKUP(L2778,Sifranti!A:B,2,FALSE))","v":""},null,{"$f":"IF(N2778=\"\",\"\",VLOOKUP(N2778,Sifranti!D:F,3,FALSE))","v":""},null,{"$f":"IF(P2778=\"\",\"\",VLOOKUP(P2778,Sifranti!H:I,2,FALSE))","v":""},null,null,null,null,null,null,null,null,null,null,null,null,null,null,null,null,null,null,null,null,null,null,null,null,null,{"$f":"IF(AN2778=\"\",\"\",IF(LEN(VLOOKUP(AN2778,Sifranti!BY:BZ,2,FALSE))=0,\"\",VLOOKUP(AN2778,Sifranti!BY:BZ,2,FALSE)))","v":""},{"$f":"IF(C2778=\"\",\"\",VLOOKUP(C2778,Sifranti!P:R,2,FALSE))","v":""},"","",{"$f":"IF(C2778=\"\",\"\",VLOOKUP(C2778,Sifranti!P:R,3,FALSE))","v":""},{"$f":"IF(N2778=\"\",\"\",VLOOKUP(N2778,Sifranti!D:F,2,FALSE))","v":""},{"$f":"IF(AK2778=\"\",\"\",VLOOKUP(AK2778,Sifranti!V:Y,2,FALSE))","v":""},{"$f":"IF(AK2778=\"\",\"\",IF(VLOOKUP(AK2778,Sifranti!V:Y,3,FALSE)=\"\",\"\",VLOOKUP(AK2778,Sifranti!V:Y,3,FALSE)))","v":""},{"$f":"IF(AK2778=\"\",\"\",VLOOKUP(AK2778,Sifranti!V:Y,4,FALSE))","v":""}]
[{"$f":"IF(B2781=\"\",\"\",VLOOKUP(B2781,Sifranti!K:L,2,FALSE))","v":""},null,null,null,null,null,null,null,null,"",{"$f":"IF(L2781=\"\",\"\",VLOOKUP(L2781,Sifranti!A:B,2,FALSE))","v":""},null,{"$f":"IF(N2781=\"\",\"\",VLOOKUP(N2781,Sifranti!D:F,3,FALSE))","v":""},null,{"$f":"IF(P2781=\"\",\"\",VLOOKUP(P2781,Sifranti!H:I,2,FALSE))","v":""},null,null,null,null,null,null,null,null,null,null,null,null,null,null,null,null,null,null,null,null,null,null,null,null,null,{"$f":"IF(AN2781=\"\",\"\",IF(LEN(VLOOKUP(AN2781,Sifranti!BY:BZ,2,FALSE))=0,\"\",VLOOKUP(AN2781,Sifranti!BY:BZ,2,FALSE)))","v":""},{"$f":"IF(C2781=\"\",\"\",VLOOKUP(C2781,Sifranti!P:R,2,FALSE))","v":""},"","",{"$f":"IF(C2781=\"\",\"\",VLOOKUP(C2781,Sifranti!P:R,3,FALSE))","v":""},{"$f":"IF(N2781=\"\",\"\",VLOOKUP(N2781,Sifranti!D:F,2,FALSE))","v":""},{"$f":"IF(AK2781=\"\",\"\",VLOOKUP(AK2781,Sifranti!V:Y,2,FALSE))","v":""},{"$f":"IF(AK2781=\"\",\"\",IF(VLOOKUP(AK2781,Sifranti!V:Y,3,FALSE)=\"\",\"\",VLOOKUP(AK2781,Sifranti!V:Y,3,FALSE)))","v":""},{"$f":"IF(AK2781=\"\",\"\",VLOOKUP(AK2781,Sifranti!V:Y,4,FALSE))","v":""}]
[{"$f":"IF(B2793=\"\",\"\",VLOOKUP(B2793,Sifranti!K:L,2,FALSE))","v":""},null,null,null,null,null,null,null,null,"",{"$f":"IF(L2793=\"\",\"\",VLOOKUP(L2793,Sifranti!A:B,2,FALSE))","v":""},null,{"$f":"IF(N2793=\"\",\"\",VLOOKUP(N2793,Sifranti!D:F,3,FALSE))","v":""},null,{"$f":"IF(P2793=\"\",\"\",VLOOKUP(P2793,Sifranti!H:I,2,FALSE))","v":""},null,null,null,null,null,null,null,null,null,null,null,null,null,null,null,null,null,null,null,null,null,null,null,null,null,{"$f":"IF(AN2793=\"\",\"\",IF(LEN(VLOOKUP(AN2793,Sifranti!BY:BZ,2,FALSE))=0,\"\",VLOOKUP(AN2793,Sifranti!BY:BZ,2,FALSE)))","v":""},{"$f":"IF(C2793=\"\",\"\",VLOOKUP(C2793,Sifranti!P:R,2,FALSE))","v":""},"","",{"$f":"IF(C2793=\"\",\"\",VLOOKUP(C2793,Sifranti!P:R,3,FALSE))","v":""},{"$f":"IF(N2793=\"\",\"\",VLOOKUP(N2793,Sifranti!D:F,2,FALSE))","v":""},{"$f":"IF(AK2793=\"\",\"\",VLOOKUP(AK2793,Sifranti!V:Y,2,FALSE))","v":""},{"$f":"IF(AK2793=\"\",\"\",IF(VLOOKUP(AK2793,Sifranti!V:Y,3,FALSE)=\"\",\"\",VLOOKUP(AK2793,Sifranti!V:Y,3,FALSE)))","v":""},{"$f":"IF(AK2793=\"\",\"\",VLOOKUP(AK2793,Sifranti!V:Y,4,FALSE))","v":""}]
[{"$f":"IF(B2810=\"\",\"\",VLOOKUP(B2810,Sifranti!K:L,2,FALSE))","v":""},null,null,null,null,null,null,null,null,"",{"$f":"IF(L2810=\"\",\"\",VLOOKUP(L2810,Sifranti!A:B,2,FALSE))","v":""},null,{"$f":"IF(N2810=\"\",\"\",VLOOKUP(N2810,Sifranti!D:F,3,FALSE))","v":""},null,{"$f":"IF(P2810=\"\",\"\",VLOOKUP(P2810,Sifranti!H:I,2,FALSE))","v":""},null,null,null,null,null,null,null,null,null,null,null,null,null,null,null,null,null,null,null,null,null,null,null,null,null,{"$f":"IF(AN2810=\"\",\"\",IF(LEN(VLOOKUP(AN2810,Sifranti!BY:BZ,2,FALSE))=0,\"\",VLOOKUP(AN2810,Sifranti!BY:BZ,2,FALSE)))","v":""},{"$f":"IF(C2810=\"\",\"\",VLOOKUP(C2810,Sifranti!P:R,2,FALSE))","v":""},"","",{"$f":"IF(C2810=\"\",\"\",VLOOKUP(C2810,Sifranti!P:R,3,FALSE))","v":""},{"$f":"IF(N2810=\"\",\"\",VLOOKUP(N2810,Sifranti!D:F,2,FALSE))","v":""},{"$f":"IF(AK2810=\"\",\"\",VLOOKUP(AK2810,Sifranti!V:Y,2,FALSE))","v":""},{"$f":"IF(AK2810=\"\",\"\",IF(VLOOKUP(AK2810,Sifranti!V:Y,3,FALSE)=\"\",\"\",VLOOKUP(AK2810,Sifranti!V:Y,3,FALSE)))","v":""},{"$f":"IF(AK2810=\"\",\"\",VLOOKUP(AK2810,Sifranti!V:Y,4,FALSE))","v":""}]
[{"$f":"IF(B2820=\"\",\"\",VLOOKUP(B2820,Sifranti!K:L,2,FALSE))","v":""},null,null,null,null,null,null,null,null,"",{"$f":"IF(L2820=\"\",\"\",VLOOKUP(L2820,Sifranti!A:B,2,FALSE))","v":""},null,{"$f":"IF(N2820=\"\",\"\",VLOOKUP(N2820,Sifranti!D:F,3,FALSE))","v":""},null,{"$f":"IF(P2820=\"\",\"\",VLOOKUP(P2820,Sifranti!H:I,2,FALSE))","v":""},null,null,null,null,null,null,null,null,null,null,null,null,null,null,null,null,null,null,null,null,null,null,null,null,null,{"$f":"IF(AN2820=\"\",\"\",IF(LEN(VLOOKUP(AN2820,Sifranti!BY:BZ,2,FALSE))=0,\"\",VLOOKUP(AN2820,Sifranti!BY:BZ,2,FALSE)))","v":""},{"$f":"IF(C2820=\"\",\"\",VLOOKUP(C2820,Sifranti!P:R,2,FALSE))","v":""},"","",{"$f":"IF(C2820=\"\",\"\",VLOOKUP(C2820,Sifranti!P:R,3,FALSE))","v":""},{"$f":"IF(N2820=\"\",\"\",VLOOKUP(N2820,Sifranti!D:F,2,FALSE))","v":""},{"$f":"IF(AK2820=\"\",\"\",VLOOKUP(AK2820,Sifranti!V:Y,2,FALSE))","v":""},{"$f":"IF(AK2820=\"\",\"\",IF(VLOOKUP(AK2820,Sifranti!V:Y,3,FALSE)=\"\",\"\",VLOOKUP(AK2820,Sifranti!V:Y,3,FALSE)))","v":""},{"$f":"IF(AK2820=\"\",\"\",VLOOKUP(AK2820,Sifranti!V:Y,4,FALSE))","v":""}]
[{"$f":"IF(B2826=\"\",\"\",VLOOKUP(B2826,Sifranti!K:L,2,FALSE))","v":""},null,null,null,null,null,null,null,null,"",{"$f":"IF(L2826=\"\",\"\",VLOOKUP(L2826,Sifranti!A:B,2,FALSE))","v":""},null,{"$f":"IF(N2826=\"\",\"\",VLOOKUP(N2826,Sifranti!D:F,3,FALSE))","v":""},null,{"$f":"IF(P2826=\"\",\"\",VLOOKUP(P2826,Sifranti!H:I,2,FALSE))","v":""},null,null,null,null,null,null,null,null,null,null,null,null,null,null,null,null,null,null,null,null,null,null,null,null,null,{"$f":"IF(AN2826=\"\",\"\",IF(LEN(VLOOKUP(AN2826,Sifranti!BY:BZ,2,FALSE))=0,\"\",VLOOKUP(AN2826,Sifranti!BY:BZ,2,FALSE)))","v":""},{"$f":"IF(C2826=\"\",\"\",VLOOKUP(C2826,Sifranti!P:R,2,FALSE))","v":""},"","",{"$f":"IF(C2826=\"\",\"\",VLOOKUP(C2826,Sifranti!P:R,3,FALSE))","v":""},{"$f":"IF(N2826=\"\",\"\",VLOOKUP(N2826,Sifranti!D:F,2,FALSE))","v":""},{"$f":"IF(AK2826=\"\",\"\",VLOOKUP(AK2826,Sifranti!V:Y,2,FALSE))","v":""},{"$f":"IF(AK2826=\"\",\"\",IF(VLOOKUP(AK2826,Sifranti!V:Y,3,FALSE)=\"\",\"\",VLOOKUP(AK2826,Sifranti!V:Y,3,FALSE)))","v":""},{"$f":"IF(AK2826=\"\",\"\",VLOOKUP(AK2826,Sifranti!V:Y,4,FALSE))","v":""}]
[{"$f":"IF(B2842=\"\",\"\",VLOOKUP(B2842,Sifranti!K:L,2,FALSE))","v":""},null,null,null,null,null,null,null,null,"",{"$f":"IF(L2842=\"\",\"\",VLOOKUP(L2842,Sifranti!A:B,2,FALSE))","v":""},null,{"$f":"IF(N2842=\"\",\"\",VLOOKUP(N2842,Sifranti!D:F,3,FALSE))","v":""},null,{"$f":"IF(P2842=\"\",\"\",VLOOKUP(P2842,Sifranti!H:I,2,FALSE))","v":""},null,null,null,null,null,null,null,null,null,null,null,null,null,null,null,null,null,null,null,null,null,null,null,null,null,{"$f":"IF(AN2842=\"\",\"\",IF(LEN(VLOOKUP(AN2842,Sifranti!BY:BZ,2,FALSE))=0,\"\",VLOOKUP(AN2842,Sifranti!BY:BZ,2,FALSE)))","v":""},{"$f":"IF(C2842=\"\",\"\",VLOOKUP(C2842,Sifranti!P:R,2,FALSE))","v":""},"","",{"$f":"IF(C2842=\"\",\"\",VLOOKUP(C2842,Sifranti!P:R,3,FALSE))","v":""},{"$f":"IF(N2842=\"\",\"\",VLOOKUP(N2842,Sifranti!D:F,2,FALSE))","v":""},{"$f":"IF(AK2842=\"\",\"\",VLOOKUP(AK2842,Sifranti!V:Y,2,FALSE))","v":""},{"$f":"IF(AK2842=\"\",\"\",IF(VLOOKUP(AK2842,Sifranti!V:Y,3,FALSE)=\"\",\"\",VLOOKUP(AK2842,Sifranti!V:Y,3,FALSE)))","v":""},{"$f":"IF(AK2842=\"\",\"\",VLOOKUP(AK2842,Sifranti!V:Y,4,FALSE))","v":""}]
[{"$f":"IF(B2852=\"\",\"\",VLOOKUP(B2852,Sifranti!K:L,2,FALSE))","v":""},null,null,null,null,null,null,null,null,"",{"$f":"IF(L2852=\"\",\"\",VLOOKUP(L2852,Sifranti!A:B,2,FALSE))","v":""},null,{"$f":"IF(N2852=\"\",\"\",VLOOKUP(N2852,Sifranti!D:F,3,FALSE))","v":""},null,{"$f":"IF(P2852=\"\",\"\",VLOOKUP(P2852,Sifranti!H:I,2,FALSE))","v":""},null,null,null,null,null,null,null,null,null,null,null,null,null,null,null,null,null,null,null,null,null,null,null,null,null,{"$f":"IF(AN2852=\"\",\"\",IF(LEN(VLOOKUP(AN2852,Sifranti!BY:BZ,2,FALSE))=0,\"\",VLOOKUP(AN2852,Sifranti!BY:BZ,2,FALSE)))","v":""},{"$f":"IF(C2852=\"\",\"\",VLOOKUP(C2852,Sifranti!P:R,2,FALSE))","v":""},"","",{"$f":"IF(C2852=\"\",\"\",VLOOKUP(C2852,Sifranti!P:R,3,FALSE))","v":""},{"$f":"IF(N2852=\"\",\"\",VLOOKUP(N2852,Sifranti!D:F,2,FALSE))","v":""},{"$f":"IF(AK2852=\"\",\"\",VLOOKUP(AK2852,Sifranti!V:Y,2,FALSE))","v":""},{"$f":"IF(AK2852=\"\",\"\",IF(VLOOKUP(AK2852,Sifranti!V:Y,3,FALSE)=\"\",\"\",VLOOKUP(AK2852,Sifranti!V:Y,3,FALSE)))","v":""},{"$f":"IF(AK2852=\"\",\"\",VLOOKUP(AK2852,Sifranti!V:Y,4,FALSE))","v":""}]
[{"$f":"IF(B2858=\"\",\"\",VLOOKUP(B2858,Sifranti!K:L,2,FALSE))","v":""},null,null,null,null,null,null,null,null,"",{"$f":"IF(L2858=\"\",\"\",VLOOKUP(L2858,Sifranti!A:B,2,FALSE))","v":""},null,{"$f":"IF(N2858=\"\",\"\",VLOOKUP(N2858,Sifranti!D:F,3,FALSE))","v":""},null,{"$f":"IF(P2858=\"\",\"\",VLOOKUP(P2858,Sifranti!H:I,2,FALSE))","v":""},null,null,null,null,null,null,null,null,null,null,null,null,null,null,null,null,null,null,null,null,null,null,null,null,null,{"$f":"IF(AN2858=\"\",\"\",IF(LEN(VLOOKUP(AN2858,Sifranti!BY:BZ,2,FALSE))=0,\"\",VLOOKUP(AN2858,Sifranti!BY:BZ,2,FALSE)))","v":""},{"$f":"IF(C2858=\"\",\"\",VLOOKUP(C2858,Sifranti!P:R,2,FALSE))","v":""},"","",{"$f":"IF(C2858=\"\",\"\",VLOOKUP(C2858,Sifranti!P:R,3,FALSE))","v":""},{"$f":"IF(N2858=\"\",\"\",VLOOKUP(N2858,Sifranti!D:F,2,FALSE))","v":""},{"$f":"IF(AK2858=\"\",\"\",VLOOKUP(AK2858,Sifranti!V:Y,2,FALSE))","v":""},{"$f":"IF(AK2858=\"\",\"\",IF(VLOOKUP(AK2858,Sifranti!V:Y,3,FALSE)=\"\",\"\",VLOOKUP(AK2858,Sifranti!V:Y,3,FALSE)))","v":""},{"$f":"IF(AK2858=\"\",\"\",VLOOKUP(AK2858,Sifranti!V:Y,4,FALSE))","v":""}]
[{"$f":"IF(B2871=\"\",\"\",VLOOKUP(B2871,Sifranti!K:L,2,FALSE))","v":""},null,null,null,null,null,null,null,null,"",{"$f":"IF(L2871=\"\",\"\",VLOOKUP(L2871,Sifranti!A:B,2,FALSE))","v":""},null,{"$f":"IF(N2871=\"\",\"\",VLOOKUP(N2871,Sifranti!D:F,3,FALSE))","v":""},null,{"$f":"IF(P2871=\"\",\"\",VLOOKUP(P2871,Sifranti!H:I,2,FALSE))","v":""},null,null,null,null,null,null,null,null,null,null,null,null,null,null,null,null,null,null,null,null,null,null,null,null,null,{"$f":"IF(AN2871=\"\",\"\",IF(LEN(VLOOKUP(AN2871,Sifranti!BY:BZ,2,FALSE))=0,\"\",VLOOKUP(AN2871,Sifranti!BY:BZ,2,FALSE)))","v":""},{"$f":"IF(C2871=\"\",\"\",VLOOKUP(C2871,Sifranti!P:R,2,FALSE))","v":""},"","",{"$f":"IF(C2871=\"\",\"\",VLOOKUP(C2871,Sifranti!P:R,3,FALSE))","v":""},{"$f":"IF(N2871=\"\",\"\",VLOOKUP(N2871,Sifranti!D:F,2,FALSE))","v":""},{"$f":"IF(AK2871=\"\",\"\",VLOOKUP(AK2871,Sifranti!V:Y,2,FALSE))","v":""},{"$f":"IF(AK2871=\"\",\"\",IF(VLOOKUP(AK2871,Sifranti!V:Y,3,FALSE)=\"\",\"\",VLOOKUP(AK2871,Sifranti!V:Y,3,FALSE)))","v":""},{"$f":"IF(AK2871=\"\",\"\",VLOOKUP(AK2871,Sifranti!V:Y,4,FALSE))","v":""}]
[{"$f":"IF(B2884=\"\",\"\",VLOOKUP(B2884,Sifranti!K:L,2,FALSE))","v":""},null,null,null,null,null,null,null,null,"",{"$f":"IF(L2884=\"\",\"\",VLOOKUP(L2884,Sifranti!A:B,2,FALSE))","v":""},null,{"$f":"IF(N2884=\"\",\"\",VLOOKUP(N2884,Sifranti!D:F,3,FALSE))","v":""},null,{"$f":"IF(P2884=\"\",\"\",VLOOKUP(P2884,Sifranti!H:I,2,FALSE))","v":""},null,null,null,null,null,null,null,null,null,null,null,null,null,null,null,null,null,null,null,null,null,null,null,null,null,{"$f":"IF(AN2884=\"\",\"\",IF(LEN(VLOOKUP(AN2884,Sifranti!BY:BZ,2,FALSE))=0,\"\",VLOOKUP(AN2884,Sifranti!BY:BZ,2,FALSE)))","v":""},{"$f":"IF(C2884=\"\",\"\",VLOOKUP(C2884,Sifranti!P:R,2,FALSE))","v":""},"","",{"$f":"IF(C2884=\"\",\"\",VLOOKUP(C2884,Sifranti!P:R,3,FALSE))","v":""},{"$f":"IF(N2884=\"\",\"\",VLOOKUP(N2884,Sifranti!D:F,2,FALSE))","v":""},{"$f":"IF(AK2884=\"\",\"\",VLOOKUP(AK2884,Sifranti!V:Y,2,FALSE))","v":""},{"$f":"IF(AK2884=\"\",\"\",IF(VLOOKUP(AK2884,Sifranti!V:Y,3,FALSE)=\"\",\"\",VLOOKUP(AK2884,Sifranti!V:Y,3,FALSE)))","v":""},{"$f":"IF(AK2884=\"\",\"\",VLOOKUP(AK2884,Sifranti!V:Y,4,FALSE))","v":""}]
[{"$f":"IF(B2890=\"\",\"\",VLOOKUP(B2890,Sifranti!K:L,2,FALSE))","v":""},null,null,null,null,null,null,null,null,"",{"$f":"IF(L2890=\"\",\"\",VLOOKUP(L2890,Sifranti!A:B,2,FALSE))","v":""},null,{"$f":"IF(N2890=\"\",\"\",VLOOKUP(N2890,Sifranti!D:F,3,FALSE))","v":""},null,{"$f":"IF(P2890=\"\",\"\",VLOOKUP(P2890,Sifranti!H:I,2,FALSE))","v":""},null,null,null,null,null,null,null,null,null,null,null,null,null,null,null,null,null,null,null,null,null,null,null,null,null,{"$f":"IF(AN2890=\"\",\"\",IF(LEN(VLOOKUP(AN2890,Sifranti!BY:BZ,2,FALSE))=0,\"\",VLOOKUP(AN2890,Sifranti!BY:BZ,2,FALSE)))","v":""},{"$f":"IF(C2890=\"\",\"\",VLOOKUP(C2890,Sifranti!P:R,2,FALSE))","v":""},"","",{"$f":"IF(C2890=\"\",\"\",VLOOKUP(C2890,Sifranti!P:R,3,FALSE))","v":""},{"$f":"IF(N2890=\"\",\"\",VLOOKUP(N2890,Sifranti!D:F,2,FALSE))","v":""},{"$f":"IF(AK2890=\"\",\"\",VLOOKUP(AK2890,Sifranti!V:Y,2,FALSE))","v":""},{"$f":"IF(AK2890=\"\",\"\",IF(VLOOKUP(AK2890,Sifranti!V:Y,3,FALSE)=\"\",\"\",VLOOKUP(AK2890,Sifranti!V:Y,3,FALSE)))","v":""},{"$f":"IF(AK2890=\"\",\"\",VLOOKUP(AK2890,Sifranti!V:Y,4,FALSE))","v":""}]
[{"$f":"IF(B2900=\"\",\"\",VLOOKUP(B2900,Sifranti!K:L,2,FALSE))","v":""},null,null,null,null,null,null,null,null,"",{"$f":"IF(L2900=\"\",\"\",VLOOKUP(L2900,Sifranti!A:B,2,FALSE))","v":""},null,{"$f":"IF(N2900=\"\",\"\",VLOOKUP(N2900,Sifranti!D:F,3,FALSE))","v":""},null,{"$f":"IF(P2900=\"\",\"\",VLOOKUP(P2900,Sifranti!H:I,2,FALSE))","v":""},null,null,null,null,null,null,null,null,null,null,null,null,null,null,null,null,null,null,null,null,null,null,null,null,null,{"$f":"IF(AN2900=\"\",\"\",IF(LEN(VLOOKUP(AN2900,Sifranti!BY:BZ,2,FALSE))=0,\"\",VLOOKUP(AN2900,Sifranti!BY:BZ,2,FALSE)))","v":""},{"$f":"IF(C2900=\"\",\"\",VLOOKUP(C2900,Sifranti!P:R,2,FALSE))","v":""},"","",{"$f":"IF(C2900=\"\",\"\",VLOOKUP(C2900,Sifranti!P:R,3,FALSE))","v":""},{"$f":"IF(N2900=\"\",\"\",VLOOKUP(N2900,Sifranti!D:F,2,FALSE))","v":""},{"$f":"IF(AK2900=\"\",\"\",VLOOKUP(AK2900,Sifranti!V:Y,2,FALSE))","v":""},{"$f":"IF(AK2900=\"\",\"\",IF(VLOOKUP(AK2900,Sifranti!V:Y,3,FALSE)=\"\",\"\",VLOOKUP(AK2900,Sifranti!V:Y,3,FALSE)))","v":""},{"$f":"IF(AK2900=\"\",\"\",VLOOKUP(AK2900,Sifranti!V:Y,4,FALSE))","v":""}]
[{"$f":"IF(B2910=\"\",\"\",VLOOKUP(B2910,Sifranti!K:L,2,FALSE))","v":""},null,null,null,null,null,null,null,null,"",{"$f":"IF(L2910=\"\",\"\",VLOOKUP(L2910,Sifranti!A:B,2,FALSE))","v":""},null,{"$f":"IF(N2910=\"\",\"\",VLOOKUP(N2910,Sifranti!D:F,3,FALSE))","v":""},null,{"$f":"IF(P2910=\"\",\"\",VLOOKUP(P2910,Sifranti!H:I,2,FALSE))","v":""},null,null,null,null,null,null,null,null,null,null,null,null,null,null,null,null,null,null,null,null,null,null,null,null,null,{"$f":"IF(AN2910=\"\",\"\",IF(LEN(VLOOKUP(AN2910,Sifranti!BY:BZ,2,FALSE))=0,\"\",VLOOKUP(AN2910,Sifranti!BY:BZ,2,FALSE)))","v":""},{"$f":"IF(C2910=\"\",\"\",VLOOKUP(C2910,Sifranti!P:R,2,FALSE))","v":""},"","",{"$f":"IF(C2910=\"\",\"\",VLOOKUP(C2910,Sifranti!P:R,3,FALSE))","v":""},{"$f":"IF(N2910=\"\",\"\",VLOOKUP(N2910,Sifranti!D:F,2,FALSE))","v":""},{"$f":"IF(AK2910=\"\",\"\",VLOOKUP(AK2910,Sifranti!V:Y,2,FALSE))","v":""},{"$f":"IF(AK2910=\"\",\"\",IF(VLOOKUP(AK2910,Sifranti!V:Y,3,FALSE)=\"\",\"\",VLOOKUP(AK2910,Sifranti!V:Y,3,FALSE)))","v":""},{"$f":"IF(AK2910=\"\",\"\",VLOOKUP(AK2910,Sifranti!V:Y,4,FALSE))","v":""}]
[{"$f":"IF(B2922=\"\",\"\",VLOOKUP(B2922,Sifranti!K:L,2,FALSE))","v":""},null,null,null,null,null,null,null,null,"",{"$f":"IF(L2922=\"\",\"\",VLOOKUP(L2922,Sifranti!A:B,2,FALSE))","v":""},null,{"$f":"IF(N2922=\"\",\"\",VLOOKUP(N2922,Sifranti!D:F,3,FALSE))","v":""},null,{"$f":"IF(P2922=\"\",\"\",VLOOKUP(P2922,Sifranti!H:I,2,FALSE))","v":""},null,null,null,null,null,null,null,null,null,null,null,null,null,null,null,null,null,null,null,null,null,null,null,null,null,{"$f":"IF(AN2922=\"\",\"\",IF(LEN(VLOOKUP(AN2922,Sifranti!BY:BZ,2,FALSE))=0,\"\",VLOOKUP(AN2922,Sifranti!BY:BZ,2,FALSE)))","v":""},{"$f":"IF(C2922=\"\",\"\",VLOOKUP(C2922,Sifranti!P:R,2,FALSE))","v":""},"","",{"$f":"IF(C2922=\"\",\"\",VLOOKUP(C2922,Sifranti!P:R,3,FALSE))","v":""},{"$f":"IF(N2922=\"\",\"\",VLOOKUP(N2922,Sifranti!D:F,2,FALSE))","v":""},{"$f":"IF(AK2922=\"\",\"\",VLOOKUP(AK2922,Sifranti!V:Y,2,FALSE))","v":""},{"$f":"IF(AK2922=\"\",\"\",IF(VLOOKUP(AK2922,Sifranti!V:Y,3,FALSE)=\"\",\"\",VLOOKUP(AK2922,Sifranti!V:Y,3,FALSE)))","v":""},{"$f":"IF(AK2922=\"\",\"\",VLOOKUP(AK2922,Sifranti!V:Y,4,FALSE))","v":""}]
[{"$f":"IF(B2932=\"\",\"\",VLOOKUP(B2932,Sifranti!K:L,2,FALSE))","v":""},null,null,null,null,null,null,null,null,"",{"$f":"IF(L2932=\"\",\"\",VLOOKUP(L2932,Sifranti!A:B,2,FALSE))","v":""},null,{"$f":"IF(N2932=\"\",\"\",VLOOKUP(N2932,Sifranti!D:F,3,FALSE))","v":""},null,{"$f":"IF(P2932=\"\",\"\",VLOOKUP(P2932,Sifranti!H:I,2,FALSE))","v":""},null,null,null,null,null,null,null,null,null,null,null,null,null,null,null,null,null,null,null,null,null,null,null,null,null,{"$f":"IF(AN2932=\"\",\"\",IF(LEN(VLOOKUP(AN2932,Sifranti!BY:BZ,2,FALSE))=0,\"\",VLOOKUP(AN2932,Sifranti!BY:BZ,2,FALSE)))","v":""},{"$f":"IF(C2932=\"\",\"\",VLOOKUP(C2932,Sifranti!P:R,2,FALSE))","v":""},"","",{"$f":"IF(C2932=\"\",\"\",VLOOKUP(C2932,Sifranti!P:R,3,FALSE))","v":""},{"$f":"IF(N2932=\"\",\"\",VLOOKUP(N2932,Sifranti!D:F,2,FALSE))","v":""},{"$f":"IF(AK2932=\"\",\"\",VLOOKUP(AK2932,Sifranti!V:Y,2,FALSE))","v":""},{"$f":"IF(AK2932=\"\",\"\",IF(VLOOKUP(AK2932,Sifranti!V:Y,3,FALSE)=\"\",\"\",VLOOKUP(AK2932,Sifranti!V:Y,3,FALSE)))","v":""},{"$f":"IF(AK2932=\"\",\"\",VLOOKUP(AK2932,Sifranti!V:Y,4,FALSE))","v":""}]
[{"$f":"IF(B2949=\"\",\"\",VLOOKUP(B2949,Sifranti!K:L,2,FALSE))","v":""},null,null,null,null,null,null,null,null,"",{"$f":"IF(L2949=\"\",\"\",VLOOKUP(L2949,Sifranti!A:B,2,FALSE))","v":""},null,{"$f":"IF(N2949=\"\",\"\",VLOOKUP(N2949,Sifranti!D:F,3,FALSE))","v":""},null,{"$f":"IF(P2949=\"\",\"\",VLOOKUP(P2949,Sifranti!H:I,2,FALSE))","v":""},null,null,null,null,null,null,null,null,null,null,null,null,null,null,null,null,null,null,null,null,null,null,null,null,null,{"$f":"IF(AN2949=\"\",\"\",IF(LEN(VLOOKUP(AN2949,Sifranti!BY:BZ,2,FALSE))=0,\"\",VLOOKUP(AN2949,Sifranti!BY:BZ,2,FALSE)))","v":""},{"$f":"IF(C2949=\"\",\"\",VLOOKUP(C2949,Sifranti!P:R,2,FALSE))","v":""},"","",{"$f":"IF(C2949=\"\",\"\",VLOOKUP(C2949,Sifranti!P:R,3,FALSE))","v":""},{"$f":"IF(N2949=\"\",\"\",VLOOKUP(N2949,Sifranti!D:F,2,FALSE))","v":""},{"$f":"IF(AK2949=\"\",\"\",VLOOKUP(AK2949,Sifranti!V:Y,2,FALSE))","v":""},{"$f":"IF(AK2949=\"\",\"\",IF(VLOOKUP(AK2949,Sifranti!V:Y,3,FALSE)=\"\",\"\",VLOOKUP(AK2949,Sifranti!V:Y,3,FALSE)))","v":""},{"$f":"IF(AK2949=\"\",\"\",VLOOKUP(AK2949,Sifranti!V:Y,4,FALSE))","v":""}]
[{"$f":"IF(B2955=\"\",\"\",VLOOKUP(B2955,Sifranti!K:L,2,FALSE))","v":""},null,null,null,null,null,null,null,null,"",{"$f":"IF(L2955=\"\",\"\",VLOOKUP(L2955,Sifranti!A:B,2,FALSE))","v":""},null,{"$f":"IF(N2955=\"\",\"\",VLOOKUP(N2955,Sifranti!D:F,3,FALSE))","v":""},null,{"$f":"IF(P2955=\"\",\"\",VLOOKUP(P2955,Sifranti!H:I,2,FALSE))","v":""},null,null,null,null,null,null,null,null,null,null,null,null,null,null,null,null,null,null,null,null,null,null,null,null,null,{"$f":"IF(AN2955=\"\",\"\",IF(LEN(VLOOKUP(AN2955,Sifranti!BY:BZ,2,FALSE))=0,\"\",VLOOKUP(AN2955,Sifranti!BY:BZ,2,FALSE)))","v":""},{"$f":"IF(C2955=\"\",\"\",VLOOKUP(C2955,Sifranti!P:R,2,FALSE))","v":""},"","",{"$f":"IF(C2955=\"\",\"\",VLOOKUP(C2955,Sifranti!P:R,3,FALSE))","v":""},{"$f":"IF(N2955=\"\",\"\",VLOOKUP(N2955,Sifranti!D:F,2,FALSE))","v":""},{"$f":"IF(AK2955=\"\",\"\",VLOOKUP(AK2955,Sifranti!V:Y,2,FALSE))","v":""},{"$f":"IF(AK2955=\"\",\"\",IF(VLOOKUP(AK2955,Sifranti!V:Y,3,FALSE)=\"\",\"\",VLOOKUP(AK2955,Sifranti!V:Y,3,FALSE)))","v":""},{"$f":"IF(AK2955=\"\",\"\",VLOOKUP(AK2955,Sifranti!V:Y,4,FALSE))","v":""}]
[{"$f":"IF(B2964=\"\",\"\",VLOOKUP(B2964,Sifranti!K:L,2,FALSE))","v":""},null,null,null,null,null,null,null,null,"",{"$f":"IF(L2964=\"\",\"\",VLOOKUP(L2964,Sifranti!A:B,2,FALSE))","v":""},null,{"$f":"IF(N2964=\"\",\"\",VLOOKUP(N2964,Sifranti!D:F,3,FALSE))","v":""},null,{"$f":"IF(P2964=\"\",\"\",VLOOKUP(P2964,Sifranti!H:I,2,FALSE))","v":""},null,null,null,null,null,null,null,null,null,null,null,null,null,null,null,null,null,null,null,null,null,null,null,null,null,{"$f":"IF(AN2964=\"\",\"\",IF(LEN(VLOOKUP(AN2964,Sifranti!BY:BZ,2,FALSE))=0,\"\",VLOOKUP(AN2964,Sifranti!BY:BZ,2,FALSE)))","v":""},{"$f":"IF(C2964=\"\",\"\",VLOOKUP(C2964,Sifranti!P:R,2,FALSE))","v":""},"","",{"$f":"IF(C2964=\"\",\"\",VLOOKUP(C2964,Sifranti!P:R,3,FALSE))","v":""},{"$f":"IF(N2964=\"\",\"\",VLOOKUP(N2964,Sifranti!D:F,2,FALSE))","v":""},{"$f":"IF(AK2964=\"\",\"\",VLOOKUP(AK2964,Sifranti!V:Y,2,FALSE))","v":""},{"$f":"IF(AK2964=\"\",\"\",IF(VLOOKUP(AK2964,Sifranti!V:Y,3,FALSE)=\"\",\"\",VLOOKUP(AK2964,Sifranti!V:Y,3,FALSE)))","v":""},{"$f":"IF(AK2964=\"\",\"\",VLOOKUP(AK2964,Sifranti!V:Y,4,FALSE))","v":""}]
[{"$f":"IF(B2981=\"\",\"\",VLOOKUP(B2981,Sifranti!K:L,2,FALSE))","v":""},null,null,null,null,null,null,null,null,"",{"$f":"IF(L2981=\"\",\"\",VLOOKUP(L2981,Sifranti!A:B,2,FALSE))","v":""},null,{"$f":"IF(N2981=\"\",\"\",VLOOKUP(N2981,Sifranti!D:F,3,FALSE))","v":""},null,{"$f":"IF(P2981=\"\",\"\",VLOOKUP(P2981,Sifranti!H:I,2,FALSE))","v":""},null,null,null,null,null,null,null,null,null,null,null,null,null,null,null,null,null,null,null,null,null,null,null,null,null,{"$f":"IF(AN2981=\"\",\"\",IF(LEN(VLOOKUP(AN2981,Sifranti!BY:BZ,2,FALSE))=0,\"\",VLOOKUP(AN2981,Sifranti!BY:BZ,2,FALSE)))","v":""},{"$f":"IF(C2981=\"\",\"\",VLOOKUP(C2981,Sifranti!P:R,2,FALSE))","v":""},"","",{"$f":"IF(C2981=\"\",\"\",VLOOKUP(C2981,Sifranti!P:R,3,FALSE))","v":""},{"$f":"IF(N2981=\"\",\"\",VLOOKUP(N2981,Sifranti!D:F,2,FALSE))","v":""},{"$f":"IF(AK2981=\"\",\"\",VLOOKUP(AK2981,Sifranti!V:Y,2,FALSE))","v":""},{"$f":"IF(AK2981=\"\",\"\",IF(VLOOKUP(AK2981,Sifranti!V:Y,3,FALSE)=\"\",\"\",VLOOKUP(AK2981,Sifranti!V:Y,3,FALSE)))","v":""},{"$f":"IF(AK2981=\"\",\"\",VLOOKUP(AK2981,Sifranti!V:Y,4,FALSE))","v":""}]
[{"$f":"IF(B2991=\"\",\"\",VLOOKUP(B2991,Sifranti!K:L,2,FALSE))","v":""},null,null,null,null,null,null,null,null,"",{"$f":"IF(L2991=\"\",\"\",VLOOKUP(L2991,Sifranti!A:B,2,FALSE))","v":""},null,{"$f":"IF(N2991=\"\",\"\",VLOOKUP(N2991,Sifranti!D:F,3,FALSE))","v":""},null,{"$f":"IF(P2991=\"\",\"\",VLOOKUP(P2991,Sifranti!H:I,2,FALSE))","v":""},null,null,null,null,null,null,null,null,null,null,null,null,null,null,null,null,null,null,null,null,null,null,null,null,null,{"$f":"IF(AN2991=\"\",\"\",IF(LEN(VLOOKUP(AN2991,Sifranti!BY:BZ,2,FALSE))=0,\"\",VLOOKUP(AN2991,Sifranti!BY:BZ,2,FALSE)))","v":""},{"$f":"IF(C2991=\"\",\"\",VLOOKUP(C2991,Sifranti!P:R,2,FALSE))","v":""},"","",{"$f":"IF(C2991=\"\",\"\",VLOOKUP(C2991,Sifranti!P:R,3,FALSE))","v":""},{"$f":"IF(N2991=\"\",\"\",VLOOKUP(N2991,Sifranti!D:F,2,FALSE))","v":""},{"$f":"IF(AK2991=\"\",\"\",VLOOKUP(AK2991,Sifranti!V:Y,2,FALSE))","v":""},{"$f":"IF(AK2991=\"\",\"\",IF(VLOOKUP(AK2991,Sifranti!V:Y,3,FALSE)=\"\",\"\",VLOOKUP(AK2991,Sifranti!V:Y,3,FALSE)))","v":""},{"$f":"IF(AK2991=\"\",\"\",VLOOKUP(AK2991,Sifranti!V:Y,4,FALSE))","v":""}]
[{"$f":"IF(B3004=\"\",\"\",VLOOKUP(B3004,Sifranti!K:L,2,FALSE))","v":""},null,null,null,null,null,null,null,null,"",{"$f":"IF(L3004=\"\",\"\",VLOOKUP(L3004,Sifranti!A:B,2,FALSE))","v":""},null,{"$f":"IF(N3004=\"\",\"\",VLOOKUP(N3004,Sifranti!D:F,3,FALSE))","v":""},null,{"$f":"IF(P3004=\"\",\"\",VLOOKUP(P3004,Sifranti!H:I,2,FALSE))","v":""},null,null,null,null,null,null,null,null,null,null,null,null,null,null,null,null,null,null,null,null,null,null,null,null,null,{"$f":"IF(AN3004=\"\",\"\",IF(LEN(VLOOKUP(AN3004,Sifranti!BY:BZ,2,FALSE))=0,\"\",VLOOKUP(AN3004,Sifranti!BY:BZ,2,FALSE)))","v":""},{"$f":"IF(C3004=\"\",\"\",VLOOKUP(C3004,Sifranti!P:R,2,FALSE))","v":""},"","",{"$f":"IF(C3004=\"\",\"\",VLOOKUP(C3004,Sifranti!P:R,3,FALSE))","v":""},{"$f":"IF(N3004=\"\",\"\",VLOOKUP(N3004,Sifranti!D:F,2,FALSE))","v":""},{"$f":"IF(AK3004=\"\",\"\",VLOOKUP(AK3004,Sifranti!V:Y,2,FALSE))","v":""},{"$f":"IF(AK3004=\"\",\"\",IF(VLOOKUP(AK3004,Sifranti!V:Y,3,FALSE)=\"\",\"\",VLOOKUP(AK3004,Sifranti!V:Y,3,FALSE)))","v":""},{"$f":"IF(AK3004=\"\",\"\",VLOOKUP(AK3004,Sifranti!V:Y,4,FALSE))","v":""}]
[{"$f":"IF(B3013=\"\",\"\",VLOOKUP(B3013,Sifranti!K:L,2,FALSE))","v":""},null,null,null,null,null,null,null,null,"",{"$f":"IF(L3013=\"\",\"\",VLOOKUP(L3013,Sifranti!A:B,2,FALSE))","v":""},null,{"$f":"IF(N3013=\"\",\"\",VLOOKUP(N3013,Sifranti!D:F,3,FALSE))","v":""},null,{"$f":"IF(P3013=\"\",\"\",VLOOKUP(P3013,Sifranti!H:I,2,FALSE))","v":""},null,null,null,null,null,null,null,null,null,null,null,null,null,null,null,null,null,null,null,null,null,null,null,null,null,{"$f":"IF(AN3013=\"\",\"\",IF(LEN(VLOOKUP(AN3013,Sifranti!BY:BZ,2,FALSE))=0,\"\",VLOOKUP(AN3013,Sifranti!BY:BZ,2,FALSE)))","v":""},{"$f":"IF(C3013=\"\",\"\",VLOOKUP(C3013,Sifranti!P:R,2,FALSE))","v":""},"","",{"$f":"IF(C3013=\"\",\"\",VLOOKUP(C3013,Sifranti!P:R,3,FALSE))","v":""},{"$f":"IF(N3013=\"\",\"\",VLOOKUP(N3013,Sifranti!D:F,2,FALSE))","v":""},{"$f":"IF(AK3013=\"\",\"\",VLOOKUP(AK3013,Sifranti!V:Y,2,FALSE))","v":""},{"$f":"IF(AK3013=\"\",\"\",IF(VLOOKUP(AK3013,Sifranti!V:Y,3,FALSE)=\"\",\"\",VLOOKUP(AK3013,Sifranti!V:Y,3,FALSE)))","v":""},{"$f":"IF(AK3013=\"\",\"\",VLOOKUP(AK3013,Sifranti!V:Y,4,FALSE))","v":""}]
[{"$f":"IF(B3023=\"\",\"\",VLOOKUP(B3023,Sifranti!K:L,2,FALSE))","v":""},null,null,null,null,null,null,null,null,"",{"$f":"IF(L3023=\"\",\"\",VLOOKUP(L3023,Sifranti!A:B,2,FALSE))","v":""},null,{"$f":"IF(N3023=\"\",\"\",VLOOKUP(N3023,Sifranti!D:F,3,FALSE))","v":""},null,{"$f":"IF(P3023=\"\",\"\",VLOOKUP(P3023,Sifranti!H:I,2,FALSE))","v":""},null,null,null,null,null,null,null,null,null,null,null,null,null,null,null,null,null,null,null,null,null,null,null,null,null,{"$f":"IF(AN3023=\"\",\"\",IF(LEN(VLOOKUP(AN3023,Sifranti!BY:BZ,2,FALSE))=0,\"\",VLOOKUP(AN3023,Sifranti!BY:BZ,2,FALSE)))","v":""},{"$f":"IF(C3023=\"\",\"\",VLOOKUP(C3023,Sifranti!P:R,2,FALSE))","v":""},"","",{"$f":"IF(C3023=\"\",\"\",VLOOKUP(C3023,Sifranti!P:R,3,FALSE))","v":""},{"$f":"IF(N3023=\"\",\"\",VLOOKUP(N3023,Sifranti!D:F,2,FALSE))","v":""},{"$f":"IF(AK3023=\"\",\"\",VLOOKUP(AK3023,Sifranti!V:Y,2,FALSE))","v":""},{"$f":"IF(AK3023=\"\",\"\",IF(VLOOKUP(AK3023,Sifranti!V:Y,3,FALSE)=\"\",\"\",VLOOKUP(AK3023,Sifranti!V:Y,3,FALSE)))","v":""},{"$f":"IF(AK3023=\"\",\"\",VLOOKUP(AK3023,Sifranti!V:Y,4,FALSE))","v":""}]
[{"$f":"IF(B3029=\"\",\"\",VLOOKUP(B3029,Sifranti!K:L,2,FALSE))","v":""},null,null,null,null,null,null,null,null,"",{"$f":"IF(L3029=\"\",\"\",VLOOKUP(L3029,Sifranti!A:B,2,FALSE))","v":""},null,{"$f":"IF(N3029=\"\",\"\",VLOOKUP(N3029,Sifranti!D:F,3,FALSE))","v":""},null,{"$f":"IF(P3029=\"\",\"\",VLOOKUP(P3029,Sifranti!H:I,2,FALSE))","v":""},null,null,null,null,null,null,null,null,null,null,null,null,null,null,null,null,null,null,null,null,null,null,null,null,null,{"$f":"IF(AN3029=\"\",\"\",IF(LEN(VLOOKUP(AN3029,Sifranti!BY:BZ,2,FALSE))=0,\"\",VLOOKUP(AN3029,Sifranti!BY:BZ,2,FALSE)))","v":""},{"$f":"IF(C3029=\"\",\"\",VLOOKUP(C3029,Sifranti!P:R,2,FALSE))","v":""},"","",{"$f":"IF(C3029=\"\",\"\",VLOOKUP(C3029,Sifranti!P:R,3,FALSE))","v":""},{"$f":"IF(N3029=\"\",\"\",VLOOKUP(N3029,Sifranti!D:F,2,FALSE))","v":""},{"$f":"IF(AK3029=\"\",\"\",VLOOKUP(AK3029,Sifranti!V:Y,2,FALSE))","v":""},{"$f":"IF(AK3029=\"\",\"\",IF(VLOOKUP(AK3029,Sifranti!V:Y,3,FALSE)=\"\",\"\",VLOOKUP(AK3029,Sifranti!V:Y,3,FALSE)))","v":""},{"$f":"IF(AK3029=\"\",\"\",VLOOKUP(AK3029,Sifranti!V:Y,4,FALSE))","v":""}]
[{"$f":"IF(B3039=\"\",\"\",VLOOKUP(B3039,Sifranti!K:L,2,FALSE))","v":""},null,null,null,null,null,null,null,null,"",{"$f":"IF(L3039=\"\",\"\",VLOOKUP(L3039,Sifranti!A:B,2,FALSE))","v":""},null,{"$f":"IF(N3039=\"\",\"\",VLOOKUP(N3039,Sifranti!D:F,3,FALSE))","v":""},null,{"$f":"IF(P3039=\"\",\"\",VLOOKUP(P3039,Sifranti!H:I,2,FALSE))","v":""},null,null,null,null,null,null,null,null,null,null,null,null,null,null,null,null,null,null,null,null,null,null,null,null,null,{"$f":"IF(AN3039=\"\",\"\",IF(LEN(VLOOKUP(AN3039,Sifranti!BY:BZ,2,FALSE))=0,\"\",VLOOKUP(AN3039,Sifranti!BY:BZ,2,FALSE)))","v":""},{"$f":"IF(C3039=\"\",\"\",VLOOKUP(C3039,Sifranti!P:R,2,FALSE))","v":""},"","",{"$f":"IF(C3039=\"\",\"\",VLOOKUP(C3039,Sifranti!P:R,3,FALSE))","v":""},{"$f":"IF(N3039=\"\",\"\",VLOOKUP(N3039,Sifranti!D:F,2,FALSE))","v":""},{"$f":"IF(AK3039=\"\",\"\",VLOOKUP(AK3039,Sifranti!V:Y,2,FALSE))","v":""},{"$f":"IF(AK3039=\"\",\"\",IF(VLOOKUP(AK3039,Sifranti!V:Y,3,FALSE)=\"\",\"\",VLOOKUP(AK3039,Sifranti!V:Y,3,FALSE)))","v":""},{"$f":"IF(AK3039=\"\",\"\",VLOOKUP(AK3039,Sifranti!V:Y,4,FALSE))","v":""}]
[{"$f":"IF(B3055=\"\",\"\",VLOOKUP(B3055,Sifranti!K:L,2,FALSE))","v":""},null,null,null,null,null,null,null,null,"",{"$f":"IF(L3055=\"\",\"\",VLOOKUP(L3055,Sifranti!A:B,2,FALSE))","v":""},null,{"$f":"IF(N3055=\"\",\"\",VLOOKUP(N3055,Sifranti!D:F,3,FALSE))","v":""},null,{"$f":"IF(P3055=\"\",\"\",VLOOKUP(P3055,Sifranti!H:I,2,FALSE))","v":""},null,null,null,null,null,null,null,null,null,null,null,null,null,null,null,null,null,null,null,null,null,null,null,null,null,{"$f":"IF(AN3055=\"\",\"\",IF(LEN(VLOOKUP(AN3055,Sifranti!BY:BZ,2,FALSE))=0,\"\",VLOOKUP(AN3055,Sifranti!BY:BZ,2,FALSE)))","v":""},{"$f":"IF(C3055=\"\",\"\",VLOOKUP(C3055,Sifranti!P:R,2,FALSE))","v":""},"","",{"$f":"IF(C3055=\"\",\"\",VLOOKUP(C3055,Sifranti!P:R,3,FALSE))","v":""},{"$f":"IF(N3055=\"\",\"\",VLOOKUP(N3055,Sifranti!D:F,2,FALSE))","v":""},{"$f":"IF(AK3055=\"\",\"\",VLOOKUP(AK3055,Sifranti!V:Y,2,FALSE))","v":""},{"$f":"IF(AK3055=\"\",\"\",IF(VLOOKUP(AK3055,Sifranti!V:Y,3,FALSE)=\"\",\"\",VLOOKUP(AK3055,Sifranti!V:Y,3,FALSE)))","v":""},{"$f":"IF(AK3055=\"\",\"\",VLOOKUP(AK3055,Sifranti!V:Y,4,FALSE))","v":""}]
[{"$f":"IF(B3061=\"\",\"\",VLOOKUP(B3061,Sifranti!K:L,2,FALSE))","v":""},null,null,null,null,null,null,null,null,"",{"$f":"IF(L3061=\"\",\"\",VLOOKUP(L3061,Sifranti!A:B,2,FALSE))","v":""},null,{"$f":"IF(N3061=\"\",\"\",VLOOKUP(N3061,Sifranti!D:F,3,FALSE))","v":""},null,{"$f":"IF(P3061=\"\",\"\",VLOOKUP(P3061,Sifranti!H:I,2,FALSE))","v":""},null,null,null,null,null,null,null,null,null,null,null,null,null,null,null,null,null,null,null,null,null,null,null,null,null,{"$f":"IF(AN3061=\"\",\"\",IF(LEN(VLOOKUP(AN3061,Sifranti!BY:BZ,2,FALSE))=0,\"\",VLOOKUP(AN3061,Sifranti!BY:BZ,2,FALSE)))","v":""},{"$f":"IF(C3061=\"\",\"\",VLOOKUP(C3061,Sifranti!P:R,2,FALSE))","v":""},"","",{"$f":"IF(C3061=\"\",\"\",VLOOKUP(C3061,Sifranti!P:R,3,FALSE))","v":""},{"$f":"IF(N3061=\"\",\"\",VLOOKUP(N3061,Sifranti!D:F,2,FALSE))","v":""},{"$f":"IF(AK3061=\"\",\"\",VLOOKUP(AK3061,Sifranti!V:Y,2,FALSE))","v":""},{"$f":"IF(AK3061=\"\",\"\",IF(VLOOKUP(AK3061,Sifranti!V:Y,3,FALSE)=\"\",\"\",VLOOKUP(AK3061,Sifranti!V:Y,3,FALSE)))","v":""},{"$f":"IF(AK3061=\"\",\"\",VLOOKUP(AK3061,Sifranti!V:Y,4,FALSE))","v":""}]
[{"$f":"IF(B3071=\"\",\"\",VLOOKUP(B3071,Sifranti!K:L,2,FALSE))","v":""},null,null,null,null,null,null,null,null,"",{"$f":"IF(L3071=\"\",\"\",VLOOKUP(L3071,Sifranti!A:B,2,FALSE))","v":""},null,{"$f":"IF(N3071=\"\",\"\",VLOOKUP(N3071,Sifranti!D:F,3,FALSE))","v":""},null,{"$f":"IF(P3071=\"\",\"\",VLOOKUP(P3071,Sifranti!H:I,2,FALSE))","v":""},null,null,null,null,null,null,null,null,null,null,null,null,null,null,null,null,null,null,null,null,null,null,null,null,null,{"$f":"IF(AN3071=\"\",\"\",IF(LEN(VLOOKUP(AN3071,Sifranti!BY:BZ,2,FALSE))=0,\"\",VLOOKUP(AN3071,Sifranti!BY:BZ,2,FALSE)))","v":""},{"$f":"IF(C3071=\"\",\"\",VLOOKUP(C3071,Sifranti!P:R,2,FALSE))","v":""},"","",{"$f":"IF(C3071=\"\",\"\",VLOOKUP(C3071,Sifranti!P:R,3,FALSE))","v":""},{"$f":"IF(N3071=\"\",\"\",VLOOKUP(N3071,Sifranti!D:F,2,FALSE))","v":""},{"$f":"IF(AK3071=\"\",\"\",VLOOKUP(AK3071,Sifranti!V:Y,2,FALSE))","v":""},{"$f":"IF(AK3071=\"\",\"\",IF(VLOOKUP(AK3071,Sifranti!V:Y,3,FALSE)=\"\",\"\",VLOOKUP(AK3071,Sifranti!V:Y,3,FALSE)))","v":""},{"$f":"IF(AK3071=\"\",\"\",VLOOKUP(AK3071,Sifranti!V:Y,4,FALSE))","v":""}]
[{"$f":"IF(B3088=\"\",\"\",VLOOKUP(B3088,Sifranti!K:L,2,FALSE))","v":""},null,null,null,null,null,null,null,null,"",{"$f":"IF(L3088=\"\",\"\",VLOOKUP(L3088,Sifranti!A:B,2,FALSE))","v":""},null,{"$f":"IF(N3088=\"\",\"\",VLOOKUP(N3088,Sifranti!D:F,3,FALSE))","v":""},null,{"$f":"IF(P3088=\"\",\"\",VLOOKUP(P3088,Sifranti!H:I,2,FALSE))","v":""},null,null,null,null,null,null,null,null,null,null,null,null,null,null,null,null,null,null,null,null,null,null,null,null,null,{"$f":"IF(AN3088=\"\",\"\",IF(LEN(VLOOKUP(AN3088,Sifranti!BY:BZ,2,FALSE))=0,\"\",VLOOKUP(AN3088,Sifranti!BY:BZ,2,FALSE)))","v":""},{"$f":"IF(C3088=\"\",\"\",VLOOKUP(C3088,Sifranti!P:R,2,FALSE))","v":""},"","",{"$f":"IF(C3088=\"\",\"\",VLOOKUP(C3088,Sifranti!P:R,3,FALSE))","v":""},{"$f":"IF(N3088=\"\",\"\",VLOOKUP(N3088,Sifranti!D:F,2,FALSE))","v":""},{"$f":"IF(AK3088=\"\",\"\",VLOOKUP(AK3088,Sifranti!V:Y,2,FALSE))","v":""},{"$f":"IF(AK3088=\"\",\"\",IF(VLOOKUP(AK3088,Sifranti!V:Y,3,FALSE)=\"\",\"\",VLOOKUP(AK3088,Sifranti!V:Y,3,FALSE)))","v":""},{"$f":"IF(AK3088=\"\",\"\",VLOOKUP(AK3088,Sifranti!V:Y,4,FALSE))","v":""}]
[{"$f":"IF(B3097=\"\",\"\",VLOOKUP(B3097,Sifranti!K:L,2,FALSE))","v":""},null,null,null,null,null,null,null,null,"",{"$f":"IF(L3097=\"\",\"\",VLOOKUP(L3097,Sifranti!A:B,2,FALSE))","v":""},null,{"$f":"IF(N3097=\"\",\"\",VLOOKUP(N3097,Sifranti!D:F,3,FALSE))","v":""},null,{"$f":"IF(P3097=\"\",\"\",VLOOKUP(P3097,Sifranti!H:I,2,FALSE))","v":""},null,null,null,null,null,null,null,null,null,null,null,null,null,null,null,null,null,null,null,null,null,null,null,null,null,{"$f":"IF(AN3097=\"\",\"\",IF(LEN(VLOOKUP(AN3097,Sifranti!BY:BZ,2,FALSE))=0,\"\",VLOOKUP(AN3097,Sifranti!BY:BZ,2,FALSE)))","v":""},{"$f":"IF(C3097=\"\",\"\",VLOOKUP(C3097,Sifranti!P:R,2,FALSE))","v":""},"","",{"$f":"IF(C3097=\"\",\"\",VLOOKUP(C3097,Sifranti!P:R,3,FALSE))","v":""},{"$f":"IF(N3097=\"\",\"\",VLOOKUP(N3097,Sifranti!D:F,2,FALSE))","v":""},{"$f":"IF(AK3097=\"\",\"\",VLOOKUP(AK3097,Sifranti!V:Y,2,FALSE))","v":""},{"$f":"IF(AK3097=\"\",\"\",IF(VLOOKUP(AK3097,Sifranti!V:Y,3,FALSE)=\"\",\"\",VLOOKUP(AK3097,Sifranti!V:Y,3,FALSE)))","v":""},{"$f":"IF(AK3097=\"\",\"\",VLOOKUP(AK3097,Sifranti!V:Y,4,FALSE))","v":""}]
[{"$f":"IF(B3103=\"\",\"\",VLOOKUP(B3103,Sifranti!K:L,2,FALSE))","v":""},null,null,null,null,null,null,null,null,"",{"$f":"IF(L3103=\"\",\"\",VLOOKUP(L3103,Sifranti!A:B,2,FALSE))","v":""},null,{"$f":"IF(N3103=\"\",\"\",VLOOKUP(N3103,Sifranti!D:F,3,FALSE))","v":""},null,{"$f":"IF(P3103=\"\",\"\",VLOOKUP(P3103,Sifranti!H:I,2,FALSE))","v":""},null,null,null,null,null,null,null,null,null,null,null,null,null,null,null,null,null,null,null,null,null,null,null,null,null,{"$f":"IF(AN3103=\"\",\"\",IF(LEN(VLOOKUP(AN3103,Sifranti!BY:BZ,2,FALSE))=0,\"\",VLOOKUP(AN3103,Sifranti!BY:BZ,2,FALSE)))","v":""},{"$f":"IF(C3103=\"\",\"\",VLOOKUP(C3103,Sifranti!P:R,2,FALSE))","v":""},"","",{"$f":"IF(C3103=\"\",\"\",VLOOKUP(C3103,Sifranti!P:R,3,FALSE))","v":""},{"$f":"IF(N3103=\"\",\"\",VLOOKUP(N3103,Sifranti!D:F,2,FALSE))","v":""},{"$f":"IF(AK3103=\"\",\"\",VLOOKUP(AK3103,Sifranti!V:Y,2,FALSE))","v":""},{"$f":"IF(AK3103=\"\",\"\",IF(VLOOKUP(AK3103,Sifranti!V:Y,3,FALSE)=\"\",\"\",VLOOKUP(AK3103,Sifranti!V:Y,3,FALSE)))","v":""},{"$f":"IF(AK3103=\"\",\"\",VLOOKUP(AK3103,Sifranti!V:Y,4,FALSE))","v":""}]
[{"$f":"IF(B3120=\"\",\"\",VLOOKUP(B3120,Sifranti!K:L,2,FALSE))","v":""},null,null,null,null,null,null,null,null,"",{"$f":"IF(L3120=\"\",\"\",VLOOKUP(L3120,Sifranti!A:B,2,FALSE))","v":""},null,{"$f":"IF(N3120=\"\",\"\",VLOOKUP(N3120,Sifranti!D:F,3,FALSE))","v":""},null,{"$f":"IF(P3120=\"\",\"\",VLOOKUP(P3120,Sifranti!H:I,2,FALSE))","v":""},null,null,null,null,null,null,null,null,null,null,null,null,null,null,null,null,null,null,null,null,null,null,null,null,null,{"$f":"IF(AN3120=\"\",\"\",IF(LEN(VLOOKUP(AN3120,Sifranti!BY:BZ,2,FALSE))=0,\"\",VLOOKUP(AN3120,Sifranti!BY:BZ,2,FALSE)))","v":""},{"$f":"IF(C3120=\"\",\"\",VLOOKUP(C3120,Sifranti!P:R,2,FALSE))","v":""},"","",{"$f":"IF(C3120=\"\",\"\",VLOOKUP(C3120,Sifranti!P:R,3,FALSE))","v":""},{"$f":"IF(N3120=\"\",\"\",VLOOKUP(N3120,Sifranti!D:F,2,FALSE))","v":""},{"$f":"IF(AK3120=\"\",\"\",VLOOKUP(AK3120,Sifranti!V:Y,2,FALSE))","v":""},{"$f":"IF(AK3120=\"\",\"\",IF(VLOOKUP(AK3120,Sifranti!V:Y,3,FALSE)=\"\",\"\",VLOOKUP(AK3120,Sifranti!V:Y,3,FALSE)))","v":""},{"$f":"IF(AK3120=\"\",\"\",VLOOKUP(AK3120,Sifranti!V:Y,4,FALSE))","v":""}]
[{"$f":"IF(B3133=\"\",\"\",VLOOKUP(B3133,Sifranti!K:L,2,FALSE))","v":""},null,null,null,null,null,null,null,null,"",{"$f":"IF(L3133=\"\",\"\",VLOOKUP(L3133,Sifranti!A:B,2,FALSE))","v":""},null,{"$f":"IF(N3133=\"\",\"\",VLOOKUP(N3133,Sifranti!D:F,3,FALSE))","v":""},null,{"$f":"IF(P3133=\"\",\"\",VLOOKUP(P3133,Sifranti!H:I,2,FALSE))","v":""},null,null,null,null,null,null,null,null,null,null,null,null,null,null,null,null,null,null,null,null,null,null,null,null,null,{"$f":"IF(AN3133=\"\",\"\",IF(LEN(VLOOKUP(AN3133,Sifranti!BY:BZ,2,FALSE))=0,\"\",VLOOKUP(AN3133,Sifranti!BY:BZ,2,FALSE)))","v":""},{"$f":"IF(C3133=\"\",\"\",VLOOKUP(C3133,Sifranti!P:R,2,FALSE))","v":""},"","",{"$f":"IF(C3133=\"\",\"\",VLOOKUP(C3133,Sifranti!P:R,3,FALSE))","v":""},{"$f":"IF(N3133=\"\",\"\",VLOOKUP(N3133,Sifranti!D:F,2,FALSE))","v":""},{"$f":"IF(AK3133=\"\",\"\",VLOOKUP(AK3133,Sifranti!V:Y,2,FALSE))","v":""},{"$f":"IF(AK3133=\"\",\"\",IF(VLOOKUP(AK3133,Sifranti!V:Y,3,FALSE)=\"\",\"\",VLOOKUP(AK3133,Sifranti!V:Y,3,FALSE)))","v":""},{"$f":"IF(AK3133=\"\",\"\",VLOOKUP(AK3133,Sifranti!V:Y,4,FALSE))","v":""}]
[{"$f":"IF(B3135=\"\",\"\",VLOOKUP(B3135,Sifranti!K:L,2,FALSE))","v":""},null,null,null,null,null,null,null,null,"",{"$f":"IF(L3135=\"\",\"\",VLOOKUP(L3135,Sifranti!A:B,2,FALSE))","v":""},null,{"$f":"IF(N3135=\"\",\"\",VLOOKUP(N3135,Sifranti!D:F,3,FALSE))","v":""},null,{"$f":"IF(P3135=\"\",\"\",VLOOKUP(P3135,Sifranti!H:I,2,FALSE))","v":""},null,null,null,null,null,null,null,null,null,null,null,null,null,null,null,null,null,null,null,null,null,null,null,null,null,{"$f":"IF(AN3135=\"\",\"\",IF(LEN(VLOOKUP(AN3135,Sifranti!BY:BZ,2,FALSE))=0,\"\",VLOOKUP(AN3135,Sifranti!BY:BZ,2,FALSE)))","v":""},{"$f":"IF(C3135=\"\",\"\",VLOOKUP(C3135,Sifranti!P:R,2,FALSE))","v":""},"","",{"$f":"IF(C3135=\"\",\"\",VLOOKUP(C3135,Sifranti!P:R,3,FALSE))","v":""},{"$f":"IF(N3135=\"\",\"\",VLOOKUP(N3135,Sifranti!D:F,2,FALSE))","v":""},{"$f":"IF(AK3135=\"\",\"\",VLOOKUP(AK3135,Sifranti!V:Y,2,FALSE))","v":""},{"$f":"IF(AK3135=\"\",\"\",IF(VLOOKUP(AK3135,Sifranti!V:Y,3,FALSE)=\"\",\"\",VLOOKUP(AK3135,Sifranti!V:Y,3,FALSE)))","v":""},{"$f":"IF(AK3135=\"\",\"\",VLOOKUP(AK3135,Sifranti!V:Y,4,FALSE))","v":""}]
[{"$f":"IF(B3152=\"\",\"\",VLOOKUP(B3152,Sifranti!K:L,2,FALSE))","v":""},null,null,null,null,null,null,null,null,"",{"$f":"IF(L3152=\"\",\"\",VLOOKUP(L3152,Sifranti!A:B,2,FALSE))","v":""},null,{"$f":"IF(N3152=\"\",\"\",VLOOKUP(N3152,Sifranti!D:F,3,FALSE))","v":""},null,{"$f":"IF(P3152=\"\",\"\",VLOOKUP(P3152,Sifranti!H:I,2,FALSE))","v":""},null,null,null,null,null,null,null,null,null,null,null,null,null,null,null,null,null,null,null,null,null,null,null,null,null,{"$f":"IF(AN3152=\"\",\"\",IF(LEN(VLOOKUP(AN3152,Sifranti!BY:BZ,2,FALSE))=0,\"\",VLOOKUP(AN3152,Sifranti!BY:BZ,2,FALSE)))","v":""},{"$f":"IF(C3152=\"\",\"\",VLOOKUP(C3152,Sifranti!P:R,2,FALSE))","v":""},"","",{"$f":"IF(C3152=\"\",\"\",VLOOKUP(C3152,Sifranti!P:R,3,FALSE))","v":""},{"$f":"IF(N3152=\"\",\"\",VLOOKUP(N3152,Sifranti!D:F,2,FALSE))","v":""},{"$f":"IF(AK3152=\"\",\"\",VLOOKUP(AK3152,Sifranti!V:Y,2,FALSE))","v":""},{"$f":"IF(AK3152=\"\",\"\",IF(VLOOKUP(AK3152,Sifranti!V:Y,3,FALSE)=\"\",\"\",VLOOKUP(AK3152,Sifranti!V:Y,3,FALSE)))","v":""},{"$f":"IF(AK3152=\"\",\"\",VLOOKUP(AK3152,Sifranti!V:Y,4,FALSE))","v":""}]
[{"$f":"IF(B3162=\"\",\"\",VLOOKUP(B3162,Sifranti!K:L,2,FALSE))","v":""},null,null,null,null,null,null,null,null,"",{"$f":"IF(L3162=\"\",\"\",VLOOKUP(L3162,Sifranti!A:B,2,FALSE))","v":""},null,{"$f":"IF(N3162=\"\",\"\",VLOOKUP(N3162,Sifranti!D:F,3,FALSE))","v":""},null,{"$f":"IF(P3162=\"\",\"\",VLOOKUP(P3162,Sifranti!H:I,2,FALSE))","v":""},null,null,null,null,null,null,null,null,null,null,null,null,null,null,null,null,null,null,null,null,null,null,null,null,null,{"$f":"IF(AN3162=\"\",\"\",IF(LEN(VLOOKUP(AN3162,Sifranti!BY:BZ,2,FALSE))=0,\"\",VLOOKUP(AN3162,Sifranti!BY:BZ,2,FALSE)))","v":""},{"$f":"IF(C3162=\"\",\"\",VLOOKUP(C3162,Sifranti!P:R,2,FALSE))","v":""},"","",{"$f":"IF(C3162=\"\",\"\",VLOOKUP(C3162,Sifranti!P:R,3,FALSE))","v":""},{"$f":"IF(N3162=\"\",\"\",VLOOKUP(N3162,Sifranti!D:F,2,FALSE))","v":""},{"$f":"IF(AK3162=\"\",\"\",VLOOKUP(AK3162,Sifranti!V:Y,2,FALSE))","v":""},{"$f":"IF(AK3162=\"\",\"\",IF(VLOOKUP(AK3162,Sifranti!V:Y,3,FALSE)=\"\",\"\",VLOOKUP(AK3162,Sifranti!V:Y,3,FALSE)))","v":""},{"$f":"IF(AK3162=\"\",\"\",VLOOKUP(AK3162,Sifranti!V:Y,4,FALSE))","v":""}]
[{"$f":"IF(B3172=\"\",\"\",VLOOKUP(B3172,Sifranti!K:L,2,FALSE))","v":""},null,null,null,null,null,null,null,null,"",{"$f":"IF(L3172=\"\",\"\",VLOOKUP(L3172,Sifranti!A:B,2,FALSE))","v":""},null,{"$f":"IF(N3172=\"\",\"\",VLOOKUP(N3172,Sifranti!D:F,3,FALSE))","v":""},null,{"$f":"IF(P3172=\"\",\"\",VLOOKUP(P3172,Sifranti!H:I,2,FALSE))","v":""},null,null,null,null,null,null,null,null,null,null,null,null,null,null,null,null,null,null,null,null,null,null,null,null,null,{"$f":"IF(AN3172=\"\",\"\",IF(LEN(VLOOKUP(AN3172,Sifranti!BY:BZ,2,FALSE))=0,\"\",VLOOKUP(AN3172,Sifranti!BY:BZ,2,FALSE)))","v":""},{"$f":"IF(C3172=\"\",\"\",VLOOKUP(C3172,Sifranti!P:R,2,FALSE))","v":""},"","",{"$f":"IF(C3172=\"\",\"\",VLOOKUP(C3172,Sifranti!P:R,3,FALSE))","v":""},{"$f":"IF(N3172=\"\",\"\",VLOOKUP(N3172,Sifranti!D:F,2,FALSE))","v":""},{"$f":"IF(AK3172=\"\",\"\",VLOOKUP(AK3172,Sifranti!V:Y,2,FALSE))","v":""},{"$f":"IF(AK3172=\"\",\"\",IF(VLOOKUP(AK3172,Sifranti!V:Y,3,FALSE)=\"\",\"\",VLOOKUP(AK3172,Sifranti!V:Y,3,FALSE)))","v":""},{"$f":"IF(AK3172=\"\",\"\",VLOOKUP(AK3172,Sifranti!V:Y,4,FALSE))","v":""}]
[{"$f":"IF(B3177=\"\",\"\",VLOOKUP(B3177,Sifranti!K:L,2,FALSE))","v":""},null,null,null,null,null,null,null,null,"",{"$f":"IF(L3177=\"\",\"\",VLOOKUP(L3177,Sifranti!A:B,2,FALSE))","v":""},null,{"$f":"IF(N3177=\"\",\"\",VLOOKUP(N3177,Sifranti!D:F,3,FALSE))","v":""},null,{"$f":"IF(P3177=\"\",\"\",VLOOKUP(P3177,Sifranti!H:I,2,FALSE))","v":""},null,null,null,null,null,null,null,null,null,null,null,null,null,null,null,null,null,null,null,null,null,null,null,null,null,{"$f":"IF(AN3177=\"\",\"\",IF(LEN(VLOOKUP(AN3177,Sifranti!BY:BZ,2,FALSE))=0,\"\",VLOOKUP(AN3177,Sifranti!BY:BZ,2,FALSE)))","v":""},{"$f":"IF(C3177=\"\",\"\",VLOOKUP(C3177,Sifranti!P:R,2,FALSE))","v":""},"","",{"$f":"IF(C3177=\"\",\"\",VLOOKUP(C3177,Sifranti!P:R,3,FALSE))","v":""},{"$f":"IF(N3177=\"\",\"\",VLOOKUP(N3177,Sifranti!D:F,2,FALSE))","v":""},{"$f":"IF(AK3177=\"\",\"\",VLOOKUP(AK3177,Sifranti!V:Y,2,FALSE))","v":""},{"$f":"IF(AK3177=\"\",\"\",IF(VLOOKUP(AK3177,Sifranti!V:Y,3,FALSE)=\"\",\"\",VLOOKUP(AK3177,Sifranti!V:Y,3,FALSE)))","v":""},{"$f":"IF(AK3177=\"\",\"\",VLOOKUP(AK3177,Sifranti!V:Y,4,FALSE))","v":""}]
[{"$f":"IF(B3194=\"\",\"\",VLOOKUP(B3194,Sifranti!K:L,2,FALSE))","v":""},null,null,null,null,null,null,null,null,"",{"$f":"IF(L3194=\"\",\"\",VLOOKUP(L3194,Sifranti!A:B,2,FALSE))","v":""},null,{"$f":"IF(N3194=\"\",\"\",VLOOKUP(N3194,Sifranti!D:F,3,FALSE))","v":""},null,{"$f":"IF(P3194=\"\",\"\",VLOOKUP(P3194,Sifranti!H:I,2,FALSE))","v":""},null,null,null,null,null,null,null,null,null,null,null,null,null,null,null,null,null,null,null,null,null,null,null,null,null,{"$f":"IF(AN3194=\"\",\"\",IF(LEN(VLOOKUP(AN3194,Sifranti!BY:BZ,2,FALSE))=0,\"\",VLOOKUP(AN3194,Sifranti!BY:BZ,2,FALSE)))","v":""},{"$f":"IF(C3194=\"\",\"\",VLOOKUP(C3194,Sifranti!P:R,2,FALSE))","v":""},"","",{"$f":"IF(C3194=\"\",\"\",VLOOKUP(C3194,Sifranti!P:R,3,FALSE))","v":""},{"$f":"IF(N3194=\"\",\"\",VLOOKUP(N3194,Sifranti!D:F,2,FALSE))","v":""},{"$f":"IF(AK3194=\"\",\"\",VLOOKUP(AK3194,Sifranti!V:Y,2,FALSE))","v":""},{"$f":"IF(AK3194=\"\",\"\",IF(VLOOKUP(AK3194,Sifranti!V:Y,3,FALSE)=\"\",\"\",VLOOKUP(AK3194,Sifranti!V:Y,3,FALSE)))","v":""},{"$f":"IF(AK3194=\"\",\"\",VLOOKUP(AK3194,Sifranti!V:Y,4,FALSE))","v":""}]
[{"$f":"IF(B3200=\"\",\"\",VLOOKUP(B3200,Sifranti!K:L,2,FALSE))","v":""},null,null,null,null,null,null,null,null,"",{"$f":"IF(L3200=\"\",\"\",VLOOKUP(L3200,Sifranti!A:B,2,FALSE))","v":""},null,{"$f":"IF(N3200=\"\",\"\",VLOOKUP(N3200,Sifranti!D:F,3,FALSE))","v":""},null,{"$f":"IF(P3200=\"\",\"\",VLOOKUP(P3200,Sifranti!H:I,2,FALSE))","v":""},null,null,null,null,null,null,null,null,null,null,null,null,null,null,null,null,null,null,null,null,null,null,null,null,null,{"$f":"IF(AN3200=\"\",\"\",IF(LEN(VLOOKUP(AN3200,Sifranti!BY:BZ,2,FALSE))=0,\"\",VLOOKUP(AN3200,Sifranti!BY:BZ,2,FALSE)))","v":""},{"$f":"IF(C3200=\"\",\"\",VLOOKUP(C3200,Sifranti!P:R,2,FALSE))","v":""},"","",{"$f":"IF(C3200=\"\",\"\",VLOOKUP(C3200,Sifranti!P:R,3,FALSE))","v":""},{"$f":"IF(N3200=\"\",\"\",VLOOKUP(N3200,Sifranti!D:F,2,FALSE))","v":""},{"$f":"IF(AK3200=\"\",\"\",VLOOKUP(AK3200,Sifranti!V:Y,2,FALSE))","v":""},{"$f":"IF(AK3200=\"\",\"\",IF(VLOOKUP(AK3200,Sifranti!V:Y,3,FALSE)=\"\",\"\",VLOOKUP(AK3200,Sifranti!V:Y,3,FALSE)))","v":""},{"$f":"IF(AK3200=\"\",\"\",VLOOKUP(AK3200,Sifranti!V:Y,4,FALSE))","v":""}]
[{"$f":"IF(B3217=\"\",\"\",VLOOKUP(B3217,Sifranti!K:L,2,FALSE))","v":""},null,null,null,null,null,null,null,null,"",{"$f":"IF(L3217=\"\",\"\",VLOOKUP(L3217,Sifranti!A:B,2,FALSE))","v":""},null,{"$f":"IF(N3217=\"\",\"\",VLOOKUP(N3217,Sifranti!D:F,3,FALSE))","v":""},null,{"$f":"IF(P3217=\"\",\"\",VLOOKUP(P3217,Sifranti!H:I,2,FALSE))","v":""},null,null,null,null,null,null,null,null,null,null,null,null,null,null,null,null,null,null,null,null,null,null,null,null,null,{"$f":"IF(AN3217=\"\",\"\",IF(LEN(VLOOKUP(AN3217,Sifranti!BY:BZ,2,FALSE))=0,\"\",VLOOKUP(AN3217,Sifranti!BY:BZ,2,FALSE)))","v":""},{"$f":"IF(C3217=\"\",\"\",VLOOKUP(C3217,Sifranti!P:R,2,FALSE))","v":""},"","",{"$f":"IF(C3217=\"\",\"\",VLOOKUP(C3217,Sifranti!P:R,3,FALSE))","v":""},{"$f":"IF(N3217=\"\",\"\",VLOOKUP(N3217,Sifranti!D:F,2,FALSE))","v":""},{"$f":"IF(AK3217=\"\",\"\",VLOOKUP(AK3217,Sifranti!V:Y,2,FALSE))","v":""},{"$f":"IF(AK3217=\"\",\"\",IF(VLOOKUP(AK3217,Sifranti!V:Y,3,FALSE)=\"\",\"\",VLOOKUP(AK3217,Sifranti!V:Y,3,FALSE)))","v":""},{"$f":"IF(AK3217=\"\",\"\",VLOOKUP(AK3217,Sifranti!V:Y,4,FALSE))","v":""}]
[{"$f":"IF(B3226=\"\",\"\",VLOOKUP(B3226,Sifranti!K:L,2,FALSE))","v":""},null,null,null,null,null,null,null,null,"",{"$f":"IF(L3226=\"\",\"\",VLOOKUP(L3226,Sifranti!A:B,2,FALSE))","v":""},null,{"$f":"IF(N3226=\"\",\"\",VLOOKUP(N3226,Sifranti!D:F,3,FALSE))","v":""},null,{"$f":"IF(P3226=\"\",\"\",VLOOKUP(P3226,Sifranti!H:I,2,FALSE))","v":""},null,null,null,null,null,null,null,null,null,null,null,null,null,null,null,null,null,null,null,null,null,null,null,null,null,{"$f":"IF(AN3226=\"\",\"\",IF(LEN(VLOOKUP(AN3226,Sifranti!BY:BZ,2,FALSE))=0,\"\",VLOOKUP(AN3226,Sifranti!BY:BZ,2,FALSE)))","v":""},{"$f":"IF(C3226=\"\",\"\",VLOOKUP(C3226,Sifranti!P:R,2,FALSE))","v":""},"","",{"$f":"IF(C3226=\"\",\"\",VLOOKUP(C3226,Sifranti!P:R,3,FALSE))","v":""},{"$f":"IF(N3226=\"\",\"\",VLOOKUP(N3226,Sifranti!D:F,2,FALSE))","v":""},{"$f":"IF(AK3226=\"\",\"\",VLOOKUP(AK3226,Sifranti!V:Y,2,FALSE))","v":""},{"$f":"IF(AK3226=\"\",\"\",IF(VLOOKUP(AK3226,Sifranti!V:Y,3,FALSE)=\"\",\"\",VLOOKUP(AK3226,Sifranti!V:Y,3,FALSE)))","v":""},{"$f":"IF(AK3226=\"\",\"\",VLOOKUP(AK3226,Sifranti!V:Y,4,FALSE))","v":""}]
[{"$f":"IF(B3236=\"\",\"\",VLOOKUP(B3236,Sifranti!K:L,2,FALSE))","v":""},null,null,null,null,null,null,null,null,"",{"$f":"IF(L3236=\"\",\"\",VLOOKUP(L3236,Sifranti!A:B,2,FALSE))","v":""},null,{"$f":"IF(N3236=\"\",\"\",VLOOKUP(N3236,Sifranti!D:F,3,FALSE))","v":""},null,{"$f":"IF(P3236=\"\",\"\",VLOOKUP(P3236,Sifranti!H:I,2,FALSE))","v":""},null,null,null,null,null,null,null,null,null,null,null,null,null,null,null,null,null,null,null,null,null,null,null,null,null,{"$f":"IF(AN3236=\"\",\"\",IF(LEN(VLOOKUP(AN3236,Sifranti!BY:BZ,2,FALSE))=0,\"\",VLOOKUP(AN3236,Sifranti!BY:BZ,2,FALSE)))","v":""},{"$f":"IF(C3236=\"\",\"\",VLOOKUP(C3236,Sifranti!P:R,2,FALSE))","v":""},"","",{"$f":"IF(C3236=\"\",\"\",VLOOKUP(C3236,Sifranti!P:R,3,FALSE))","v":""},{"$f":"IF(N3236=\"\",\"\",VLOOKUP(N3236,Sifranti!D:F,2,FALSE))","v":""},{"$f":"IF(AK3236=\"\",\"\",VLOOKUP(AK3236,Sifranti!V:Y,2,FALSE))","v":""},{"$f":"IF(AK3236=\"\",\"\",IF(VLOOKUP(AK3236,Sifranti!V:Y,3,FALSE)=\"\",\"\",VLOOKUP(AK3236,Sifranti!V:Y,3,FALSE)))","v":""},{"$f":"IF(AK3236=\"\",\"\",VLOOKUP(AK3236,Sifranti!V:Y,4,FALSE))","v":""}]
[{"$f":"IF(B3242=\"\",\"\",VLOOKUP(B3242,Sifranti!K:L,2,FALSE))","v":""},null,null,null,null,null,null,null,null,"",{"$f":"IF(L3242=\"\",\"\",VLOOKUP(L3242,Sifranti!A:B,2,FALSE))","v":""},null,{"$f":"IF(N3242=\"\",\"\",VLOOKUP(N3242,Sifranti!D:F,3,FALSE))","v":""},null,{"$f":"IF(P3242=\"\",\"\",VLOOKUP(P3242,Sifranti!H:I,2,FALSE))","v":""},null,null,null,null,null,null,null,null,null,null,null,null,null,null,null,null,null,null,null,null,null,null,null,null,null,{"$f":"IF(AN3242=\"\",\"\",IF(LEN(VLOOKUP(AN3242,Sifranti!BY:BZ,2,FALSE))=0,\"\",VLOOKUP(AN3242,Sifranti!BY:BZ,2,FALSE)))","v":""},{"$f":"IF(C3242=\"\",\"\",VLOOKUP(C3242,Sifranti!P:R,2,FALSE))","v":""},"","",{"$f":"IF(C3242=\"\",\"\",VLOOKUP(C3242,Sifranti!P:R,3,FALSE))","v":""},{"$f":"IF(N3242=\"\",\"\",VLOOKUP(N3242,Sifranti!D:F,2,FALSE))","v":""},{"$f":"IF(AK3242=\"\",\"\",VLOOKUP(AK3242,Sifranti!V:Y,2,FALSE))","v":""},{"$f":"IF(AK3242=\"\",\"\",IF(VLOOKUP(AK3242,Sifranti!V:Y,3,FALSE)=\"\",\"\",VLOOKUP(AK3242,Sifranti!V:Y,3,FALSE)))","v":""},{"$f":"IF(AK3242=\"\",\"\",VLOOKUP(AK3242,Sifranti!V:Y,4,FALSE))","v":""}]
[{"$f":"IF(B3256=\"\",\"\",VLOOKUP(B3256,Sifranti!K:L,2,FALSE))","v":""},null,null,null,null,null,null,null,null,"",{"$f":"IF(L3256=\"\",\"\",VLOOKUP(L3256,Sifranti!A:B,2,FALSE))","v":""},null,{"$f":"IF(N3256=\"\",\"\",VLOOKUP(N3256,Sifranti!D:F,3,FALSE))","v":""},null,{"$f":"IF(P3256=\"\",\"\",VLOOKUP(P3256,Sifranti!H:I,2,FALSE))","v":""},null,null,null,null,null,null,null,null,null,null,null,null,null,null,null,null,null,null,null,null,null,null,null,null,null,{"$f":"IF(AN3256=\"\",\"\",IF(LEN(VLOOKUP(AN3256,Sifranti!BY:BZ,2,FALSE))=0,\"\",VLOOKUP(AN3256,Sifranti!BY:BZ,2,FALSE)))","v":""},{"$f":"IF(C3256=\"\",\"\",VLOOKUP(C3256,Sifranti!P:R,2,FALSE))","v":""},"","",{"$f":"IF(C3256=\"\",\"\",VLOOKUP(C3256,Sifranti!P:R,3,FALSE))","v":""},{"$f":"IF(N3256=\"\",\"\",VLOOKUP(N3256,Sifranti!D:F,2,FALSE))","v":""},{"$f":"IF(AK3256=\"\",\"\",VLOOKUP(AK3256,Sifranti!V:Y,2,FALSE))","v":""},{"$f":"IF(AK3256=\"\",\"\",IF(VLOOKUP(AK3256,Sifranti!V:Y,3,FALSE)=\"\",\"\",VLOOKUP(AK3256,Sifranti!V:Y,3,FALSE)))","v":""},{"$f":"IF(AK3256=\"\",\"\",VLOOKUP(AK3256,Sifranti!V:Y,4,FALSE))","v":""}]
[{"$f":"IF(B3268=\"\",\"\",VLOOKUP(B3268,Sifranti!K:L,2,FALSE))","v":""},null,null,null,null,null,null,null,null,"",{"$f":"IF(L3268=\"\",\"\",VLOOKUP(L3268,Sifranti!A:B,2,FALSE))","v":""},null,{"$f":"IF(N3268=\"\",\"\",VLOOKUP(N3268,Sifranti!D:F,3,FALSE))","v":""},null,{"$f":"IF(P3268=\"\",\"\",VLOOKUP(P3268,Sifranti!H:I,2,FALSE))","v":""},null,null,null,null,null,null,null,null,null,null,null,null,null,null,null,null,null,null,null,null,null,null,null,null,null,{"$f":"IF(AN3268=\"\",\"\",IF(LEN(VLOOKUP(AN3268,Sifranti!BY:BZ,2,FALSE))=0,\"\",VLOOKUP(AN3268,Sifranti!BY:BZ,2,FALSE)))","v":""},{"$f":"IF(C3268=\"\",\"\",VLOOKUP(C3268,Sifranti!P:R,2,FALSE))","v":""},"","",{"$f":"IF(C3268=\"\",\"\",VLOOKUP(C3268,Sifranti!P:R,3,FALSE))","v":""},{"$f":"IF(N3268=\"\",\"\",VLOOKUP(N3268,Sifranti!D:F,2,FALSE))","v":""},{"$f":"IF(AK3268=\"\",\"\",VLOOKUP(AK3268,Sifranti!V:Y,2,FALSE))","v":""},{"$f":"IF(AK3268=\"\",\"\",IF(VLOOKUP(AK3268,Sifranti!V:Y,3,FALSE)=\"\",\"\",VLOOKUP(AK3268,Sifranti!V:Y,3,FALSE)))","v":""},{"$f":"IF(AK3268=\"\",\"\",VLOOKUP(AK3268,Sifranti!V:Y,4,FALSE))","v":""}]
[{"$f":"IF(B3274=\"\",\"\",VLOOKUP(B3274,Sifranti!K:L,2,FALSE))","v":""},null,null,null,null,null,null,null,null,"",{"$f":"IF(L3274=\"\",\"\",VLOOKUP(L3274,Sifranti!A:B,2,FALSE))","v":""},null,{"$f":"IF(N3274=\"\",\"\",VLOOKUP(N3274,Sifranti!D:F,3,FALSE))","v":""},null,{"$f":"IF(P3274=\"\",\"\",VLOOKUP(P3274,Sifranti!H:I,2,FALSE))","v":""},null,null,null,null,null,null,null,null,null,null,null,null,null,null,null,null,null,null,null,null,null,null,null,null,null,{"$f":"IF(AN3274=\"\",\"\",IF(LEN(VLOOKUP(AN3274,Sifranti!BY:BZ,2,FALSE))=0,\"\",VLOOKUP(AN3274,Sifranti!BY:BZ,2,FALSE)))","v":""},{"$f":"IF(C3274=\"\",\"\",VLOOKUP(C3274,Sifranti!P:R,2,FALSE))","v":""},"","",{"$f":"IF(C3274=\"\",\"\",VLOOKUP(C3274,Sifranti!P:R,3,FALSE))","v":""},{"$f":"IF(N3274=\"\",\"\",VLOOKUP(N3274,Sifranti!D:F,2,FALSE))","v":""},{"$f":"IF(AK3274=\"\",\"\",VLOOKUP(AK3274,Sifranti!V:Y,2,FALSE))","v":""},{"$f":"IF(AK3274=\"\",\"\",IF(VLOOKUP(AK3274,Sifranti!V:Y,3,FALSE)=\"\",\"\",VLOOKUP(AK3274,Sifranti!V:Y,3,FALSE)))","v":""},{"$f":"IF(AK3274=\"\",\"\",VLOOKUP(AK3274,Sifranti!V:Y,4,FALSE))","v":""}]
[{"$f":"IF(B3291=\"\",\"\",VLOOKUP(B3291,Sifranti!K:L,2,FALSE))","v":""},null,null,null,null,null,null,null,null,"",{"$f":"IF(L3291=\"\",\"\",VLOOKUP(L3291,Sifranti!A:B,2,FALSE))","v":""},null,{"$f":"IF(N3291=\"\",\"\",VLOOKUP(N3291,Sifranti!D:F,3,FALSE))","v":""},null,{"$f":"IF(P3291=\"\",\"\",VLOOKUP(P3291,Sifranti!H:I,2,FALSE))","v":""},null,null,null,null,null,null,null,null,null,null,null,null,null,null,null,null,null,null,null,null,null,null,null,null,null,{"$f":"IF(AN3291=\"\",\"\",IF(LEN(VLOOKUP(AN3291,Sifranti!BY:BZ,2,FALSE))=0,\"\",VLOOKUP(AN3291,Sifranti!BY:BZ,2,FALSE)))","v":""},{"$f":"IF(C3291=\"\",\"\",VLOOKUP(C3291,Sifranti!P:R,2,FALSE))","v":""},"","",{"$f":"IF(C3291=\"\",\"\",VLOOKUP(C3291,Sifranti!P:R,3,FALSE))","v":""},{"$f":"IF(N3291=\"\",\"\",VLOOKUP(N3291,Sifranti!D:F,2,FALSE))","v":""},{"$f":"IF(AK3291=\"\",\"\",VLOOKUP(AK3291,Sifranti!V:Y,2,FALSE))","v":""},{"$f":"IF(AK3291=\"\",\"\",IF(VLOOKUP(AK3291,Sifranti!V:Y,3,FALSE)=\"\",\"\",VLOOKUP(AK3291,Sifranti!V:Y,3,FALSE)))","v":""},{"$f":"IF(AK3291=\"\",\"\",VLOOKUP(AK3291,Sifranti!V:Y,4,FALSE))","v":""}]
[{"$f":"IF(B3301=\"\",\"\",VLOOKUP(B3301,Sifranti!K:L,2,FALSE))","v":""},null,null,null,null,null,null,null,null,"",{"$f":"IF(L3301=\"\",\"\",VLOOKUP(L3301,Sifranti!A:B,2,FALSE))","v":""},null,{"$f":"IF(N3301=\"\",\"\",VLOOKUP(N3301,Sifranti!D:F,3,FALSE))","v":""},null,{"$f":"IF(P3301=\"\",\"\",VLOOKUP(P3301,Sifranti!H:I,2,FALSE))","v":""},null,null,null,null,null,null,null,null,null,null,null,null,null,null,null,null,null,null,null,null,null,null,null,null,null,{"$f":"IF(AN3301=\"\",\"\",IF(LEN(VLOOKUP(AN3301,Sifranti!BY:BZ,2,FALSE))=0,\"\",VLOOKUP(AN3301,Sifranti!BY:BZ,2,FALSE)))","v":""},{"$f":"IF(C3301=\"\",\"\",VLOOKUP(C3301,Sifranti!P:R,2,FALSE))","v":""},"","",{"$f":"IF(C3301=\"\",\"\",VLOOKUP(C3301,Sifranti!P:R,3,FALSE))","v":""},{"$f":"IF(N3301=\"\",\"\",VLOOKUP(N3301,Sifranti!D:F,2,FALSE))","v":""},{"$f":"IF(AK3301=\"\",\"\",VLOOKUP(AK3301,Sifranti!V:Y,2,FALSE))","v":""},{"$f":"IF(AK3301=\"\",\"\",IF(VLOOKUP(AK3301,Sifranti!V:Y,3,FALSE)=\"\",\"\",VLOOKUP(AK3301,Sifranti!V:Y,3,FALSE)))","v":""},{"$f":"IF(AK3301=\"\",\"\",VLOOKUP(AK3301,Sifranti!V:Y,4,FALSE))","v":""}]
[{"$f":"IF(B3306=\"\",\"\",VLOOKUP(B3306,Sifranti!K:L,2,FALSE))","v":""},null,null,null,null,null,null,null,null,"",{"$f":"IF(L3306=\"\",\"\",VLOOKUP(L3306,Sifranti!A:B,2,FALSE))","v":""},null,{"$f":"IF(N3306=\"\",\"\",VLOOKUP(N3306,Sifranti!D:F,3,FALSE))","v":""},null,{"$f":"IF(P3306=\"\",\"\",VLOOKUP(P3306,Sifranti!H:I,2,FALSE))","v":""},null,null,null,null,null,null,null,null,null,null,null,null,null,null,null,null,null,null,null,null,null,null,null,null,null,{"$f":"IF(AN3306=\"\",\"\",IF(LEN(VLOOKUP(AN3306,Sifranti!BY:BZ,2,FALSE))=0,\"\",VLOOKUP(AN3306,Sifranti!BY:BZ,2,FALSE)))","v":""},{"$f":"IF(C3306=\"\",\"\",VLOOKUP(C3306,Sifranti!P:R,2,FALSE))","v":""},"","",{"$f":"IF(C3306=\"\",\"\",VLOOKUP(C3306,Sifranti!P:R,3,FALSE))","v":""},{"$f":"IF(N3306=\"\",\"\",VLOOKUP(N3306,Sifranti!D:F,2,FALSE))","v":""},{"$f":"IF(AK3306=\"\",\"\",VLOOKUP(AK3306,Sifranti!V:Y,2,FALSE))","v":""},{"$f":"IF(AK3306=\"\",\"\",IF(VLOOKUP(AK3306,Sifranti!V:Y,3,FALSE)=\"\",\"\",VLOOKUP(AK3306,Sifranti!V:Y,3,FALSE)))","v":""},{"$f":"IF(AK3306=\"\",\"\",VLOOKUP(AK3306,Sifranti!V:Y,4,FALSE))","v":""}]
[{"$f":"IF(B3327=\"\",\"\",VLOOKUP(B3327,Sifranti!K:L,2,FALSE))","v":""},null,null,null,null,null,null,null,null,"",{"$f":"IF(L3327=\"\",\"\",VLOOKUP(L3327,Sifranti!A:B,2,FALSE))","v":""},null,{"$f":"IF(N3327=\"\",\"\",VLOOKUP(N3327,Sifranti!D:F,3,FALSE))","v":""},null,{"$f":"IF(P3327=\"\",\"\",VLOOKUP(P3327,Sifranti!H:I,2,FALSE))","v":""},null,null,null,null,null,null,null,null,null,null,null,null,null,null,null,null,null,null,null,null,null,null,null,null,null,{"$f":"IF(AN3327=\"\",\"\",IF(LEN(VLOOKUP(AN3327,Sifranti!BY:BZ,2,FALSE))=0,\"\",VLOOKUP(AN3327,Sifranti!BY:BZ,2,FALSE)))","v":""},{"$f":"IF(C3327=\"\",\"\",VLOOKUP(C3327,Sifranti!P:R,2,FALSE))","v":""},"","",{"$f":"IF(C3327=\"\",\"\",VLOOKUP(C3327,Sifranti!P:R,3,FALSE))","v":""},{"$f":"IF(N3327=\"\",\"\",VLOOKUP(N3327,Sifranti!D:F,2,FALSE))","v":""},{"$f":"IF(AK3327=\"\",\"\",VLOOKUP(AK3327,Sifranti!V:Y,2,FALSE))","v":""},{"$f":"IF(AK3327=\"\",\"\",IF(VLOOKUP(AK3327,Sifranti!V:Y,3,FALSE)=\"\",\"\",VLOOKUP(AK3327,Sifranti!V:Y,3,FALSE)))","v":""},{"$f":"IF(AK3327=\"\",\"\",VLOOKUP(AK3327,Sifranti!V:Y,4,FALSE))","v":""}]
[{"$f":"IF(B3333=\"\",\"\",VLOOKUP(B3333,Sifranti!K:L,2,FALSE))","v":""},null,null,null,null,null,null,null,null,"",{"$f":"IF(L3333=\"\",\"\",VLOOKUP(L3333,Sifranti!A:B,2,FALSE))","v":""},null,{"$f":"IF(N3333=\"\",\"\",VLOOKUP(N3333,Sifranti!D:F,3,FALSE))","v":""},null,{"$f":"IF(P3333=\"\",\"\",VLOOKUP(P3333,Sifranti!H:I,2,FALSE))","v":""},null,null,null,null,null,null,null,null,null,null,null,null,null,null,null,null,null,null,null,null,null,null,null,null,null,{"$f":"IF(AN3333=\"\",\"\",IF(LEN(VLOOKUP(AN3333,Sifranti!BY:BZ,2,FALSE))=0,\"\",VLOOKUP(AN3333,Sifranti!BY:BZ,2,FALSE)))","v":""},{"$f":"IF(C3333=\"\",\"\",VLOOKUP(C3333,Sifranti!P:R,2,FALSE))","v":""},"","",{"$f":"IF(C3333=\"\",\"\",VLOOKUP(C3333,Sifranti!P:R,3,FALSE))","v":""},{"$f":"IF(N3333=\"\",\"\",VLOOKUP(N3333,Sifranti!D:F,2,FALSE))","v":""},{"$f":"IF(AK3333=\"\",\"\",VLOOKUP(AK3333,Sifranti!V:Y,2,FALSE))","v":""},{"$f":"IF(AK3333=\"\",\"\",IF(VLOOKUP(AK3333,Sifranti!V:Y,3,FALSE)=\"\",\"\",VLOOKUP(AK3333,Sifranti!V:Y,3,FALSE)))","v":""},{"$f":"IF(AK3333=\"\",\"\",VLOOKUP(AK3333,Sifranti!V:Y,4,FALSE))","v":""}]
[{"$f":"IF(B3340=\"\",\"\",VLOOKUP(B3340,Sifranti!K:L,2,FALSE))","v":""},null,null,null,null,null,null,null,null,"",{"$f":"IF(L3340=\"\",\"\",VLOOKUP(L3340,Sifranti!A:B,2,FALSE))","v":""},null,{"$f":"IF(N3340=\"\",\"\",VLOOKUP(N3340,Sifranti!D:F,3,FALSE))","v":""},null,{"$f":"IF(P3340=\"\",\"\",VLOOKUP(P3340,Sifranti!H:I,2,FALSE))","v":""},null,null,null,null,null,null,null,null,null,null,null,null,null,null,null,null,null,null,null,null,null,null,null,null,null,{"$f":"IF(AN3340=\"\",\"\",IF(LEN(VLOOKUP(AN3340,Sifranti!BY:BZ,2,FALSE))=0,\"\",VLOOKUP(AN3340,Sifranti!BY:BZ,2,FALSE)))","v":""},{"$f":"IF(C3340=\"\",\"\",VLOOKUP(C3340,Sifranti!P:R,2,FALSE))","v":""},"","",{"$f":"IF(C3340=\"\",\"\",VLOOKUP(C3340,Sifranti!P:R,3,FALSE))","v":""},{"$f":"IF(N3340=\"\",\"\",VLOOKUP(N3340,Sifranti!D:F,2,FALSE))","v":""},{"$f":"IF(AK3340=\"\",\"\",VLOOKUP(AK3340,Sifranti!V:Y,2,FALSE))","v":""},{"$f":"IF(AK3340=\"\",\"\",IF(VLOOKUP(AK3340,Sifranti!V:Y,3,FALSE)=\"\",\"\",VLOOKUP(AK3340,Sifranti!V:Y,3,FALSE)))","v":""},{"$f":"IF(AK3340=\"\",\"\",VLOOKUP(AK3340,Sifranti!V:Y,4,FALSE))","v":""}]
[{"$f":"IF(B3359=\"\",\"\",VLOOKUP(B3359,Sifranti!K:L,2,FALSE))","v":""},null,null,null,null,null,null,null,null,"",{"$f":"IF(L3359=\"\",\"\",VLOOKUP(L3359,Sifranti!A:B,2,FALSE))","v":""},null,{"$f":"IF(N3359=\"\",\"\",VLOOKUP(N3359,Sifranti!D:F,3,FALSE))","v":""},null,{"$f":"IF(P3359=\"\",\"\",VLOOKUP(P3359,Sifranti!H:I,2,FALSE))","v":""},null,null,null,null,null,null,null,null,null,null,null,null,null,null,null,null,null,null,null,null,null,null,null,null,null,{"$f":"IF(AN3359=\"\",\"\",IF(LEN(VLOOKUP(AN3359,Sifranti!BY:BZ,2,FALSE))=0,\"\",VLOOKUP(AN3359,Sifranti!BY:BZ,2,FALSE)))","v":""},{"$f":"IF(C3359=\"\",\"\",VLOOKUP(C3359,Sifranti!P:R,2,FALSE))","v":""},"","",{"$f":"IF(C3359=\"\",\"\",VLOOKUP(C3359,Sifranti!P:R,3,FALSE))","v":""},{"$f":"IF(N3359=\"\",\"\",VLOOKUP(N3359,Sifranti!D:F,2,FALSE))","v":""},{"$f":"IF(AK3359=\"\",\"\",VLOOKUP(AK3359,Sifranti!V:Y,2,FALSE))","v":""},{"$f":"IF(AK3359=\"\",\"\",IF(VLOOKUP(AK3359,Sifranti!V:Y,3,FALSE)=\"\",\"\",VLOOKUP(AK3359,Sifranti!V:Y,3,FALSE)))","v":""},{"$f":"IF(AK3359=\"\",\"\",VLOOKUP(AK3359,Sifranti!V:Y,4,FALSE))","v":""}]
[{"$f":"IF(B3365=\"\",\"\",VLOOKUP(B3365,Sifranti!K:L,2,FALSE))","v":""},null,null,null,null,null,null,null,null,"",{"$f":"IF(L3365=\"\",\"\",VLOOKUP(L3365,Sifranti!A:B,2,FALSE))","v":""},null,{"$f":"IF(N3365=\"\",\"\",VLOOKUP(N3365,Sifranti!D:F,3,FALSE))","v":""},null,{"$f":"IF(P3365=\"\",\"\",VLOOKUP(P3365,Sifranti!H:I,2,FALSE))","v":""},null,null,null,null,null,null,null,null,null,null,null,null,null,null,null,null,null,null,null,null,null,null,null,null,null,{"$f":"IF(AN3365=\"\",\"\",IF(LEN(VLOOKUP(AN3365,Sifranti!BY:BZ,2,FALSE))=0,\"\",VLOOKUP(AN3365,Sifranti!BY:BZ,2,FALSE)))","v":""},{"$f":"IF(C3365=\"\",\"\",VLOOKUP(C3365,Sifranti!P:R,2,FALSE))","v":""},"","",{"$f":"IF(C3365=\"\",\"\",VLOOKUP(C3365,Sifranti!P:R,3,FALSE))","v":""},{"$f":"IF(N3365=\"\",\"\",VLOOKUP(N3365,Sifranti!D:F,2,FALSE))","v":""},{"$f":"IF(AK3365=\"\",\"\",VLOOKUP(AK3365,Sifranti!V:Y,2,FALSE))","v":""},{"$f":"IF(AK3365=\"\",\"\",IF(VLOOKUP(AK3365,Sifranti!V:Y,3,FALSE)=\"\",\"\",VLOOKUP(AK3365,Sifranti!V:Y,3,FALSE)))","v":""},{"$f":"IF(AK3365=\"\",\"\",VLOOKUP(AK3365,Sifranti!V:Y,4,FALSE))","v":""}]
[{"$f":"IF(B3371=\"\",\"\",VLOOKUP(B3371,Sifranti!K:L,2,FALSE))","v":""},null,null,null,null,null,null,null,null,"",{"$f":"IF(L3371=\"\",\"\",VLOOKUP(L3371,Sifranti!A:B,2,FALSE))","v":""},null,{"$f":"IF(N3371=\"\",\"\",VLOOKUP(N3371,Sifranti!D:F,3,FALSE))","v":""},null,{"$f":"IF(P3371=\"\",\"\",VLOOKUP(P3371,Sifranti!H:I,2,FALSE))","v":""},null,null,null,null,null,null,null,null,null,null,null,null,null,null,null,null,null,null,null,null,null,null,null,null,null,{"$f":"IF(AN3371=\"\",\"\",IF(LEN(VLOOKUP(AN3371,Sifranti!BY:BZ,2,FALSE))=0,\"\",VLOOKUP(AN3371,Sifranti!BY:BZ,2,FALSE)))","v":""},{"$f":"IF(C3371=\"\",\"\",VLOOKUP(C3371,Sifranti!P:R,2,FALSE))","v":""},"","",{"$f":"IF(C3371=\"\",\"\",VLOOKUP(C3371,Sifranti!P:R,3,FALSE))","v":""},{"$f":"IF(N3371=\"\",\"\",VLOOKUP(N3371,Sifranti!D:F,2,FALSE))","v":""},{"$f":"IF(AK3371=\"\",\"\",VLOOKUP(AK3371,Sifranti!V:Y,2,FALSE))","v":""},{"$f":"IF(AK3371=\"\",\"\",IF(VLOOKUP(AK3371,Sifranti!V:Y,3,FALSE)=\"\",\"\",VLOOKUP(AK3371,Sifranti!V:Y,3,FALSE)))","v":""},{"$f":"IF(AK3371=\"\",\"\",VLOOKUP(AK3371,Sifranti!V:Y,4,FALSE))","v":""}]
[{"$f":"IF(B3385=\"\",\"\",VLOOKUP(B3385,Sifranti!K:L,2,FALSE))","v":""},null,null,null,null,null,null,null,null,"",{"$f":"IF(L3385=\"\",\"\",VLOOKUP(L3385,Sifranti!A:B,2,FALSE))","v":""},null,{"$f":"IF(N3385=\"\",\"\",VLOOKUP(N3385,Sifranti!D:F,3,FALSE))","v":""},null,{"$f":"IF(P3385=\"\",\"\",VLOOKUP(P3385,Sifranti!H:I,2,FALSE))","v":""},null,null,null,null,null,null,null,null,null,null,null,null,null,null,null,null,null,null,null,null,null,null,null,null,null,{"$f":"IF(AN3385=\"\",\"\",IF(LEN(VLOOKUP(AN3385,Sifranti!BY:BZ,2,FALSE))=0,\"\",VLOOKUP(AN3385,Sifranti!BY:BZ,2,FALSE)))","v":""},{"$f":"IF(C3385=\"\",\"\",VLOOKUP(C3385,Sifranti!P:R,2,FALSE))","v":""},"","",{"$f":"IF(C3385=\"\",\"\",VLOOKUP(C3385,Sifranti!P:R,3,FALSE))","v":""},{"$f":"IF(N3385=\"\",\"\",VLOOKUP(N3385,Sifranti!D:F,2,FALSE))","v":""},{"$f":"IF(AK3385=\"\",\"\",VLOOKUP(AK3385,Sifranti!V:Y,2,FALSE))","v":""},{"$f":"IF(AK3385=\"\",\"\",IF(VLOOKUP(AK3385,Sifranti!V:Y,3,FALSE)=\"\",\"\",VLOOKUP(AK3385,Sifranti!V:Y,3,FALSE)))","v":""},{"$f":"IF(AK3385=\"\",\"\",VLOOKUP(AK3385,Sifranti!V:Y,4,FALSE))","v":""}]
[{"$f":"IF(B3397=\"\",\"\",VLOOKUP(B3397,Sifranti!K:L,2,FALSE))","v":""},null,null,null,null,null,null,null,null,"",{"$f":"IF(L3397=\"\",\"\",VLOOKUP(L3397,Sifranti!A:B,2,FALSE))","v":""},null,{"$f":"IF(N3397=\"\",\"\",VLOOKUP(N3397,Sifranti!D:F,3,FALSE))","v":""},null,{"$f":"IF(P3397=\"\",\"\",VLOOKUP(P3397,Sifranti!H:I,2,FALSE))","v":""},null,null,null,null,null,null,null,null,null,null,null,null,null,null,null,null,null,null,null,null,null,null,null,null,null,{"$f":"IF(AN3397=\"\",\"\",IF(LEN(VLOOKUP(AN3397,Sifranti!BY:BZ,2,FALSE))=0,\"\",VLOOKUP(AN3397,Sifranti!BY:BZ,2,FALSE)))","v":""},{"$f":"IF(C3397=\"\",\"\",VLOOKUP(C3397,Sifranti!P:R,2,FALSE))","v":""},"","",{"$f":"IF(C3397=\"\",\"\",VLOOKUP(C3397,Sifranti!P:R,3,FALSE))","v":""},{"$f":"IF(N3397=\"\",\"\",VLOOKUP(N3397,Sifranti!D:F,2,FALSE))","v":""},{"$f":"IF(AK3397=\"\",\"\",VLOOKUP(AK3397,Sifranti!V:Y,2,FALSE))","v":""},{"$f":"IF(AK3397=\"\",\"\",IF(VLOOKUP(AK3397,Sifranti!V:Y,3,FALSE)=\"\",\"\",VLOOKUP(AK3397,Sifranti!V:Y,3,FALSE)))","v":""},{"$f":"IF(AK3397=\"\",\"\",VLOOKUP(AK3397,Sifranti!V:Y,4,FALSE))","v":""}]
[{"$f":"IF(B3407=\"\",\"\",VLOOKUP(B3407,Sifranti!K:L,2,FALSE))","v":""},null,null,null,null,null,null,null,null,"",{"$f":"IF(L3407=\"\",\"\",VLOOKUP(L3407,Sifranti!A:B,2,FALSE))","v":""},null,{"$f":"IF(N3407=\"\",\"\",VLOOKUP(N3407,Sifranti!D:F,3,FALSE))","v":""},null,{"$f":"IF(P3407=\"\",\"\",VLOOKUP(P3407,Sifranti!H:I,2,FALSE))","v":""},null,null,null,null,null,null,null,null,null,null,null,null,null,null,null,null,null,null,null,null,null,null,null,null,null,{"$f":"IF(AN3407=\"\",\"\",IF(LEN(VLOOKUP(AN3407,Sifranti!BY:BZ,2,FALSE))=0,\"\",VLOOKUP(AN3407,Sifranti!BY:BZ,2,FALSE)))","v":""},{"$f":"IF(C3407=\"\",\"\",VLOOKUP(C3407,Sifranti!P:R,2,FALSE))","v":""},"","",{"$f":"IF(C3407=\"\",\"\",VLOOKUP(C3407,Sifranti!P:R,3,FALSE))","v":""},{"$f":"IF(N3407=\"\",\"\",VLOOKUP(N3407,Sifranti!D:F,2,FALSE))","v":""},{"$f":"IF(AK3407=\"\",\"\",VLOOKUP(AK3407,Sifranti!V:Y,2,FALSE))","v":""},{"$f":"IF(AK3407=\"\",\"\",IF(VLOOKUP(AK3407,Sifranti!V:Y,3,FALSE)=\"\",\"\",VLOOKUP(AK3407,Sifranti!V:Y,3,FALSE)))","v":""},{"$f":"IF(AK3407=\"\",\"\",VLOOKUP(AK3407,Sifranti!V:Y,4,FALSE))","v":""}]
[{"$f":"IF(B3424=\"\",\"\",VLOOKUP(B3424,Sifranti!K:L,2,FALSE))","v":""},null,null,null,null,null,null,null,null,"",{"$f":"IF(L3424=\"\",\"\",VLOOKUP(L3424,Sifranti!A:B,2,FALSE))","v":""},null,{"$f":"IF(N3424=\"\",\"\",VLOOKUP(N3424,Sifranti!D:F,3,FALSE))","v":""},null,{"$f":"IF(P3424=\"\",\"\",VLOOKUP(P3424,Sifranti!H:I,2,FALSE))","v":""},null,null,null,null,null,null,null,null,null,null,null,null,null,null,null,null,null,null,null,null,null,null,null,null,null,{"$f":"IF(AN3424=\"\",\"\",IF(LEN(VLOOKUP(AN3424,Sifranti!BY:BZ,2,FALSE))=0,\"\",VLOOKUP(AN3424,Sifranti!BY:BZ,2,FALSE)))","v":""},{"$f":"IF(C3424=\"\",\"\",VLOOKUP(C3424,Sifranti!P:R,2,FALSE))","v":""},"","",{"$f":"IF(C3424=\"\",\"\",VLOOKUP(C3424,Sifranti!P:R,3,FALSE))","v":""},{"$f":"IF(N3424=\"\",\"\",VLOOKUP(N3424,Sifranti!D:F,2,FALSE))","v":""},{"$f":"IF(AK3424=\"\",\"\",VLOOKUP(AK3424,Sifranti!V:Y,2,FALSE))","v":""},{"$f":"IF(AK3424=\"\",\"\",IF(VLOOKUP(AK3424,Sifranti!V:Y,3,FALSE)=\"\",\"\",VLOOKUP(AK3424,Sifranti!V:Y,3,FALSE)))","v":""},{"$f":"IF(AK3424=\"\",\"\",VLOOKUP(AK3424,Sifranti!V:Y,4,FALSE))","v":""}]
[{"$f":"IF(B3434=\"\",\"\",VLOOKUP(B3434,Sifranti!K:L,2,FALSE))","v":""},null,null,null,null,null,null,null,null,"",{"$f":"IF(L3434=\"\",\"\",VLOOKUP(L3434,Sifranti!A:B,2,FALSE))","v":""},null,{"$f":"IF(N3434=\"\",\"\",VLOOKUP(N3434,Sifranti!D:F,3,FALSE))","v":""},null,{"$f":"IF(P3434=\"\",\"\",VLOOKUP(P3434,Sifranti!H:I,2,FALSE))","v":""},null,null,null,null,null,null,null,null,null,null,null,null,null,null,null,null,null,null,null,null,null,null,null,null,null,{"$f":"IF(AN3434=\"\",\"\",IF(LEN(VLOOKUP(AN3434,Sifranti!BY:BZ,2,FALSE))=0,\"\",VLOOKUP(AN3434,Sifranti!BY:BZ,2,FALSE)))","v":""},{"$f":"IF(C3434=\"\",\"\",VLOOKUP(C3434,Sifranti!P:R,2,FALSE))","v":""},"","",{"$f":"IF(C3434=\"\",\"\",VLOOKUP(C3434,Sifranti!P:R,3,FALSE))","v":""},{"$f":"IF(N3434=\"\",\"\",VLOOKUP(N3434,Sifranti!D:F,2,FALSE))","v":""},{"$f":"IF(AK3434=\"\",\"\",VLOOKUP(AK3434,Sifranti!V:Y,2,FALSE))","v":""},{"$f":"IF(AK3434=\"\",\"\",IF(VLOOKUP(AK3434,Sifranti!V:Y,3,FALSE)=\"\",\"\",VLOOKUP(AK3434,Sifranti!V:Y,3,FALSE)))","v":""},{"$f":"IF(AK3434=\"\",\"\",VLOOKUP(AK3434,Sifranti!V:Y,4,FALSE))","v":""}]
[{"$f":"IF(B3439=\"\",\"\",VLOOKUP(B3439,Sifranti!K:L,2,FALSE))","v":""},null,null,null,null,null,null,null,null,"",{"$f":"IF(L3439=\"\",\"\",VLOOKUP(L3439,Sifranti!A:B,2,FALSE))","v":""},null,{"$f":"IF(N3439=\"\",\"\",VLOOKUP(N3439,Sifranti!D:F,3,FALSE))","v":""},null,{"$f":"IF(P3439=\"\",\"\",VLOOKUP(P3439,Sifranti!H:I,2,FALSE))","v":""},null,null,null,null,null,null,null,null,null,null,null,null,null,null,null,null,null,null,null,null,null,null,null,null,null,{"$f":"IF(AN3439=\"\",\"\",IF(LEN(VLOOKUP(AN3439,Sifranti!BY:BZ,2,FALSE))=0,\"\",VLOOKUP(AN3439,Sifranti!BY:BZ,2,FALSE)))","v":""},{"$f":"IF(C3439=\"\",\"\",VLOOKUP(C3439,Sifranti!P:R,2,FALSE))","v":""},"","",{"$f":"IF(C3439=\"\",\"\",VLOOKUP(C3439,Sifranti!P:R,3,FALSE))","v":""},{"$f":"IF(N3439=\"\",\"\",VLOOKUP(N3439,Sifranti!D:F,2,FALSE))","v":""},{"$f":"IF(AK3439=\"\",\"\",VLOOKUP(AK3439,Sifranti!V:Y,2,FALSE))","v":""},{"$f":"IF(AK3439=\"\",\"\",IF(VLOOKUP(AK3439,Sifranti!V:Y,3,FALSE)=\"\",\"\",VLOOKUP(AK3439,Sifranti!V:Y,3,FALSE)))","v":""},{"$f":"IF(AK3439=\"\",\"\",VLOOKUP(AK3439,Sifranti!V:Y,4,FALSE))","v":""}]
[{"$f":"IF(B3456=\"\",\"\",VLOOKUP(B3456,Sifranti!K:L,2,FALSE))","v":""},null,null,null,null,null,null,null,null,"",{"$f":"IF(L3456=\"\",\"\",VLOOKUP(L3456,Sifranti!A:B,2,FALSE))","v":""},null,{"$f":"IF(N3456=\"\",\"\",VLOOKUP(N3456,Sifranti!D:F,3,FALSE))","v":""},null,{"$f":"IF(P3456=\"\",\"\",VLOOKUP(P3456,Sifranti!H:I,2,FALSE))","v":""},null,null,null,null,null,null,null,null,null,null,null,null,null,null,null,null,null,null,null,null,null,null,null,null,null,{"$f":"IF(AN3456=\"\",\"\",IF(LEN(VLOOKUP(AN3456,Sifranti!BY:BZ,2,FALSE))=0,\"\",VLOOKUP(AN3456,Sifranti!BY:BZ,2,FALSE)))","v":""},{"$f":"IF(C3456=\"\",\"\",VLOOKUP(C3456,Sifranti!P:R,2,FALSE))","v":""},"","",{"$f":"IF(C3456=\"\",\"\",VLOOKUP(C3456,Sifranti!P:R,3,FALSE))","v":""},{"$f":"IF(N3456=\"\",\"\",VLOOKUP(N3456,Sifranti!D:F,2,FALSE))","v":""},{"$f":"IF(AK3456=\"\",\"\",VLOOKUP(AK3456,Sifranti!V:Y,2,FALSE))","v":""},{"$f":"IF(AK3456=\"\",\"\",IF(VLOOKUP(AK3456,Sifranti!V:Y,3,FALSE)=\"\",\"\",VLOOKUP(AK3456,Sifranti!V:Y,3,FALSE)))","v":""},{"$f":"IF(AK3456=\"\",\"\",VLOOKUP(AK3456,Sifranti!V:Y,4,FALSE))","v":""}]
[{"$f":"IF(B3466=\"\",\"\",VLOOKUP(B3466,Sifranti!K:L,2,FALSE))","v":""},null,null,null,null,null,null,null,null,"",{"$f":"IF(L3466=\"\",\"\",VLOOKUP(L3466,Sifranti!A:B,2,FALSE))","v":""},null,{"$f":"IF(N3466=\"\",\"\",VLOOKUP(N3466,Sifranti!D:F,3,FALSE))","v":""},null,{"$f":"IF(P3466=\"\",\"\",VLOOKUP(P3466,Sifranti!H:I,2,FALSE))","v":""},null,null,null,null,null,null,null,null,null,null,null,null,null,null,null,null,null,null,null,null,null,null,null,null,null,{"$f":"IF(AN3466=\"\",\"\",IF(LEN(VLOOKUP(AN3466,Sifranti!BY:BZ,2,FALSE))=0,\"\",VLOOKUP(AN3466,Sifranti!BY:BZ,2,FALSE)))","v":""},{"$f":"IF(C3466=\"\",\"\",VLOOKUP(C3466,Sifranti!P:R,2,FALSE))","v":""},"","",{"$f":"IF(C3466=\"\",\"\",VLOOKUP(C3466,Sifranti!P:R,3,FALSE))","v":""},{"$f":"IF(N3466=\"\",\"\",VLOOKUP(N3466,Sifranti!D:F,2,FALSE))","v":""},{"$f":"IF(AK3466=\"\",\"\",VLOOKUP(AK3466,Sifranti!V:Y,2,FALSE))","v":""},{"$f":"IF(AK3466=\"\",\"\",IF(VLOOKUP(AK3466,Sifranti!V:Y,3,FALSE)=\"\",\"\",VLOOKUP(AK3466,Sifranti!V:Y,3,FALSE)))","v":""},{"$f":"IF(AK3466=\"\",\"\",VLOOKUP(AK3466,Sifranti!V:Y,4,FALSE))","v":""}]
[{"$f":"IF(B3469=\"\",\"\",VLOOKUP(B3469,Sifranti!K:L,2,FALSE))","v":""},null,null,null,null,null,null,null,null,"",{"$f":"IF(L3469=\"\",\"\",VLOOKUP(L3469,Sifranti!A:B,2,FALSE))","v":""},null,{"$f":"IF(N3469=\"\",\"\",VLOOKUP(N3469,Sifranti!D:F,3,FALSE))","v":""},null,{"$f":"IF(P3469=\"\",\"\",VLOOKUP(P3469,Sifranti!H:I,2,FALSE))","v":""},null,null,null,null,null,null,null,null,null,null,null,null,null,null,null,null,null,null,null,null,null,null,null,null,null,{"$f":"IF(AN3469=\"\",\"\",IF(LEN(VLOOKUP(AN3469,Sifranti!BY:BZ,2,FALSE))=0,\"\",VLOOKUP(AN3469,Sifranti!BY:BZ,2,FALSE)))","v":""},{"$f":"IF(C3469=\"\",\"\",VLOOKUP(C3469,Sifranti!P:R,2,FALSE))","v":""},"","",{"$f":"IF(C3469=\"\",\"\",VLOOKUP(C3469,Sifranti!P:R,3,FALSE))","v":""},{"$f":"IF(N3469=\"\",\"\",VLOOKUP(N3469,Sifranti!D:F,2,FALSE))","v":""},{"$f":"IF(AK3469=\"\",\"\",VLOOKUP(AK3469,Sifranti!V:Y,2,FALSE))","v":""},{"$f":"IF(AK3469=\"\",\"\",IF(VLOOKUP(AK3469,Sifranti!V:Y,3,FALSE)=\"\",\"\",VLOOKUP(AK3469,Sifranti!V:Y,3,FALSE)))","v":""},{"$f":"IF(AK3469=\"\",\"\",VLOOKUP(AK3469,Sifranti!V:Y,4,FALSE))","v":""}]
[{"$f":"IF(B3488=\"\",\"\",VLOOKUP(B3488,Sifranti!K:L,2,FALSE))","v":""},null,null,null,null,null,null,null,null,"",{"$f":"IF(L3488=\"\",\"\",VLOOKUP(L3488,Sifranti!A:B,2,FALSE))","v":""},null,{"$f":"IF(N3488=\"\",\"\",VLOOKUP(N3488,Sifranti!D:F,3,FALSE))","v":""},null,{"$f":"IF(P3488=\"\",\"\",VLOOKUP(P3488,Sifranti!H:I,2,FALSE))","v":""},null,null,null,null,null,null,null,null,null,null,null,null,null,null,null,null,null,null,null,null,null,null,null,null,null,{"$f":"IF(AN3488=\"\",\"\",IF(LEN(VLOOKUP(AN3488,Sifranti!BY:BZ,2,FALSE))=0,\"\",VLOOKUP(AN3488,Sifranti!BY:BZ,2,FALSE)))","v":""},{"$f":"IF(C3488=\"\",\"\",VLOOKUP(C3488,Sifranti!P:R,2,FALSE))","v":""},"","",{"$f":"IF(C3488=\"\",\"\",VLOOKUP(C3488,Sifranti!P:R,3,FALSE))","v":""},{"$f":"IF(N3488=\"\",\"\",VLOOKUP(N3488,Sifranti!D:F,2,FALSE))","v":""},{"$f":"IF(AK3488=\"\",\"\",VLOOKUP(AK3488,Sifranti!V:Y,2,FALSE))","v":""},{"$f":"IF(AK3488=\"\",\"\",IF(VLOOKUP(AK3488,Sifranti!V:Y,3,FALSE)=\"\",\"\",VLOOKUP(AK3488,Sifranti!V:Y,3,FALSE)))","v":""},{"$f":"IF(AK3488=\"\",\"\",VLOOKUP(AK3488,Sifranti!V:Y,4,FALSE))","v":""}]
[{"$f":"IF(B3498=\"\",\"\",VLOOKUP(B3498,Sifranti!K:L,2,FALSE))","v":""},null,null,null,null,null,null,null,null,"",{"$f":"IF(L3498=\"\",\"\",VLOOKUP(L3498,Sifranti!A:B,2,FALSE))","v":""},null,{"$f":"IF(N3498=\"\",\"\",VLOOKUP(N3498,Sifranti!D:F,3,FALSE))","v":""},null,{"$f":"IF(P3498=\"\",\"\",VLOOKUP(P3498,Sifranti!H:I,2,FALSE))","v":""},null,null,null,null,null,null,null,null,null,null,null,null,null,null,null,null,null,null,null,null,null,null,null,null,null,{"$f":"IF(AN3498=\"\",\"\",IF(LEN(VLOOKUP(AN3498,Sifranti!BY:BZ,2,FALSE))=0,\"\",VLOOKUP(AN3498,Sifranti!BY:BZ,2,FALSE)))","v":""},{"$f":"IF(C3498=\"\",\"\",VLOOKUP(C3498,Sifranti!P:R,2,FALSE))","v":""},"","",{"$f":"IF(C3498=\"\",\"\",VLOOKUP(C3498,Sifranti!P:R,3,FALSE))","v":""},{"$f":"IF(N3498=\"\",\"\",VLOOKUP(N3498,Sifranti!D:F,2,FALSE))","v":""},{"$f":"IF(AK3498=\"\",\"\",VLOOKUP(AK3498,Sifranti!V:Y,2,FALSE))","v":""},{"$f":"IF(AK3498=\"\",\"\",IF(VLOOKUP(AK3498,Sifranti!V:Y,3,FALSE)=\"\",\"\",VLOOKUP(AK3498,Sifranti!V:Y,3,FALSE)))","v":""},{"$f":"IF(AK3498=\"\",\"\",VLOOKUP(AK3498,Sifranti!V:Y,4,FALSE))","v":""}]
[{"$f":"IF(B3504=\"\",\"\",VLOOKUP(B3504,Sifranti!K:L,2,FALSE))","v":""},null,null,null,null,null,null,null,null,"",{"$f":"IF(L3504=\"\",\"\",VLOOKUP(L3504,Sifranti!A:B,2,FALSE))","v":""},null,{"$f":"IF(N3504=\"\",\"\",VLOOKUP(N3504,Sifranti!D:F,3,FALSE))","v":""},null,{"$f":"IF(P3504=\"\",\"\",VLOOKUP(P3504,Sifranti!H:I,2,FALSE))","v":""},null,null,null,null,null,null,null,null,null,null,null,null,null,null,null,null,null,null,null,null,null,null,null,null,null,{"$f":"IF(AN3504=\"\",\"\",IF(LEN(VLOOKUP(AN3504,Sifranti!BY:BZ,2,FALSE))=0,\"\",VLOOKUP(AN3504,Sifranti!BY:BZ,2,FALSE)))","v":""},{"$f":"IF(C3504=\"\",\"\",VLOOKUP(C3504,Sifranti!P:R,2,FALSE))","v":""},"","",{"$f":"IF(C3504=\"\",\"\",VLOOKUP(C3504,Sifranti!P:R,3,FALSE))","v":""},{"$f":"IF(N3504=\"\",\"\",VLOOKUP(N3504,Sifranti!D:F,2,FALSE))","v":""},{"$f":"IF(AK3504=\"\",\"\",VLOOKUP(AK3504,Sifranti!V:Y,2,FALSE))","v":""},{"$f":"IF(AK3504=\"\",\"\",IF(VLOOKUP(AK3504,Sifranti!V:Y,3,FALSE)=\"\",\"\",VLOOKUP(AK3504,Sifranti!V:Y,3,FALSE)))","v":""},{"$f":"IF(AK3504=\"\",\"\",VLOOKUP(AK3504,Sifranti!V:Y,4,FALSE))","v":""}]
[{"$f":"IF(B3518=\"\",\"\",VLOOKUP(B3518,Sifranti!K:L,2,FALSE))","v":""},null,null,null,null,null,null,null,null,"",{"$f":"IF(L3518=\"\",\"\",VLOOKUP(L3518,Sifranti!A:B,2,FALSE))","v":""},null,{"$f":"IF(N3518=\"\",\"\",VLOOKUP(N3518,Sifranti!D:F,3,FALSE))","v":""},null,{"$f":"IF(P3518=\"\",\"\",VLOOKUP(P3518,Sifranti!H:I,2,FALSE))","v":""},null,null,null,null,null,null,null,null,null,null,null,null,null,null,null,null,null,null,null,null,null,null,null,null,null,{"$f":"IF(AN3518=\"\",\"\",IF(LEN(VLOOKUP(AN3518,Sifranti!BY:BZ,2,FALSE))=0,\"\",VLOOKUP(AN3518,Sifranti!BY:BZ,2,FALSE)))","v":""},{"$f":"IF(C3518=\"\",\"\",VLOOKUP(C3518,Sifranti!P:R,2,FALSE))","v":""},"","",{"$f":"IF(C3518=\"\",\"\",VLOOKUP(C3518,Sifranti!P:R,3,FALSE))","v":""},{"$f":"IF(N3518=\"\",\"\",VLOOKUP(N3518,Sifranti!D:F,2,FALSE))","v":""},{"$f":"IF(AK3518=\"\",\"\",VLOOKUP(AK3518,Sifranti!V:Y,2,FALSE))","v":""},{"$f":"IF(AK3518=\"\",\"\",IF(VLOOKUP(AK3518,Sifranti!V:Y,3,FALSE)=\"\",\"\",VLOOKUP(AK3518,Sifranti!V:Y,3,FALSE)))","v":""},{"$f":"IF(AK3518=\"\",\"\",VLOOKUP(AK3518,Sifranti!V:Y,4,FALSE))","v":""}]
[{"$f":"IF(B3530=\"\",\"\",VLOOKUP(B3530,Sifranti!K:L,2,FALSE))","v":""},null,null,null,null,null,null,null,null,"",{"$f":"IF(L3530=\"\",\"\",VLOOKUP(L3530,Sifranti!A:B,2,FALSE))","v":""},null,{"$f":"IF(N3530=\"\",\"\",VLOOKUP(N3530,Sifranti!D:F,3,FALSE))","v":""},null,{"$f":"IF(P3530=\"\",\"\",VLOOKUP(P3530,Sifranti!H:I,2,FALSE))","v":""},null,null,null,null,null,null,null,null,null,null,null,null,null,null,null,null,null,null,null,null,null,null,null,null,null,{"$f":"IF(AN3530=\"\",\"\",IF(LEN(VLOOKUP(AN3530,Sifranti!BY:BZ,2,FALSE))=0,\"\",VLOOKUP(AN3530,Sifranti!BY:BZ,2,FALSE)))","v":""},{"$f":"IF(C3530=\"\",\"\",VLOOKUP(C3530,Sifranti!P:R,2,FALSE))","v":""},"","",{"$f":"IF(C3530=\"\",\"\",VLOOKUP(C3530,Sifranti!P:R,3,FALSE))","v":""},{"$f":"IF(N3530=\"\",\"\",VLOOKUP(N3530,Sifranti!D:F,2,FALSE))","v":""},{"$f":"IF(AK3530=\"\",\"\",VLOOKUP(AK3530,Sifranti!V:Y,2,FALSE))","v":""},{"$f":"IF(AK3530=\"\",\"\",IF(VLOOKUP(AK3530,Sifranti!V:Y,3,FALSE)=\"\",\"\",VLOOKUP(AK3530,Sifranti!V:Y,3,FALSE)))","v":""},{"$f":"IF(AK3530=\"\",\"\",VLOOKUP(AK3530,Sifranti!V:Y,4,FALSE))","v":""}]
[{"$f":"IF(B3536=\"\",\"\",VLOOKUP(B3536,Sifranti!K:L,2,FALSE))","v":""},null,null,null,null,null,null,null,null,"",{"$f":"IF(L3536=\"\",\"\",VLOOKUP(L3536,Sifranti!A:B,2,FALSE))","v":""},null,{"$f":"IF(N3536=\"\",\"\",VLOOKUP(N3536,Sifranti!D:F,3,FALSE))","v":""},null,{"$f":"IF(P3536=\"\",\"\",VLOOKUP(P3536,Sifranti!H:I,2,FALSE))","v":""},null,null,null,null,null,null,null,null,null,null,null,null,null,null,null,null,null,null,null,null,null,null,null,null,null,{"$f":"IF(AN3536=\"\",\"\",IF(LEN(VLOOKUP(AN3536,Sifranti!BY:BZ,2,FALSE))=0,\"\",VLOOKUP(AN3536,Sifranti!BY:BZ,2,FALSE)))","v":""},{"$f":"IF(C3536=\"\",\"\",VLOOKUP(C3536,Sifranti!P:R,2,FALSE))","v":""},"","",{"$f":"IF(C3536=\"\",\"\",VLOOKUP(C3536,Sifranti!P:R,3,FALSE))","v":""},{"$f":"IF(N3536=\"\",\"\",VLOOKUP(N3536,Sifranti!D:F,2,FALSE))","v":""},{"$f":"IF(AK3536=\"\",\"\",VLOOKUP(AK3536,Sifranti!V:Y,2,FALSE))","v":""},{"$f":"IF(AK3536=\"\",\"\",IF(VLOOKUP(AK3536,Sifranti!V:Y,3,FALSE)=\"\",\"\",VLOOKUP(AK3536,Sifranti!V:Y,3,FALSE)))","v":""},{"$f":"IF(AK3536=\"\",\"\",VLOOKUP(AK3536,Sifranti!V:Y,4,FALSE))","v":""}]
[{"$f":"IF(B3546=\"\",\"\",VLOOKUP(B3546,Sifranti!K:L,2,FALSE))","v":""},null,null,null,null,null,null,null,null,"",{"$f":"IF(L3546=\"\",\"\",VLOOKUP(L3546,Sifranti!A:B,2,FALSE))","v":""},null,{"$f":"IF(N3546=\"\",\"\",VLOOKUP(N3546,Sifranti!D:F,3,FALSE))","v":""},null,{"$f":"IF(P3546=\"\",\"\",VLOOKUP(P3546,Sifranti!H:I,2,FALSE))","v":""},null,null,null,null,null,null,null,null,null,null,null,null,null,null,null,null,null,null,null,null,null,null,null,null,null,{"$f":"IF(AN3546=\"\",\"\",IF(LEN(VLOOKUP(AN3546,Sifranti!BY:BZ,2,FALSE))=0,\"\",VLOOKUP(AN3546,Sifranti!BY:BZ,2,FALSE)))","v":""},{"$f":"IF(C3546=\"\",\"\",VLOOKUP(C3546,Sifranti!P:R,2,FALSE))","v":""},"","",{"$f":"IF(C3546=\"\",\"\",VLOOKUP(C3546,Sifranti!P:R,3,FALSE))","v":""},{"$f":"IF(N3546=\"\",\"\",VLOOKUP(N3546,Sifranti!D:F,2,FALSE))","v":""},{"$f":"IF(AK3546=\"\",\"\",VLOOKUP(AK3546,Sifranti!V:Y,2,FALSE))","v":""},{"$f":"IF(AK3546=\"\",\"\",IF(VLOOKUP(AK3546,Sifranti!V:Y,3,FALSE)=\"\",\"\",VLOOKUP(AK3546,Sifranti!V:Y,3,FALSE)))","v":""},{"$f":"IF(AK3546=\"\",\"\",VLOOKUP(AK3546,Sifranti!V:Y,4,FALSE))","v":""}]
[{"$f":"IF(B3563=\"\",\"\",VLOOKUP(B3563,Sifranti!K:L,2,FALSE))","v":""},null,null,null,null,null,null,null,null,"",{"$f":"IF(L3563=\"\",\"\",VLOOKUP(L3563,Sifranti!A:B,2,FALSE))","v":""},null,{"$f":"IF(N3563=\"\",\"\",VLOOKUP(N3563,Sifranti!D:F,3,FALSE))","v":""},null,{"$f":"IF(P3563=\"\",\"\",VLOOKUP(P3563,Sifranti!H:I,2,FALSE))","v":""},null,null,null,null,null,null,null,null,null,null,null,null,null,null,null,null,null,null,null,null,null,null,null,null,null,{"$f":"IF(AN3563=\"\",\"\",IF(LEN(VLOOKUP(AN3563,Sifranti!BY:BZ,2,FALSE))=0,\"\",VLOOKUP(AN3563,Sifranti!BY:BZ,2,FALSE)))","v":""},{"$f":"IF(C3563=\"\",\"\",VLOOKUP(C3563,Sifranti!P:R,2,FALSE))","v":""},"","",{"$f":"IF(C3563=\"\",\"\",VLOOKUP(C3563,Sifranti!P:R,3,FALSE))","v":""},{"$f":"IF(N3563=\"\",\"\",VLOOKUP(N3563,Sifranti!D:F,2,FALSE))","v":""},{"$f":"IF(AK3563=\"\",\"\",VLOOKUP(AK3563,Sifranti!V:Y,2,FALSE))","v":""},{"$f":"IF(AK3563=\"\",\"\",IF(VLOOKUP(AK3563,Sifranti!V:Y,3,FALSE)=\"\",\"\",VLOOKUP(AK3563,Sifranti!V:Y,3,FALSE)))","v":""},{"$f":"IF(AK3563=\"\",\"\",VLOOKUP(AK3563,Sifranti!V:Y,4,FALSE))","v":""}]
[{"$f":"IF(B3568=\"\",\"\",VLOOKUP(B3568,Sifranti!K:L,2,FALSE))","v":""},null,null,null,null,null,null,null,null,"",{"$f":"IF(L3568=\"\",\"\",VLOOKUP(L3568,Sifranti!A:B,2,FALSE))","v":""},null,{"$f":"IF(N3568=\"\",\"\",VLOOKUP(N3568,Sifranti!D:F,3,FALSE))","v":""},null,{"$f":"IF(P3568=\"\",\"\",VLOOKUP(P3568,Sifranti!H:I,2,FALSE))","v":""},null,null,null,null,null,null,null,null,null,null,null,null,null,null,null,null,null,null,null,null,null,null,null,null,null,{"$f":"IF(AN3568=\"\",\"\",IF(LEN(VLOOKUP(AN3568,Sifranti!BY:BZ,2,FALSE))=0,\"\",VLOOKUP(AN3568,Sifranti!BY:BZ,2,FALSE)))","v":""},{"$f":"IF(C3568=\"\",\"\",VLOOKUP(C3568,Sifranti!P:R,2,FALSE))","v":""},"","",{"$f":"IF(C3568=\"\",\"\",VLOOKUP(C3568,Sifranti!P:R,3,FALSE))","v":""},{"$f":"IF(N3568=\"\",\"\",VLOOKUP(N3568,Sifranti!D:F,2,FALSE))","v":""},{"$f":"IF(AK3568=\"\",\"\",VLOOKUP(AK3568,Sifranti!V:Y,2,FALSE))","v":""},{"$f":"IF(AK3568=\"\",\"\",IF(VLOOKUP(AK3568,Sifranti!V:Y,3,FALSE)=\"\",\"\",VLOOKUP(AK3568,Sifranti!V:Y,3,FALSE)))","v":""},{"$f":"IF(AK3568=\"\",\"\",VLOOKUP(AK3568,Sifranti!V:Y,4,FALSE))","v":""}]
[{"$f":"IF(B3578=\"\",\"\",VLOOKUP(B3578,Sifranti!K:L,2,FALSE))","v":""},null,null,null,null,null,null,null,null,"",{"$f":"IF(L3578=\"\",\"\",VLOOKUP(L3578,Sifranti!A:B,2,FALSE))","v":""},null,{"$f":"IF(N3578=\"\",\"\",VLOOKUP(N3578,Sifranti!D:F,3,FALSE))","v":""},null,{"$f":"IF(P3578=\"\",\"\",VLOOKUP(P3578,Sifranti!H:I,2,FALSE))","v":""},null,null,null,null,null,null,null,null,null,null,null,null,null,null,null,null,null,null,null,null,null,null,null,null,null,{"$f":"IF(AN3578=\"\",\"\",IF(LEN(VLOOKUP(AN3578,Sifranti!BY:BZ,2,FALSE))=0,\"\",VLOOKUP(AN3578,Sifranti!BY:BZ,2,FALSE)))","v":""},{"$f":"IF(C3578=\"\",\"\",VLOOKUP(C3578,Sifranti!P:R,2,FALSE))","v":""},"","",{"$f":"IF(C3578=\"\",\"\",VLOOKUP(C3578,Sifranti!P:R,3,FALSE))","v":""},{"$f":"IF(N3578=\"\",\"\",VLOOKUP(N3578,Sifranti!D:F,2,FALSE))","v":""},{"$f":"IF(AK3578=\"\",\"\",VLOOKUP(AK3578,Sifranti!V:Y,2,FALSE))","v":""},{"$f":"IF(AK3578=\"\",\"\",IF(VLOOKUP(AK3578,Sifranti!V:Y,3,FALSE)=\"\",\"\",VLOOKUP(AK3578,Sifranti!V:Y,3,FALSE)))","v":""},{"$f":"IF(AK3578=\"\",\"\",VLOOKUP(AK3578,Sifranti!V:Y,4,FALSE))","v":""}]
[{"$f":"IF(B3595=\"\",\"\",VLOOKUP(B3595,Sifranti!K:L,2,FALSE))","v":""},null,null,null,null,null,null,null,null,"",{"$f":"IF(L3595=\"\",\"\",VLOOKUP(L3595,Sifranti!A:B,2,FALSE))","v":""},null,{"$f":"IF(N3595=\"\",\"\",VLOOKUP(N3595,Sifranti!D:F,3,FALSE))","v":""},null,{"$f":"IF(P3595=\"\",\"\",VLOOKUP(P3595,Sifranti!H:I,2,FALSE))","v":""},null,null,null,null,null,null,null,null,null,null,null,null,null,null,null,null,null,null,null,null,null,null,null,null,null,{"$f":"IF(AN3595=\"\",\"\",IF(LEN(VLOOKUP(AN3595,Sifranti!BY:BZ,2,FALSE))=0,\"\",VLOOKUP(AN3595,Sifranti!BY:BZ,2,FALSE)))","v":""},{"$f":"IF(C3595=\"\",\"\",VLOOKUP(C3595,Sifranti!P:R,2,FALSE))","v":""},"","",{"$f":"IF(C3595=\"\",\"\",VLOOKUP(C3595,Sifranti!P:R,3,FALSE))","v":""},{"$f":"IF(N3595=\"\",\"\",VLOOKUP(N3595,Sifranti!D:F,2,FALSE))","v":""},{"$f":"IF(AK3595=\"\",\"\",VLOOKUP(AK3595,Sifranti!V:Y,2,FALSE))","v":""},{"$f":"IF(AK3595=\"\",\"\",IF(VLOOKUP(AK3595,Sifranti!V:Y,3,FALSE)=\"\",\"\",VLOOKUP(AK3595,Sifranti!V:Y,3,FALSE)))","v":""},{"$f":"IF(AK3595=\"\",\"\",VLOOKUP(AK3595,Sifranti!V:Y,4,FALSE))","v":""}]
[{"$f":"IF(B3598=\"\",\"\",VLOOKUP(B3598,Sifranti!K:L,2,FALSE))","v":""},null,null,null,null,null,null,null,null,"",{"$f":"IF(L3598=\"\",\"\",VLOOKUP(L3598,Sifranti!A:B,2,FALSE))","v":""},null,{"$f":"IF(N3598=\"\",\"\",VLOOKUP(N3598,Sifranti!D:F,3,FALSE))","v":""},null,{"$f":"IF(P3598=\"\",\"\",VLOOKUP(P3598,Sifranti!H:I,2,FALSE))","v":""},null,null,null,null,null,null,null,null,null,null,null,null,null,null,null,null,null,null,null,null,null,null,null,null,null,{"$f":"IF(AN3598=\"\",\"\",IF(LEN(VLOOKUP(AN3598,Sifranti!BY:BZ,2,FALSE))=0,\"\",VLOOKUP(AN3598,Sifranti!BY:BZ,2,FALSE)))","v":""},{"$f":"IF(C3598=\"\",\"\",VLOOKUP(C3598,Sifranti!P:R,2,FALSE))","v":""},"","",{"$f":"IF(C3598=\"\",\"\",VLOOKUP(C3598,Sifranti!P:R,3,FALSE))","v":""},{"$f":"IF(N3598=\"\",\"\",VLOOKUP(N3598,Sifranti!D:F,2,FALSE))","v":""},{"$f":"IF(AK3598=\"\",\"\",VLOOKUP(AK3598,Sifranti!V:Y,2,FALSE))","v":""},{"$f":"IF(AK3598=\"\",\"\",IF(VLOOKUP(AK3598,Sifranti!V:Y,3,FALSE)=\"\",\"\",VLOOKUP(AK3598,Sifranti!V:Y,3,FALSE)))","v":""},{"$f":"IF(AK3598=\"\",\"\",VLOOKUP(AK3598,Sifranti!V:Y,4,FALSE))","v":""}]
[{"$f":"IF(B3610=\"\",\"\",VLOOKUP(B3610,Sifranti!K:L,2,FALSE))","v":""},null,null,null,null,null,null,null,null,"",{"$f":"IF(L3610=\"\",\"\",VLOOKUP(L3610,Sifranti!A:B,2,FALSE))","v":""},null,{"$f":"IF(N3610=\"\",\"\",VLOOKUP(N3610,Sifranti!D:F,3,FALSE))","v":""},null,{"$f":"IF(P3610=\"\",\"\",VLOOKUP(P3610,Sifranti!H:I,2,FALSE))","v":""},null,null,null,null,null,null,null,null,null,null,null,null,null,null,null,null,null,null,null,null,null,null,null,null,null,{"$f":"IF(AN3610=\"\",\"\",IF(LEN(VLOOKUP(AN3610,Sifranti!BY:BZ,2,FALSE))=0,\"\",VLOOKUP(AN3610,Sifranti!BY:BZ,2,FALSE)))","v":""},{"$f":"IF(C3610=\"\",\"\",VLOOKUP(C3610,Sifranti!P:R,2,FALSE))","v":""},"","",{"$f":"IF(C3610=\"\",\"\",VLOOKUP(C3610,Sifranti!P:R,3,FALSE))","v":""},{"$f":"IF(N3610=\"\",\"\",VLOOKUP(N3610,Sifranti!D:F,2,FALSE))","v":""},{"$f":"IF(AK3610=\"\",\"\",VLOOKUP(AK3610,Sifranti!V:Y,2,FALSE))","v":""},{"$f":"IF(AK3610=\"\",\"\",IF(VLOOKUP(AK3610,Sifranti!V:Y,3,FALSE)=\"\",\"\",VLOOKUP(AK3610,Sifranti!V:Y,3,FALSE)))","v":""},{"$f":"IF(AK3610=\"\",\"\",VLOOKUP(AK3610,Sifranti!V:Y,4,FALSE))","v":""}]
[{"$f":"IF(B3627=\"\",\"\",VLOOKUP(B3627,Sifranti!K:L,2,FALSE))","v":""},null,null,null,null,null,null,null,null,"",{"$f":"IF(L3627=\"\",\"\",VLOOKUP(L3627,Sifranti!A:B,2,FALSE))","v":""},null,{"$f":"IF(N3627=\"\",\"\",VLOOKUP(N3627,Sifranti!D:F,3,FALSE))","v":""},null,{"$f":"IF(P3627=\"\",\"\",VLOOKUP(P3627,Sifranti!H:I,2,FALSE))","v":""},null,null,null,null,null,null,null,null,null,null,null,null,null,null,null,null,null,null,null,null,null,null,null,null,null,{"$f":"IF(AN3627=\"\",\"\",IF(LEN(VLOOKUP(AN3627,Sifranti!BY:BZ,2,FALSE))=0,\"\",VLOOKUP(AN3627,Sifranti!BY:BZ,2,FALSE)))","v":""},{"$f":"IF(C3627=\"\",\"\",VLOOKUP(C3627,Sifranti!P:R,2,FALSE))","v":""},"","",{"$f":"IF(C3627=\"\",\"\",VLOOKUP(C3627,Sifranti!P:R,3,FALSE))","v":""},{"$f":"IF(N3627=\"\",\"\",VLOOKUP(N3627,Sifranti!D:F,2,FALSE))","v":""},{"$f":"IF(AK3627=\"\",\"\",VLOOKUP(AK3627,Sifranti!V:Y,2,FALSE))","v":""},{"$f":"IF(AK3627=\"\",\"\",IF(VLOOKUP(AK3627,Sifranti!V:Y,3,FALSE)=\"\",\"\",VLOOKUP(AK3627,Sifranti!V:Y,3,FALSE)))","v":""},{"$f":"IF(AK3627=\"\",\"\",VLOOKUP(AK3627,Sifranti!V:Y,4,FALSE))","v":""}]
[{"$f":"IF(B3637=\"\",\"\",VLOOKUP(B3637,Sifranti!K:L,2,FALSE))","v":""},null,null,null,null,null,null,null,null,"",{"$f":"IF(L3637=\"\",\"\",VLOOKUP(L3637,Sifranti!A:B,2,FALSE))","v":""},null,{"$f":"IF(N3637=\"\",\"\",VLOOKUP(N3637,Sifranti!D:F,3,FALSE))","v":""},null,{"$f":"IF(P3637=\"\",\"\",VLOOKUP(P3637,Sifranti!H:I,2,FALSE))","v":""},null,null,null,null,null,null,null,null,null,null,null,null,null,null,null,null,null,null,null,null,null,null,null,null,null,{"$f":"IF(AN3637=\"\",\"\",IF(LEN(VLOOKUP(AN3637,Sifranti!BY:BZ,2,FALSE))=0,\"\",VLOOKUP(AN3637,Sifranti!BY:BZ,2,FALSE)))","v":""},{"$f":"IF(C3637=\"\",\"\",VLOOKUP(C3637,Sifranti!P:R,2,FALSE))","v":""},"","",{"$f":"IF(C3637=\"\",\"\",VLOOKUP(C3637,Sifranti!P:R,3,FALSE))","v":""},{"$f":"IF(N3637=\"\",\"\",VLOOKUP(N3637,Sifranti!D:F,2,FALSE))","v":""},{"$f":"IF(AK3637=\"\",\"\",VLOOKUP(AK3637,Sifranti!V:Y,2,FALSE))","v":""},{"$f":"IF(AK3637=\"\",\"\",IF(VLOOKUP(AK3637,Sifranti!V:Y,3,FALSE)=\"\",\"\",VLOOKUP(AK3637,Sifranti!V:Y,3,FALSE)))","v":""},{"$f":"IF(AK3637=\"\",\"\",VLOOKUP(AK3637,Sifranti!V:Y,4,FALSE))","v":""}]
[{"$f":"IF(B3647=\"\",\"\",VLOOKUP(B3647,Sifranti!K:L,2,FALSE))","v":""},null,null,null,null,null,null,null,null,"",{"$f":"IF(L3647=\"\",\"\",VLOOKUP(L3647,Sifranti!A:B,2,FALSE))","v":""},null,{"$f":"IF(N3647=\"\",\"\",VLOOKUP(N3647,Sifranti!D:F,3,FALSE))","v":""},null,{"$f":"IF(P3647=\"\",\"\",VLOOKUP(P3647,Sifranti!H:I,2,FALSE))","v":""},null,null,null,null,null,null,null,null,null,null,null,null,null,null,null,null,null,null,null,null,null,null,null,null,null,{"$f":"IF(AN3647=\"\",\"\",IF(LEN(VLOOKUP(AN3647,Sifranti!BY:BZ,2,FALSE))=0,\"\",VLOOKUP(AN3647,Sifranti!BY:BZ,2,FALSE)))","v":""},{"$f":"IF(C3647=\"\",\"\",VLOOKUP(C3647,Sifranti!P:R,2,FALSE))","v":""},"","",{"$f":"IF(C3647=\"\",\"\",VLOOKUP(C3647,Sifranti!P:R,3,FALSE))","v":""},{"$f":"IF(N3647=\"\",\"\",VLOOKUP(N3647,Sifranti!D:F,2,FALSE))","v":""},{"$f":"IF(AK3647=\"\",\"\",VLOOKUP(AK3647,Sifranti!V:Y,2,FALSE))","v":""},{"$f":"IF(AK3647=\"\",\"\",IF(VLOOKUP(AK3647,Sifranti!V:Y,3,FALSE)=\"\",\"\",VLOOKUP(AK3647,Sifranti!V:Y,3,FALSE)))","v":""},{"$f":"IF(AK3647=\"\",\"\",VLOOKUP(AK3647,Sifranti!V:Y,4,FALSE))","v":""}]
[{"$f":"IF(B3659=\"\",\"\",VLOOKUP(B3659,Sifranti!K:L,2,FALSE))","v":""},null,null,null,null,null,null,null,null,"",{"$f":"IF(L3659=\"\",\"\",VLOOKUP(L3659,Sifranti!A:B,2,FALSE))","v":""},null,{"$f":"IF(N3659=\"\",\"\",VLOOKUP(N3659,Sifranti!D:F,3,FALSE))","v":""},null,{"$f":"IF(P3659=\"\",\"\",VLOOKUP(P3659,Sifranti!H:I,2,FALSE))","v":""},null,null,null,null,null,null,null,null,null,null,null,null,null,null,null,null,null,null,null,null,null,null,null,null,null,{"$f":"IF(AN3659=\"\",\"\",IF(LEN(VLOOKUP(AN3659,Sifranti!BY:BZ,2,FALSE))=0,\"\",VLOOKUP(AN3659,Sifranti!BY:BZ,2,FALSE)))","v":""},{"$f":"IF(C3659=\"\",\"\",VLOOKUP(C3659,Sifranti!P:R,2,FALSE))","v":""},"","",{"$f":"IF(C3659=\"\",\"\",VLOOKUP(C3659,Sifranti!P:R,3,FALSE))","v":""},{"$f":"IF(N3659=\"\",\"\",VLOOKUP(N3659,Sifranti!D:F,2,FALSE))","v":""},{"$f":"IF(AK3659=\"\",\"\",VLOOKUP(AK3659,Sifranti!V:Y,2,FALSE))","v":""},{"$f":"IF(AK3659=\"\",\"\",IF(VLOOKUP(AK3659,Sifranti!V:Y,3,FALSE)=\"\",\"\",VLOOKUP(AK3659,Sifranti!V:Y,3,FALSE)))","v":""},{"$f":"IF(AK3659=\"\",\"\",VLOOKUP(AK3659,Sifranti!V:Y,4,FALSE))","v":""}]
[{"$f":"IF(B3669=\"\",\"\",VLOOKUP(B3669,Sifranti!K:L,2,FALSE))","v":""},null,null,null,null,null,null,null,null,"",{"$f":"IF(L3669=\"\",\"\",VLOOKUP(L3669,Sifranti!A:B,2,FALSE))","v":""},null,{"$f":"IF(N3669=\"\",\"\",VLOOKUP(N3669,Sifranti!D:F,3,FALSE))","v":""},null,{"$f":"IF(P3669=\"\",\"\",VLOOKUP(P3669,Sifranti!H:I,2,FALSE))","v":""},null,null,null,null,null,null,null,null,null,null,null,null,null,null,null,null,null,null,null,null,null,null,null,null,null,{"$f":"IF(AN3669=\"\",\"\",IF(LEN(VLOOKUP(AN3669,Sifranti!BY:BZ,2,FALSE))=0,\"\",VLOOKUP(AN3669,Sifranti!BY:BZ,2,FALSE)))","v":""},{"$f":"IF(C3669=\"\",\"\",VLOOKUP(C3669,Sifranti!P:R,2,FALSE))","v":""},"","",{"$f":"IF(C3669=\"\",\"\",VLOOKUP(C3669,Sifranti!P:R,3,FALSE))","v":""},{"$f":"IF(N3669=\"\",\"\",VLOOKUP(N3669,Sifranti!D:F,2,FALSE))","v":""},{"$f":"IF(AK3669=\"\",\"\",VLOOKUP(AK3669,Sifranti!V:Y,2,FALSE))","v":""},{"$f":"IF(AK3669=\"\",\"\",IF(VLOOKUP(AK3669,Sifranti!V:Y,3,FALSE)=\"\",\"\",VLOOKUP(AK3669,Sifranti!V:Y,3,FALSE)))","v":""},{"$f":"IF(AK3669=\"\",\"\",VLOOKUP(AK3669,Sifranti!V:Y,4,FALSE))","v":""}]
[{"$f":"IF(B3675=\"\",\"\",VLOOKUP(B3675,Sifranti!K:L,2,FALSE))","v":""},null,null,null,null,null,null,null,null,"",{"$f":"IF(L3675=\"\",\"\",VLOOKUP(L3675,Sifranti!A:B,2,FALSE))","v":""},null,{"$f":"IF(N3675=\"\",\"\",VLOOKUP(N3675,Sifranti!D:F,3,FALSE))","v":""},null,{"$f":"IF(P3675=\"\",\"\",VLOOKUP(P3675,Sifranti!H:I,2,FALSE))","v":""},null,null,null,null,null,null,null,null,null,null,null,null,null,null,null,null,null,null,null,null,null,null,null,null,null,{"$f":"IF(AN3675=\"\",\"\",IF(LEN(VLOOKUP(AN3675,Sifranti!BY:BZ,2,FALSE))=0,\"\",VLOOKUP(AN3675,Sifranti!BY:BZ,2,FALSE)))","v":""},{"$f":"IF(C3675=\"\",\"\",VLOOKUP(C3675,Sifranti!P:R,2,FALSE))","v":""},"","",{"$f":"IF(C3675=\"\",\"\",VLOOKUP(C3675,Sifranti!P:R,3,FALSE))","v":""},{"$f":"IF(N3675=\"\",\"\",VLOOKUP(N3675,Sifranti!D:F,2,FALSE))","v":""},{"$f":"IF(AK3675=\"\",\"\",VLOOKUP(AK3675,Sifranti!V:Y,2,FALSE))","v":""},{"$f":"IF(AK3675=\"\",\"\",IF(VLOOKUP(AK3675,Sifranti!V:Y,3,FALSE)=\"\",\"\",VLOOKUP(AK3675,Sifranti!V:Y,3,FALSE)))","v":""},{"$f":"IF(AK3675=\"\",\"\",VLOOKUP(AK3675,Sifranti!V:Y,4,FALSE))","v":""}]
[{"$f":"IF(B3692=\"\",\"\",VLOOKUP(B3692,Sifranti!K:L,2,FALSE))","v":""},null,null,null,null,null,null,null,null,"",{"$f":"IF(L3692=\"\",\"\",VLOOKUP(L3692,Sifranti!A:B,2,FALSE))","v":""},null,{"$f":"IF(N3692=\"\",\"\",VLOOKUP(N3692,Sifranti!D:F,3,FALSE))","v":""},null,{"$f":"IF(P3692=\"\",\"\",VLOOKUP(P3692,Sifranti!H:I,2,FALSE))","v":""},null,null,null,null,null,null,null,null,null,null,null,null,null,null,null,null,null,null,null,null,null,null,null,null,null,{"$f":"IF(AN3692=\"\",\"\",IF(LEN(VLOOKUP(AN3692,Sifranti!BY:BZ,2,FALSE))=0,\"\",VLOOKUP(AN3692,Sifranti!BY:BZ,2,FALSE)))","v":""},{"$f":"IF(C3692=\"\",\"\",VLOOKUP(C3692,Sifranti!P:R,2,FALSE))","v":""},"","",{"$f":"IF(C3692=\"\",\"\",VLOOKUP(C3692,Sifranti!P:R,3,FALSE))","v":""},{"$f":"IF(N3692=\"\",\"\",VLOOKUP(N3692,Sifranti!D:F,2,FALSE))","v":""},{"$f":"IF(AK3692=\"\",\"\",VLOOKUP(AK3692,Sifranti!V:Y,2,FALSE))","v":""},{"$f":"IF(AK3692=\"\",\"\",IF(VLOOKUP(AK3692,Sifranti!V:Y,3,FALSE)=\"\",\"\",VLOOKUP(AK3692,Sifranti!V:Y,3,FALSE)))","v":""},{"$f":"IF(AK3692=\"\",\"\",VLOOKUP(AK3692,Sifranti!V:Y,4,FALSE))","v":""}]
[{"$f":"IF(B3701=\"\",\"\",VLOOKUP(B3701,Sifranti!K:L,2,FALSE))","v":""},null,null,null,null,null,null,null,null,"",{"$f":"IF(L3701=\"\",\"\",VLOOKUP(L3701,Sifranti!A:B,2,FALSE))","v":""},null,{"$f":"IF(N3701=\"\",\"\",VLOOKUP(N3701,Sifranti!D:F,3,FALSE))","v":""},null,{"$f":"IF(P3701=\"\",\"\",VLOOKUP(P3701,Sifranti!H:I,2,FALSE))","v":""},null,null,null,null,null,null,null,null,null,null,null,null,null,null,null,null,null,null,null,null,null,null,null,null,null,{"$f":"IF(AN3701=\"\",\"\",IF(LEN(VLOOKUP(AN3701,Sifranti!BY:BZ,2,FALSE))=0,\"\",VLOOKUP(AN3701,Sifranti!BY:BZ,2,FALSE)))","v":""},{"$f":"IF(C3701=\"\",\"\",VLOOKUP(C3701,Sifranti!P:R,2,FALSE))","v":""},"","",{"$f":"IF(C3701=\"\",\"\",VLOOKUP(C3701,Sifranti!P:R,3,FALSE))","v":""},{"$f":"IF(N3701=\"\",\"\",VLOOKUP(N3701,Sifranti!D:F,2,FALSE))","v":""},{"$f":"IF(AK3701=\"\",\"\",VLOOKUP(AK3701,Sifranti!V:Y,2,FALSE))","v":""},{"$f":"IF(AK3701=\"\",\"\",IF(VLOOKUP(AK3701,Sifranti!V:Y,3,FALSE)=\"\",\"\",VLOOKUP(AK3701,Sifranti!V:Y,3,FALSE)))","v":""},{"$f":"IF(AK3701=\"\",\"\",VLOOKUP(AK3701,Sifranti!V:Y,4,FALSE))","v":""}]
[{"$f":"IF(B3707=\"\",\"\",VLOOKUP(B3707,Sifranti!K:L,2,FALSE))","v":""},null,null,null,null,null,null,null,null,"",{"$f":"IF(L3707=\"\",\"\",VLOOKUP(L3707,Sifranti!A:B,2,FALSE))","v":""},null,{"$f":"IF(N3707=\"\",\"\",VLOOKUP(N3707,Sifranti!D:F,3,FALSE))","v":""},null,{"$f":"IF(P3707=\"\",\"\",VLOOKUP(P3707,Sifranti!H:I,2,FALSE))","v":""},null,null,null,null,null,null,null,null,null,null,null,null,null,null,null,null,null,null,null,null,null,null,null,null,null,{"$f":"IF(AN3707=\"\",\"\",IF(LEN(VLOOKUP(AN3707,Sifranti!BY:BZ,2,FALSE))=0,\"\",VLOOKUP(AN3707,Sifranti!BY:BZ,2,FALSE)))","v":""},{"$f":"IF(C3707=\"\",\"\",VLOOKUP(C3707,Sifranti!P:R,2,FALSE))","v":""},"","",{"$f":"IF(C3707=\"\",\"\",VLOOKUP(C3707,Sifranti!P:R,3,FALSE))","v":""},{"$f":"IF(N3707=\"\",\"\",VLOOKUP(N3707,Sifranti!D:F,2,FALSE))","v":""},{"$f":"IF(AK3707=\"\",\"\",VLOOKUP(AK3707,Sifranti!V:Y,2,FALSE))","v":""},{"$f":"IF(AK3707=\"\",\"\",IF(VLOOKUP(AK3707,Sifranti!V:Y,3,FALSE)=\"\",\"\",VLOOKUP(AK3707,Sifranti!V:Y,3,FALSE)))","v":""},{"$f":"IF(AK3707=\"\",\"\",VLOOKUP(AK3707,Sifranti!V:Y,4,FALSE))","v":""}]
[{"$f":"IF(B3717=\"\",\"\",VLOOKUP(B3717,Sifranti!K:L,2,FALSE))","v":""},null,null,null,null,null,null,null,null,"",{"$f":"IF(L3717=\"\",\"\",VLOOKUP(L3717,Sifranti!A:B,2,FALSE))","v":""},null,{"$f":"IF(N3717=\"\",\"\",VLOOKUP(N3717,Sifranti!D:F,3,FALSE))","v":""},null,{"$f":"IF(P3717=\"\",\"\",VLOOKUP(P3717,Sifranti!H:I,2,FALSE))","v":""},null,null,null,null,null,null,null,null,null,null,null,null,null,null,null,null,null,null,null,null,null,null,null,null,null,{"$f":"IF(AN3717=\"\",\"\",IF(LEN(VLOOKUP(AN3717,Sifranti!BY:BZ,2,FALSE))=0,\"\",VLOOKUP(AN3717,Sifranti!BY:BZ,2,FALSE)))","v":""},{"$f":"IF(C3717=\"\",\"\",VLOOKUP(C3717,Sifranti!P:R,2,FALSE))","v":""},"","",{"$f":"IF(C3717=\"\",\"\",VLOOKUP(C3717,Sifranti!P:R,3,FALSE))","v":""},{"$f":"IF(N3717=\"\",\"\",VLOOKUP(N3717,Sifranti!D:F,2,FALSE))","v":""},{"$f":"IF(AK3717=\"\",\"\",VLOOKUP(AK3717,Sifranti!V:Y,2,FALSE))","v":""},{"$f":"IF(AK3717=\"\",\"\",IF(VLOOKUP(AK3717,Sifranti!V:Y,3,FALSE)=\"\",\"\",VLOOKUP(AK3717,Sifranti!V:Y,3,FALSE)))","v":""},{"$f":"IF(AK3717=\"\",\"\",VLOOKUP(AK3717,Sifranti!V:Y,4,FALSE))","v":""}]
[{"$f":"IF(B3731=\"\",\"\",VLOOKUP(B3731,Sifranti!K:L,2,FALSE))","v":""},null,null,null,null,null,null,null,null,"",{"$f":"IF(L3731=\"\",\"\",VLOOKUP(L3731,Sifranti!A:B,2,FALSE))","v":""},null,{"$f":"IF(N3731=\"\",\"\",VLOOKUP(N3731,Sifranti!D:F,3,FALSE))","v":""},null,{"$f":"IF(P3731=\"\",\"\",VLOOKUP(P3731,Sifranti!H:I,2,FALSE))","v":""},null,null,null,null,null,null,null,null,null,null,null,null,null,null,null,null,null,null,null,null,null,null,null,null,null,{"$f":"IF(AN3731=\"\",\"\",IF(LEN(VLOOKUP(AN3731,Sifranti!BY:BZ,2,FALSE))=0,\"\",VLOOKUP(AN3731,Sifranti!BY:BZ,2,FALSE)))","v":""},{"$f":"IF(C3731=\"\",\"\",VLOOKUP(C3731,Sifranti!P:R,2,FALSE))","v":""},"","",{"$f":"IF(C3731=\"\",\"\",VLOOKUP(C3731,Sifranti!P:R,3,FALSE))","v":""},{"$f":"IF(N3731=\"\",\"\",VLOOKUP(N3731,Sifranti!D:F,2,FALSE))","v":""},{"$f":"IF(AK3731=\"\",\"\",VLOOKUP(AK3731,Sifranti!V:Y,2,FALSE))","v":""},{"$f":"IF(AK3731=\"\",\"\",IF(VLOOKUP(AK3731,Sifranti!V:Y,3,FALSE)=\"\",\"\",VLOOKUP(AK3731,Sifranti!V:Y,3,FALSE)))","v":""},{"$f":"IF(AK3731=\"\",\"\",VLOOKUP(AK3731,Sifranti!V:Y,4,FALSE))","v":""}]
[{"$f":"IF(B3739=\"\",\"\",VLOOKUP(B3739,Sifranti!K:L,2,FALSE))","v":""},null,null,null,null,null,null,null,null,"",{"$f":"IF(L3739=\"\",\"\",VLOOKUP(L3739,Sifranti!A:B,2,FALSE))","v":""},null,{"$f":"IF(N3739=\"\",\"\",VLOOKUP(N3739,Sifranti!D:F,3,FALSE))","v":""},null,{"$f":"IF(P3739=\"\",\"\",VLOOKUP(P3739,Sifranti!H:I,2,FALSE))","v":""},null,null,null,null,null,null,null,null,null,null,null,null,null,null,null,null,null,null,null,null,null,null,null,null,null,{"$f":"IF(AN3739=\"\",\"\",IF(LEN(VLOOKUP(AN3739,Sifranti!BY:BZ,2,FALSE))=0,\"\",VLOOKUP(AN3739,Sifranti!BY:BZ,2,FALSE)))","v":""},{"$f":"IF(C3739=\"\",\"\",VLOOKUP(C3739,Sifranti!P:R,2,FALSE))","v":""},"","",{"$f":"IF(C3739=\"\",\"\",VLOOKUP(C3739,Sifranti!P:R,3,FALSE))","v":""},{"$f":"IF(N3739=\"\",\"\",VLOOKUP(N3739,Sifranti!D:F,2,FALSE))","v":""},{"$f":"IF(AK3739=\"\",\"\",VLOOKUP(AK3739,Sifranti!V:Y,2,FALSE))","v":""},{"$f":"IF(AK3739=\"\",\"\",IF(VLOOKUP(AK3739,Sifranti!V:Y,3,FALSE)=\"\",\"\",VLOOKUP(AK3739,Sifranti!V:Y,3,FALSE)))","v":""},{"$f":"IF(AK3739=\"\",\"\",VLOOKUP(AK3739,Sifranti!V:Y,4,FALSE))","v":""}]
[{"$f":"IF(B3749=\"\",\"\",VLOOKUP(B3749,Sifranti!K:L,2,FALSE))","v":""},null,null,null,null,null,null,null,null,"",{"$f":"IF(L3749=\"\",\"\",VLOOKUP(L3749,Sifranti!A:B,2,FALSE))","v":""},null,{"$f":"IF(N3749=\"\",\"\",VLOOKUP(N3749,Sifranti!D:F,3,FALSE))","v":""},null,{"$f":"IF(P3749=\"\",\"\",VLOOKUP(P3749,Sifranti!H:I,2,FALSE))","v":""},null,null,null,null,null,null,null,null,null,null,null,null,null,null,null,null,null,null,null,null,null,null,null,null,null,{"$f":"IF(AN3749=\"\",\"\",IF(LEN(VLOOKUP(AN3749,Sifranti!BY:BZ,2,FALSE))=0,\"\",VLOOKUP(AN3749,Sifranti!BY:BZ,2,FALSE)))","v":""},{"$f":"IF(C3749=\"\",\"\",VLOOKUP(C3749,Sifranti!P:R,2,FALSE))","v":""},"","",{"$f":"IF(C3749=\"\",\"\",VLOOKUP(C3749,Sifranti!P:R,3,FALSE))","v":""},{"$f":"IF(N3749=\"\",\"\",VLOOKUP(N3749,Sifranti!D:F,2,FALSE))","v":""},{"$f":"IF(AK3749=\"\",\"\",VLOOKUP(AK3749,Sifranti!V:Y,2,FALSE))","v":""},{"$f":"IF(AK3749=\"\",\"\",IF(VLOOKUP(AK3749,Sifranti!V:Y,3,FALSE)=\"\",\"\",VLOOKUP(AK3749,Sifranti!V:Y,3,FALSE)))","v":""},{"$f":"IF(AK3749=\"\",\"\",VLOOKUP(AK3749,Sifranti!V:Y,4,FALSE))","v":""}]
[{"$f":"IF(B3766=\"\",\"\",VLOOKUP(B3766,Sifranti!K:L,2,FALSE))","v":""},null,null,null,null,null,null,null,null,"",{"$f":"IF(L3766=\"\",\"\",VLOOKUP(L3766,Sifranti!A:B,2,FALSE))","v":""},null,{"$f":"IF(N3766=\"\",\"\",VLOOKUP(N3766,Sifranti!D:F,3,FALSE))","v":""},null,{"$f":"IF(P3766=\"\",\"\",VLOOKUP(P3766,Sifranti!H:I,2,FALSE))","v":""},null,null,null,null,null,null,null,null,null,null,null,null,null,null,null,null,null,null,null,null,null,null,null,null,null,{"$f":"IF(AN3766=\"\",\"\",IF(LEN(VLOOKUP(AN3766,Sifranti!BY:BZ,2,FALSE))=0,\"\",VLOOKUP(AN3766,Sifranti!BY:BZ,2,FALSE)))","v":""},{"$f":"IF(C3766=\"\",\"\",VLOOKUP(C3766,Sifranti!P:R,2,FALSE))","v":""},"","",{"$f":"IF(C3766=\"\",\"\",VLOOKUP(C3766,Sifranti!P:R,3,FALSE))","v":""},{"$f":"IF(N3766=\"\",\"\",VLOOKUP(N3766,Sifranti!D:F,2,FALSE))","v":""},{"$f":"IF(AK3766=\"\",\"\",VLOOKUP(AK3766,Sifranti!V:Y,2,FALSE))","v":""},{"$f":"IF(AK3766=\"\",\"\",IF(VLOOKUP(AK3766,Sifranti!V:Y,3,FALSE)=\"\",\"\",VLOOKUP(AK3766,Sifranti!V:Y,3,FALSE)))","v":""},{"$f":"IF(AK3766=\"\",\"\",VLOOKUP(AK3766,Sifranti!V:Y,4,FALSE))","v":""}]
[{"$f":"IF(B3776=\"\",\"\",VLOOKUP(B3776,Sifranti!K:L,2,FALSE))","v":""},null,null,null,null,null,null,null,null,"",{"$f":"IF(L3776=\"\",\"\",VLOOKUP(L3776,Sifranti!A:B,2,FALSE))","v":""},null,{"$f":"IF(N3776=\"\",\"\",VLOOKUP(N3776,Sifranti!D:F,3,FALSE))","v":""},null,{"$f":"IF(P3776=\"\",\"\",VLOOKUP(P3776,Sifranti!H:I,2,FALSE))","v":""},null,null,null,null,null,null,null,null,null,null,null,null,null,null,null,null,null,null,null,null,null,null,null,null,null,{"$f":"IF(AN3776=\"\",\"\",IF(LEN(VLOOKUP(AN3776,Sifranti!BY:BZ,2,FALSE))=0,\"\",VLOOKUP(AN3776,Sifranti!BY:BZ,2,FALSE)))","v":""},{"$f":"IF(C3776=\"\",\"\",VLOOKUP(C3776,Sifranti!P:R,2,FALSE))","v":""},"","",{"$f":"IF(C3776=\"\",\"\",VLOOKUP(C3776,Sifranti!P:R,3,FALSE))","v":""},{"$f":"IF(N3776=\"\",\"\",VLOOKUP(N3776,Sifranti!D:F,2,FALSE))","v":""},{"$f":"IF(AK3776=\"\",\"\",VLOOKUP(AK3776,Sifranti!V:Y,2,FALSE))","v":""},{"$f":"IF(AK3776=\"\",\"\",IF(VLOOKUP(AK3776,Sifranti!V:Y,3,FALSE)=\"\",\"\",VLOOKUP(AK3776,Sifranti!V:Y,3,FALSE)))","v":""},{"$f":"IF(AK3776=\"\",\"\",VLOOKUP(AK3776,Sifranti!V:Y,4,FALSE))","v":""}]
[{"$f":"IF(B3781=\"\",\"\",VLOOKUP(B3781,Sifranti!K:L,2,FALSE))","v":""},null,null,null,null,null,null,null,null,"",{"$f":"IF(L3781=\"\",\"\",VLOOKUP(L3781,Sifranti!A:B,2,FALSE))","v":""},null,{"$f":"IF(N3781=\"\",\"\",VLOOKUP(N3781,Sifranti!D:F,3,FALSE))","v":""},null,{"$f":"IF(P3781=\"\",\"\",VLOOKUP(P3781,Sifranti!H:I,2,FALSE))","v":""},null,null,null,null,null,null,null,null,null,null,null,null,null,null,null,null,null,null,null,null,null,null,null,null,null,{"$f":"IF(AN3781=\"\",\"\",IF(LEN(VLOOKUP(AN3781,Sifranti!BY:BZ,2,FALSE))=0,\"\",VLOOKUP(AN3781,Sifranti!BY:BZ,2,FALSE)))","v":""},{"$f":"IF(C3781=\"\",\"\",VLOOKUP(C3781,Sifranti!P:R,2,FALSE))","v":""},"","",{"$f":"IF(C3781=\"\",\"\",VLOOKUP(C3781,Sifranti!P:R,3,FALSE))","v":""},{"$f":"IF(N3781=\"\",\"\",VLOOKUP(N3781,Sifranti!D:F,2,FALSE))","v":""},{"$f":"IF(AK3781=\"\",\"\",VLOOKUP(AK3781,Sifranti!V:Y,2,FALSE))","v":""},{"$f":"IF(AK3781=\"\",\"\",IF(VLOOKUP(AK3781,Sifranti!V:Y,3,FALSE)=\"\",\"\",VLOOKUP(AK3781,Sifranti!V:Y,3,FALSE)))","v":""},{"$f":"IF(AK3781=\"\",\"\",VLOOKUP(AK3781,Sifranti!V:Y,4,FALSE))","v":""}]
[{"$f":"IF(B3798=\"\",\"\",VLOOKUP(B3798,Sifranti!K:L,2,FALSE))","v":""},null,null,null,null,null,null,null,null,"",{"$f":"IF(L3798=\"\",\"\",VLOOKUP(L3798,Sifranti!A:B,2,FALSE))","v":""},null,{"$f":"IF(N3798=\"\",\"\",VLOOKUP(N3798,Sifranti!D:F,3,FALSE))","v":""},null,{"$f":"IF(P3798=\"\",\"\",VLOOKUP(P3798,Sifranti!H:I,2,FALSE))","v":""},null,null,null,null,null,null,null,null,null,null,null,null,null,null,null,null,null,null,null,null,null,null,null,null,null,{"$f":"IF(AN3798=\"\",\"\",IF(LEN(VLOOKUP(AN3798,Sifranti!BY:BZ,2,FALSE))=0,\"\",VLOOKUP(AN3798,Sifranti!BY:BZ,2,FALSE)))","v":""},{"$f":"IF(C3798=\"\",\"\",VLOOKUP(C3798,Sifranti!P:R,2,FALSE))","v":""},"","",{"$f":"IF(C3798=\"\",\"\",VLOOKUP(C3798,Sifranti!P:R,3,FALSE))","v":""},{"$f":"IF(N3798=\"\",\"\",VLOOKUP(N3798,Sifranti!D:F,2,FALSE))","v":""},{"$f":"IF(AK3798=\"\",\"\",VLOOKUP(AK3798,Sifranti!V:Y,2,FALSE))","v":""},{"$f":"IF(AK3798=\"\",\"\",IF(VLOOKUP(AK3798,Sifranti!V:Y,3,FALSE)=\"\",\"\",VLOOKUP(AK3798,Sifranti!V:Y,3,FALSE)))","v":""},{"$f":"IF(AK3798=\"\",\"\",VLOOKUP(AK3798,Sifranti!V:Y,4,FALSE))","v":""}]
[{"$f":"IF(B3808=\"\",\"\",VLOOKUP(B3808,Sifranti!K:L,2,FALSE))","v":""},null,null,null,null,null,null,null,null,"",{"$f":"IF(L3808=\"\",\"\",VLOOKUP(L3808,Sifranti!A:B,2,FALSE))","v":""},null,{"$f":"IF(N3808=\"\",\"\",VLOOKUP(N3808,Sifranti!D:F,3,FALSE))","v":""},null,{"$f":"IF(P3808=\"\",\"\",VLOOKUP(P3808,Sifranti!H:I,2,FALSE))","v":""},null,null,null,null,null,null,null,null,null,null,null,null,null,null,null,null,null,null,null,null,null,null,null,null,null,{"$f":"IF(AN3808=\"\",\"\",IF(LEN(VLOOKUP(AN3808,Sifranti!BY:BZ,2,FALSE))=0,\"\",VLOOKUP(AN3808,Sifranti!BY:BZ,2,FALSE)))","v":""},{"$f":"IF(C3808=\"\",\"\",VLOOKUP(C3808,Sifranti!P:R,2,FALSE))","v":""},"","",{"$f":"IF(C3808=\"\",\"\",VLOOKUP(C3808,Sifranti!P:R,3,FALSE))","v":""},{"$f":"IF(N3808=\"\",\"\",VLOOKUP(N3808,Sifranti!D:F,2,FALSE))","v":""},{"$f":"IF(AK3808=\"\",\"\",VLOOKUP(AK3808,Sifranti!V:Y,2,FALSE))","v":""},{"$f":"IF(AK3808=\"\",\"\",IF(VLOOKUP(AK3808,Sifranti!V:Y,3,FALSE)=\"\",\"\",VLOOKUP(AK3808,Sifranti!V:Y,3,FALSE)))","v":""},{"$f":"IF(AK3808=\"\",\"\",VLOOKUP(AK3808,Sifranti!V:Y,4,FALSE))","v":""}]
[{"$f":"IF(B3815=\"\",\"\",VLOOKUP(B3815,Sifranti!K:L,2,FALSE))","v":""},null,null,null,null,null,null,null,null,"",{"$f":"IF(L3815=\"\",\"\",VLOOKUP(L3815,Sifranti!A:B,2,FALSE))","v":""},null,{"$f":"IF(N3815=\"\",\"\",VLOOKUP(N3815,Sifranti!D:F,3,FALSE))","v":""},null,{"$f":"IF(P3815=\"\",\"\",VLOOKUP(P3815,Sifranti!H:I,2,FALSE))","v":""},null,null,null,null,null,null,null,null,null,null,null,null,null,null,null,null,null,null,null,null,null,null,null,null,null,{"$f":"IF(AN3815=\"\",\"\",IF(LEN(VLOOKUP(AN3815,Sifranti!BY:BZ,2,FALSE))=0,\"\",VLOOKUP(AN3815,Sifranti!BY:BZ,2,FALSE)))","v":""},{"$f":"IF(C3815=\"\",\"\",VLOOKUP(C3815,Sifranti!P:R,2,FALSE))","v":""},"","",{"$f":"IF(C3815=\"\",\"\",VLOOKUP(C3815,Sifranti!P:R,3,FALSE))","v":""},{"$f":"IF(N3815=\"\",\"\",VLOOKUP(N3815,Sifranti!D:F,2,FALSE))","v":""},{"$f":"IF(AK3815=\"\",\"\",VLOOKUP(AK3815,Sifranti!V:Y,2,FALSE))","v":""},{"$f":"IF(AK3815=\"\",\"\",IF(VLOOKUP(AK3815,Sifranti!V:Y,3,FALSE)=\"\",\"\",VLOOKUP(AK3815,Sifranti!V:Y,3,FALSE)))","v":""},{"$f":"IF(AK3815=\"\",\"\",VLOOKUP(AK3815,Sifranti!V:Y,4,FALSE))","v":""}]
[{"$f":"IF(B3823=\"\",\"\",VLOOKUP(B3823,Sifranti!K:L,2,FALSE))","v":""},null,null,null,null,null,null,null,null,"",{"$f":"IF(L3823=\"\",\"\",VLOOKUP(L3823,Sifranti!A:B,2,FALSE))","v":""},null,{"$f":"IF(N3823=\"\",\"\",VLOOKUP(N3823,Sifranti!D:F,3,FALSE))","v":""},null,{"$f":"IF(P3823=\"\",\"\",VLOOKUP(P3823,Sifranti!H:I,2,FALSE))","v":""},null,null,null,null,null,null,null,null,null,null,null,null,null,null,null,null,null,null,null,null,null,null,null,null,null,{"$f":"IF(AN3823=\"\",\"\",IF(LEN(VLOOKUP(AN3823,Sifranti!BY:BZ,2,FALSE))=0,\"\",VLOOKUP(AN3823,Sifranti!BY:BZ,2,FALSE)))","v":""},{"$f":"IF(C3823=\"\",\"\",VLOOKUP(C3823,Sifranti!P:R,2,FALSE))","v":""},"","",{"$f":"IF(C3823=\"\",\"\",VLOOKUP(C3823,Sifranti!P:R,3,FALSE))","v":""},{"$f":"IF(N3823=\"\",\"\",VLOOKUP(N3823,Sifranti!D:F,2,FALSE))","v":""},{"$f":"IF(AK3823=\"\",\"\",VLOOKUP(AK3823,Sifranti!V:Y,2,FALSE))","v":""},{"$f":"IF(AK3823=\"\",\"\",IF(VLOOKUP(AK3823,Sifranti!V:Y,3,FALSE)=\"\",\"\",VLOOKUP(AK3823,Sifranti!V:Y,3,FALSE)))","v":""},{"$f":"IF(AK3823=\"\",\"\",VLOOKUP(AK3823,Sifranti!V:Y,4,FALSE))","v":""}]
[{"$f":"IF(B3840=\"\",\"\",VLOOKUP(B3840,Sifranti!K:L,2,FALSE))","v":""},null,null,null,null,null,null,null,null,"",{"$f":"IF(L3840=\"\",\"\",VLOOKUP(L3840,Sifranti!A:B,2,FALSE))","v":""},null,{"$f":"IF(N3840=\"\",\"\",VLOOKUP(N3840,Sifranti!D:F,3,FALSE))","v":""},null,{"$f":"IF(P3840=\"\",\"\",VLOOKUP(P3840,Sifranti!H:I,2,FALSE))","v":""},null,null,null,null,null,null,null,null,null,null,null,null,null,null,null,null,null,null,null,null,null,null,null,null,null,{"$f":"IF(AN3840=\"\",\"\",IF(LEN(VLOOKUP(AN3840,Sifranti!BY:BZ,2,FALSE))=0,\"\",VLOOKUP(AN3840,Sifranti!BY:BZ,2,FALSE)))","v":""},{"$f":"IF(C3840=\"\",\"\",VLOOKUP(C3840,Sifranti!P:R,2,FALSE))","v":""},"","",{"$f":"IF(C3840=\"\",\"\",VLOOKUP(C3840,Sifranti!P:R,3,FALSE))","v":""},{"$f":"IF(N3840=\"\",\"\",VLOOKUP(N3840,Sifranti!D:F,2,FALSE))","v":""},{"$f":"IF(AK3840=\"\",\"\",VLOOKUP(AK3840,Sifranti!V:Y,2,FALSE))","v":""},{"$f":"IF(AK3840=\"\",\"\",IF(VLOOKUP(AK3840,Sifranti!V:Y,3,FALSE)=\"\",\"\",VLOOKUP(AK3840,Sifranti!V:Y,3,FALSE)))","v":""},{"$f":"IF(AK3840=\"\",\"\",VLOOKUP(AK3840,Sifranti!V:Y,4,FALSE))","v":""}]
[{"$f":"IF(B3846=\"\",\"\",VLOOKUP(B3846,Sifranti!K:L,2,FALSE))","v":""},null,null,null,null,null,null,null,null,"",{"$f":"IF(L3846=\"\",\"\",VLOOKUP(L3846,Sifranti!A:B,2,FALSE))","v":""},null,{"$f":"IF(N3846=\"\",\"\",VLOOKUP(N3846,Sifranti!D:F,3,FALSE))","v":""},null,{"$f":"IF(P3846=\"\",\"\",VLOOKUP(P3846,Sifranti!H:I,2,FALSE))","v":""},null,null,null,null,null,null,null,null,null,null,null,null,null,null,null,null,null,null,null,null,null,null,null,null,null,{"$f":"IF(AN3846=\"\",\"\",IF(LEN(VLOOKUP(AN3846,Sifranti!BY:BZ,2,FALSE))=0,\"\",VLOOKUP(AN3846,Sifranti!BY:BZ,2,FALSE)))","v":""},{"$f":"IF(C3846=\"\",\"\",VLOOKUP(C3846,Sifranti!P:R,2,FALSE))","v":""},"","",{"$f":"IF(C3846=\"\",\"\",VLOOKUP(C3846,Sifranti!P:R,3,FALSE))","v":""},{"$f":"IF(N3846=\"\",\"\",VLOOKUP(N3846,Sifranti!D:F,2,FALSE))","v":""},{"$f":"IF(AK3846=\"\",\"\",VLOOKUP(AK3846,Sifranti!V:Y,2,FALSE))","v":""},{"$f":"IF(AK3846=\"\",\"\",IF(VLOOKUP(AK3846,Sifranti!V:Y,3,FALSE)=\"\",\"\",VLOOKUP(AK3846,Sifranti!V:Y,3,FALSE)))","v":""},{"$f":"IF(AK3846=\"\",\"\",VLOOKUP(AK3846,Sifranti!V:Y,4,FALSE))","v":""}]
[{"$f":"IF(B3860=\"\",\"\",VLOOKUP(B3860,Sifranti!K:L,2,FALSE))","v":""},null,null,null,null,null,null,null,null,"",{"$f":"IF(L3860=\"\",\"\",VLOOKUP(L3860,Sifranti!A:B,2,FALSE))","v":""},null,{"$f":"IF(N3860=\"\",\"\",VLOOKUP(N3860,Sifranti!D:F,3,FALSE))","v":""},null,{"$f":"IF(P3860=\"\",\"\",VLOOKUP(P3860,Sifranti!H:I,2,FALSE))","v":""},null,null,null,null,null,null,null,null,null,null,null,null,null,null,null,null,null,null,null,null,null,null,null,null,null,{"$f":"IF(AN3860=\"\",\"\",IF(LEN(VLOOKUP(AN3860,Sifranti!BY:BZ,2,FALSE))=0,\"\",VLOOKUP(AN3860,Sifranti!BY:BZ,2,FALSE)))","v":""},{"$f":"IF(C3860=\"\",\"\",VLOOKUP(C3860,Sifranti!P:R,2,FALSE))","v":""},"","",{"$f":"IF(C3860=\"\",\"\",VLOOKUP(C3860,Sifranti!P:R,3,FALSE))","v":""},{"$f":"IF(N3860=\"\",\"\",VLOOKUP(N3860,Sifranti!D:F,2,FALSE))","v":""},{"$f":"IF(AK3860=\"\",\"\",VLOOKUP(AK3860,Sifranti!V:Y,2,FALSE))","v":""},{"$f":"IF(AK3860=\"\",\"\",IF(VLOOKUP(AK3860,Sifranti!V:Y,3,FALSE)=\"\",\"\",VLOOKUP(AK3860,Sifranti!V:Y,3,FALSE)))","v":""},{"$f":"IF(AK3860=\"\",\"\",VLOOKUP(AK3860,Sifranti!V:Y,4,FALSE))","v":""}]
[{"$f":"IF(B3872=\"\",\"\",VLOOKUP(B3872,Sifranti!K:L,2,FALSE))","v":""},null,null,null,null,null,null,null,null,"",{"$f":"IF(L3872=\"\",\"\",VLOOKUP(L3872,Sifranti!A:B,2,FALSE))","v":""},null,{"$f":"IF(N3872=\"\",\"\",VLOOKUP(N3872,Sifranti!D:F,3,FALSE))","v":""},null,{"$f":"IF(P3872=\"\",\"\",VLOOKUP(P3872,Sifranti!H:I,2,FALSE))","v":""},null,null,null,null,null,null,null,null,null,null,null,null,null,null,null,null,null,null,null,null,null,null,null,null,null,{"$f":"IF(AN3872=\"\",\"\",IF(LEN(VLOOKUP(AN3872,Sifranti!BY:BZ,2,FALSE))=0,\"\",VLOOKUP(AN3872,Sifranti!BY:BZ,2,FALSE)))","v":""},{"$f":"IF(C3872=\"\",\"\",VLOOKUP(C3872,Sifranti!P:R,2,FALSE))","v":""},"","",{"$f":"IF(C3872=\"\",\"\",VLOOKUP(C3872,Sifranti!P:R,3,FALSE))","v":""},{"$f":"IF(N3872=\"\",\"\",VLOOKUP(N3872,Sifranti!D:F,2,FALSE))","v":""},{"$f":"IF(AK3872=\"\",\"\",VLOOKUP(AK3872,Sifranti!V:Y,2,FALSE))","v":""},{"$f":"IF(AK3872=\"\",\"\",IF(VLOOKUP(AK3872,Sifranti!V:Y,3,FALSE)=\"\",\"\",VLOOKUP(AK3872,Sifranti!V:Y,3,FALSE)))","v":""},{"$f":"IF(AK3872=\"\",\"\",VLOOKUP(AK3872,Sifranti!V:Y,4,FALSE))","v":""}]
[{"$f":"IF(B3878=\"\",\"\",VLOOKUP(B3878,Sifranti!K:L,2,FALSE))","v":""},null,null,null,null,null,null,null,null,"",{"$f":"IF(L3878=\"\",\"\",VLOOKUP(L3878,Sifranti!A:B,2,FALSE))","v":""},null,{"$f":"IF(N3878=\"\",\"\",VLOOKUP(N3878,Sifranti!D:F,3,FALSE))","v":""},null,{"$f":"IF(P3878=\"\",\"\",VLOOKUP(P3878,Sifranti!H:I,2,FALSE))","v":""},null,null,null,null,null,null,null,null,null,null,null,null,null,null,null,null,null,null,null,null,null,null,null,null,null,{"$f":"IF(AN3878=\"\",\"\",IF(LEN(VLOOKUP(AN3878,Sifranti!BY:BZ,2,FALSE))=0,\"\",VLOOKUP(AN3878,Sifranti!BY:BZ,2,FALSE)))","v":""},{"$f":"IF(C3878=\"\",\"\",VLOOKUP(C3878,Sifranti!P:R,2,FALSE))","v":""},"","",{"$f":"IF(C3878=\"\",\"\",VLOOKUP(C3878,Sifranti!P:R,3,FALSE))","v":""},{"$f":"IF(N3878=\"\",\"\",VLOOKUP(N3878,Sifranti!D:F,2,FALSE))","v":""},{"$f":"IF(AK3878=\"\",\"\",VLOOKUP(AK3878,Sifranti!V:Y,2,FALSE))","v":""},{"$f":"IF(AK3878=\"\",\"\",IF(VLOOKUP(AK3878,Sifranti!V:Y,3,FALSE)=\"\",\"\",VLOOKUP(AK3878,Sifranti!V:Y,3,FALSE)))","v":""},{"$f":"IF(AK3878=\"\",\"\",VLOOKUP(AK3878,Sifranti!V:Y,4,FALSE))","v":""}]
[{"$f":"IF(B3888=\"\",\"\",VLOOKUP(B3888,Sifranti!K:L,2,FALSE))","v":""},null,null,null,null,null,null,null,null,"",{"$f":"IF(L3888=\"\",\"\",VLOOKUP(L3888,Sifranti!A:B,2,FALSE))","v":""},null,{"$f":"IF(N3888=\"\",\"\",VLOOKUP(N3888,Sifranti!D:F,3,FALSE))","v":""},null,{"$f":"IF(P3888=\"\",\"\",VLOOKUP(P3888,Sifranti!H:I,2,FALSE))","v":""},null,null,null,null,null,null,null,null,null,null,null,null,null,null,null,null,null,null,null,null,null,null,null,null,null,{"$f":"IF(AN3888=\"\",\"\",IF(LEN(VLOOKUP(AN3888,Sifranti!BY:BZ,2,FALSE))=0,\"\",VLOOKUP(AN3888,Sifranti!BY:BZ,2,FALSE)))","v":""},{"$f":"IF(C3888=\"\",\"\",VLOOKUP(C3888,Sifranti!P:R,2,FALSE))","v":""},"","",{"$f":"IF(C3888=\"\",\"\",VLOOKUP(C3888,Sifranti!P:R,3,FALSE))","v":""},{"$f":"IF(N3888=\"\",\"\",VLOOKUP(N3888,Sifranti!D:F,2,FALSE))","v":""},{"$f":"IF(AK3888=\"\",\"\",VLOOKUP(AK3888,Sifranti!V:Y,2,FALSE))","v":""},{"$f":"IF(AK3888=\"\",\"\",IF(VLOOKUP(AK3888,Sifranti!V:Y,3,FALSE)=\"\",\"\",VLOOKUP(AK3888,Sifranti!V:Y,3,FALSE)))","v":""},{"$f":"IF(AK3888=\"\",\"\",VLOOKUP(AK3888,Sifranti!V:Y,4,FALSE))","v":""}]
[{"$f":"IF(B3899=\"\",\"\",VLOOKUP(B3899,Sifranti!K:L,2,FALSE))","v":""},null,null,null,null,null,null,null,null,"",{"$f":"IF(L3899=\"\",\"\",VLOOKUP(L3899,Sifranti!A:B,2,FALSE))","v":""},null,{"$f":"IF(N3899=\"\",\"\",VLOOKUP(N3899,Sifranti!D:F,3,FALSE))","v":""},null,{"$f":"IF(P3899=\"\",\"\",VLOOKUP(P3899,Sifranti!H:I,2,FALSE))","v":""},null,null,null,null,null,null,null,null,null,null,null,null,null,null,null,null,null,null,null,null,null,null,null,null,null,{"$f":"IF(AN3899=\"\",\"\",IF(LEN(VLOOKUP(AN3899,Sifranti!BY:BZ,2,FALSE))=0,\"\",VLOOKUP(AN3899,Sifranti!BY:BZ,2,FALSE)))","v":""},{"$f":"IF(C3899=\"\",\"\",VLOOKUP(C3899,Sifranti!P:R,2,FALSE))","v":""},"","",{"$f":"IF(C3899=\"\",\"\",VLOOKUP(C3899,Sifranti!P:R,3,FALSE))","v":""},{"$f":"IF(N3899=\"\",\"\",VLOOKUP(N3899,Sifranti!D:F,2,FALSE))","v":""},{"$f":"IF(AK3899=\"\",\"\",VLOOKUP(AK3899,Sifranti!V:Y,2,FALSE))","v":""},{"$f":"IF(AK3899=\"\",\"\",IF(VLOOKUP(AK3899,Sifranti!V:Y,3,FALSE)=\"\",\"\",VLOOKUP(AK3899,Sifranti!V:Y,3,FALSE)))","v":""},{"$f":"IF(AK3899=\"\",\"\",VLOOKUP(AK3899,Sifranti!V:Y,4,FALSE))","v":""}]
[{"$f":"IF(B3914=\"\",\"\",VLOOKUP(B3914,Sifranti!K:L,2,FALSE))","v":""},null,null,null,null,null,null,null,null,"",{"$f":"IF(L3914=\"\",\"\",VLOOKUP(L3914,Sifranti!A:B,2,FALSE))","v":""},null,{"$f":"IF(N3914=\"\",\"\",VLOOKUP(N3914,Sifranti!D:F,3,FALSE))","v":""},null,{"$f":"IF(P3914=\"\",\"\",VLOOKUP(P3914,Sifranti!H:I,2,FALSE))","v":""},null,null,null,null,null,null,null,null,null,null,null,null,null,null,null,null,null,null,null,null,null,null,null,null,null,{"$f":"IF(AN3914=\"\",\"\",IF(LEN(VLOOKUP(AN3914,Sifranti!BY:BZ,2,FALSE))=0,\"\",VLOOKUP(AN3914,Sifranti!BY:BZ,2,FALSE)))","v":""},{"$f":"IF(C3914=\"\",\"\",VLOOKUP(C3914,Sifranti!P:R,2,FALSE))","v":""},"","",{"$f":"IF(C3914=\"\",\"\",VLOOKUP(C3914,Sifranti!P:R,3,FALSE))","v":""},{"$f":"IF(N3914=\"\",\"\",VLOOKUP(N3914,Sifranti!D:F,2,FALSE))","v":""},{"$f":"IF(AK3914=\"\",\"\",VLOOKUP(AK3914,Sifranti!V:Y,2,FALSE))","v":""},{"$f":"IF(AK3914=\"\",\"\",IF(VLOOKUP(AK3914,Sifranti!V:Y,3,FALSE)=\"\",\"\",VLOOKUP(AK3914,Sifranti!V:Y,3,FALSE)))","v":""},{"$f":"IF(AK3914=\"\",\"\",VLOOKUP(AK3914,Sifranti!V:Y,4,FALSE))","v":""}]
[{"$f":"IF(B3920=\"\",\"\",VLOOKUP(B3920,Sifranti!K:L,2,FALSE))","v":""},null,null,null,null,null,null,null,null,"",{"$f":"IF(L3920=\"\",\"\",VLOOKUP(L3920,Sifranti!A:B,2,FALSE))","v":""},null,{"$f":"IF(N3920=\"\",\"\",VLOOKUP(N3920,Sifranti!D:F,3,FALSE))","v":""},null,{"$f":"IF(P3920=\"\",\"\",VLOOKUP(P3920,Sifranti!H:I,2,FALSE))","v":""},null,null,null,null,null,null,null,null,null,null,null,null,null,null,null,null,null,null,null,null,null,null,null,null,null,{"$f":"IF(AN3920=\"\",\"\",IF(LEN(VLOOKUP(AN3920,Sifranti!BY:BZ,2,FALSE))=0,\"\",VLOOKUP(AN3920,Sifranti!BY:BZ,2,FALSE)))","v":""},{"$f":"IF(C3920=\"\",\"\",VLOOKUP(C3920,Sifranti!P:R,2,FALSE))","v":""},"","",{"$f":"IF(C3920=\"\",\"\",VLOOKUP(C3920,Sifranti!P:R,3,FALSE))","v":""},{"$f":"IF(N3920=\"\",\"\",VLOOKUP(N3920,Sifranti!D:F,2,FALSE))","v":""},{"$f":"IF(AK3920=\"\",\"\",VLOOKUP(AK3920,Sifranti!V:Y,2,FALSE))","v":""},{"$f":"IF(AK3920=\"\",\"\",IF(VLOOKUP(AK3920,Sifranti!V:Y,3,FALSE)=\"\",\"\",VLOOKUP(AK3920,Sifranti!V:Y,3,FALSE)))","v":""},{"$f":"IF(AK3920=\"\",\"\",VLOOKUP(AK3920,Sifranti!V:Y,4,FALSE))","v":""}]
[{"$f":"IF(B3937=\"\",\"\",VLOOKUP(B3937,Sifranti!K:L,2,FALSE))","v":""},null,null,null,null,null,null,null,null,"",{"$f":"IF(L3937=\"\",\"\",VLOOKUP(L3937,Sifranti!A:B,2,FALSE))","v":""},null,{"$f":"IF(N3937=\"\",\"\",VLOOKUP(N3937,Sifranti!D:F,3,FALSE))","v":""},null,{"$f":"IF(P3937=\"\",\"\",VLOOKUP(P3937,Sifranti!H:I,2,FALSE))","v":""},null,null,null,null,null,null,null,null,null,null,null,null,null,null,null,null,null,null,null,null,null,null,null,null,null,{"$f":"IF(AN3937=\"\",\"\",IF(LEN(VLOOKUP(AN3937,Sifranti!BY:BZ,2,FALSE))=0,\"\",VLOOKUP(AN3937,Sifranti!BY:BZ,2,FALSE)))","v":""},{"$f":"IF(C3937=\"\",\"\",VLOOKUP(C3937,Sifranti!P:R,2,FALSE))","v":""},"","",{"$f":"IF(C3937=\"\",\"\",VLOOKUP(C3937,Sifranti!P:R,3,FALSE))","v":""},{"$f":"IF(N3937=\"\",\"\",VLOOKUP(N3937,Sifranti!D:F,2,FALSE))","v":""},{"$f":"IF(AK3937=\"\",\"\",VLOOKUP(AK3937,Sifranti!V:Y,2,FALSE))","v":""},{"$f":"IF(AK3937=\"\",\"\",IF(VLOOKUP(AK3937,Sifranti!V:Y,3,FALSE)=\"\",\"\",VLOOKUP(AK3937,Sifranti!V:Y,3,FALSE)))","v":""},{"$f":"IF(AK3937=\"\",\"\",VLOOKUP(AK3937,Sifranti!V:Y,4,FALSE))","v":""}]
[{"$f":"IF(B3944=\"\",\"\",VLOOKUP(B3944,Sifranti!K:L,2,FALSE))","v":""},null,null,null,null,null,null,null,null,"",{"$f":"IF(L3944=\"\",\"\",VLOOKUP(L3944,Sifranti!A:B,2,FALSE))","v":""},null,{"$f":"IF(N3944=\"\",\"\",VLOOKUP(N3944,Sifranti!D:F,3,FALSE))","v":""},null,{"$f":"IF(P3944=\"\",\"\",VLOOKUP(P3944,Sifranti!H:I,2,FALSE))","v":""},null,null,null,null,null,null,null,null,null,null,null,null,null,null,null,null,null,null,null,null,null,null,null,null,null,{"$f":"IF(AN3944=\"\",\"\",IF(LEN(VLOOKUP(AN3944,Sifranti!BY:BZ,2,FALSE))=0,\"\",VLOOKUP(AN3944,Sifranti!BY:BZ,2,FALSE)))","v":""},{"$f":"IF(C3944=\"\",\"\",VLOOKUP(C3944,Sifranti!P:R,2,FALSE))","v":""},"","",{"$f":"IF(C3944=\"\",\"\",VLOOKUP(C3944,Sifranti!P:R,3,FALSE))","v":""},{"$f":"IF(N3944=\"\",\"\",VLOOKUP(N3944,Sifranti!D:F,2,FALSE))","v":""},{"$f":"IF(AK3944=\"\",\"\",VLOOKUP(AK3944,Sifranti!V:Y,2,FALSE))","v":""},{"$f":"IF(AK3944=\"\",\"\",IF(VLOOKUP(AK3944,Sifranti!V:Y,3,FALSE)=\"\",\"\",VLOOKUP(AK3944,Sifranti!V:Y,3,FALSE)))","v":""},{"$f":"IF(AK3944=\"\",\"\",VLOOKUP(AK3944,Sifranti!V:Y,4,FALSE))","v":""}]
[{"$f":"IF(B3952=\"\",\"\",VLOOKUP(B3952,Sifranti!K:L,2,FALSE))","v":""},null,null,null,null,null,null,null,null,"",{"$f":"IF(L3952=\"\",\"\",VLOOKUP(L3952,Sifranti!A:B,2,FALSE))","v":""},null,{"$f":"IF(N3952=\"\",\"\",VLOOKUP(N3952,Sifranti!D:F,3,FALSE))","v":""},null,{"$f":"IF(P3952=\"\",\"\",VLOOKUP(P3952,Sifranti!H:I,2,FALSE))","v":""},null,null,null,null,null,null,null,null,null,null,null,null,null,null,null,null,null,null,null,null,null,null,null,null,null,{"$f":"IF(AN3952=\"\",\"\",IF(LEN(VLOOKUP(AN3952,Sifranti!BY:BZ,2,FALSE))=0,\"\",VLOOKUP(AN3952,Sifranti!BY:BZ,2,FALSE)))","v":""},{"$f":"IF(C3952=\"\",\"\",VLOOKUP(C3952,Sifranti!P:R,2,FALSE))","v":""},"","",{"$f":"IF(C3952=\"\",\"\",VLOOKUP(C3952,Sifranti!P:R,3,FALSE))","v":""},{"$f":"IF(N3952=\"\",\"\",VLOOKUP(N3952,Sifranti!D:F,2,FALSE))","v":""},{"$f":"IF(AK3952=\"\",\"\",VLOOKUP(AK3952,Sifranti!V:Y,2,FALSE))","v":""},{"$f":"IF(AK3952=\"\",\"\",IF(VLOOKUP(AK3952,Sifranti!V:Y,3,FALSE)=\"\",\"\",VLOOKUP(AK3952,Sifranti!V:Y,3,FALSE)))","v":""},{"$f":"IF(AK3952=\"\",\"\",VLOOKUP(AK3952,Sifranti!V:Y,4,FALSE))","v":""}]
[{"$f":"IF(B3969=\"\",\"\",VLOOKUP(B3969,Sifranti!K:L,2,FALSE))","v":""},null,null,null,null,null,null,null,null,"",{"$f":"IF(L3969=\"\",\"\",VLOOKUP(L3969,Sifranti!A:B,2,FALSE))","v":""},null,{"$f":"IF(N3969=\"\",\"\",VLOOKUP(N3969,Sifranti!D:F,3,FALSE))","v":""},null,{"$f":"IF(P3969=\"\",\"\",VLOOKUP(P3969,Sifranti!H:I,2,FALSE))","v":""},null,null,null,null,null,null,null,null,null,null,null,null,null,null,null,null,null,null,null,null,null,null,null,null,null,{"$f":"IF(AN3969=\"\",\"\",IF(LEN(VLOOKUP(AN3969,Sifranti!BY:BZ,2,FALSE))=0,\"\",VLOOKUP(AN3969,Sifranti!BY:BZ,2,FALSE)))","v":""},{"$f":"IF(C3969=\"\",\"\",VLOOKUP(C3969,Sifranti!P:R,2,FALSE))","v":""},"","",{"$f":"IF(C3969=\"\",\"\",VLOOKUP(C3969,Sifranti!P:R,3,FALSE))","v":""},{"$f":"IF(N3969=\"\",\"\",VLOOKUP(N3969,Sifranti!D:F,2,FALSE))","v":""},{"$f":"IF(AK3969=\"\",\"\",VLOOKUP(AK3969,Sifranti!V:Y,2,FALSE))","v":""},{"$f":"IF(AK3969=\"\",\"\",IF(VLOOKUP(AK3969,Sifranti!V:Y,3,FALSE)=\"\",\"\",VLOOKUP(AK3969,Sifranti!V:Y,3,FALSE)))","v":""},{"$f":"IF(AK3969=\"\",\"\",VLOOKUP(AK3969,Sifranti!V:Y,4,FALSE))","v":""}]
[{"$f":"IF(B3979=\"\",\"\",VLOOKUP(B3979,Sifranti!K:L,2,FALSE))","v":""},null,null,null,null,null,null,null,null,"",{"$f":"IF(L3979=\"\",\"\",VLOOKUP(L3979,Sifranti!A:B,2,FALSE))","v":""},null,{"$f":"IF(N3979=\"\",\"\",VLOOKUP(N3979,Sifranti!D:F,3,FALSE))","v":""},null,{"$f":"IF(P3979=\"\",\"\",VLOOKUP(P3979,Sifranti!H:I,2,FALSE))","v":""},null,null,null,null,null,null,null,null,null,null,null,null,null,null,null,null,null,null,null,null,null,null,null,null,null,{"$f":"IF(AN3979=\"\",\"\",IF(LEN(VLOOKUP(AN3979,Sifranti!BY:BZ,2,FALSE))=0,\"\",VLOOKUP(AN3979,Sifranti!BY:BZ,2,FALSE)))","v":""},{"$f":"IF(C3979=\"\",\"\",VLOOKUP(C3979,Sifranti!P:R,2,FALSE))","v":""},"","",{"$f":"IF(C3979=\"\",\"\",VLOOKUP(C3979,Sifranti!P:R,3,FALSE))","v":""},{"$f":"IF(N3979=\"\",\"\",VLOOKUP(N3979,Sifranti!D:F,2,FALSE))","v":""},{"$f":"IF(AK3979=\"\",\"\",VLOOKUP(AK3979,Sifranti!V:Y,2,FALSE))","v":""},{"$f":"IF(AK3979=\"\",\"\",IF(VLOOKUP(AK3979,Sifranti!V:Y,3,FALSE)=\"\",\"\",VLOOKUP(AK3979,Sifranti!V:Y,3,FALSE)))","v":""},{"$f":"IF(AK3979=\"\",\"\",VLOOKUP(AK3979,Sifranti!V:Y,4,FALSE))","v":""}]
[{"$f":"IF(B3993=\"\",\"\",VLOOKUP(B3993,Sifranti!K:L,2,FALSE))","v":""},null,null,null,null,null,null,null,null,"",{"$f":"IF(L3993=\"\",\"\",VLOOKUP(L3993,Sifranti!A:B,2,FALSE))","v":""},null,{"$f":"IF(N3993=\"\",\"\",VLOOKUP(N3993,Sifranti!D:F,3,FALSE))","v":""},null,{"$f":"IF(P3993=\"\",\"\",VLOOKUP(P3993,Sifranti!H:I,2,FALSE))","v":""},null,null,null,null,null,null,null,null,null,null,null,null,null,null,null,null,null,null,null,null,null,null,null,null,null,{"$f":"IF(AN3993=\"\",\"\",IF(LEN(VLOOKUP(AN3993,Sifranti!BY:BZ,2,FALSE))=0,\"\",VLOOKUP(AN3993,Sifranti!BY:BZ,2,FALSE)))","v":""},{"$f":"IF(C3993=\"\",\"\",VLOOKUP(C3993,Sifranti!P:R,2,FALSE))","v":""},"","",{"$f":"IF(C3993=\"\",\"\",VLOOKUP(C3993,Sifranti!P:R,3,FALSE))","v":""},{"$f":"IF(N3993=\"\",\"\",VLOOKUP(N3993,Sifranti!D:F,2,FALSE))","v":""},{"$f":"IF(AK3993=\"\",\"\",VLOOKUP(AK3993,Sifranti!V:Y,2,FALSE))","v":""},{"$f":"IF(AK3993=\"\",\"\",IF(VLOOKUP(AK3993,Sifranti!V:Y,3,FALSE)=\"\",\"\",VLOOKUP(AK3993,Sifranti!V:Y,3,FALSE)))","v":""},{"$f":"IF(AK3993=\"\",\"\",VLOOKUP(AK3993,Sifranti!V:Y,4,FALSE))","v":""}]
[{"$f":"IF(B3994=\"\",\"\",VLOOKUP(B3994,Sifranti!K:L,2,FALSE))","v":""},null,null,null,null,null,null,null,null,"",{"$f":"IF(L3994=\"\",\"\",VLOOKUP(L3994,Sifranti!A:B,2,FALSE))","v":""},null,{"$f":"IF(N3994=\"\",\"\",VLOOKUP(N3994,Sifranti!D:F,3,FALSE))","v":""},null,{"$f":"IF(P3994=\"\",\"\",VLOOKUP(P3994,Sifranti!H:I,2,FALSE))","v":""},null,null,null,null,null,null,null,null,null,null,null,null,null,null,null,null,null,null,null,null,null,null,null,null,null,{"$f":"IF(AN3994=\"\",\"\",IF(LEN(VLOOKUP(AN3994,Sifranti!BY:BZ,2,FALSE))=0,\"\",VLOOKUP(AN3994,Sifranti!BY:BZ,2,FALSE)))","v":""},{"$f":"IF(C3994=\"\",\"\",VLOOKUP(C3994,Sifranti!P:R,2,FALSE))","v":""},"","",{"$f":"IF(C3994=\"\",\"\",VLOOKUP(C3994,Sifranti!P:R,3,FALSE))","v":""},{"$f":"IF(N3994=\"\",\"\",VLOOKUP(N3994,Sifranti!D:F,2,FALSE))","v":""},{"$f":"IF(AK3994=\"\",\"\",VLOOKUP(AK3994,Sifranti!V:Y,2,FALSE))","v":""},{"$f":"IF(AK3994=\"\",\"\",IF(VLOOKUP(AK3994,Sifranti!V:Y,3,FALSE)=\"\",\"\",VLOOKUP(AK3994,Sifranti!V:Y,3,FALSE)))","v":""},{"$f":"IF(AK3994=\"\",\"\",VLOOKUP(AK3994,Sifranti!V:Y,4,FALSE))","v":""}]
[{"$f":"IF(B4011=\"\",\"\",VLOOKUP(B4011,Sifranti!K:L,2,FALSE))","v":""},null,null,null,null,null,null,null,null,"",{"$f":"IF(L4011=\"\",\"\",VLOOKUP(L4011,Sifranti!A:B,2,FALSE))","v":""},null,{"$f":"IF(N4011=\"\",\"\",VLOOKUP(N4011,Sifranti!D:F,3,FALSE))","v":""},null,{"$f":"IF(P4011=\"\",\"\",VLOOKUP(P4011,Sifranti!H:I,2,FALSE))","v":""},null,null,null,null,null,null,null,null,null,null,null,null,null,null,null,null,null,null,null,null,null,null,null,null,null,{"$f":"IF(AN4011=\"\",\"\",IF(LEN(VLOOKUP(AN4011,Sifranti!BY:BZ,2,FALSE))=0,\"\",VLOOKUP(AN4011,Sifranti!BY:BZ,2,FALSE)))","v":""},{"$f":"IF(C4011=\"\",\"\",VLOOKUP(C4011,Sifranti!P:R,2,FALSE))","v":""},"","",{"$f":"IF(C4011=\"\",\"\",VLOOKUP(C4011,Sifranti!P:R,3,FALSE))","v":""},{"$f":"IF(N4011=\"\",\"\",VLOOKUP(N4011,Sifranti!D:F,2,FALSE))","v":""},{"$f":"IF(AK4011=\"\",\"\",VLOOKUP(AK4011,Sifranti!V:Y,2,FALSE))","v":""},{"$f":"IF(AK4011=\"\",\"\",IF(VLOOKUP(AK4011,Sifranti!V:Y,3,FALSE)=\"\",\"\",VLOOKUP(AK4011,Sifranti!V:Y,3,FALSE)))","v":""},{"$f":"IF(AK4011=\"\",\"\",VLOOKUP(AK4011,Sifranti!V:Y,4,FALSE))","v":""}]
[{"$f":"IF(B4017=\"\",\"\",VLOOKUP(B4017,Sifranti!K:L,2,FALSE))","v":""},null,null,null,null,null,null,null,null,"",{"$f":"IF(L4017=\"\",\"\",VLOOKUP(L4017,Sifranti!A:B,2,FALSE))","v":""},null,{"$f":"IF(N4017=\"\",\"\",VLOOKUP(N4017,Sifranti!D:F,3,FALSE))","v":""},null,{"$f":"IF(P4017=\"\",\"\",VLOOKUP(P4017,Sifranti!H:I,2,FALSE))","v":""},null,null,null,null,null,null,null,null,null,null,null,null,null,null,null,null,null,null,null,null,null,null,null,null,null,{"$f":"IF(AN4017=\"\",\"\",IF(LEN(VLOOKUP(AN4017,Sifranti!BY:BZ,2,FALSE))=0,\"\",VLOOKUP(AN4017,Sifranti!BY:BZ,2,FALSE)))","v":""},{"$f":"IF(C4017=\"\",\"\",VLOOKUP(C4017,Sifranti!P:R,2,FALSE))","v":""},"","",{"$f":"IF(C4017=\"\",\"\",VLOOKUP(C4017,Sifranti!P:R,3,FALSE))","v":""},{"$f":"IF(N4017=\"\",\"\",VLOOKUP(N4017,Sifranti!D:F,2,FALSE))","v":""},{"$f":"IF(AK4017=\"\",\"\",VLOOKUP(AK4017,Sifranti!V:Y,2,FALSE))","v":""},{"$f":"IF(AK4017=\"\",\"\",IF(VLOOKUP(AK4017,Sifranti!V:Y,3,FALSE)=\"\",\"\",VLOOKUP(AK4017,Sifranti!V:Y,3,FALSE)))","v":""},{"$f":"IF(AK4017=\"\",\"\",VLOOKUP(AK4017,Sifranti!V:Y,4,FALSE))","v":""}]
[{"$f":"IF(B4028=\"\",\"\",VLOOKUP(B4028,Sifranti!K:L,2,FALSE))","v":""},null,null,null,null,null,null,null,null,"",{"$f":"IF(L4028=\"\",\"\",VLOOKUP(L4028,Sifranti!A:B,2,FALSE))","v":""},null,{"$f":"IF(N4028=\"\",\"\",VLOOKUP(N4028,Sifranti!D:F,3,FALSE))","v":""},null,{"$f":"IF(P4028=\"\",\"\",VLOOKUP(P4028,Sifranti!H:I,2,FALSE))","v":""},null,null,null,null,null,null,null,null,null,null,null,null,null,null,null,null,null,null,null,null,null,null,null,null,null,{"$f":"IF(AN4028=\"\",\"\",IF(LEN(VLOOKUP(AN4028,Sifranti!BY:BZ,2,FALSE))=0,\"\",VLOOKUP(AN4028,Sifranti!BY:BZ,2,FALSE)))","v":""},{"$f":"IF(C4028=\"\",\"\",VLOOKUP(C4028,Sifranti!P:R,2,FALSE))","v":""},"","",{"$f":"IF(C4028=\"\",\"\",VLOOKUP(C4028,Sifranti!P:R,3,FALSE))","v":""},{"$f":"IF(N4028=\"\",\"\",VLOOKUP(N4028,Sifranti!D:F,2,FALSE))","v":""},{"$f":"IF(AK4028=\"\",\"\",VLOOKUP(AK4028,Sifranti!V:Y,2,FALSE))","v":""},{"$f":"IF(AK4028=\"\",\"\",IF(VLOOKUP(AK4028,Sifranti!V:Y,3,FALSE)=\"\",\"\",VLOOKUP(AK4028,Sifranti!V:Y,3,FALSE)))","v":""},{"$f":"IF(AK4028=\"\",\"\",VLOOKUP(AK4028,Sifranti!V:Y,4,FALSE))","v":""}]
[{"$f":"IF(B4043=\"\",\"\",VLOOKUP(B4043,Sifranti!K:L,2,FALSE))","v":""},null,null,null,null,null,null,null,null,"",{"$f":"IF(L4043=\"\",\"\",VLOOKUP(L4043,Sifranti!A:B,2,FALSE))","v":""},null,{"$f":"IF(N4043=\"\",\"\",VLOOKUP(N4043,Sifranti!D:F,3,FALSE))","v":""},null,{"$f":"IF(P4043=\"\",\"\",VLOOKUP(P4043,Sifranti!H:I,2,FALSE))","v":""},null,null,null,null,null,null,null,null,null,null,null,null,null,null,null,null,null,null,null,null,null,null,null,null,null,{"$f":"IF(AN4043=\"\",\"\",IF(LEN(VLOOKUP(AN4043,Sifranti!BY:BZ,2,FALSE))=0,\"\",VLOOKUP(AN4043,Sifranti!BY:BZ,2,FALSE)))","v":""},{"$f":"IF(C4043=\"\",\"\",VLOOKUP(C4043,Sifranti!P:R,2,FALSE))","v":""},"","",{"$f":"IF(C4043=\"\",\"\",VLOOKUP(C4043,Sifranti!P:R,3,FALSE))","v":""},{"$f":"IF(N4043=\"\",\"\",VLOOKUP(N4043,Sifranti!D:F,2,FALSE))","v":""},{"$f":"IF(AK4043=\"\",\"\",VLOOKUP(AK4043,Sifranti!V:Y,2,FALSE))","v":""},{"$f":"IF(AK4043=\"\",\"\",IF(VLOOKUP(AK4043,Sifranti!V:Y,3,FALSE)=\"\",\"\",VLOOKUP(AK4043,Sifranti!V:Y,3,FALSE)))","v":""},{"$f":"IF(AK4043=\"\",\"\",VLOOKUP(AK4043,Sifranti!V:Y,4,FALSE))","v":""}]
[{"$f":"IF(B4053=\"\",\"\",VLOOKUP(B4053,Sifranti!K:L,2,FALSE))","v":""},null,null,null,null,null,null,null,null,"",{"$f":"IF(L4053=\"\",\"\",VLOOKUP(L4053,Sifranti!A:B,2,FALSE))","v":""},null,{"$f":"IF(N4053=\"\",\"\",VLOOKUP(N4053,Sifranti!D:F,3,FALSE))","v":""},null,{"$f":"IF(P4053=\"\",\"\",VLOOKUP(P4053,Sifranti!H:I,2,FALSE))","v":""},null,null,null,null,null,null,null,null,null,null,null,null,null,null,null,null,null,null,null,null,null,null,null,null,null,{"$f":"IF(AN4053=\"\",\"\",IF(LEN(VLOOKUP(AN4053,Sifranti!BY:BZ,2,FALSE))=0,\"\",VLOOKUP(AN4053,Sifranti!BY:BZ,2,FALSE)))","v":""},{"$f":"IF(C4053=\"\",\"\",VLOOKUP(C4053,Sifranti!P:R,2,FALSE))","v":""},"","",{"$f":"IF(C4053=\"\",\"\",VLOOKUP(C4053,Sifranti!P:R,3,FALSE))","v":""},{"$f":"IF(N4053=\"\",\"\",VLOOKUP(N4053,Sifranti!D:F,2,FALSE))","v":""},{"$f":"IF(AK4053=\"\",\"\",VLOOKUP(AK4053,Sifranti!V:Y,2,FALSE))","v":""},{"$f":"IF(AK4053=\"\",\"\",IF(VLOOKUP(AK4053,Sifranti!V:Y,3,FALSE)=\"\",\"\",VLOOKUP(AK4053,Sifranti!V:Y,3,FALSE)))","v":""},{"$f":"IF(AK4053=\"\",\"\",VLOOKUP(AK4053,Sifranti!V:Y,4,FALSE))","v":""}]
[{"$f":"IF(B4059=\"\",\"\",VLOOKUP(B4059,Sifranti!K:L,2,FALSE))","v":""},null,null,null,null,null,null,null,null,"",{"$f":"IF(L4059=\"\",\"\",VLOOKUP(L4059,Sifranti!A:B,2,FALSE))","v":""},null,{"$f":"IF(N4059=\"\",\"\",VLOOKUP(N4059,Sifranti!D:F,3,FALSE))","v":""},null,{"$f":"IF(P4059=\"\",\"\",VLOOKUP(P4059,Sifranti!H:I,2,FALSE))","v":""},null,null,null,null,null,null,null,null,null,null,null,null,null,null,null,null,null,null,null,null,null,null,null,null,null,{"$f":"IF(AN4059=\"\",\"\",IF(LEN(VLOOKUP(AN4059,Sifranti!BY:BZ,2,FALSE))=0,\"\",VLOOKUP(AN4059,Sifranti!BY:BZ,2,FALSE)))","v":""},{"$f":"IF(C4059=\"\",\"\",VLOOKUP(C4059,Sifranti!P:R,2,FALSE))","v":""},"","",{"$f":"IF(C4059=\"\",\"\",VLOOKUP(C4059,Sifranti!P:R,3,FALSE))","v":""},{"$f":"IF(N4059=\"\",\"\",VLOOKUP(N4059,Sifranti!D:F,2,FALSE))","v":""},{"$f":"IF(AK4059=\"\",\"\",VLOOKUP(AK4059,Sifranti!V:Y,2,FALSE))","v":""},{"$f":"IF(AK4059=\"\",\"\",IF(VLOOKUP(AK4059,Sifranti!V:Y,3,FALSE)=\"\",\"\",VLOOKUP(AK4059,Sifranti!V:Y,3,FALSE)))","v":""},{"$f":"IF(AK4059=\"\",\"\",VLOOKUP(AK4059,Sifranti!V:Y,4,FALSE))","v":""}]
[{"$f":"IF(B4077=\"\",\"\",VLOOKUP(B4077,Sifranti!K:L,2,FALSE))","v":""},null,null,null,null,null,null,null,null,"",{"$f":"IF(L4077=\"\",\"\",VLOOKUP(L4077,Sifranti!A:B,2,FALSE))","v":""},null,{"$f":"IF(N4077=\"\",\"\",VLOOKUP(N4077,Sifranti!D:F,3,FALSE))","v":""},null,{"$f":"IF(P4077=\"\",\"\",VLOOKUP(P4077,Sifranti!H:I,2,FALSE))","v":""},null,null,null,null,null,null,null,null,null,null,null,null,null,null,null,null,null,null,null,null,null,null,null,null,null,{"$f":"IF(AN4077=\"\",\"\",IF(LEN(VLOOKUP(AN4077,Sifranti!BY:BZ,2,FALSE))=0,\"\",VLOOKUP(AN4077,Sifranti!BY:BZ,2,FALSE)))","v":""},{"$f":"IF(C4077=\"\",\"\",VLOOKUP(C4077,Sifranti!P:R,2,FALSE))","v":""},"","",{"$f":"IF(C4077=\"\",\"\",VLOOKUP(C4077,Sifranti!P:R,3,FALSE))","v":""},{"$f":"IF(N4077=\"\",\"\",VLOOKUP(N4077,Sifranti!D:F,2,FALSE))","v":""},{"$f":"IF(AK4077=\"\",\"\",VLOOKUP(AK4077,Sifranti!V:Y,2,FALSE))","v":""},{"$f":"IF(AK4077=\"\",\"\",IF(VLOOKUP(AK4077,Sifranti!V:Y,3,FALSE)=\"\",\"\",VLOOKUP(AK4077,Sifranti!V:Y,3,FALSE)))","v":""},{"$f":"IF(AK4077=\"\",\"\",VLOOKUP(AK4077,Sifranti!V:Y,4,FALSE))","v":""}]
[{"$f":"IF(B4085=\"\",\"\",VLOOKUP(B4085,Sifranti!K:L,2,FALSE))","v":""},null,null,null,null,null,null,null,null,"",{"$f":"IF(L4085=\"\",\"\",VLOOKUP(L4085,Sifranti!A:B,2,FALSE))","v":""},null,{"$f":"IF(N4085=\"\",\"\",VLOOKUP(N4085,Sifranti!D:F,3,FALSE))","v":""},null,{"$f":"IF(P4085=\"\",\"\",VLOOKUP(P4085,Sifranti!H:I,2,FALSE))","v":""},null,null,null,null,null,null,null,null,null,null,null,null,null,null,null,null,null,null,null,null,null,null,null,null,null,{"$f":"IF(AN4085=\"\",\"\",IF(LEN(VLOOKUP(AN4085,Sifranti!BY:BZ,2,FALSE))=0,\"\",VLOOKUP(AN4085,Sifranti!BY:BZ,2,FALSE)))","v":""},{"$f":"IF(C4085=\"\",\"\",VLOOKUP(C4085,Sifranti!P:R,2,FALSE))","v":""},"","",{"$f":"IF(C4085=\"\",\"\",VLOOKUP(C4085,Sifranti!P:R,3,FALSE))","v":""},{"$f":"IF(N4085=\"\",\"\",VLOOKUP(N4085,Sifranti!D:F,2,FALSE))","v":""},{"$f":"IF(AK4085=\"\",\"\",VLOOKUP(AK4085,Sifranti!V:Y,2,FALSE))","v":""},{"$f":"IF(AK4085=\"\",\"\",IF(VLOOKUP(AK4085,Sifranti!V:Y,3,FALSE)=\"\",\"\",VLOOKUP(AK4085,Sifranti!V:Y,3,FALSE)))","v":""},{"$f":"IF(AK4085=\"\",\"\",VLOOKUP(AK4085,Sifranti!V:Y,4,FALSE))","v":""}]
[{"$f":"IF(B4091=\"\",\"\",VLOOKUP(B4091,Sifranti!K:L,2,FALSE))","v":""},null,null,null,null,null,null,null,null,"",{"$f":"IF(L4091=\"\",\"\",VLOOKUP(L4091,Sifranti!A:B,2,FALSE))","v":""},null,{"$f":"IF(N4091=\"\",\"\",VLOOKUP(N4091,Sifranti!D:F,3,FALSE))","v":""},null,{"$f":"IF(P4091=\"\",\"\",VLOOKUP(P4091,Sifranti!H:I,2,FALSE))","v":""},null,null,null,null,null,null,null,null,null,null,null,null,null,null,null,null,null,null,null,null,null,null,null,null,null,{"$f":"IF(AN4091=\"\",\"\",IF(LEN(VLOOKUP(AN4091,Sifranti!BY:BZ,2,FALSE))=0,\"\",VLOOKUP(AN4091,Sifranti!BY:BZ,2,FALSE)))","v":""},{"$f":"IF(C4091=\"\",\"\",VLOOKUP(C4091,Sifranti!P:R,2,FALSE))","v":""},"","",{"$f":"IF(C4091=\"\",\"\",VLOOKUP(C4091,Sifranti!P:R,3,FALSE))","v":""},{"$f":"IF(N4091=\"\",\"\",VLOOKUP(N4091,Sifranti!D:F,2,FALSE))","v":""},{"$f":"IF(AK4091=\"\",\"\",VLOOKUP(AK4091,Sifranti!V:Y,2,FALSE))","v":""},{"$f":"IF(AK4091=\"\",\"\",IF(VLOOKUP(AK4091,Sifranti!V:Y,3,FALSE)=\"\",\"\",VLOOKUP(AK4091,Sifranti!V:Y,3,FALSE)))","v":""},{"$f":"IF(AK4091=\"\",\"\",VLOOKUP(AK4091,Sifranti!V:Y,4,FALSE))","v":""}]
[{"$f":"IF(B4108=\"\",\"\",VLOOKUP(B4108,Sifranti!K:L,2,FALSE))","v":""},null,null,null,null,null,null,null,null,"",{"$f":"IF(L4108=\"\",\"\",VLOOKUP(L4108,Sifranti!A:B,2,FALSE))","v":""},null,{"$f":"IF(N4108=\"\",\"\",VLOOKUP(N4108,Sifranti!D:F,3,FALSE))","v":""},null,{"$f":"IF(P4108=\"\",\"\",VLOOKUP(P4108,Sifranti!H:I,2,FALSE))","v":""},null,null,null,null,null,null,null,null,null,null,null,null,null,null,null,null,null,null,null,null,null,null,null,null,null,{"$f":"IF(AN4108=\"\",\"\",IF(LEN(VLOOKUP(AN4108,Sifranti!BY:BZ,2,FALSE))=0,\"\",VLOOKUP(AN4108,Sifranti!BY:BZ,2,FALSE)))","v":""},{"$f":"IF(C4108=\"\",\"\",VLOOKUP(C4108,Sifranti!P:R,2,FALSE))","v":""},"","",{"$f":"IF(C4108=\"\",\"\",VLOOKUP(C4108,Sifranti!P:R,3,FALSE))","v":""},{"$f":"IF(N4108=\"\",\"\",VLOOKUP(N4108,Sifranti!D:F,2,FALSE))","v":""},{"$f":"IF(AK4108=\"\",\"\",VLOOKUP(AK4108,Sifranti!V:Y,2,FALSE))","v":""},{"$f":"IF(AK4108=\"\",\"\",IF(VLOOKUP(AK4108,Sifranti!V:Y,3,FALSE)=\"\",\"\",VLOOKUP(AK4108,Sifranti!V:Y,3,FALSE)))","v":""},{"$f":"IF(AK4108=\"\",\"\",VLOOKUP(AK4108,Sifranti!V:Y,4,FALSE))","v":""}]
[{"$f":"IF(B4122=\"\",\"\",VLOOKUP(B4122,Sifranti!K:L,2,FALSE))","v":""},null,null,null,null,null,null,null,null,"",{"$f":"IF(L4122=\"\",\"\",VLOOKUP(L4122,Sifranti!A:B,2,FALSE))","v":""},null,{"$f":"IF(N4122=\"\",\"\",VLOOKUP(N4122,Sifranti!D:F,3,FALSE))","v":""},null,{"$f":"IF(P4122=\"\",\"\",VLOOKUP(P4122,Sifranti!H:I,2,FALSE))","v":""},null,null,null,null,null,null,null,null,null,null,null,null,null,null,null,null,null,null,null,null,null,null,null,null,null,{"$f":"IF(AN4122=\"\",\"\",IF(LEN(VLOOKUP(AN4122,Sifranti!BY:BZ,2,FALSE))=0,\"\",VLOOKUP(AN4122,Sifranti!BY:BZ,2,FALSE)))","v":""},{"$f":"IF(C4122=\"\",\"\",VLOOKUP(C4122,Sifranti!P:R,2,FALSE))","v":""},"","",{"$f":"IF(C4122=\"\",\"\",VLOOKUP(C4122,Sifranti!P:R,3,FALSE))","v":""},{"$f":"IF(N4122=\"\",\"\",VLOOKUP(N4122,Sifranti!D:F,2,FALSE))","v":""},{"$f":"IF(AK4122=\"\",\"\",VLOOKUP(AK4122,Sifranti!V:Y,2,FALSE))","v":""},{"$f":"IF(AK4122=\"\",\"\",IF(VLOOKUP(AK4122,Sifranti!V:Y,3,FALSE)=\"\",\"\",VLOOKUP(AK4122,Sifranti!V:Y,3,FALSE)))","v":""},{"$f":"IF(AK4122=\"\",\"\",VLOOKUP(AK4122,Sifranti!V:Y,4,FALSE))","v":""}]
[{"$f":"IF(B4123=\"\",\"\",VLOOKUP(B4123,Sifranti!K:L,2,FALSE))","v":""},null,null,null,null,null,null,null,null,"",{"$f":"IF(L4123=\"\",\"\",VLOOKUP(L4123,Sifranti!A:B,2,FALSE))","v":""},null,{"$f":"IF(N4123=\"\",\"\",VLOOKUP(N4123,Sifranti!D:F,3,FALSE))","v":""},null,{"$f":"IF(P4123=\"\",\"\",VLOOKUP(P4123,Sifranti!H:I,2,FALSE))","v":""},null,null,null,null,null,null,null,null,null,null,null,null,null,null,null,null,null,null,null,null,null,null,null,null,null,{"$f":"IF(AN4123=\"\",\"\",IF(LEN(VLOOKUP(AN4123,Sifranti!BY:BZ,2,FALSE))=0,\"\",VLOOKUP(AN4123,Sifranti!BY:BZ,2,FALSE)))","v":""},{"$f":"IF(C4123=\"\",\"\",VLOOKUP(C4123,Sifranti!P:R,2,FALSE))","v":""},"","",{"$f":"IF(C4123=\"\",\"\",VLOOKUP(C4123,Sifranti!P:R,3,FALSE))","v":""},{"$f":"IF(N4123=\"\",\"\",VLOOKUP(N4123,Sifranti!D:F,2,FALSE))","v":""},{"$f":"IF(AK4123=\"\",\"\",VLOOKUP(AK4123,Sifranti!V:Y,2,FALSE))","v":""},{"$f":"IF(AK4123=\"\",\"\",IF(VLOOKUP(AK4123,Sifranti!V:Y,3,FALSE)=\"\",\"\",VLOOKUP(AK4123,Sifranti!V:Y,3,FALSE)))","v":""},{"$f":"IF(AK4123=\"\",\"\",VLOOKUP(AK4123,Sifranti!V:Y,4,FALSE))","v":""}]
[{"$f":"IF(B4144=\"\",\"\",VLOOKUP(B4144,Sifranti!K:L,2,FALSE))","v":""},null,null,null,null,null,null,null,null,"",{"$f":"IF(L4144=\"\",\"\",VLOOKUP(L4144,Sifranti!A:B,2,FALSE))","v":""},null,{"$f":"IF(N4144=\"\",\"\",VLOOKUP(N4144,Sifranti!D:F,3,FALSE))","v":""},null,{"$f":"IF(P4144=\"\",\"\",VLOOKUP(P4144,Sifranti!H:I,2,FALSE))","v":""},null,null,null,null,null,null,null,null,null,null,null,null,null,null,null,null,null,null,null,null,null,null,null,null,null,{"$f":"IF(AN4144=\"\",\"\",IF(LEN(VLOOKUP(AN4144,Sifranti!BY:BZ,2,FALSE))=0,\"\",VLOOKUP(AN4144,Sifranti!BY:BZ,2,FALSE)))","v":""},{"$f":"IF(C4144=\"\",\"\",VLOOKUP(C4144,Sifranti!P:R,2,FALSE))","v":""},"","",{"$f":"IF(C4144=\"\",\"\",VLOOKUP(C4144,Sifranti!P:R,3,FALSE))","v":""},{"$f":"IF(N4144=\"\",\"\",VLOOKUP(N4144,Sifranti!D:F,2,FALSE))","v":""},{"$f":"IF(AK4144=\"\",\"\",VLOOKUP(AK4144,Sifranti!V:Y,2,FALSE))","v":""},{"$f":"IF(AK4144=\"\",\"\",IF(VLOOKUP(AK4144,Sifranti!V:Y,3,FALSE)=\"\",\"\",VLOOKUP(AK4144,Sifranti!V:Y,3,FALSE)))","v":""},{"$f":"IF(AK4144=\"\",\"\",VLOOKUP(AK4144,Sifranti!V:Y,4,FALSE))","v":""}]
[{"$f":"IF(B4150=\"\",\"\",VLOOKUP(B4150,Sifranti!K:L,2,FALSE))","v":""},null,null,null,null,null,null,null,null,"",{"$f":"IF(L4150=\"\",\"\",VLOOKUP(L4150,Sifranti!A:B,2,FALSE))","v":""},null,{"$f":"IF(N4150=\"\",\"\",VLOOKUP(N4150,Sifranti!D:F,3,FALSE))","v":""},null,{"$f":"IF(P4150=\"\",\"\",VLOOKUP(P4150,Sifranti!H:I,2,FALSE))","v":""},null,null,null,null,null,null,null,null,null,null,null,null,null,null,null,null,null,null,null,null,null,null,null,null,null,{"$f":"IF(AN4150=\"\",\"\",IF(LEN(VLOOKUP(AN4150,Sifranti!BY:BZ,2,FALSE))=0,\"\",VLOOKUP(AN4150,Sifranti!BY:BZ,2,FALSE)))","v":""},{"$f":"IF(C4150=\"\",\"\",VLOOKUP(C4150,Sifranti!P:R,2,FALSE))","v":""},"","",{"$f":"IF(C4150=\"\",\"\",VLOOKUP(C4150,Sifranti!P:R,3,FALSE))","v":""},{"$f":"IF(N4150=\"\",\"\",VLOOKUP(N4150,Sifranti!D:F,2,FALSE))","v":""},{"$f":"IF(AK4150=\"\",\"\",VLOOKUP(AK4150,Sifranti!V:Y,2,FALSE))","v":""},{"$f":"IF(AK4150=\"\",\"\",IF(VLOOKUP(AK4150,Sifranti!V:Y,3,FALSE)=\"\",\"\",VLOOKUP(AK4150,Sifranti!V:Y,3,FALSE)))","v":""},{"$f":"IF(AK4150=\"\",\"\",VLOOKUP(AK4150,Sifranti!V:Y,4,FALSE))","v":""}]
[{"$f":"IF(B4161=\"\",\"\",VLOOKUP(B4161,Sifranti!K:L,2,FALSE))","v":""},null,null,null,null,null,null,null,null,"",{"$f":"IF(L4161=\"\",\"\",VLOOKUP(L4161,Sifranti!A:B,2,FALSE))","v":""},null,{"$f":"IF(N4161=\"\",\"\",VLOOKUP(N4161,Sifranti!D:F,3,FALSE))","v":""},null,{"$f":"IF(P4161=\"\",\"\",VLOOKUP(P4161,Sifranti!H:I,2,FALSE))","v":""},null,null,null,null,null,null,null,null,null,null,null,null,null,null,null,null,null,null,null,null,null,null,null,null,null,{"$f":"IF(AN4161=\"\",\"\",IF(LEN(VLOOKUP(AN4161,Sifranti!BY:BZ,2,FALSE))=0,\"\",VLOOKUP(AN4161,Sifranti!BY:BZ,2,FALSE)))","v":""},{"$f":"IF(C4161=\"\",\"\",VLOOKUP(C4161,Sifranti!P:R,2,FALSE))","v":""},"","",{"$f":"IF(C4161=\"\",\"\",VLOOKUP(C4161,Sifranti!P:R,3,FALSE))","v":""},{"$f":"IF(N4161=\"\",\"\",VLOOKUP(N4161,Sifranti!D:F,2,FALSE))","v":""},{"$f":"IF(AK4161=\"\",\"\",VLOOKUP(AK4161,Sifranti!V:Y,2,FALSE))","v":""},{"$f":"IF(AK4161=\"\",\"\",IF(VLOOKUP(AK4161,Sifranti!V:Y,3,FALSE)=\"\",\"\",VLOOKUP(AK4161,Sifranti!V:Y,3,FALSE)))","v":""},{"$f":"IF(AK4161=\"\",\"\",VLOOKUP(AK4161,Sifranti!V:Y,4,FALSE))","v":""}]
[{"$f":"IF(B4176=\"\",\"\",VLOOKUP(B4176,Sifranti!K:L,2,FALSE))","v":""},null,null,null,null,null,null,null,null,"",{"$f":"IF(L4176=\"\",\"\",VLOOKUP(L4176,Sifranti!A:B,2,FALSE))","v":""},null,{"$f":"IF(N4176=\"\",\"\",VLOOKUP(N4176,Sifranti!D:F,3,FALSE))","v":""},null,{"$f":"IF(P4176=\"\",\"\",VLOOKUP(P4176,Sifranti!H:I,2,FALSE))","v":""},null,null,null,null,null,null,null,null,null,null,null,null,null,null,null,null,null,null,null,null,null,null,null,null,null,{"$f":"IF(AN4176=\"\",\"\",IF(LEN(VLOOKUP(AN4176,Sifranti!BY:BZ,2,FALSE))=0,\"\",VLOOKUP(AN4176,Sifranti!BY:BZ,2,FALSE)))","v":""},{"$f":"IF(C4176=\"\",\"\",VLOOKUP(C4176,Sifranti!P:R,2,FALSE))","v":""},"","",{"$f":"IF(C4176=\"\",\"\",VLOOKUP(C4176,Sifranti!P:R,3,FALSE))","v":""},{"$f":"IF(N4176=\"\",\"\",VLOOKUP(N4176,Sifranti!D:F,2,FALSE))","v":""},{"$f":"IF(AK4176=\"\",\"\",VLOOKUP(AK4176,Sifranti!V:Y,2,FALSE))","v":""},{"$f":"IF(AK4176=\"\",\"\",IF(VLOOKUP(AK4176,Sifranti!V:Y,3,FALSE)=\"\",\"\",VLOOKUP(AK4176,Sifranti!V:Y,3,FALSE)))","v":""},{"$f":"IF(AK4176=\"\",\"\",VLOOKUP(AK4176,Sifranti!V:Y,4,FALSE))","v":""}]
[{"$f":"IF(B4182=\"\",\"\",VLOOKUP(B4182,Sifranti!K:L,2,FALSE))","v":""},null,null,null,null,null,null,null,null,"",{"$f":"IF(L4182=\"\",\"\",VLOOKUP(L4182,Sifranti!A:B,2,FALSE))","v":""},null,{"$f":"IF(N4182=\"\",\"\",VLOOKUP(N4182,Sifranti!D:F,3,FALSE))","v":""},null,{"$f":"IF(P4182=\"\",\"\",VLOOKUP(P4182,Sifranti!H:I,2,FALSE))","v":""},null,null,null,null,null,null,null,null,null,null,null,null,null,null,null,null,null,null,null,null,null,null,null,null,null,{"$f":"IF(AN4182=\"\",\"\",IF(LEN(VLOOKUP(AN4182,Sifranti!BY:BZ,2,FALSE))=0,\"\",VLOOKUP(AN4182,Sifranti!BY:BZ,2,FALSE)))","v":""},{"$f":"IF(C4182=\"\",\"\",VLOOKUP(C4182,Sifranti!P:R,2,FALSE))","v":""},"","",{"$f":"IF(C4182=\"\",\"\",VLOOKUP(C4182,Sifranti!P:R,3,FALSE))","v":""},{"$f":"IF(N4182=\"\",\"\",VLOOKUP(N4182,Sifranti!D:F,2,FALSE))","v":""},{"$f":"IF(AK4182=\"\",\"\",VLOOKUP(AK4182,Sifranti!V:Y,2,FALSE))","v":""},{"$f":"IF(AK4182=\"\",\"\",IF(VLOOKUP(AK4182,Sifranti!V:Y,3,FALSE)=\"\",\"\",VLOOKUP(AK4182,Sifranti!V:Y,3,FALSE)))","v":""},{"$f":"IF(AK4182=\"\",\"\",VLOOKUP(AK4182,Sifranti!V:Y,4,FALSE))","v":""}]
[{"$f":"IF(B4192=\"\",\"\",VLOOKUP(B4192,Sifranti!K:L,2,FALSE))","v":""},null,null,null,null,null,null,null,null,"",{"$f":"IF(L4192=\"\",\"\",VLOOKUP(L4192,Sifranti!A:B,2,FALSE))","v":""},null,{"$f":"IF(N4192=\"\",\"\",VLOOKUP(N4192,Sifranti!D:F,3,FALSE))","v":""},null,{"$f":"IF(P4192=\"\",\"\",VLOOKUP(P4192,Sifranti!H:I,2,FALSE))","v":""},null,null,null,null,null,null,null,null,null,null,null,null,null,null,null,null,null,null,null,null,null,null,null,null,null,{"$f":"IF(AN4192=\"\",\"\",IF(LEN(VLOOKUP(AN4192,Sifranti!BY:BZ,2,FALSE))=0,\"\",VLOOKUP(AN4192,Sifranti!BY:BZ,2,FALSE)))","v":""},{"$f":"IF(C4192=\"\",\"\",VLOOKUP(C4192,Sifranti!P:R,2,FALSE))","v":""},"","",{"$f":"IF(C4192=\"\",\"\",VLOOKUP(C4192,Sifranti!P:R,3,FALSE))","v":""},{"$f":"IF(N4192=\"\",\"\",VLOOKUP(N4192,Sifranti!D:F,2,FALSE))","v":""},{"$f":"IF(AK4192=\"\",\"\",VLOOKUP(AK4192,Sifranti!V:Y,2,FALSE))","v":""},{"$f":"IF(AK4192=\"\",\"\",IF(VLOOKUP(AK4192,Sifranti!V:Y,3,FALSE)=\"\",\"\",VLOOKUP(AK4192,Sifranti!V:Y,3,FALSE)))","v":""},{"$f":"IF(AK4192=\"\",\"\",VLOOKUP(AK4192,Sifranti!V:Y,4,FALSE))","v":""}]
[{"$f":"IF(B4206=\"\",\"\",VLOOKUP(B4206,Sifranti!K:L,2,FALSE))","v":""},null,null,null,null,null,null,null,null,"",{"$f":"IF(L4206=\"\",\"\",VLOOKUP(L4206,Sifranti!A:B,2,FALSE))","v":""},null,{"$f":"IF(N4206=\"\",\"\",VLOOKUP(N4206,Sifranti!D:F,3,FALSE))","v":""},null,{"$f":"IF(P4206=\"\",\"\",VLOOKUP(P4206,Sifranti!H:I,2,FALSE))","v":""},null,null,null,null,null,null,null,null,null,null,null,null,null,null,null,null,null,null,null,null,null,null,null,null,null,{"$f":"IF(AN4206=\"\",\"\",IF(LEN(VLOOKUP(AN4206,Sifranti!BY:BZ,2,FALSE))=0,\"\",VLOOKUP(AN4206,Sifranti!BY:BZ,2,FALSE)))","v":""},{"$f":"IF(C4206=\"\",\"\",VLOOKUP(C4206,Sifranti!P:R,2,FALSE))","v":""},"","",{"$f":"IF(C4206=\"\",\"\",VLOOKUP(C4206,Sifranti!P:R,3,FALSE))","v":""},{"$f":"IF(N4206=\"\",\"\",VLOOKUP(N4206,Sifranti!D:F,2,FALSE))","v":""},{"$f":"IF(AK4206=\"\",\"\",VLOOKUP(AK4206,Sifranti!V:Y,2,FALSE))","v":""},{"$f":"IF(AK4206=\"\",\"\",IF(VLOOKUP(AK4206,Sifranti!V:Y,3,FALSE)=\"\",\"\",VLOOKUP(AK4206,Sifranti!V:Y,3,FALSE)))","v":""},{"$f":"IF(AK4206=\"\",\"\",VLOOKUP(AK4206,Sifranti!V:Y,4,FALSE))","v":""}]
[{"$f":"IF(B4214=\"\",\"\",VLOOKUP(B4214,Sifranti!K:L,2,FALSE))","v":""},null,null,null,null,null,null,null,null,"",{"$f":"IF(L4214=\"\",\"\",VLOOKUP(L4214,Sifranti!A:B,2,FALSE))","v":""},null,{"$f":"IF(N4214=\"\",\"\",VLOOKUP(N4214,Sifranti!D:F,3,FALSE))","v":""},null,{"$f":"IF(P4214=\"\",\"\",VLOOKUP(P4214,Sifranti!H:I,2,FALSE))","v":""},null,null,null,null,null,null,null,null,null,null,null,null,null,null,null,null,null,null,null,null,null,null,null,null,null,{"$f":"IF(AN4214=\"\",\"\",IF(LEN(VLOOKUP(AN4214,Sifranti!BY:BZ,2,FALSE))=0,\"\",VLOOKUP(AN4214,Sifranti!BY:BZ,2,FALSE)))","v":""},{"$f":"IF(C4214=\"\",\"\",VLOOKUP(C4214,Sifranti!P:R,2,FALSE))","v":""},"","",{"$f":"IF(C4214=\"\",\"\",VLOOKUP(C4214,Sifranti!P:R,3,FALSE))","v":""},{"$f":"IF(N4214=\"\",\"\",VLOOKUP(N4214,Sifranti!D:F,2,FALSE))","v":""},{"$f":"IF(AK4214=\"\",\"\",VLOOKUP(AK4214,Sifranti!V:Y,2,FALSE))","v":""},{"$f":"IF(AK4214=\"\",\"\",IF(VLOOKUP(AK4214,Sifranti!V:Y,3,FALSE)=\"\",\"\",VLOOKUP(AK4214,Sifranti!V:Y,3,FALSE)))","v":""},{"$f":"IF(AK4214=\"\",\"\",VLOOKUP(AK4214,Sifranti!V:Y,4,FALSE))","v":""}]
[{"$f":"IF(B4224=\"\",\"\",VLOOKUP(B4224,Sifranti!K:L,2,FALSE))","v":""},null,null,null,null,null,null,null,null,"",{"$f":"IF(L4224=\"\",\"\",VLOOKUP(L4224,Sifranti!A:B,2,FALSE))","v":""},null,{"$f":"IF(N4224=\"\",\"\",VLOOKUP(N4224,Sifranti!D:F,3,FALSE))","v":""},null,{"$f":"IF(P4224=\"\",\"\",VLOOKUP(P4224,Sifranti!H:I,2,FALSE))","v":""},null,null,null,null,null,null,null,null,null,null,null,null,null,null,null,null,null,null,null,null,null,null,null,null,null,{"$f":"IF(AN4224=\"\",\"\",IF(LEN(VLOOKUP(AN4224,Sifranti!BY:BZ,2,FALSE))=0,\"\",VLOOKUP(AN4224,Sifranti!BY:BZ,2,FALSE)))","v":""},{"$f":"IF(C4224=\"\",\"\",VLOOKUP(C4224,Sifranti!P:R,2,FALSE))","v":""},"","",{"$f":"IF(C4224=\"\",\"\",VLOOKUP(C4224,Sifranti!P:R,3,FALSE))","v":""},{"$f":"IF(N4224=\"\",\"\",VLOOKUP(N4224,Sifranti!D:F,2,FALSE))","v":""},{"$f":"IF(AK4224=\"\",\"\",VLOOKUP(AK4224,Sifranti!V:Y,2,FALSE))","v":""},{"$f":"IF(AK4224=\"\",\"\",IF(VLOOKUP(AK4224,Sifranti!V:Y,3,FALSE)=\"\",\"\",VLOOKUP(AK4224,Sifranti!V:Y,3,FALSE)))","v":""},{"$f":"IF(AK4224=\"\",\"\",VLOOKUP(AK4224,Sifranti!V:Y,4,FALSE))","v":""}]
[{"$f":"IF(B4241=\"\",\"\",VLOOKUP(B4241,Sifranti!K:L,2,FALSE))","v":""},null,null,null,null,null,null,null,null,"",{"$f":"IF(L4241=\"\",\"\",VLOOKUP(L4241,Sifranti!A:B,2,FALSE))","v":""},null,{"$f":"IF(N4241=\"\",\"\",VLOOKUP(N4241,Sifranti!D:F,3,FALSE))","v":""},null,{"$f":"IF(P4241=\"\",\"\",VLOOKUP(P4241,Sifranti!H:I,2,FALSE))","v":""},null,null,null,null,null,null,null,null,null,null,null,null,null,null,null,null,null,null,null,null,null,null,null,null,null,{"$f":"IF(AN4241=\"\",\"\",IF(LEN(VLOOKUP(AN4241,Sifranti!BY:BZ,2,FALSE))=0,\"\",VLOOKUP(AN4241,Sifranti!BY:BZ,2,FALSE)))","v":""},{"$f":"IF(C4241=\"\",\"\",VLOOKUP(C4241,Sifranti!P:R,2,FALSE))","v":""},"","",{"$f":"IF(C4241=\"\",\"\",VLOOKUP(C4241,Sifranti!P:R,3,FALSE))","v":""},{"$f":"IF(N4241=\"\",\"\",VLOOKUP(N4241,Sifranti!D:F,2,FALSE))","v":""},{"$f":"IF(AK4241=\"\",\"\",VLOOKUP(AK4241,Sifranti!V:Y,2,FALSE))","v":""},{"$f":"IF(AK4241=\"\",\"\",IF(VLOOKUP(AK4241,Sifranti!V:Y,3,FALSE)=\"\",\"\",VLOOKUP(AK4241,Sifranti!V:Y,3,FALSE)))","v":""},{"$f":"IF(AK4241=\"\",\"\",VLOOKUP(AK4241,Sifranti!V:Y,4,FALSE))","v":""}]
[{"$f":"IF(B4245=\"\",\"\",VLOOKUP(B4245,Sifranti!K:L,2,FALSE))","v":""},null,null,null,null,null,null,null,null,"",{"$f":"IF(L4245=\"\",\"\",VLOOKUP(L4245,Sifranti!A:B,2,FALSE))","v":""},null,{"$f":"IF(N4245=\"\",\"\",VLOOKUP(N4245,Sifranti!D:F,3,FALSE))","v":""},null,{"$f":"IF(P4245=\"\",\"\",VLOOKUP(P4245,Sifranti!H:I,2,FALSE))","v":""},null,null,null,null,null,null,null,null,null,null,null,null,null,null,null,null,null,null,null,null,null,null,null,null,null,{"$f":"IF(AN4245=\"\",\"\",IF(LEN(VLOOKUP(AN4245,Sifranti!BY:BZ,2,FALSE))=0,\"\",VLOOKUP(AN4245,Sifranti!BY:BZ,2,FALSE)))","v":""},{"$f":"IF(C4245=\"\",\"\",VLOOKUP(C4245,Sifranti!P:R,2,FALSE))","v":""},"","",{"$f":"IF(C4245=\"\",\"\",VLOOKUP(C4245,Sifranti!P:R,3,FALSE))","v":""},{"$f":"IF(N4245=\"\",\"\",VLOOKUP(N4245,Sifranti!D:F,2,FALSE))","v":""},{"$f":"IF(AK4245=\"\",\"\",VLOOKUP(AK4245,Sifranti!V:Y,2,FALSE))","v":""},{"$f":"IF(AK4245=\"\",\"\",IF(VLOOKUP(AK4245,Sifranti!V:Y,3,FALSE)=\"\",\"\",VLOOKUP(AK4245,Sifranti!V:Y,3,FALSE)))","v":""},{"$f":"IF(AK4245=\"\",\"\",VLOOKUP(AK4245,Sifranti!V:Y,4,FALSE))","v":""}]
[{"$f":"IF(B4256=\"\",\"\",VLOOKUP(B4256,Sifranti!K:L,2,FALSE))","v":""},null,null,null,null,null,null,null,null,"",{"$f":"IF(L4256=\"\",\"\",VLOOKUP(L4256,Sifranti!A:B,2,FALSE))","v":""},null,{"$f":"IF(N4256=\"\",\"\",VLOOKUP(N4256,Sifranti!D:F,3,FALSE))","v":""},null,{"$f":"IF(P4256=\"\",\"\",VLOOKUP(P4256,Sifranti!H:I,2,FALSE))","v":""},null,null,null,null,null,null,null,null,null,null,null,null,null,null,null,null,null,null,null,null,null,null,null,null,null,{"$f":"IF(AN4256=\"\",\"\",IF(LEN(VLOOKUP(AN4256,Sifranti!BY:BZ,2,FALSE))=0,\"\",VLOOKUP(AN4256,Sifranti!BY:BZ,2,FALSE)))","v":""},{"$f":"IF(C4256=\"\",\"\",VLOOKUP(C4256,Sifranti!P:R,2,FALSE))","v":""},"","",{"$f":"IF(C4256=\"\",\"\",VLOOKUP(C4256,Sifranti!P:R,3,FALSE))","v":""},{"$f":"IF(N4256=\"\",\"\",VLOOKUP(N4256,Sifranti!D:F,2,FALSE))","v":""},{"$f":"IF(AK4256=\"\",\"\",VLOOKUP(AK4256,Sifranti!V:Y,2,FALSE))","v":""},{"$f":"IF(AK4256=\"\",\"\",IF(VLOOKUP(AK4256,Sifranti!V:Y,3,FALSE)=\"\",\"\",VLOOKUP(AK4256,Sifranti!V:Y,3,FALSE)))","v":""},{"$f":"IF(AK4256=\"\",\"\",VLOOKUP(AK4256,Sifranti!V:Y,4,FALSE))","v":""}]
[{"$f":"IF(B4273=\"\",\"\",VLOOKUP(B4273,Sifranti!K:L,2,FALSE))","v":""},null,null,null,null,null,null,null,null,"",{"$f":"IF(L4273=\"\",\"\",VLOOKUP(L4273,Sifranti!A:B,2,FALSE))","v":""},null,{"$f":"IF(N4273=\"\",\"\",VLOOKUP(N4273,Sifranti!D:F,3,FALSE))","v":""},null,{"$f":"IF(P4273=\"\",\"\",VLOOKUP(P4273,Sifranti!H:I,2,FALSE))","v":""},null,null,null,null,null,null,null,null,null,null,null,null,null,null,null,null,null,null,null,null,null,null,null,null,null,{"$f":"IF(AN4273=\"\",\"\",IF(LEN(VLOOKUP(AN4273,Sifranti!BY:BZ,2,FALSE))=0,\"\",VLOOKUP(AN4273,Sifranti!BY:BZ,2,FALSE)))","v":""},{"$f":"IF(C4273=\"\",\"\",VLOOKUP(C4273,Sifranti!P:R,2,FALSE))","v":""},"","",{"$f":"IF(C4273=\"\",\"\",VLOOKUP(C4273,Sifranti!P:R,3,FALSE))","v":""},{"$f":"IF(N4273=\"\",\"\",VLOOKUP(N4273,Sifranti!D:F,2,FALSE))","v":""},{"$f":"IF(AK4273=\"\",\"\",VLOOKUP(AK4273,Sifranti!V:Y,2,FALSE))","v":""},{"$f":"IF(AK4273=\"\",\"\",IF(VLOOKUP(AK4273,Sifranti!V:Y,3,FALSE)=\"\",\"\",VLOOKUP(AK4273,Sifranti!V:Y,3,FALSE)))","v":""},{"$f":"IF(AK4273=\"\",\"\",VLOOKUP(AK4273,Sifranti!V:Y,4,FALSE))","v":""}]
[{"$f":"IF(B4283=\"\",\"\",VLOOKUP(B4283,Sifranti!K:L,2,FALSE))","v":""},null,null,null,null,null,null,null,null,"",{"$f":"IF(L4283=\"\",\"\",VLOOKUP(L4283,Sifranti!A:B,2,FALSE))","v":""},null,{"$f":"IF(N4283=\"\",\"\",VLOOKUP(N4283,Sifranti!D:F,3,FALSE))","v":""},null,{"$f":"IF(P4283=\"\",\"\",VLOOKUP(P4283,Sifranti!H:I,2,FALSE))","v":""},null,null,null,null,null,null,null,null,null,null,null,null,null,null,null,null,null,null,null,null,null,null,null,null,null,{"$f":"IF(AN4283=\"\",\"\",IF(LEN(VLOOKUP(AN4283,Sifranti!BY:BZ,2,FALSE))=0,\"\",VLOOKUP(AN4283,Sifranti!BY:BZ,2,FALSE)))","v":""},{"$f":"IF(C4283=\"\",\"\",VLOOKUP(C4283,Sifranti!P:R,2,FALSE))","v":""},"","",{"$f":"IF(C4283=\"\",\"\",VLOOKUP(C4283,Sifranti!P:R,3,FALSE))","v":""},{"$f":"IF(N4283=\"\",\"\",VLOOKUP(N4283,Sifranti!D:F,2,FALSE))","v":""},{"$f":"IF(AK4283=\"\",\"\",VLOOKUP(AK4283,Sifranti!V:Y,2,FALSE))","v":""},{"$f":"IF(AK4283=\"\",\"\",IF(VLOOKUP(AK4283,Sifranti!V:Y,3,FALSE)=\"\",\"\",VLOOKUP(AK4283,Sifranti!V:Y,3,FALSE)))","v":""},{"$f":"IF(AK4283=\"\",\"\",VLOOKUP(AK4283,Sifranti!V:Y,4,FALSE))","v":""}]
[{"$f":"IF(B4290=\"\",\"\",VLOOKUP(B4290,Sifranti!K:L,2,FALSE))","v":""},null,null,null,null,null,null,null,null,{"$f":"IF(H4290=\"\",\"\",YEAR(H4290))","v":""},{"$f":"IF(L4290=\"\",\"\",VLOOKUP(L4290,Sifranti!A:B,2,FALSE))","v":""},null,{"$f":"IF(N4290=\"\",\"\",VLOOKUP(N4290,Sifranti!D:F,3,FALSE))","v":""},null,{"$f":"IF(P4290=\"\",\"\",VLOOKUP(P4290,Sifranti!H:I,2,FALSE))","v":""},null,null,null,null,null,null,null,null,null,null,null,null,null,null,null,null,null,null,null,null,null,null,null,null,null,{"$f":"IF(AN4290=\"\",\"\",IF(LEN(VLOOKUP(AN4290,Sifranti!BY:BZ,2,FALSE))=0,\"\",VLOOKUP(AN4290,Sifranti!BY:BZ,2,FALSE)))","v":""},{"$f":"IF(C4290=\"\",\"\",VLOOKUP(C4290,Sifranti!P:R,2,FALSE))","v":""},{"$f":"IF(V4290>0,IF(AS4290=\"de minimis\",T4290/S4290*100,U4290/AD4290*100),\"\")","v":""},{"$f":"IF(AE4290>0,AE4290/U4290*100,\"\")","v":""},{"$f":"IF(C4290=\"\",\"\",VLOOKUP(C4290,Sifranti!P:R,3,FALSE))","v":""},{"$f":"IF(N4290=\"\",\"\",VLOOKUP(N4290,Sifranti!D:F,2,FALSE))","v":""},{"$f":"IF(AK4290=\"\",\"\",VLOOKUP(AK4290,Sifranti!V:Y,2,FALSE))","v":""},{"$f":"IF(AK4290=\"\",\"\",IF(VLOOKUP(AK4290,Sifranti!V:Y,3,FALSE)=\"\",\"\",VLOOKUP(AK4290,Sifranti!V:Y,3,FALSE)))","v":""},{"$f":"IF(AK4290=\"\",\"\",VLOOKUP(AK4290,Sifranti!V:Y,4,FALSE))","v":""}]
[{"$f":"IF(B4305=\"\",\"\",VLOOKUP(B4305,Sifranti!K:L,2,FALSE))","v":""},null,null,null,null,null,null,null,null,"",{"$f":"IF(L4305=\"\",\"\",VLOOKUP(L4305,Sifranti!A:B,2,FALSE))","v":""},null,{"$f":"IF(N4305=\"\",\"\",VLOOKUP(N4305,Sifranti!D:F,3,FALSE))","v":""},null,{"$f":"IF(P4305=\"\",\"\",VLOOKUP(P4305,Sifranti!H:I,2,FALSE))","v":""},null,null,null,null,null,null,null,null,null,null,null,null,null,null,null,null,null,null,null,null,null,null,null,null,null,{"$f":"IF(AN4305=\"\",\"\",IF(LEN(VLOOKUP(AN4305,Sifranti!BY:BZ,2,FALSE))=0,\"\",VLOOKUP(AN4305,Sifranti!BY:BZ,2,FALSE)))","v":""},{"$f":"IF(C4305=\"\",\"\",VLOOKUP(C4305,Sifranti!P:R,2,FALSE))","v":""},"","",{"$f":"IF(C4305=\"\",\"\",VLOOKUP(C4305,Sifranti!P:R,3,FALSE))","v":""},{"$f":"IF(N4305=\"\",\"\",VLOOKUP(N4305,Sifranti!D:F,2,FALSE))","v":""},{"$f":"IF(AK4305=\"\",\"\",VLOOKUP(AK4305,Sifranti!V:Y,2,FALSE))","v":""},{"$f":"IF(AK4305=\"\",\"\",IF(VLOOKUP(AK4305,Sifranti!V:Y,3,FALSE)=\"\",\"\",VLOOKUP(AK4305,Sifranti!V:Y,3,FALSE)))","v":""},{"$f":"IF(AK4305=\"\",\"\",VLOOKUP(AK4305,Sifranti!V:Y,4,FALSE))","v":""}]
[{"$f":"IF(B4315=\"\",\"\",VLOOKUP(B4315,Sifranti!K:L,2,FALSE))","v":""},null,null,null,null,null,null,null,null,"",{"$f":"IF(L4315=\"\",\"\",VLOOKUP(L4315,Sifranti!A:B,2,FALSE))","v":""},null,{"$f":"IF(N4315=\"\",\"\",VLOOKUP(N4315,Sifranti!D:F,3,FALSE))","v":""},null,{"$f":"IF(P4315=\"\",\"\",VLOOKUP(P4315,Sifranti!H:I,2,FALSE))","v":""},null,null,null,null,null,null,null,null,null,null,null,null,null,null,null,null,null,null,null,null,null,null,null,null,null,{"$f":"IF(AN4315=\"\",\"\",IF(LEN(VLOOKUP(AN4315,Sifranti!BY:BZ,2,FALSE))=0,\"\",VLOOKUP(AN4315,Sifranti!BY:BZ,2,FALSE)))","v":""},{"$f":"IF(C4315=\"\",\"\",VLOOKUP(C4315,Sifranti!P:R,2,FALSE))","v":""},"","",{"$f":"IF(C4315=\"\",\"\",VLOOKUP(C4315,Sifranti!P:R,3,FALSE))","v":""},{"$f":"IF(N4315=\"\",\"\",VLOOKUP(N4315,Sifranti!D:F,2,FALSE))","v":""},{"$f":"IF(AK4315=\"\",\"\",VLOOKUP(AK4315,Sifranti!V:Y,2,FALSE))","v":""},{"$f":"IF(AK4315=\"\",\"\",IF(VLOOKUP(AK4315,Sifranti!V:Y,3,FALSE)=\"\",\"\",VLOOKUP(AK4315,Sifranti!V:Y,3,FALSE)))","v":""},{"$f":"IF(AK4315=\"\",\"\",VLOOKUP(AK4315,Sifranti!V:Y,4,FALSE))","v":""}]
[{"$f":"IF(B4321=\"\",\"\",VLOOKUP(B4321,Sifranti!K:L,2,FALSE))","v":""},null,null,null,null,null,null,null,null,"",{"$f":"IF(L4321=\"\",\"\",VLOOKUP(L4321,Sifranti!A:B,2,FALSE))","v":""},null,{"$f":"IF(N4321=\"\",\"\",VLOOKUP(N4321,Sifranti!D:F,3,FALSE))","v":""},null,{"$f":"IF(P4321=\"\",\"\",VLOOKUP(P4321,Sifranti!H:I,2,FALSE))","v":""},null,null,null,null,null,null,null,null,null,null,null,null,null,null,null,null,null,null,null,null,null,null,null,null,null,{"$f":"IF(AN4321=\"\",\"\",IF(LEN(VLOOKUP(AN4321,Sifranti!BY:BZ,2,FALSE))=0,\"\",VLOOKUP(AN4321,Sifranti!BY:BZ,2,FALSE)))","v":""},{"$f":"IF(C4321=\"\",\"\",VLOOKUP(C4321,Sifranti!P:R,2,FALSE))","v":""},"","",{"$f":"IF(C4321=\"\",\"\",VLOOKUP(C4321,Sifranti!P:R,3,FALSE))","v":""},{"$f":"IF(N4321=\"\",\"\",VLOOKUP(N4321,Sifranti!D:F,2,FALSE))","v":""},{"$f":"IF(AK4321=\"\",\"\",VLOOKUP(AK4321,Sifranti!V:Y,2,FALSE))","v":""},{"$f":"IF(AK4321=\"\",\"\",IF(VLOOKUP(AK4321,Sifranti!V:Y,3,FALSE)=\"\",\"\",VLOOKUP(AK4321,Sifranti!V:Y,3,FALSE)))","v":""},{"$f":"IF(AK4321=\"\",\"\",VLOOKUP(AK4321,Sifranti!V:Y,4,FALSE))","v":""}]
[{"$f":"IF(B4329=\"\",\"\",VLOOKUP(B4329,Sifranti!K:L,2,FALSE))","v":""},null,null,null,null,null,null,null,null,"",{"$f":"IF(L4329=\"\",\"\",VLOOKUP(L4329,Sifranti!A:B,2,FALSE))","v":""},null,{"$f":"IF(N4329=\"\",\"\",VLOOKUP(N4329,Sifranti!D:F,3,FALSE))","v":""},null,{"$f":"IF(P4329=\"\",\"\",VLOOKUP(P4329,Sifranti!H:I,2,FALSE))","v":""},null,null,null,null,null,null,null,null,null,null,null,null,null,null,null,null,null,null,null,null,null,null,null,null,null,{"$f":"IF(AN4329=\"\",\"\",IF(LEN(VLOOKUP(AN4329,Sifranti!BY:BZ,2,FALSE))=0,\"\",VLOOKUP(AN4329,Sifranti!BY:BZ,2,FALSE)))","v":""},{"$f":"IF(C4329=\"\",\"\",VLOOKUP(C4329,Sifranti!P:R,2,FALSE))","v":""},"","",{"$f":"IF(C4329=\"\",\"\",VLOOKUP(C4329,Sifranti!P:R,3,FALSE))","v":""},{"$f":"IF(N4329=\"\",\"\",VLOOKUP(N4329,Sifranti!D:F,2,FALSE))","v":""},{"$f":"IF(AK4329=\"\",\"\",VLOOKUP(AK4329,Sifranti!V:Y,2,FALSE))","v":""},{"$f":"IF(AK4329=\"\",\"\",IF(VLOOKUP(AK4329,Sifranti!V:Y,3,FALSE)=\"\",\"\",VLOOKUP(AK4329,Sifranti!V:Y,3,FALSE)))","v":""},{"$f":"IF(AK4329=\"\",\"\",VLOOKUP(AK4329,Sifranti!V:Y,4,FALSE))","v":""}]
[{"$f":"IF(B4347=\"\",\"\",VLOOKUP(B4347,Sifranti!K:L,2,FALSE))","v":""},null,null,null,null,null,null,null,null,"",{"$f":"IF(L4347=\"\",\"\",VLOOKUP(L4347,Sifranti!A:B,2,FALSE))","v":""},null,{"$f":"IF(N4347=\"\",\"\",VLOOKUP(N4347,Sifranti!D:F,3,FALSE))","v":""},null,{"$f":"IF(P4347=\"\",\"\",VLOOKUP(P4347,Sifranti!H:I,2,FALSE))","v":""},null,null,null,null,null,null,null,null,null,null,null,null,null,null,null,null,null,null,null,null,null,null,null,null,null,{"$f":"IF(AN4347=\"\",\"\",IF(LEN(VLOOKUP(AN4347,Sifranti!BY:BZ,2,FALSE))=0,\"\",VLOOKUP(AN4347,Sifranti!BY:BZ,2,FALSE)))","v":""},{"$f":"IF(C4347=\"\",\"\",VLOOKUP(C4347,Sifranti!P:R,2,FALSE))","v":""},"","",{"$f":"IF(C4347=\"\",\"\",VLOOKUP(C4347,Sifranti!P:R,3,FALSE))","v":""},{"$f":"IF(N4347=\"\",\"\",VLOOKUP(N4347,Sifranti!D:F,2,FALSE))","v":""},{"$f":"IF(AK4347=\"\",\"\",VLOOKUP(AK4347,Sifranti!V:Y,2,FALSE))","v":""},{"$f":"IF(AK4347=\"\",\"\",IF(VLOOKUP(AK4347,Sifranti!V:Y,3,FALSE)=\"\",\"\",VLOOKUP(AK4347,Sifranti!V:Y,3,FALSE)))","v":""},{"$f":"IF(AK4347=\"\",\"\",VLOOKUP(AK4347,Sifranti!V:Y,4,FALSE))","v":""}]
[{"$f":"IF(B4353=\"\",\"\",VLOOKUP(B4353,Sifranti!K:L,2,FALSE))","v":""},null,null,null,null,null,null,null,null,"",{"$f":"IF(L4353=\"\",\"\",VLOOKUP(L4353,Sifranti!A:B,2,FALSE))","v":""},null,{"$f":"IF(N4353=\"\",\"\",VLOOKUP(N4353,Sifranti!D:F,3,FALSE))","v":""},null,{"$f":"IF(P4353=\"\",\"\",VLOOKUP(P4353,Sifranti!H:I,2,FALSE))","v":""},null,null,null,null,null,null,null,null,null,null,null,null,null,null,null,null,null,null,null,null,null,null,null,null,null,{"$f":"IF(AN4353=\"\",\"\",IF(LEN(VLOOKUP(AN4353,Sifranti!BY:BZ,2,FALSE))=0,\"\",VLOOKUP(AN4353,Sifranti!BY:BZ,2,FALSE)))","v":""},{"$f":"IF(C4353=\"\",\"\",VLOOKUP(C4353,Sifranti!P:R,2,FALSE))","v":""},"","",{"$f":"IF(C4353=\"\",\"\",VLOOKUP(C4353,Sifranti!P:R,3,FALSE))","v":""},{"$f":"IF(N4353=\"\",\"\",VLOOKUP(N4353,Sifranti!D:F,2,FALSE))","v":""},{"$f":"IF(AK4353=\"\",\"\",VLOOKUP(AK4353,Sifranti!V:Y,2,FALSE))","v":""},{"$f":"IF(AK4353=\"\",\"\",IF(VLOOKUP(AK4353,Sifranti!V:Y,3,FALSE)=\"\",\"\",VLOOKUP(AK4353,Sifranti!V:Y,3,FALSE)))","v":""},{"$f":"IF(AK4353=\"\",\"\",VLOOKUP(AK4353,Sifranti!V:Y,4,FALSE))","v":""}]
[{"$f":"IF(B4363=\"\",\"\",VLOOKUP(B4363,Sifranti!K:L,2,FALSE))","v":""},null,null,null,null,null,null,null,null,"",{"$f":"IF(L4363=\"\",\"\",VLOOKUP(L4363,Sifranti!A:B,2,FALSE))","v":""},null,{"$f":"IF(N4363=\"\",\"\",VLOOKUP(N4363,Sifranti!D:F,3,FALSE))","v":""},null,{"$f":"IF(P4363=\"\",\"\",VLOOKUP(P4363,Sifranti!H:I,2,FALSE))","v":""},null,null,null,null,null,null,null,null,null,null,null,null,null,null,null,null,null,null,null,null,null,null,null,null,null,{"$f":"IF(AN4363=\"\",\"\",IF(LEN(VLOOKUP(AN4363,Sifranti!BY:BZ,2,FALSE))=0,\"\",VLOOKUP(AN4363,Sifranti!BY:BZ,2,FALSE)))","v":""},{"$f":"IF(C4363=\"\",\"\",VLOOKUP(C4363,Sifranti!P:R,2,FALSE))","v":""},"","",{"$f":"IF(C4363=\"\",\"\",VLOOKUP(C4363,Sifranti!P:R,3,FALSE))","v":""},{"$f":"IF(N4363=\"\",\"\",VLOOKUP(N4363,Sifranti!D:F,2,FALSE))","v":""},{"$f":"IF(AK4363=\"\",\"\",VLOOKUP(AK4363,Sifranti!V:Y,2,FALSE))","v":""},{"$f":"IF(AK4363=\"\",\"\",IF(VLOOKUP(AK4363,Sifranti!V:Y,3,FALSE)=\"\",\"\",VLOOKUP(AK4363,Sifranti!V:Y,3,FALSE)))","v":""},{"$f":"IF(AK4363=\"\",\"\",VLOOKUP(AK4363,Sifranti!V:Y,4,FALSE))","v":""}]
[{"$f":"IF(B4374=\"\",\"\",VLOOKUP(B4374,Sifranti!K:L,2,FALSE))","v":""},null,null,null,null,null,null,null,null,"",{"$f":"IF(L4374=\"\",\"\",VLOOKUP(L4374,Sifranti!A:B,2,FALSE))","v":""},null,{"$f":"IF(N4374=\"\",\"\",VLOOKUP(N4374,Sifranti!D:F,3,FALSE))","v":""},null,{"$f":"IF(P4374=\"\",\"\",VLOOKUP(P4374,Sifranti!H:I,2,FALSE))","v":""},null,null,null,null,null,null,null,null,null,null,null,null,null,null,null,null,null,null,null,null,null,null,null,null,null,{"$f":"IF(AN4374=\"\",\"\",IF(LEN(VLOOKUP(AN4374,Sifranti!BY:BZ,2,FALSE))=0,\"\",VLOOKUP(AN4374,Sifranti!BY:BZ,2,FALSE)))","v":""},{"$f":"IF(C4374=\"\",\"\",VLOOKUP(C4374,Sifranti!P:R,2,FALSE))","v":""},"","",{"$f":"IF(C4374=\"\",\"\",VLOOKUP(C4374,Sifranti!P:R,3,FALSE))","v":""},{"$f":"IF(N4374=\"\",\"\",VLOOKUP(N4374,Sifranti!D:F,2,FALSE))","v":""},{"$f":"IF(AK4374=\"\",\"\",VLOOKUP(AK4374,Sifranti!V:Y,2,FALSE))","v":""},{"$f":"IF(AK4374=\"\",\"\",IF(VLOOKUP(AK4374,Sifranti!V:Y,3,FALSE)=\"\",\"\",VLOOKUP(AK4374,Sifranti!V:Y,3,FALSE)))","v":""},{"$f":"IF(AK4374=\"\",\"\",VLOOKUP(AK4374,Sifranti!V:Y,4,FALSE))","v":""}]
[{"$f":"IF(B4385=\"\",\"\",VLOOKUP(B4385,Sifranti!K:L,2,FALSE))","v":""},null,null,null,null,null,null,null,null,"",{"$f":"IF(L4385=\"\",\"\",VLOOKUP(L4385,Sifranti!A:B,2,FALSE))","v":""},null,{"$f":"IF(N4385=\"\",\"\",VLOOKUP(N4385,Sifranti!D:F,3,FALSE))","v":""},null,{"$f":"IF(P4385=\"\",\"\",VLOOKUP(P4385,Sifranti!H:I,2,FALSE))","v":""},null,null,null,null,null,null,null,null,null,null,null,null,null,null,null,null,null,null,null,null,null,null,null,null,null,{"$f":"IF(AN4385=\"\",\"\",IF(LEN(VLOOKUP(AN4385,Sifranti!BY:BZ,2,FALSE))=0,\"\",VLOOKUP(AN4385,Sifranti!BY:BZ,2,FALSE)))","v":""},{"$f":"IF(C4385=\"\",\"\",VLOOKUP(C4385,Sifranti!P:R,2,FALSE))","v":""},"","",{"$f":"IF(C4385=\"\",\"\",VLOOKUP(C4385,Sifranti!P:R,3,FALSE))","v":""},{"$f":"IF(N4385=\"\",\"\",VLOOKUP(N4385,Sifranti!D:F,2,FALSE))","v":""},{"$f":"IF(AK4385=\"\",\"\",VLOOKUP(AK4385,Sifranti!V:Y,2,FALSE))","v":""},{"$f":"IF(AK4385=\"\",\"\",IF(VLOOKUP(AK4385,Sifranti!V:Y,3,FALSE)=\"\",\"\",VLOOKUP(AK4385,Sifranti!V:Y,3,FALSE)))","v":""},{"$f":"IF(AK4385=\"\",\"\",VLOOKUP(AK4385,Sifranti!V:Y,4,FALSE))","v":""}]
[{"$f":"IF(B4395=\"\",\"\",VLOOKUP(B4395,Sifranti!K:L,2,FALSE))","v":""},null,null,null,null,null,null,null,null,"",{"$f":"IF(L4395=\"\",\"\",VLOOKUP(L4395,Sifranti!A:B,2,FALSE))","v":""},null,{"$f":"IF(N4395=\"\",\"\",VLOOKUP(N4395,Sifranti!D:F,3,FALSE))","v":""},null,{"$f":"IF(P4395=\"\",\"\",VLOOKUP(P4395,Sifranti!H:I,2,FALSE))","v":""},null,null,null,null,null,null,null,null,null,null,null,null,null,null,null,null,null,null,null,null,null,null,null,null,null,{"$f":"IF(AN4395=\"\",\"\",IF(LEN(VLOOKUP(AN4395,Sifranti!BY:BZ,2,FALSE))=0,\"\",VLOOKUP(AN4395,Sifranti!BY:BZ,2,FALSE)))","v":""},{"$f":"IF(C4395=\"\",\"\",VLOOKUP(C4395,Sifranti!P:R,2,FALSE))","v":""},"","",{"$f":"IF(C4395=\"\",\"\",VLOOKUP(C4395,Sifranti!P:R,3,FALSE))","v":""},{"$f":"IF(N4395=\"\",\"\",VLOOKUP(N4395,Sifranti!D:F,2,FALSE))","v":""},{"$f":"IF(AK4395=\"\",\"\",VLOOKUP(AK4395,Sifranti!V:Y,2,FALSE))","v":""},{"$f":"IF(AK4395=\"\",\"\",IF(VLOOKUP(AK4395,Sifranti!V:Y,3,FALSE)=\"\",\"\",VLOOKUP(AK4395,Sifranti!V:Y,3,FALSE)))","v":""},{"$f":"IF(AK4395=\"\",\"\",VLOOKUP(AK4395,Sifranti!V:Y,4,FALSE))","v":""}]
[{"$f":"IF(B4412=\"\",\"\",VLOOKUP(B4412,Sifranti!K:L,2,FALSE))","v":""},null,null,null,null,null,null,null,null,"",{"$f":"IF(L4412=\"\",\"\",VLOOKUP(L4412,Sifranti!A:B,2,FALSE))","v":""},null,{"$f":"IF(N4412=\"\",\"\",VLOOKUP(N4412,Sifranti!D:F,3,FALSE))","v":""},null,{"$f":"IF(P4412=\"\",\"\",VLOOKUP(P4412,Sifranti!H:I,2,FALSE))","v":""},null,null,null,null,null,null,null,null,null,null,null,null,null,null,null,null,null,null,null,null,null,null,null,null,null,{"$f":"IF(AN4412=\"\",\"\",IF(LEN(VLOOKUP(AN4412,Sifranti!BY:BZ,2,FALSE))=0,\"\",VLOOKUP(AN4412,Sifranti!BY:BZ,2,FALSE)))","v":""},{"$f":"IF(C4412=\"\",\"\",VLOOKUP(C4412,Sifranti!P:R,2,FALSE))","v":""},"","",{"$f":"IF(C4412=\"\",\"\",VLOOKUP(C4412,Sifranti!P:R,3,FALSE))","v":""},{"$f":"IF(N4412=\"\",\"\",VLOOKUP(N4412,Sifranti!D:F,2,FALSE))","v":""},{"$f":"IF(AK4412=\"\",\"\",VLOOKUP(AK4412,Sifranti!V:Y,2,FALSE))","v":""},{"$f":"IF(AK4412=\"\",\"\",IF(VLOOKUP(AK4412,Sifranti!V:Y,3,FALSE)=\"\",\"\",VLOOKUP(AK4412,Sifranti!V:Y,3,FALSE)))","v":""},{"$f":"IF(AK4412=\"\",\"\",VLOOKUP(AK4412,Sifranti!V:Y,4,FALSE))","v":""}]
[{"$f":"IF(B4419=\"\",\"\",VLOOKUP(B4419,Sifranti!K:L,2,FALSE))","v":""},null,null,null,null,null,null,null,null,"",{"$f":"IF(L4419=\"\",\"\",VLOOKUP(L4419,Sifranti!A:B,2,FALSE))","v":""},null,{"$f":"IF(N4419=\"\",\"\",VLOOKUP(N4419,Sifranti!D:F,3,FALSE))","v":""},null,{"$f":"IF(P4419=\"\",\"\",VLOOKUP(P4419,Sifranti!H:I,2,FALSE))","v":""},null,null,null,null,null,null,null,null,null,null,null,null,null,null,null,null,null,null,null,null,null,null,null,null,null,{"$f":"IF(AN4419=\"\",\"\",IF(LEN(VLOOKUP(AN4419,Sifranti!BY:BZ,2,FALSE))=0,\"\",VLOOKUP(AN4419,Sifranti!BY:BZ,2,FALSE)))","v":""},{"$f":"IF(C4419=\"\",\"\",VLOOKUP(C4419,Sifranti!P:R,2,FALSE))","v":""},"","",{"$f":"IF(C4419=\"\",\"\",VLOOKUP(C4419,Sifranti!P:R,3,FALSE))","v":""},{"$f":"IF(N4419=\"\",\"\",VLOOKUP(N4419,Sifranti!D:F,2,FALSE))","v":""},{"$f":"IF(AK4419=\"\",\"\",VLOOKUP(AK4419,Sifranti!V:Y,2,FALSE))","v":""},{"$f":"IF(AK4419=\"\",\"\",IF(VLOOKUP(AK4419,Sifranti!V:Y,3,FALSE)=\"\",\"\",VLOOKUP(AK4419,Sifranti!V:Y,3,FALSE)))","v":""},{"$f":"IF(AK4419=\"\",\"\",VLOOKUP(AK4419,Sifranti!V:Y,4,FALSE))","v":""}]
[{"$f":"IF(B4427=\"\",\"\",VLOOKUP(B4427,Sifranti!K:L,2,FALSE))","v":""},null,null,null,null,null,null,null,null,"",{"$f":"IF(L4427=\"\",\"\",VLOOKUP(L4427,Sifranti!A:B,2,FALSE))","v":""},null,{"$f":"IF(N4427=\"\",\"\",VLOOKUP(N4427,Sifranti!D:F,3,FALSE))","v":""},null,{"$f":"IF(P4427=\"\",\"\",VLOOKUP(P4427,Sifranti!H:I,2,FALSE))","v":""},null,null,null,null,null,null,null,null,null,null,null,null,null,null,null,null,null,null,null,null,null,null,null,null,null,{"$f":"IF(AN4427=\"\",\"\",IF(LEN(VLOOKUP(AN4427,Sifranti!BY:BZ,2,FALSE))=0,\"\",VLOOKUP(AN4427,Sifranti!BY:BZ,2,FALSE)))","v":""},{"$f":"IF(C4427=\"\",\"\",VLOOKUP(C4427,Sifranti!P:R,2,FALSE))","v":""},"","",{"$f":"IF(C4427=\"\",\"\",VLOOKUP(C4427,Sifranti!P:R,3,FALSE))","v":""},{"$f":"IF(N4427=\"\",\"\",VLOOKUP(N4427,Sifranti!D:F,2,FALSE))","v":""},{"$f":"IF(AK4427=\"\",\"\",VLOOKUP(AK4427,Sifranti!V:Y,2,FALSE))","v":""},{"$f":"IF(AK4427=\"\",\"\",IF(VLOOKUP(AK4427,Sifranti!V:Y,3,FALSE)=\"\",\"\",VLOOKUP(AK4427,Sifranti!V:Y,3,FALSE)))","v":""},{"$f":"IF(AK4427=\"\",\"\",VLOOKUP(AK4427,Sifranti!V:Y,4,FALSE))","v":""}]
[{"$f":"IF(B4444=\"\",\"\",VLOOKUP(B4444,Sifranti!K:L,2,FALSE))","v":""},null,null,null,null,null,null,null,null,"",{"$f":"IF(L4444=\"\",\"\",VLOOKUP(L4444,Sifranti!A:B,2,FALSE))","v":""},null,{"$f":"IF(N4444=\"\",\"\",VLOOKUP(N4444,Sifranti!D:F,3,FALSE))","v":""},null,{"$f":"IF(P4444=\"\",\"\",VLOOKUP(P4444,Sifranti!H:I,2,FALSE))","v":""},null,null,null,null,null,null,null,null,null,null,null,null,null,null,null,null,null,null,null,null,null,null,null,null,null,{"$f":"IF(AN4444=\"\",\"\",IF(LEN(VLOOKUP(AN4444,Sifranti!BY:BZ,2,FALSE))=0,\"\",VLOOKUP(AN4444,Sifranti!BY:BZ,2,FALSE)))","v":""},{"$f":"IF(C4444=\"\",\"\",VLOOKUP(C4444,Sifranti!P:R,2,FALSE))","v":""},"","",{"$f":"IF(C4444=\"\",\"\",VLOOKUP(C4444,Sifranti!P:R,3,FALSE))","v":""},{"$f":"IF(N4444=\"\",\"\",VLOOKUP(N4444,Sifranti!D:F,2,FALSE))","v":""},{"$f":"IF(AK4444=\"\",\"\",VLOOKUP(AK4444,Sifranti!V:Y,2,FALSE))","v":""},{"$f":"IF(AK4444=\"\",\"\",IF(VLOOKUP(AK4444,Sifranti!V:Y,3,FALSE)=\"\",\"\",VLOOKUP(AK4444,Sifranti!V:Y,3,FALSE)))","v":""},{"$f":"IF(AK4444=\"\",\"\",VLOOKUP(AK4444,Sifranti!V:Y,4,FALSE))","v":""}]
[{"$f":"IF(B4454=\"\",\"\",VLOOKUP(B4454,Sifranti!K:L,2,FALSE))","v":""},null,null,null,null,null,null,null,null,"",{"$f":"IF(L4454=\"\",\"\",VLOOKUP(L4454,Sifranti!A:B,2,FALSE))","v":""},null,{"$f":"IF(N4454=\"\",\"\",VLOOKUP(N4454,Sifranti!D:F,3,FALSE))","v":""},null,{"$f":"IF(P4454=\"\",\"\",VLOOKUP(P4454,Sifranti!H:I,2,FALSE))","v":""},null,null,null,null,null,null,null,null,null,null,null,null,null,null,null,null,null,null,null,null,null,null,null,null,null,{"$f":"IF(AN4454=\"\",\"\",IF(LEN(VLOOKUP(AN4454,Sifranti!BY:BZ,2,FALSE))=0,\"\",VLOOKUP(AN4454,Sifranti!BY:BZ,2,FALSE)))","v":""},{"$f":"IF(C4454=\"\",\"\",VLOOKUP(C4454,Sifranti!P:R,2,FALSE))","v":""},"","",{"$f":"IF(C4454=\"\",\"\",VLOOKUP(C4454,Sifranti!P:R,3,FALSE))","v":""},{"$f":"IF(N4454=\"\",\"\",VLOOKUP(N4454,Sifranti!D:F,2,FALSE))","v":""},{"$f":"IF(AK4454=\"\",\"\",VLOOKUP(AK4454,Sifranti!V:Y,2,FALSE))","v":""},{"$f":"IF(AK4454=\"\",\"\",IF(VLOOKUP(AK4454,Sifranti!V:Y,3,FALSE)=\"\",\"\",VLOOKUP(AK4454,Sifranti!V:Y,3,FALSE)))","v":""},{"$f":"IF(AK4454=\"\",\"\",VLOOKUP(AK4454,Sifranti!V:Y,4,FALSE))","v":""}]
[{"$f":"IF(B4458=\"\",\"\",VLOOKUP(B4458,Sifranti!K:L,2,FALSE))","v":""},null,null,null,null,null,null,null,null,"",{"$f":"IF(L4458=\"\",\"\",VLOOKUP(L4458,Sifranti!A:B,2,FALSE))","v":""},null,{"$f":"IF(N4458=\"\",\"\",VLOOKUP(N4458,Sifranti!D:F,3,FALSE))","v":""},null,{"$f":"IF(P4458=\"\",\"\",VLOOKUP(P4458,Sifranti!H:I,2,FALSE))","v":""},null,null,null,null,null,null,null,null,null,null,null,null,null,null,null,null,null,null,null,null,null,null,null,null,null,{"$f":"IF(AN4458=\"\",\"\",IF(LEN(VLOOKUP(AN4458,Sifranti!BY:BZ,2,FALSE))=0,\"\",VLOOKUP(AN4458,Sifranti!BY:BZ,2,FALSE)))","v":""},{"$f":"IF(C4458=\"\",\"\",VLOOKUP(C4458,Sifranti!P:R,2,FALSE))","v":""},"","",{"$f":"IF(C4458=\"\",\"\",VLOOKUP(C4458,Sifranti!P:R,3,FALSE))","v":""},{"$f":"IF(N4458=\"\",\"\",VLOOKUP(N4458,Sifranti!D:F,2,FALSE))","v":""},{"$f":"IF(AK4458=\"\",\"\",VLOOKUP(AK4458,Sifranti!V:Y,2,FALSE))","v":""},{"$f":"IF(AK4458=\"\",\"\",IF(VLOOKUP(AK4458,Sifranti!V:Y,3,FALSE)=\"\",\"\",VLOOKUP(AK4458,Sifranti!V:Y,3,FALSE)))","v":""},{"$f":"IF(AK4458=\"\",\"\",VLOOKUP(AK4458,Sifranti!V:Y,4,FALSE))","v":""}]
[{"$f":"IF(B4476=\"\",\"\",VLOOKUP(B4476,Sifranti!K:L,2,FALSE))","v":""},null,null,null,null,null,null,null,null,"",{"$f":"IF(L4476=\"\",\"\",VLOOKUP(L4476,Sifranti!A:B,2,FALSE))","v":""},null,{"$f":"IF(N4476=\"\",\"\",VLOOKUP(N4476,Sifranti!D:F,3,FALSE))","v":""},null,{"$f":"IF(P4476=\"\",\"\",VLOOKUP(P4476,Sifranti!H:I,2,FALSE))","v":""},null,null,null,null,null,null,null,null,null,null,null,null,null,null,null,null,null,null,null,null,null,null,null,null,null,{"$f":"IF(AN4476=\"\",\"\",IF(LEN(VLOOKUP(AN4476,Sifranti!BY:BZ,2,FALSE))=0,\"\",VLOOKUP(AN4476,Sifranti!BY:BZ,2,FALSE)))","v":""},{"$f":"IF(C4476=\"\",\"\",VLOOKUP(C4476,Sifranti!P:R,2,FALSE))","v":""},"","",{"$f":"IF(C4476=\"\",\"\",VLOOKUP(C4476,Sifranti!P:R,3,FALSE))","v":""},{"$f":"IF(N4476=\"\",\"\",VLOOKUP(N4476,Sifranti!D:F,2,FALSE))","v":""},{"$f":"IF(AK4476=\"\",\"\",VLOOKUP(AK4476,Sifranti!V:Y,2,FALSE))","v":""},{"$f":"IF(AK4476=\"\",\"\",IF(VLOOKUP(AK4476,Sifranti!V:Y,3,FALSE)=\"\",\"\",VLOOKUP(AK4476,Sifranti!V:Y,3,FALSE)))","v":""},{"$f":"IF(AK4476=\"\",\"\",VLOOKUP(AK4476,Sifranti!V:Y,4,FALSE))","v":""}]
[{"$f":"IF(B4486=\"\",\"\",VLOOKUP(B4486,Sifranti!K:L,2,FALSE))","v":""},null,null,null,null,null,null,null,null,"",{"$f":"IF(L4486=\"\",\"\",VLOOKUP(L4486,Sifranti!A:B,2,FALSE))","v":""},null,{"$f":"IF(N4486=\"\",\"\",VLOOKUP(N4486,Sifranti!D:F,3,FALSE))","v":""},null,{"$f":"IF(P4486=\"\",\"\",VLOOKUP(P4486,Sifranti!H:I,2,FALSE))","v":""},null,null,null,null,null,null,null,null,null,null,null,null,null,null,null,null,null,null,null,null,null,null,null,null,null,{"$f":"IF(AN4486=\"\",\"\",IF(LEN(VLOOKUP(AN4486,Sifranti!BY:BZ,2,FALSE))=0,\"\",VLOOKUP(AN4486,Sifranti!BY:BZ,2,FALSE)))","v":""},{"$f":"IF(C4486=\"\",\"\",VLOOKUP(C4486,Sifranti!P:R,2,FALSE))","v":""},"","",{"$f":"IF(C4486=\"\",\"\",VLOOKUP(C4486,Sifranti!P:R,3,FALSE))","v":""},{"$f":"IF(N4486=\"\",\"\",VLOOKUP(N4486,Sifranti!D:F,2,FALSE))","v":""},{"$f":"IF(AK4486=\"\",\"\",VLOOKUP(AK4486,Sifranti!V:Y,2,FALSE))","v":""},{"$f":"IF(AK4486=\"\",\"\",IF(VLOOKUP(AK4486,Sifranti!V:Y,3,FALSE)=\"\",\"\",VLOOKUP(AK4486,Sifranti!V:Y,3,FALSE)))","v":""},{"$f":"IF(AK4486=\"\",\"\",VLOOKUP(AK4486,Sifranti!V:Y,4,FALSE))","v":""}]
[{"$f":"IF(B4492=\"\",\"\",VLOOKUP(B4492,Sifranti!K:L,2,FALSE))","v":""},null,null,null,null,null,null,null,null,"",{"$f":"IF(L4492=\"\",\"\",VLOOKUP(L4492,Sifranti!A:B,2,FALSE))","v":""},null,{"$f":"IF(N4492=\"\",\"\",VLOOKUP(N4492,Sifranti!D:F,3,FALSE))","v":""},null,{"$f":"IF(P4492=\"\",\"\",VLOOKUP(P4492,Sifranti!H:I,2,FALSE))","v":""},null,null,null,null,null,null,null,null,null,null,null,null,null,null,null,null,null,null,null,null,null,null,null,null,null,{"$f":"IF(AN4492=\"\",\"\",IF(LEN(VLOOKUP(AN4492,Sifranti!BY:BZ,2,FALSE))=0,\"\",VLOOKUP(AN4492,Sifranti!BY:BZ,2,FALSE)))","v":""},{"$f":"IF(C4492=\"\",\"\",VLOOKUP(C4492,Sifranti!P:R,2,FALSE))","v":""},"","",{"$f":"IF(C4492=\"\",\"\",VLOOKUP(C4492,Sifranti!P:R,3,FALSE))","v":""},{"$f":"IF(N4492=\"\",\"\",VLOOKUP(N4492,Sifranti!D:F,2,FALSE))","v":""},{"$f":"IF(AK4492=\"\",\"\",VLOOKUP(AK4492,Sifranti!V:Y,2,FALSE))","v":""},{"$f":"IF(AK4492=\"\",\"\",IF(VLOOKUP(AK4492,Sifranti!V:Y,3,FALSE)=\"\",\"\",VLOOKUP(AK4492,Sifranti!V:Y,3,FALSE)))","v":""},{"$f":"IF(AK4492=\"\",\"\",VLOOKUP(AK4492,Sifranti!V:Y,4,FALSE))","v":""}]
[{"$f":"IF(B4503=\"\",\"\",VLOOKUP(B4503,Sifranti!K:L,2,FALSE))","v":""},null,null,null,null,null,null,null,null,"",{"$f":"IF(L4503=\"\",\"\",VLOOKUP(L4503,Sifranti!A:B,2,FALSE))","v":""},null,{"$f":"IF(N4503=\"\",\"\",VLOOKUP(N4503,Sifranti!D:F,3,FALSE))","v":""},null,{"$f":"IF(P4503=\"\",\"\",VLOOKUP(P4503,Sifranti!H:I,2,FALSE))","v":""},null,null,null,null,null,null,null,null,null,null,null,null,null,null,null,null,null,null,null,null,null,null,null,null,null,{"$f":"IF(AN4503=\"\",\"\",IF(LEN(VLOOKUP(AN4503,Sifranti!BY:BZ,2,FALSE))=0,\"\",VLOOKUP(AN4503,Sifranti!BY:BZ,2,FALSE)))","v":""},{"$f":"IF(C4503=\"\",\"\",VLOOKUP(C4503,Sifranti!P:R,2,FALSE))","v":""},"","",{"$f":"IF(C4503=\"\",\"\",VLOOKUP(C4503,Sifranti!P:R,3,FALSE))","v":""},{"$f":"IF(N4503=\"\",\"\",VLOOKUP(N4503,Sifranti!D:F,2,FALSE))","v":""},{"$f":"IF(AK4503=\"\",\"\",VLOOKUP(AK4503,Sifranti!V:Y,2,FALSE))","v":""},{"$f":"IF(AK4503=\"\",\"\",IF(VLOOKUP(AK4503,Sifranti!V:Y,3,FALSE)=\"\",\"\",VLOOKUP(AK4503,Sifranti!V:Y,3,FALSE)))","v":""},{"$f":"IF(AK4503=\"\",\"\",VLOOKUP(AK4503,Sifranti!V:Y,4,FALSE))","v":""}]
[{"$f":"IF(B4518=\"\",\"\",VLOOKUP(B4518,Sifranti!K:L,2,FALSE))","v":""},null,null,null,null,null,null,null,null,"",{"$f":"IF(L4518=\"\",\"\",VLOOKUP(L4518,Sifranti!A:B,2,FALSE))","v":""},null,{"$f":"IF(N4518=\"\",\"\",VLOOKUP(N4518,Sifranti!D:F,3,FALSE))","v":""},null,{"$f":"IF(P4518=\"\",\"\",VLOOKUP(P4518,Sifranti!H:I,2,FALSE))","v":""},null,null,null,null,null,null,null,null,null,null,null,null,null,null,null,null,null,null,null,null,null,null,null,null,null,{"$f":"IF(AN4518=\"\",\"\",IF(LEN(VLOOKUP(AN4518,Sifranti!BY:BZ,2,FALSE))=0,\"\",VLOOKUP(AN4518,Sifranti!BY:BZ,2,FALSE)))","v":""},{"$f":"IF(C4518=\"\",\"\",VLOOKUP(C4518,Sifranti!P:R,2,FALSE))","v":""},"","",{"$f":"IF(C4518=\"\",\"\",VLOOKUP(C4518,Sifranti!P:R,3,FALSE))","v":""},{"$f":"IF(N4518=\"\",\"\",VLOOKUP(N4518,Sifranti!D:F,2,FALSE))","v":""},{"$f":"IF(AK4518=\"\",\"\",VLOOKUP(AK4518,Sifranti!V:Y,2,FALSE))","v":""},{"$f":"IF(AK4518=\"\",\"\",IF(VLOOKUP(AK4518,Sifranti!V:Y,3,FALSE)=\"\",\"\",VLOOKUP(AK4518,Sifranti!V:Y,3,FALSE)))","v":""},{"$f":"IF(AK4518=\"\",\"\",VLOOKUP(AK4518,Sifranti!V:Y,4,FALSE))","v":""}]
[{"$f":"IF(B4524=\"\",\"\",VLOOKUP(B4524,Sifranti!K:L,2,FALSE))","v":""},null,null,null,null,null,null,null,null,"",{"$f":"IF(L4524=\"\",\"\",VLOOKUP(L4524,Sifranti!A:B,2,FALSE))","v":""},null,{"$f":"IF(N4524=\"\",\"\",VLOOKUP(N4524,Sifranti!D:F,3,FALSE))","v":""},null,{"$f":"IF(P4524=\"\",\"\",VLOOKUP(P4524,Sifranti!H:I,2,FALSE))","v":""},null,null,null,null,null,null,null,null,null,null,null,null,null,null,null,null,null,null,null,null,null,null,null,null,null,{"$f":"IF(AN4524=\"\",\"\",IF(LEN(VLOOKUP(AN4524,Sifranti!BY:BZ,2,FALSE))=0,\"\",VLOOKUP(AN4524,Sifranti!BY:BZ,2,FALSE)))","v":""},{"$f":"IF(C4524=\"\",\"\",VLOOKUP(C4524,Sifranti!P:R,2,FALSE))","v":""},"","",{"$f":"IF(C4524=\"\",\"\",VLOOKUP(C4524,Sifranti!P:R,3,FALSE))","v":""},{"$f":"IF(N4524=\"\",\"\",VLOOKUP(N4524,Sifranti!D:F,2,FALSE))","v":""},{"$f":"IF(AK4524=\"\",\"\",VLOOKUP(AK4524,Sifranti!V:Y,2,FALSE))","v":""},{"$f":"IF(AK4524=\"\",\"\",IF(VLOOKUP(AK4524,Sifranti!V:Y,3,FALSE)=\"\",\"\",VLOOKUP(AK4524,Sifranti!V:Y,3,FALSE)))","v":""},{"$f":"IF(AK4524=\"\",\"\",VLOOKUP(AK4524,Sifranti!V:Y,4,FALSE))","v":""}]
[{"$f":"IF(B4534=\"\",\"\",VLOOKUP(B4534,Sifranti!K:L,2,FALSE))","v":""},null,null,null,null,null,null,null,null,"",{"$f":"IF(L4534=\"\",\"\",VLOOKUP(L4534,Sifranti!A:B,2,FALSE))","v":""},null,{"$f":"IF(N4534=\"\",\"\",VLOOKUP(N4534,Sifranti!D:F,3,FALSE))","v":""},null,{"$f":"IF(P4534=\"\",\"\",VLOOKUP(P4534,Sifranti!H:I,2,FALSE))","v":""},null,null,null,null,null,null,null,null,null,null,null,null,null,null,null,null,null,null,null,null,null,null,null,null,null,{"$f":"IF(AN4534=\"\",\"\",IF(LEN(VLOOKUP(AN4534,Sifranti!BY:BZ,2,FALSE))=0,\"\",VLOOKUP(AN4534,Sifranti!BY:BZ,2,FALSE)))","v":""},{"$f":"IF(C4534=\"\",\"\",VLOOKUP(C4534,Sifranti!P:R,2,FALSE))","v":""},"","",{"$f":"IF(C4534=\"\",\"\",VLOOKUP(C4534,Sifranti!P:R,3,FALSE))","v":""},{"$f":"IF(N4534=\"\",\"\",VLOOKUP(N4534,Sifranti!D:F,2,FALSE))","v":""},{"$f":"IF(AK4534=\"\",\"\",VLOOKUP(AK4534,Sifranti!V:Y,2,FALSE))","v":""},{"$f":"IF(AK4534=\"\",\"\",IF(VLOOKUP(AK4534,Sifranti!V:Y,3,FALSE)=\"\",\"\",VLOOKUP(AK4534,Sifranti!V:Y,3,FALSE)))","v":""},{"$f":"IF(AK4534=\"\",\"\",VLOOKUP(AK4534,Sifranti!V:Y,4,FALSE))","v":""}]
[{"$f":"IF(B4552=\"\",\"\",VLOOKUP(B4552,Sifranti!K:L,2,FALSE))","v":""},null,null,null,null,null,null,null,null,"",{"$f":"IF(L4552=\"\",\"\",VLOOKUP(L4552,Sifranti!A:B,2,FALSE))","v":""},null,{"$f":"IF(N4552=\"\",\"\",VLOOKUP(N4552,Sifranti!D:F,3,FALSE))","v":""},null,{"$f":"IF(P4552=\"\",\"\",VLOOKUP(P4552,Sifranti!H:I,2,FALSE))","v":""},null,null,null,null,null,null,null,null,null,null,null,null,null,null,null,null,null,null,null,null,null,null,null,null,null,{"$f":"IF(AN4552=\"\",\"\",IF(LEN(VLOOKUP(AN4552,Sifranti!BY:BZ,2,FALSE))=0,\"\",VLOOKUP(AN4552,Sifranti!BY:BZ,2,FALSE)))","v":""},{"$f":"IF(C4552=\"\",\"\",VLOOKUP(C4552,Sifranti!P:R,2,FALSE))","v":""},"","",{"$f":"IF(C4552=\"\",\"\",VLOOKUP(C4552,Sifranti!P:R,3,FALSE))","v":""},{"$f":"IF(N4552=\"\",\"\",VLOOKUP(N4552,Sifranti!D:F,2,FALSE))","v":""},{"$f":"IF(AK4552=\"\",\"\",VLOOKUP(AK4552,Sifranti!V:Y,2,FALSE))","v":""},{"$f":"IF(AK4552=\"\",\"\",IF(VLOOKUP(AK4552,Sifranti!V:Y,3,FALSE)=\"\",\"\",VLOOKUP(AK4552,Sifranti!V:Y,3,FALSE)))","v":""},{"$f":"IF(AK4552=\"\",\"\",VLOOKUP(AK4552,Sifranti!V:Y,4,FALSE))","v":""}]
[{"$f":"IF(B4560=\"\",\"\",VLOOKUP(B4560,Sifranti!K:L,2,FALSE))","v":""},null,null,null,null,null,null,null,null,"",{"$f":"IF(L4560=\"\",\"\",VLOOKUP(L4560,Sifranti!A:B,2,FALSE))","v":""},null,{"$f":"IF(N4560=\"\",\"\",VLOOKUP(N4560,Sifranti!D:F,3,FALSE))","v":""},null,{"$f":"IF(P4560=\"\",\"\",VLOOKUP(P4560,Sifranti!H:I,2,FALSE))","v":""},null,null,null,null,null,null,null,null,null,null,null,null,null,null,null,null,null,null,null,null,null,null,null,null,null,{"$f":"IF(AN4560=\"\",\"\",IF(LEN(VLOOKUP(AN4560,Sifranti!BY:BZ,2,FALSE))=0,\"\",VLOOKUP(AN4560,Sifranti!BY:BZ,2,FALSE)))","v":""},{"$f":"IF(C4560=\"\",\"\",VLOOKUP(C4560,Sifranti!P:R,2,FALSE))","v":""},"","",{"$f":"IF(C4560=\"\",\"\",VLOOKUP(C4560,Sifranti!P:R,3,FALSE))","v":""},{"$f":"IF(N4560=\"\",\"\",VLOOKUP(N4560,Sifranti!D:F,2,FALSE))","v":""},{"$f":"IF(AK4560=\"\",\"\",VLOOKUP(AK4560,Sifranti!V:Y,2,FALSE))","v":""},{"$f":"IF(AK4560=\"\",\"\",IF(VLOOKUP(AK4560,Sifranti!V:Y,3,FALSE)=\"\",\"\",VLOOKUP(AK4560,Sifranti!V:Y,3,FALSE)))","v":""},{"$f":"IF(AK4560=\"\",\"\",VLOOKUP(AK4560,Sifranti!V:Y,4,FALSE))","v":""}]
[{"$f":"IF(B4566=\"\",\"\",VLOOKUP(B4566,Sifranti!K:L,2,FALSE))","v":""},null,null,null,null,null,null,null,null,"",{"$f":"IF(L4566=\"\",\"\",VLOOKUP(L4566,Sifranti!A:B,2,FALSE))","v":""},null,{"$f":"IF(N4566=\"\",\"\",VLOOKUP(N4566,Sifranti!D:F,3,FALSE))","v":""},null,{"$f":"IF(P4566=\"\",\"\",VLOOKUP(P4566,Sifranti!H:I,2,FALSE))","v":""},null,null,null,null,null,null,null,null,null,null,null,null,null,null,null,null,null,null,null,null,null,null,null,null,null,{"$f":"IF(AN4566=\"\",\"\",IF(LEN(VLOOKUP(AN4566,Sifranti!BY:BZ,2,FALSE))=0,\"\",VLOOKUP(AN4566,Sifranti!BY:BZ,2,FALSE)))","v":""},{"$f":"IF(C4566=\"\",\"\",VLOOKUP(C4566,Sifranti!P:R,2,FALSE))","v":""},"","",{"$f":"IF(C4566=\"\",\"\",VLOOKUP(C4566,Sifranti!P:R,3,FALSE))","v":""},{"$f":"IF(N4566=\"\",\"\",VLOOKUP(N4566,Sifranti!D:F,2,FALSE))","v":""},{"$f":"IF(AK4566=\"\",\"\",VLOOKUP(AK4566,Sifranti!V:Y,2,FALSE))","v":""},{"$f":"IF(AK4566=\"\",\"\",IF(VLOOKUP(AK4566,Sifranti!V:Y,3,FALSE)=\"\",\"\",VLOOKUP(AK4566,Sifranti!V:Y,3,FALSE)))","v":""},{"$f":"IF(AK4566=\"\",\"\",VLOOKUP(AK4566,Sifranti!V:Y,4,FALSE))","v":""}]
[{"$f":"IF(B4583=\"\",\"\",VLOOKUP(B4583,Sifranti!K:L,2,FALSE))","v":""},null,null,null,null,null,null,null,null,"",{"$f":"IF(L4583=\"\",\"\",VLOOKUP(L4583,Sifranti!A:B,2,FALSE))","v":""},null,{"$f":"IF(N4583=\"\",\"\",VLOOKUP(N4583,Sifranti!D:F,3,FALSE))","v":""},null,{"$f":"IF(P4583=\"\",\"\",VLOOKUP(P4583,Sifranti!H:I,2,FALSE))","v":""},null,null,null,null,null,null,null,null,null,null,null,null,null,null,null,null,null,null,null,null,null,null,null,null,null,{"$f":"IF(AN4583=\"\",\"\",IF(LEN(VLOOKUP(AN4583,Sifranti!BY:BZ,2,FALSE))=0,\"\",VLOOKUP(AN4583,Sifranti!BY:BZ,2,FALSE)))","v":""},{"$f":"IF(C4583=\"\",\"\",VLOOKUP(C4583,Sifranti!P:R,2,FALSE))","v":""},"","",{"$f":"IF(C4583=\"\",\"\",VLOOKUP(C4583,Sifranti!P:R,3,FALSE))","v":""},{"$f":"IF(N4583=\"\",\"\",VLOOKUP(N4583,Sifranti!D:F,2,FALSE))","v":""},{"$f":"IF(AK4583=\"\",\"\",VLOOKUP(AK4583,Sifranti!V:Y,2,FALSE))","v":""},{"$f":"IF(AK4583=\"\",\"\",IF(VLOOKUP(AK4583,Sifranti!V:Y,3,FALSE)=\"\",\"\",VLOOKUP(AK4583,Sifranti!V:Y,3,FALSE)))","v":""},{"$f":"IF(AK4583=\"\",\"\",VLOOKUP(AK4583,Sifranti!V:Y,4,FALSE))","v":""}]
[{"$f":"IF(B4587=\"\",\"\",VLOOKUP(B4587,Sifranti!K:L,2,FALSE))","v":""},null,null,null,null,null,null,null,null,"",{"$f":"IF(L4587=\"\",\"\",VLOOKUP(L4587,Sifranti!A:B,2,FALSE))","v":""},null,{"$f":"IF(N4587=\"\",\"\",VLOOKUP(N4587,Sifranti!D:F,3,FALSE))","v":""},null,{"$f":"IF(P4587=\"\",\"\",VLOOKUP(P4587,Sifranti!H:I,2,FALSE))","v":""},null,null,null,null,null,null,null,null,null,null,null,null,null,null,null,null,null,null,null,null,null,null,null,null,null,{"$f":"IF(AN4587=\"\",\"\",IF(LEN(VLOOKUP(AN4587,Sifranti!BY:BZ,2,FALSE))=0,\"\",VLOOKUP(AN4587,Sifranti!BY:BZ,2,FALSE)))","v":""},{"$f":"IF(C4587=\"\",\"\",VLOOKUP(C4587,Sifranti!P:R,2,FALSE))","v":""},"","",{"$f":"IF(C4587=\"\",\"\",VLOOKUP(C4587,Sifranti!P:R,3,FALSE))","v":""},{"$f":"IF(N4587=\"\",\"\",VLOOKUP(N4587,Sifranti!D:F,2,FALSE))","v":""},{"$f":"IF(AK4587=\"\",\"\",VLOOKUP(AK4587,Sifranti!V:Y,2,FALSE))","v":""},{"$f":"IF(AK4587=\"\",\"\",IF(VLOOKUP(AK4587,Sifranti!V:Y,3,FALSE)=\"\",\"\",VLOOKUP(AK4587,Sifranti!V:Y,3,FALSE)))","v":""},{"$f":"IF(AK4587=\"\",\"\",VLOOKUP(AK4587,Sifranti!V:Y,4,FALSE))","v":""}]
[{"$f":"IF(B4598=\"\",\"\",VLOOKUP(B4598,Sifranti!K:L,2,FALSE))","v":""},null,null,null,null,null,null,null,null,"",{"$f":"IF(L4598=\"\",\"\",VLOOKUP(L4598,Sifranti!A:B,2,FALSE))","v":""},null,{"$f":"IF(N4598=\"\",\"\",VLOOKUP(N4598,Sifranti!D:F,3,FALSE))","v":""},null,{"$f":"IF(P4598=\"\",\"\",VLOOKUP(P4598,Sifranti!H:I,2,FALSE))","v":""},null,null,null,null,null,null,null,null,null,null,null,null,null,null,null,null,null,null,null,null,null,null,null,null,null,{"$f":"IF(AN4598=\"\",\"\",IF(LEN(VLOOKUP(AN4598,Sifranti!BY:BZ,2,FALSE))=0,\"\",VLOOKUP(AN4598,Sifranti!BY:BZ,2,FALSE)))","v":""},{"$f":"IF(C4598=\"\",\"\",VLOOKUP(C4598,Sifranti!P:R,2,FALSE))","v":""},"","",{"$f":"IF(C4598=\"\",\"\",VLOOKUP(C4598,Sifranti!P:R,3,FALSE))","v":""},{"$f":"IF(N4598=\"\",\"\",VLOOKUP(N4598,Sifranti!D:F,2,FALSE))","v":""},{"$f":"IF(AK4598=\"\",\"\",VLOOKUP(AK4598,Sifranti!V:Y,2,FALSE))","v":""},{"$f":"IF(AK4598=\"\",\"\",IF(VLOOKUP(AK4598,Sifranti!V:Y,3,FALSE)=\"\",\"\",VLOOKUP(AK4598,Sifranti!V:Y,3,FALSE)))","v":""},{"$f":"IF(AK4598=\"\",\"\",VLOOKUP(AK4598,Sifranti!V:Y,4,FALSE))","v":""}]
[{"$f":"IF(B4615=\"\",\"\",VLOOKUP(B4615,Sifranti!K:L,2,FALSE))","v":""},null,null,null,null,null,null,null,null,"",{"$f":"IF(L4615=\"\",\"\",VLOOKUP(L4615,Sifranti!A:B,2,FALSE))","v":""},null,{"$f":"IF(N4615=\"\",\"\",VLOOKUP(N4615,Sifranti!D:F,3,FALSE))","v":""},null,{"$f":"IF(P4615=\"\",\"\",VLOOKUP(P4615,Sifranti!H:I,2,FALSE))","v":""},null,null,null,null,null,null,null,null,null,null,null,null,null,null,null,null,null,null,null,null,null,null,null,null,null,{"$f":"IF(AN4615=\"\",\"\",IF(LEN(VLOOKUP(AN4615,Sifranti!BY:BZ,2,FALSE))=0,\"\",VLOOKUP(AN4615,Sifranti!BY:BZ,2,FALSE)))","v":""},{"$f":"IF(C4615=\"\",\"\",VLOOKUP(C4615,Sifranti!P:R,2,FALSE))","v":""},"","",{"$f":"IF(C4615=\"\",\"\",VLOOKUP(C4615,Sifranti!P:R,3,FALSE))","v":""},{"$f":"IF(N4615=\"\",\"\",VLOOKUP(N4615,Sifranti!D:F,2,FALSE))","v":""},{"$f":"IF(AK4615=\"\",\"\",VLOOKUP(AK4615,Sifranti!V:Y,2,FALSE))","v":""},{"$f":"IF(AK4615=\"\",\"\",IF(VLOOKUP(AK4615,Sifranti!V:Y,3,FALSE)=\"\",\"\",VLOOKUP(AK4615,Sifranti!V:Y,3,FALSE)))","v":""},{"$f":"IF(AK4615=\"\",\"\",VLOOKUP(AK4615,Sifranti!V:Y,4,FALSE))","v":""}]
[{"$f":"IF(B4625=\"\",\"\",VLOOKUP(B4625,Sifranti!K:L,2,FALSE))","v":""},null,null,null,null,null,null,null,null,"",{"$f":"IF(L4625=\"\",\"\",VLOOKUP(L4625,Sifranti!A:B,2,FALSE))","v":""},null,{"$f":"IF(N4625=\"\",\"\",VLOOKUP(N4625,Sifranti!D:F,3,FALSE))","v":""},null,{"$f":"IF(P4625=\"\",\"\",VLOOKUP(P4625,Sifranti!H:I,2,FALSE))","v":""},null,null,null,null,null,null,null,null,null,null,null,null,null,null,null,null,null,null,null,null,null,null,null,null,null,{"$f":"IF(AN4625=\"\",\"\",IF(LEN(VLOOKUP(AN4625,Sifranti!BY:BZ,2,FALSE))=0,\"\",VLOOKUP(AN4625,Sifranti!BY:BZ,2,FALSE)))","v":""},{"$f":"IF(C4625=\"\",\"\",VLOOKUP(C4625,Sifranti!P:R,2,FALSE))","v":""},"","",{"$f":"IF(C4625=\"\",\"\",VLOOKUP(C4625,Sifranti!P:R,3,FALSE))","v":""},{"$f":"IF(N4625=\"\",\"\",VLOOKUP(N4625,Sifranti!D:F,2,FALSE))","v":""},{"$f":"IF(AK4625=\"\",\"\",VLOOKUP(AK4625,Sifranti!V:Y,2,FALSE))","v":""},{"$f":"IF(AK4625=\"\",\"\",IF(VLOOKUP(AK4625,Sifranti!V:Y,3,FALSE)=\"\",\"\",VLOOKUP(AK4625,Sifranti!V:Y,3,FALSE)))","v":""},{"$f":"IF(AK4625=\"\",\"\",VLOOKUP(AK4625,Sifranti!V:Y,4,FALSE))","v":""}]
[{"$f":"IF(B4636=\"\",\"\",VLOOKUP(B4636,Sifranti!K:L,2,FALSE))","v":""},null,null,null,null,null,null,null,null,"",{"$f":"IF(L4636=\"\",\"\",VLOOKUP(L4636,Sifranti!A:B,2,FALSE))","v":""},null,{"$f":"IF(N4636=\"\",\"\",VLOOKUP(N4636,Sifranti!D:F,3,FALSE))","v":""},null,{"$f":"IF(P4636=\"\",\"\",VLOOKUP(P4636,Sifranti!H:I,2,FALSE))","v":""},null,null,null,null,null,null,null,null,null,null,null,null,null,null,null,null,null,null,null,null,null,null,null,null,null,{"$f":"IF(AN4636=\"\",\"\",IF(LEN(VLOOKUP(AN4636,Sifranti!BY:BZ,2,FALSE))=0,\"\",VLOOKUP(AN4636,Sifranti!BY:BZ,2,FALSE)))","v":""},{"$f":"IF(C4636=\"\",\"\",VLOOKUP(C4636,Sifranti!P:R,2,FALSE))","v":""},"","",{"$f":"IF(C4636=\"\",\"\",VLOOKUP(C4636,Sifranti!P:R,3,FALSE))","v":""},{"$f":"IF(N4636=\"\",\"\",VLOOKUP(N4636,Sifranti!D:F,2,FALSE))","v":""},{"$f":"IF(AK4636=\"\",\"\",VLOOKUP(AK4636,Sifranti!V:Y,2,FALSE))","v":""},{"$f":"IF(AK4636=\"\",\"\",IF(VLOOKUP(AK4636,Sifranti!V:Y,3,FALSE)=\"\",\"\",VLOOKUP(AK4636,Sifranti!V:Y,3,FALSE)))","v":""},{"$f":"IF(AK4636=\"\",\"\",VLOOKUP(AK4636,Sifranti!V:Y,4,FALSE))","v":""}]
[{"$f":"IF(B4640=\"\",\"\",VLOOKUP(B4640,Sifranti!K:L,2,FALSE))","v":""},null,null,null,null,null,null,null,null,"",{"$f":"IF(L4640=\"\",\"\",VLOOKUP(L4640,Sifranti!A:B,2,FALSE))","v":""},null,{"$f":"IF(N4640=\"\",\"\",VLOOKUP(N4640,Sifranti!D:F,3,FALSE))","v":""},null,{"$f":"IF(P4640=\"\",\"\",VLOOKUP(P4640,Sifranti!H:I,2,FALSE))","v":""},null,null,null,null,null,null,null,null,null,null,null,null,null,null,null,null,null,null,null,null,null,null,null,null,null,{"$f":"IF(AN4640=\"\",\"\",IF(LEN(VLOOKUP(AN4640,Sifranti!BY:BZ,2,FALSE))=0,\"\",VLOOKUP(AN4640,Sifranti!BY:BZ,2,FALSE)))","v":""},{"$f":"IF(C4640=\"\",\"\",VLOOKUP(C4640,Sifranti!P:R,2,FALSE))","v":""},"","",{"$f":"IF(C4640=\"\",\"\",VLOOKUP(C4640,Sifranti!P:R,3,FALSE))","v":""},{"$f":"IF(N4640=\"\",\"\",VLOOKUP(N4640,Sifranti!D:F,2,FALSE))","v":""},{"$f":"IF(AK4640=\"\",\"\",VLOOKUP(AK4640,Sifranti!V:Y,2,FALSE))","v":""},{"$f":"IF(AK4640=\"\",\"\",IF(VLOOKUP(AK4640,Sifranti!V:Y,3,FALSE)=\"\",\"\",VLOOKUP(AK4640,Sifranti!V:Y,3,FALSE)))","v":""},{"$f":"IF(AK4640=\"\",\"\",VLOOKUP(AK4640,Sifranti!V:Y,4,FALSE))","v":""}]
[{"$f":"IF(B4657=\"\",\"\",VLOOKUP(B4657,Sifranti!K:L,2,FALSE))","v":""},null,null,null,null,null,null,null,null,"",{"$f":"IF(L4657=\"\",\"\",VLOOKUP(L4657,Sifranti!A:B,2,FALSE))","v":""},null,{"$f":"IF(N4657=\"\",\"\",VLOOKUP(N4657,Sifranti!D:F,3,FALSE))","v":""},null,{"$f":"IF(P4657=\"\",\"\",VLOOKUP(P4657,Sifranti!H:I,2,FALSE))","v":""},null,null,null,null,null,null,null,null,null,null,null,null,null,null,null,null,null,null,null,null,null,null,null,null,null,{"$f":"IF(AN4657=\"\",\"\",IF(LEN(VLOOKUP(AN4657,Sifranti!BY:BZ,2,FALSE))=0,\"\",VLOOKUP(AN4657,Sifranti!BY:BZ,2,FALSE)))","v":""},{"$f":"IF(C4657=\"\",\"\",VLOOKUP(C4657,Sifranti!P:R,2,FALSE))","v":""},"","",{"$f":"IF(C4657=\"\",\"\",VLOOKUP(C4657,Sifranti!P:R,3,FALSE))","v":""},{"$f":"IF(N4657=\"\",\"\",VLOOKUP(N4657,Sifranti!D:F,2,FALSE))","v":""},{"$f":"IF(AK4657=\"\",\"\",VLOOKUP(AK4657,Sifranti!V:Y,2,FALSE))","v":""},{"$f":"IF(AK4657=\"\",\"\",IF(VLOOKUP(AK4657,Sifranti!V:Y,3,FALSE)=\"\",\"\",VLOOKUP(AK4657,Sifranti!V:Y,3,FALSE)))","v":""},{"$f":"IF(AK4657=\"\",\"\",VLOOKUP(AK4657,Sifranti!V:Y,4,FALSE))","v":""}]
[{"$f":"IF(B4663=\"\",\"\",VLOOKUP(B4663,Sifranti!K:L,2,FALSE))","v":""},null,null,null,null,null,null,null,null,"",{"$f":"IF(L4663=\"\",\"\",VLOOKUP(L4663,Sifranti!A:B,2,FALSE))","v":""},null,{"$f":"IF(N4663=\"\",\"\",VLOOKUP(N4663,Sifranti!D:F,3,FALSE))","v":""},null,{"$f":"IF(P4663=\"\",\"\",VLOOKUP(P4663,Sifranti!H:I,2,FALSE))","v":""},null,null,null,null,null,null,null,null,null,null,null,null,null,null,null,null,null,null,null,null,null,null,null,null,null,{"$f":"IF(AN4663=\"\",\"\",IF(LEN(VLOOKUP(AN4663,Sifranti!BY:BZ,2,FALSE))=0,\"\",VLOOKUP(AN4663,Sifranti!BY:BZ,2,FALSE)))","v":""},{"$f":"IF(C4663=\"\",\"\",VLOOKUP(C4663,Sifranti!P:R,2,FALSE))","v":""},"","",{"$f":"IF(C4663=\"\",\"\",VLOOKUP(C4663,Sifranti!P:R,3,FALSE))","v":""},{"$f":"IF(N4663=\"\",\"\",VLOOKUP(N4663,Sifranti!D:F,2,FALSE))","v":""},{"$f":"IF(AK4663=\"\",\"\",VLOOKUP(AK4663,Sifranti!V:Y,2,FALSE))","v":""},{"$f":"IF(AK4663=\"\",\"\",IF(VLOOKUP(AK4663,Sifranti!V:Y,3,FALSE)=\"\",\"\",VLOOKUP(AK4663,Sifranti!V:Y,3,FALSE)))","v":""},{"$f":"IF(AK4663=\"\",\"\",VLOOKUP(AK4663,Sifranti!V:Y,4,FALSE))","v":""}]
[{"$f":"IF(B4681=\"\",\"\",VLOOKUP(B4681,Sifranti!K:L,2,FALSE))","v":""},null,null,null,null,null,null,null,null,"",{"$f":"IF(L4681=\"\",\"\",VLOOKUP(L4681,Sifranti!A:B,2,FALSE))","v":""},null,{"$f":"IF(N4681=\"\",\"\",VLOOKUP(N4681,Sifranti!D:F,3,FALSE))","v":""},null,{"$f":"IF(P4681=\"\",\"\",VLOOKUP(P4681,Sifranti!H:I,2,FALSE))","v":""},null,null,null,null,null,null,null,null,null,null,null,null,null,null,null,null,null,null,null,null,null,null,null,null,null,{"$f":"IF(AN4681=\"\",\"\",IF(LEN(VLOOKUP(AN4681,Sifranti!BY:BZ,2,FALSE))=0,\"\",VLOOKUP(AN4681,Sifranti!BY:BZ,2,FALSE)))","v":""},{"$f":"IF(C4681=\"\",\"\",VLOOKUP(C4681,Sifranti!P:R,2,FALSE))","v":""},"","",{"$f":"IF(C4681=\"\",\"\",VLOOKUP(C4681,Sifranti!P:R,3,FALSE))","v":""},{"$f":"IF(N4681=\"\",\"\",VLOOKUP(N4681,Sifranti!D:F,2,FALSE))","v":""},{"$f":"IF(AK4681=\"\",\"\",VLOOKUP(AK4681,Sifranti!V:Y,2,FALSE))","v":""},{"$f":"IF(AK4681=\"\",\"\",IF(VLOOKUP(AK4681,Sifranti!V:Y,3,FALSE)=\"\",\"\",VLOOKUP(AK4681,Sifranti!V:Y,3,FALSE)))","v":""},{"$f":"IF(AK4681=\"\",\"\",VLOOKUP(AK4681,Sifranti!V:Y,4,FALSE))","v":""}]
[{"$f":"IF(B4689=\"\",\"\",VLOOKUP(B4689,Sifranti!K:L,2,FALSE))","v":""},null,null,null,null,null,null,null,null,"",{"$f":"IF(L4689=\"\",\"\",VLOOKUP(L4689,Sifranti!A:B,2,FALSE))","v":""},null,{"$f":"IF(N4689=\"\",\"\",VLOOKUP(N4689,Sifranti!D:F,3,FALSE))","v":""},null,{"$f":"IF(P4689=\"\",\"\",VLOOKUP(P4689,Sifranti!H:I,2,FALSE))","v":""},null,null,null,null,null,null,null,null,null,null,null,null,null,null,null,null,null,null,null,null,null,null,null,null,null,{"$f":"IF(AN4689=\"\",\"\",IF(LEN(VLOOKUP(AN4689,Sifranti!BY:BZ,2,FALSE))=0,\"\",VLOOKUP(AN4689,Sifranti!BY:BZ,2,FALSE)))","v":""},{"$f":"IF(C4689=\"\",\"\",VLOOKUP(C4689,Sifranti!P:R,2,FALSE))","v":""},"","",{"$f":"IF(C4689=\"\",\"\",VLOOKUP(C4689,Sifranti!P:R,3,FALSE))","v":""},{"$f":"IF(N4689=\"\",\"\",VLOOKUP(N4689,Sifranti!D:F,2,FALSE))","v":""},{"$f":"IF(AK4689=\"\",\"\",VLOOKUP(AK4689,Sifranti!V:Y,2,FALSE))","v":""},{"$f":"IF(AK4689=\"\",\"\",IF(VLOOKUP(AK4689,Sifranti!V:Y,3,FALSE)=\"\",\"\",VLOOKUP(AK4689,Sifranti!V:Y,3,FALSE)))","v":""},{"$f":"IF(AK4689=\"\",\"\",VLOOKUP(AK4689,Sifranti!V:Y,4,FALSE))","v":""}]
[{"$f":"IF(B4695=\"\",\"\",VLOOKUP(B4695,Sifranti!K:L,2,FALSE))","v":""},null,null,null,null,null,null,null,null,"",{"$f":"IF(L4695=\"\",\"\",VLOOKUP(L4695,Sifranti!A:B,2,FALSE))","v":""},null,{"$f":"IF(N4695=\"\",\"\",VLOOKUP(N4695,Sifranti!D:F,3,FALSE))","v":""},null,{"$f":"IF(P4695=\"\",\"\",VLOOKUP(P4695,Sifranti!H:I,2,FALSE))","v":""},null,null,null,null,null,null,null,null,null,null,null,null,null,null,null,null,null,null,null,null,null,null,null,null,null,{"$f":"IF(AN4695=\"\",\"\",IF(LEN(VLOOKUP(AN4695,Sifranti!BY:BZ,2,FALSE))=0,\"\",VLOOKUP(AN4695,Sifranti!BY:BZ,2,FALSE)))","v":""},{"$f":"IF(C4695=\"\",\"\",VLOOKUP(C4695,Sifranti!P:R,2,FALSE))","v":""},"","",{"$f":"IF(C4695=\"\",\"\",VLOOKUP(C4695,Sifranti!P:R,3,FALSE))","v":""},{"$f":"IF(N4695=\"\",\"\",VLOOKUP(N4695,Sifranti!D:F,2,FALSE))","v":""},{"$f":"IF(AK4695=\"\",\"\",VLOOKUP(AK4695,Sifranti!V:Y,2,FALSE))","v":""},{"$f":"IF(AK4695=\"\",\"\",IF(VLOOKUP(AK4695,Sifranti!V:Y,3,FALSE)=\"\",\"\",VLOOKUP(AK4695,Sifranti!V:Y,3,FALSE)))","v":""},{"$f":"IF(AK4695=\"\",\"\",VLOOKUP(AK4695,Sifranti!V:Y,4,FALSE))","v":""}]
[{"$f":"IF(B4705=\"\",\"\",VLOOKUP(B4705,Sifranti!K:L,2,FALSE))","v":""},null,null,null,null,null,null,null,null,"",{"$f":"IF(L4705=\"\",\"\",VLOOKUP(L4705,Sifranti!A:B,2,FALSE))","v":""},null,{"$f":"IF(N4705=\"\",\"\",VLOOKUP(N4705,Sifranti!D:F,3,FALSE))","v":""},null,{"$f":"IF(P4705=\"\",\"\",VLOOKUP(P4705,Sifranti!H:I,2,FALSE))","v":""},null,null,null,null,null,null,null,null,null,null,null,null,null,null,null,null,null,null,null,null,null,null,null,null,null,{"$f":"IF(AN4705=\"\",\"\",IF(LEN(VLOOKUP(AN4705,Sifranti!BY:BZ,2,FALSE))=0,\"\",VLOOKUP(AN4705,Sifranti!BY:BZ,2,FALSE)))","v":""},{"$f":"IF(C4705=\"\",\"\",VLOOKUP(C4705,Sifranti!P:R,2,FALSE))","v":""},"","",{"$f":"IF(C4705=\"\",\"\",VLOOKUP(C4705,Sifranti!P:R,3,FALSE))","v":""},{"$f":"IF(N4705=\"\",\"\",VLOOKUP(N4705,Sifranti!D:F,2,FALSE))","v":""},{"$f":"IF(AK4705=\"\",\"\",VLOOKUP(AK4705,Sifranti!V:Y,2,FALSE))","v":""},{"$f":"IF(AK4705=\"\",\"\",IF(VLOOKUP(AK4705,Sifranti!V:Y,3,FALSE)=\"\",\"\",VLOOKUP(AK4705,Sifranti!V:Y,3,FALSE)))","v":""},{"$f":"IF(AK4705=\"\",\"\",VLOOKUP(AK4705,Sifranti!V:Y,4,FALSE))","v":""}]
[{"$f":"IF(B4720=\"\",\"\",VLOOKUP(B4720,Sifranti!K:L,2,FALSE))","v":""},null,null,null,null,null,null,null,null,"",{"$f":"IF(L4720=\"\",\"\",VLOOKUP(L4720,Sifranti!A:B,2,FALSE))","v":""},null,{"$f":"IF(N4720=\"\",\"\",VLOOKUP(N4720,Sifranti!D:F,3,FALSE))","v":""},null,{"$f":"IF(P4720=\"\",\"\",VLOOKUP(P4720,Sifranti!H:I,2,FALSE))","v":""},null,null,null,null,null,null,null,null,null,null,null,null,null,null,null,null,null,null,null,null,null,null,null,null,null,{"$f":"IF(AN4720=\"\",\"\",IF(LEN(VLOOKUP(AN4720,Sifranti!BY:BZ,2,FALSE))=0,\"\",VLOOKUP(AN4720,Sifranti!BY:BZ,2,FALSE)))","v":""},{"$f":"IF(C4720=\"\",\"\",VLOOKUP(C4720,Sifranti!P:R,2,FALSE))","v":""},"","",{"$f":"IF(C4720=\"\",\"\",VLOOKUP(C4720,Sifranti!P:R,3,FALSE))","v":""},{"$f":"IF(N4720=\"\",\"\",VLOOKUP(N4720,Sifranti!D:F,2,FALSE))","v":""},{"$f":"IF(AK4720=\"\",\"\",VLOOKUP(AK4720,Sifranti!V:Y,2,FALSE))","v":""},{"$f":"IF(AK4720=\"\",\"\",IF(VLOOKUP(AK4720,Sifranti!V:Y,3,FALSE)=\"\",\"\",VLOOKUP(AK4720,Sifranti!V:Y,3,FALSE)))","v":""},{"$f":"IF(AK4720=\"\",\"\",VLOOKUP(AK4720,Sifranti!V:Y,4,FALSE))","v":""}]
[{"$f":"IF(B4731=\"\",\"\",VLOOKUP(B4731,Sifranti!K:L,2,FALSE))","v":""},null,null,null,null,null,null,null,null,"",{"$f":"IF(L4731=\"\",\"\",VLOOKUP(L4731,Sifranti!A:B,2,FALSE))","v":""},null,{"$f":"IF(N4731=\"\",\"\",VLOOKUP(N4731,Sifranti!D:F,3,FALSE))","v":""},null,{"$f":"IF(P4731=\"\",\"\",VLOOKUP(P4731,Sifranti!H:I,2,FALSE))","v":""},null,null,null,null,null,null,null,null,null,null,null,null,null,null,null,null,null,null,null,null,null,null,null,null,null,{"$f":"IF(AN4731=\"\",\"\",IF(LEN(VLOOKUP(AN4731,Sifranti!BY:BZ,2,FALSE))=0,\"\",VLOOKUP(AN4731,Sifranti!BY:BZ,2,FALSE)))","v":""},{"$f":"IF(C4731=\"\",\"\",VLOOKUP(C4731,Sifranti!P:R,2,FALSE))","v":""},"","",{"$f":"IF(C4731=\"\",\"\",VLOOKUP(C4731,Sifranti!P:R,3,FALSE))","v":""},{"$f":"IF(N4731=\"\",\"\",VLOOKUP(N4731,Sifranti!D:F,2,FALSE))","v":""},{"$f":"IF(AK4731=\"\",\"\",VLOOKUP(AK4731,Sifranti!V:Y,2,FALSE))","v":""},{"$f":"IF(AK4731=\"\",\"\",IF(VLOOKUP(AK4731,Sifranti!V:Y,3,FALSE)=\"\",\"\",VLOOKUP(AK4731,Sifranti!V:Y,3,FALSE)))","v":""},{"$f":"IF(AK4731=\"\",\"\",VLOOKUP(AK4731,Sifranti!V:Y,4,FALSE))","v":""}]
[{"$f":"IF(B4737=\"\",\"\",VLOOKUP(B4737,Sifranti!K:L,2,FALSE))","v":""},null,null,null,null,null,null,null,null,"",{"$f":"IF(L4737=\"\",\"\",VLOOKUP(L4737,Sifranti!A:B,2,FALSE))","v":""},null,{"$f":"IF(N4737=\"\",\"\",VLOOKUP(N4737,Sifranti!D:F,3,FALSE))","v":""},null,{"$f":"IF(P4737=\"\",\"\",VLOOKUP(P4737,Sifranti!H:I,2,FALSE))","v":""},null,null,null,null,null,null,null,null,null,null,null,null,null,null,null,null,null,null,null,null,null,null,null,null,null,{"$f":"IF(AN4737=\"\",\"\",IF(LEN(VLOOKUP(AN4737,Sifranti!BY:BZ,2,FALSE))=0,\"\",VLOOKUP(AN4737,Sifranti!BY:BZ,2,FALSE)))","v":""},{"$f":"IF(C4737=\"\",\"\",VLOOKUP(C4737,Sifranti!P:R,2,FALSE))","v":""},"","",{"$f":"IF(C4737=\"\",\"\",VLOOKUP(C4737,Sifranti!P:R,3,FALSE))","v":""},{"$f":"IF(N4737=\"\",\"\",VLOOKUP(N4737,Sifranti!D:F,2,FALSE))","v":""},{"$f":"IF(AK4737=\"\",\"\",VLOOKUP(AK4737,Sifranti!V:Y,2,FALSE))","v":""},{"$f":"IF(AK4737=\"\",\"\",IF(VLOOKUP(AK4737,Sifranti!V:Y,3,FALSE)=\"\",\"\",VLOOKUP(AK4737,Sifranti!V:Y,3,FALSE)))","v":""},{"$f":"IF(AK4737=\"\",\"\",VLOOKUP(AK4737,Sifranti!V:Y,4,FALSE))","v":""}]
[{"$f":"IF(B4754=\"\",\"\",VLOOKUP(B4754,Sifranti!K:L,2,FALSE))","v":""},null,null,null,null,null,null,null,null,"",{"$f":"IF(L4754=\"\",\"\",VLOOKUP(L4754,Sifranti!A:B,2,FALSE))","v":""},null,{"$f":"IF(N4754=\"\",\"\",VLOOKUP(N4754,Sifranti!D:F,3,FALSE))","v":""},null,{"$f":"IF(P4754=\"\",\"\",VLOOKUP(P4754,Sifranti!H:I,2,FALSE))","v":""},null,null,null,null,null,null,null,null,null,null,null,null,null,null,null,null,null,null,null,null,null,null,null,null,null,{"$f":"IF(AN4754=\"\",\"\",IF(LEN(VLOOKUP(AN4754,Sifranti!BY:BZ,2,FALSE))=0,\"\",VLOOKUP(AN4754,Sifranti!BY:BZ,2,FALSE)))","v":""},{"$f":"IF(C4754=\"\",\"\",VLOOKUP(C4754,Sifranti!P:R,2,FALSE))","v":""},"","",{"$f":"IF(C4754=\"\",\"\",VLOOKUP(C4754,Sifranti!P:R,3,FALSE))","v":""},{"$f":"IF(N4754=\"\",\"\",VLOOKUP(N4754,Sifranti!D:F,2,FALSE))","v":""},{"$f":"IF(AK4754=\"\",\"\",VLOOKUP(AK4754,Sifranti!V:Y,2,FALSE))","v":""},{"$f":"IF(AK4754=\"\",\"\",IF(VLOOKUP(AK4754,Sifranti!V:Y,3,FALSE)=\"\",\"\",VLOOKUP(AK4754,Sifranti!V:Y,3,FALSE)))","v":""},{"$f":"IF(AK4754=\"\",\"\",VLOOKUP(AK4754,Sifranti!V:Y,4,FALSE))","v":""}]
[{"$f":"IF(B4765=\"\",\"\",VLOOKUP(B4765,Sifranti!K:L,2,FALSE))","v":""},null,null,null,null,null,null,null,null,"",{"$f":"IF(L4765=\"\",\"\",VLOOKUP(L4765,Sifranti!A:B,2,FALSE))","v":""},null,{"$f":"IF(N4765=\"\",\"\",VLOOKUP(N4765,Sifranti!D:F,3,FALSE))","v":""},null,{"$f":"IF(P4765=\"\",\"\",VLOOKUP(P4765,Sifranti!H:I,2,FALSE))","v":""},null,null,null,null,null,null,null,null,null,null,null,null,null,null,null,null,null,null,null,null,null,null,null,null,null,{"$f":"IF(AN4765=\"\",\"\",IF(LEN(VLOOKUP(AN4765,Sifranti!BY:BZ,2,FALSE))=0,\"\",VLOOKUP(AN4765,Sifranti!BY:BZ,2,FALSE)))","v":""},{"$f":"IF(C4765=\"\",\"\",VLOOKUP(C4765,Sifranti!P:R,2,FALSE))","v":""},"","",{"$f":"IF(C4765=\"\",\"\",VLOOKUP(C4765,Sifranti!P:R,3,FALSE))","v":""},{"$f":"IF(N4765=\"\",\"\",VLOOKUP(N4765,Sifranti!D:F,2,FALSE))","v":""},{"$f":"IF(AK4765=\"\",\"\",VLOOKUP(AK4765,Sifranti!V:Y,2,FALSE))","v":""},{"$f":"IF(AK4765=\"\",\"\",IF(VLOOKUP(AK4765,Sifranti!V:Y,3,FALSE)=\"\",\"\",VLOOKUP(AK4765,Sifranti!V:Y,3,FALSE)))","v":""},{"$f":"IF(AK4765=\"\",\"\",VLOOKUP(AK4765,Sifranti!V:Y,4,FALSE))","v":""}]
[{"$f":"IF(B4769=\"\",\"\",VLOOKUP(B4769,Sifranti!K:L,2,FALSE))","v":""},null,null,null,null,null,null,null,null,"",{"$f":"IF(L4769=\"\",\"\",VLOOKUP(L4769,Sifranti!A:B,2,FALSE))","v":""},null,{"$f":"IF(N4769=\"\",\"\",VLOOKUP(N4769,Sifranti!D:F,3,FALSE))","v":""},null,{"$f":"IF(P4769=\"\",\"\",VLOOKUP(P4769,Sifranti!H:I,2,FALSE))","v":""},null,null,null,null,null,null,null,null,null,null,null,null,null,null,null,null,null,null,null,null,null,null,null,null,null,{"$f":"IF(AN4769=\"\",\"\",IF(LEN(VLOOKUP(AN4769,Sifranti!BY:BZ,2,FALSE))=0,\"\",VLOOKUP(AN4769,Sifranti!BY:BZ,2,FALSE)))","v":""},{"$f":"IF(C4769=\"\",\"\",VLOOKUP(C4769,Sifranti!P:R,2,FALSE))","v":""},"","",{"$f":"IF(C4769=\"\",\"\",VLOOKUP(C4769,Sifranti!P:R,3,FALSE))","v":""},{"$f":"IF(N4769=\"\",\"\",VLOOKUP(N4769,Sifranti!D:F,2,FALSE))","v":""},{"$f":"IF(AK4769=\"\",\"\",VLOOKUP(AK4769,Sifranti!V:Y,2,FALSE))","v":""},{"$f":"IF(AK4769=\"\",\"\",IF(VLOOKUP(AK4769,Sifranti!V:Y,3,FALSE)=\"\",\"\",VLOOKUP(AK4769,Sifranti!V:Y,3,FALSE)))","v":""},{"$f":"IF(AK4769=\"\",\"\",VLOOKUP(AK4769,Sifranti!V:Y,4,FALSE))","v":""}]
[{"$f":"IF(B4779=\"\",\"\",VLOOKUP(B4779,Sifranti!K:L,2,FALSE))","v":""},null,null,null,null,null,null,null,null,"",{"$f":"IF(L4779=\"\",\"\",VLOOKUP(L4779,Sifranti!A:B,2,FALSE))","v":""},null,{"$f":"IF(N4779=\"\",\"\",VLOOKUP(N4779,Sifranti!D:F,3,FALSE))","v":""},null,{"$f":"IF(P4779=\"\",\"\",VLOOKUP(P4779,Sifranti!H:I,2,FALSE))","v":""},null,null,null,null,null,null,null,null,null,null,null,null,null,null,null,null,null,null,null,null,null,null,null,null,null,{"$f":"IF(AN4779=\"\",\"\",IF(LEN(VLOOKUP(AN4779,Sifranti!BY:BZ,2,FALSE))=0,\"\",VLOOKUP(AN4779,Sifranti!BY:BZ,2,FALSE)))","v":""},{"$f":"IF(C4779=\"\",\"\",VLOOKUP(C4779,Sifranti!P:R,2,FALSE))","v":""},"","",{"$f":"IF(C4779=\"\",\"\",VLOOKUP(C4779,Sifranti!P:R,3,FALSE))","v":""},{"$f":"IF(N4779=\"\",\"\",VLOOKUP(N4779,Sifranti!D:F,2,FALSE))","v":""},{"$f":"IF(AK4779=\"\",\"\",VLOOKUP(AK4779,Sifranti!V:Y,2,FALSE))","v":""},{"$f":"IF(AK4779=\"\",\"\",IF(VLOOKUP(AK4779,Sifranti!V:Y,3,FALSE)=\"\",\"\",VLOOKUP(AK4779,Sifranti!V:Y,3,FALSE)))","v":""},{"$f":"IF(AK4779=\"\",\"\",VLOOKUP(AK4779,Sifranti!V:Y,4,FALSE))","v":""}]
[{"$f":"IF(B4796=\"\",\"\",VLOOKUP(B4796,Sifranti!K:L,2,FALSE))","v":""},null,null,null,null,null,null,null,null,"",{"$f":"IF(L4796=\"\",\"\",VLOOKUP(L4796,Sifranti!A:B,2,FALSE))","v":""},null,{"$f":"IF(N4796=\"\",\"\",VLOOKUP(N4796,Sifranti!D:F,3,FALSE))","v":""},null,{"$f":"IF(P4796=\"\",\"\",VLOOKUP(P4796,Sifranti!H:I,2,FALSE))","v":""},null,null,null,null,null,null,null,null,null,null,null,null,null,null,null,null,null,null,null,null,null,null,null,null,null,{"$f":"IF(AN4796=\"\",\"\",IF(LEN(VLOOKUP(AN4796,Sifranti!BY:BZ,2,FALSE))=0,\"\",VLOOKUP(AN4796,Sifranti!BY:BZ,2,FALSE)))","v":""},{"$f":"IF(C4796=\"\",\"\",VLOOKUP(C4796,Sifranti!P:R,2,FALSE))","v":""},"","",{"$f":"IF(C4796=\"\",\"\",VLOOKUP(C4796,Sifranti!P:R,3,FALSE))","v":""},{"$f":"IF(N4796=\"\",\"\",VLOOKUP(N4796,Sifranti!D:F,2,FALSE))","v":""},{"$f":"IF(AK4796=\"\",\"\",VLOOKUP(AK4796,Sifranti!V:Y,2,FALSE))","v":""},{"$f":"IF(AK4796=\"\",\"\",IF(VLOOKUP(AK4796,Sifranti!V:Y,3,FALSE)=\"\",\"\",VLOOKUP(AK4796,Sifranti!V:Y,3,FALSE)))","v":""},{"$f":"IF(AK4796=\"\",\"\",VLOOKUP(AK4796,Sifranti!V:Y,4,FALSE))","v":""}]
[{"$f":"IF(B4804=\"\",\"\",VLOOKUP(B4804,Sifranti!K:L,2,FALSE))","v":""},null,null,null,null,null,null,null,null,"",{"$f":"IF(L4804=\"\",\"\",VLOOKUP(L4804,Sifranti!A:B,2,FALSE))","v":""},null,{"$f":"IF(N4804=\"\",\"\",VLOOKUP(N4804,Sifranti!D:F,3,FALSE))","v":""},null,{"$f":"IF(P4804=\"\",\"\",VLOOKUP(P4804,Sifranti!H:I,2,FALSE))","v":""},null,null,null,null,null,null,null,null,null,null,null,null,null,null,null,null,null,null,null,null,null,null,null,null,null,{"$f":"IF(AN4804=\"\",\"\",IF(LEN(VLOOKUP(AN4804,Sifranti!BY:BZ,2,FALSE))=0,\"\",VLOOKUP(AN4804,Sifranti!BY:BZ,2,FALSE)))","v":""},{"$f":"IF(C4804=\"\",\"\",VLOOKUP(C4804,Sifranti!P:R,2,FALSE))","v":""},"","",{"$f":"IF(C4804=\"\",\"\",VLOOKUP(C4804,Sifranti!P:R,3,FALSE))","v":""},{"$f":"IF(N4804=\"\",\"\",VLOOKUP(N4804,Sifranti!D:F,2,FALSE))","v":""},{"$f":"IF(AK4804=\"\",\"\",VLOOKUP(AK4804,Sifranti!V:Y,2,FALSE))","v":""},{"$f":"IF(AK4804=\"\",\"\",IF(VLOOKUP(AK4804,Sifranti!V:Y,3,FALSE)=\"\",\"\",VLOOKUP(AK4804,Sifranti!V:Y,3,FALSE)))","v":""},{"$f":"IF(AK4804=\"\",\"\",VLOOKUP(AK4804,Sifranti!V:Y,4,FALSE))","v":""}]
[{"$f":"IF(B4811=\"\",\"\",VLOOKUP(B4811,Sifranti!K:L,2,FALSE))","v":""},null,null,null,null,null,null,null,null,"",{"$f":"IF(L4811=\"\",\"\",VLOOKUP(L4811,Sifranti!A:B,2,FALSE))","v":""},null,{"$f":"IF(N4811=\"\",\"\",VLOOKUP(N4811,Sifranti!D:F,3,FALSE))","v":""},null,{"$f":"IF(P4811=\"\",\"\",VLOOKUP(P4811,Sifranti!H:I,2,FALSE))","v":""},null,null,null,null,null,null,null,null,null,null,null,null,null,null,null,null,null,null,null,null,null,null,null,null,null,{"$f":"IF(AN4811=\"\",\"\",IF(LEN(VLOOKUP(AN4811,Sifranti!BY:BZ,2,FALSE))=0,\"\",VLOOKUP(AN4811,Sifranti!BY:BZ,2,FALSE)))","v":""},{"$f":"IF(C4811=\"\",\"\",VLOOKUP(C4811,Sifranti!P:R,2,FALSE))","v":""},"","",{"$f":"IF(C4811=\"\",\"\",VLOOKUP(C4811,Sifranti!P:R,3,FALSE))","v":""},{"$f":"IF(N4811=\"\",\"\",VLOOKUP(N4811,Sifranti!D:F,2,FALSE))","v":""},{"$f":"IF(AK4811=\"\",\"\",VLOOKUP(AK4811,Sifranti!V:Y,2,FALSE))","v":""},{"$f":"IF(AK4811=\"\",\"\",IF(VLOOKUP(AK4811,Sifranti!V:Y,3,FALSE)=\"\",\"\",VLOOKUP(AK4811,Sifranti!V:Y,3,FALSE)))","v":""},{"$f":"IF(AK4811=\"\",\"\",VLOOKUP(AK4811,Sifranti!V:Y,4,FALSE))","v":""}]
[{"$f":"IF(B4828=\"\",\"\",VLOOKUP(B4828,Sifranti!K:L,2,FALSE))","v":""},null,null,null,null,null,null,null,null,"",{"$f":"IF(L4828=\"\",\"\",VLOOKUP(L4828,Sifranti!A:B,2,FALSE))","v":""},null,{"$f":"IF(N4828=\"\",\"\",VLOOKUP(N4828,Sifranti!D:F,3,FALSE))","v":""},null,{"$f":"IF(P4828=\"\",\"\",VLOOKUP(P4828,Sifranti!H:I,2,FALSE))","v":""},null,null,null,null,null,null,null,null,null,null,null,null,null,null,null,null,null,null,null,null,null,null,null,null,null,{"$f":"IF(AN4828=\"\",\"\",IF(LEN(VLOOKUP(AN4828,Sifranti!BY:BZ,2,FALSE))=0,\"\",VLOOKUP(AN4828,Sifranti!BY:BZ,2,FALSE)))","v":""},{"$f":"IF(C4828=\"\",\"\",VLOOKUP(C4828,Sifranti!P:R,2,FALSE))","v":""},"","",{"$f":"IF(C4828=\"\",\"\",VLOOKUP(C4828,Sifranti!P:R,3,FALSE))","v":""},{"$f":"IF(N4828=\"\",\"\",VLOOKUP(N4828,Sifranti!D:F,2,FALSE))","v":""},{"$f":"IF(AK4828=\"\",\"\",VLOOKUP(AK4828,Sifranti!V:Y,2,FALSE))","v":""},{"$f":"IF(AK4828=\"\",\"\",IF(VLOOKUP(AK4828,Sifranti!V:Y,3,FALSE)=\"\",\"\",VLOOKUP(AK4828,Sifranti!V:Y,3,FALSE)))","v":""},{"$f":"IF(AK4828=\"\",\"\",VLOOKUP(AK4828,Sifranti!V:Y,4,FALSE))","v":""}]
[{"$f":"IF(B4834=\"\",\"\",VLOOKUP(B4834,Sifranti!K:L,2,FALSE))","v":""},null,null,null,null,null,null,null,null,"",{"$f":"IF(L4834=\"\",\"\",VLOOKUP(L4834,Sifranti!A:B,2,FALSE))","v":""},null,{"$f":"IF(N4834=\"\",\"\",VLOOKUP(N4834,Sifranti!D:F,3,FALSE))","v":""},null,{"$f":"IF(P4834=\"\",\"\",VLOOKUP(P4834,Sifranti!H:I,2,FALSE))","v":""},null,null,null,null,null,null,null,null,null,null,null,null,null,null,null,null,null,null,null,null,null,null,null,null,null,{"$f":"IF(AN4834=\"\",\"\",IF(LEN(VLOOKUP(AN4834,Sifranti!BY:BZ,2,FALSE))=0,\"\",VLOOKUP(AN4834,Sifranti!BY:BZ,2,FALSE)))","v":""},{"$f":"IF(C4834=\"\",\"\",VLOOKUP(C4834,Sifranti!P:R,2,FALSE))","v":""},"","",{"$f":"IF(C4834=\"\",\"\",VLOOKUP(C4834,Sifranti!P:R,3,FALSE))","v":""},{"$f":"IF(N4834=\"\",\"\",VLOOKUP(N4834,Sifranti!D:F,2,FALSE))","v":""},{"$f":"IF(AK4834=\"\",\"\",VLOOKUP(AK4834,Sifranti!V:Y,2,FALSE))","v":""},{"$f":"IF(AK4834=\"\",\"\",IF(VLOOKUP(AK4834,Sifranti!V:Y,3,FALSE)=\"\",\"\",VLOOKUP(AK4834,Sifranti!V:Y,3,FALSE)))","v":""},{"$f":"IF(AK4834=\"\",\"\",VLOOKUP(AK4834,Sifranti!V:Y,4,FALSE))","v":""}]
[{"$f":"IF(B4849=\"\",\"\",VLOOKUP(B4849,Sifranti!K:L,2,FALSE))","v":""},null,null,null,null,null,null,null,null,"",{"$f":"IF(L4849=\"\",\"\",VLOOKUP(L4849,Sifranti!A:B,2,FALSE))","v":""},null,{"$f":"IF(N4849=\"\",\"\",VLOOKUP(N4849,Sifranti!D:F,3,FALSE))","v":""},null,{"$f":"IF(P4849=\"\",\"\",VLOOKUP(P4849,Sifranti!H:I,2,FALSE))","v":""},null,null,null,null,null,null,null,null,null,null,null,null,null,null,null,null,null,null,null,null,null,null,null,null,null,{"$f":"IF(AN4849=\"\",\"\",IF(LEN(VLOOKUP(AN4849,Sifranti!BY:BZ,2,FALSE))=0,\"\",VLOOKUP(AN4849,Sifranti!BY:BZ,2,FALSE)))","v":""},{"$f":"IF(C4849=\"\",\"\",VLOOKUP(C4849,Sifranti!P:R,2,FALSE))","v":""},"","",{"$f":"IF(C4849=\"\",\"\",VLOOKUP(C4849,Sifranti!P:R,3,FALSE))","v":""},{"$f":"IF(N4849=\"\",\"\",VLOOKUP(N4849,Sifranti!D:F,2,FALSE))","v":""},{"$f":"IF(AK4849=\"\",\"\",VLOOKUP(AK4849,Sifranti!V:Y,2,FALSE))","v":""},{"$f":"IF(AK4849=\"\",\"\",IF(VLOOKUP(AK4849,Sifranti!V:Y,3,FALSE)=\"\",\"\",VLOOKUP(AK4849,Sifranti!V:Y,3,FALSE)))","v":""},{"$f":"IF(AK4849=\"\",\"\",VLOOKUP(AK4849,Sifranti!V:Y,4,FALSE))","v":""}]
[{"$f":"IF(B4860=\"\",\"\",VLOOKUP(B4860,Sifranti!K:L,2,FALSE))","v":""},null,null,null,null,null,null,null,null,"",{"$f":"IF(L4860=\"\",\"\",VLOOKUP(L4860,Sifranti!A:B,2,FALSE))","v":""},null,{"$f":"IF(N4860=\"\",\"\",VLOOKUP(N4860,Sifranti!D:F,3,FALSE))","v":""},null,{"$f":"IF(P4860=\"\",\"\",VLOOKUP(P4860,Sifranti!H:I,2,FALSE))","v":""},null,null,null,null,null,null,null,null,null,null,null,null,null,null,null,null,null,null,null,null,null,null,null,null,null,{"$f":"IF(AN4860=\"\",\"\",IF(LEN(VLOOKUP(AN4860,Sifranti!BY:BZ,2,FALSE))=0,\"\",VLOOKUP(AN4860,Sifranti!BY:BZ,2,FALSE)))","v":""},{"$f":"IF(C4860=\"\",\"\",VLOOKUP(C4860,Sifranti!P:R,2,FALSE))","v":""},"","",{"$f":"IF(C4860=\"\",\"\",VLOOKUP(C4860,Sifranti!P:R,3,FALSE))","v":""},{"$f":"IF(N4860=\"\",\"\",VLOOKUP(N4860,Sifranti!D:F,2,FALSE))","v":""},{"$f":"IF(AK4860=\"\",\"\",VLOOKUP(AK4860,Sifranti!V:Y,2,FALSE))","v":""},{"$f":"IF(AK4860=\"\",\"\",IF(VLOOKUP(AK4860,Sifranti!V:Y,3,FALSE)=\"\",\"\",VLOOKUP(AK4860,Sifranti!V:Y,3,FALSE)))","v":""},{"$f":"IF(AK4860=\"\",\"\",VLOOKUP(AK4860,Sifranti!V:Y,4,FALSE))","v":""}]
[{"$f":"IF(B4870=\"\",\"\",VLOOKUP(B4870,Sifranti!K:L,2,FALSE))","v":""},null,null,null,null,null,null,null,null,"",{"$f":"IF(L4870=\"\",\"\",VLOOKUP(L4870,Sifranti!A:B,2,FALSE))","v":""},null,{"$f":"IF(N4870=\"\",\"\",VLOOKUP(N4870,Sifranti!D:F,3,FALSE))","v":""},null,{"$f":"IF(P4870=\"\",\"\",VLOOKUP(P4870,Sifranti!H:I,2,FALSE))","v":""},null,null,null,null,null,null,null,null,null,null,null,null,null,null,null,null,null,null,null,null,null,null,null,null,null,{"$f":"IF(AN4870=\"\",\"\",IF(LEN(VLOOKUP(AN4870,Sifranti!BY:BZ,2,FALSE))=0,\"\",VLOOKUP(AN4870,Sifranti!BY:BZ,2,FALSE)))","v":""},{"$f":"IF(C4870=\"\",\"\",VLOOKUP(C4870,Sifranti!P:R,2,FALSE))","v":""},"","",{"$f":"IF(C4870=\"\",\"\",VLOOKUP(C4870,Sifranti!P:R,3,FALSE))","v":""},{"$f":"IF(N4870=\"\",\"\",VLOOKUP(N4870,Sifranti!D:F,2,FALSE))","v":""},{"$f":"IF(AK4870=\"\",\"\",VLOOKUP(AK4870,Sifranti!V:Y,2,FALSE))","v":""},{"$f":"IF(AK4870=\"\",\"\",IF(VLOOKUP(AK4870,Sifranti!V:Y,3,FALSE)=\"\",\"\",VLOOKUP(AK4870,Sifranti!V:Y,3,FALSE)))","v":""},{"$f":"IF(AK4870=\"\",\"\",VLOOKUP(AK4870,Sifranti!V:Y,4,FALSE))","v":""}]
[{"$f":"IF(B4876=\"\",\"\",VLOOKUP(B4876,Sifranti!K:L,2,FALSE))","v":""},null,null,null,null,null,null,null,null,"",{"$f":"IF(L4876=\"\",\"\",VLOOKUP(L4876,Sifranti!A:B,2,FALSE))","v":""},null,{"$f":"IF(N4876=\"\",\"\",VLOOKUP(N4876,Sifranti!D:F,3,FALSE))","v":""},null,{"$f":"IF(P4876=\"\",\"\",VLOOKUP(P4876,Sifranti!H:I,2,FALSE))","v":""},null,null,null,null,null,null,null,null,null,null,null,null,null,null,null,null,null,null,null,null,null,null,null,null,null,{"$f":"IF(AN4876=\"\",\"\",IF(LEN(VLOOKUP(AN4876,Sifranti!BY:BZ,2,FALSE))=0,\"\",VLOOKUP(AN4876,Sifranti!BY:BZ,2,FALSE)))","v":""},{"$f":"IF(C4876=\"\",\"\",VLOOKUP(C4876,Sifranti!P:R,2,FALSE))","v":""},"","",{"$f":"IF(C4876=\"\",\"\",VLOOKUP(C4876,Sifranti!P:R,3,FALSE))","v":""},{"$f":"IF(N4876=\"\",\"\",VLOOKUP(N4876,Sifranti!D:F,2,FALSE))","v":""},{"$f":"IF(AK4876=\"\",\"\",VLOOKUP(AK4876,Sifranti!V:Y,2,FALSE))","v":""},{"$f":"IF(AK4876=\"\",\"\",IF(VLOOKUP(AK4876,Sifranti!V:Y,3,FALSE)=\"\",\"\",VLOOKUP(AK4876,Sifranti!V:Y,3,FALSE)))","v":""},{"$f":"IF(AK4876=\"\",\"\",VLOOKUP(AK4876,Sifranti!V:Y,4,FALSE))","v":""}]
[{"$f":"IF(B4888=\"\",\"\",VLOOKUP(B4888,Sifranti!K:L,2,FALSE))","v":""},null,null,null,null,null,null,null,null,"",{"$f":"IF(L4888=\"\",\"\",VLOOKUP(L4888,Sifranti!A:B,2,FALSE))","v":""},null,{"$f":"IF(N4888=\"\",\"\",VLOOKUP(N4888,Sifranti!D:F,3,FALSE))","v":""},null,{"$f":"IF(P4888=\"\",\"\",VLOOKUP(P4888,Sifranti!H:I,2,FALSE))","v":""},null,null,null,null,null,null,null,null,null,null,null,null,null,null,null,null,null,null,null,null,null,null,null,null,null,{"$f":"IF(AN4888=\"\",\"\",IF(LEN(VLOOKUP(AN4888,Sifranti!BY:BZ,2,FALSE))=0,\"\",VLOOKUP(AN4888,Sifranti!BY:BZ,2,FALSE)))","v":""},{"$f":"IF(C4888=\"\",\"\",VLOOKUP(C4888,Sifranti!P:R,2,FALSE))","v":""},"","",{"$f":"IF(C4888=\"\",\"\",VLOOKUP(C4888,Sifranti!P:R,3,FALSE))","v":""},{"$f":"IF(N4888=\"\",\"\",VLOOKUP(N4888,Sifranti!D:F,2,FALSE))","v":""},{"$f":"IF(AK4888=\"\",\"\",VLOOKUP(AK4888,Sifranti!V:Y,2,FALSE))","v":""},{"$f":"IF(AK4888=\"\",\"\",IF(VLOOKUP(AK4888,Sifranti!V:Y,3,FALSE)=\"\",\"\",VLOOKUP(AK4888,Sifranti!V:Y,3,FALSE)))","v":""},{"$f":"IF(AK4888=\"\",\"\",VLOOKUP(AK4888,Sifranti!V:Y,4,FALSE))","v":""}]
[{"$f":"IF(B4902=\"\",\"\",VLOOKUP(B4902,Sifranti!K:L,2,FALSE))","v":""},null,null,null,null,null,null,null,null,"",{"$f":"IF(L4902=\"\",\"\",VLOOKUP(L4902,Sifranti!A:B,2,FALSE))","v":""},null,{"$f":"IF(N4902=\"\",\"\",VLOOKUP(N4902,Sifranti!D:F,3,FALSE))","v":""},null,{"$f":"IF(P4902=\"\",\"\",VLOOKUP(P4902,Sifranti!H:I,2,FALSE))","v":""},null,null,null,null,null,null,null,null,null,null,null,null,null,null,null,null,null,null,null,null,null,null,null,null,null,{"$f":"IF(AN4902=\"\",\"\",IF(LEN(VLOOKUP(AN4902,Sifranti!BY:BZ,2,FALSE))=0,\"\",VLOOKUP(AN4902,Sifranti!BY:BZ,2,FALSE)))","v":""},{"$f":"IF(C4902=\"\",\"\",VLOOKUP(C4902,Sifranti!P:R,2,FALSE))","v":""},"","",{"$f":"IF(C4902=\"\",\"\",VLOOKUP(C4902,Sifranti!P:R,3,FALSE))","v":""},{"$f":"IF(N4902=\"\",\"\",VLOOKUP(N4902,Sifranti!D:F,2,FALSE))","v":""},{"$f":"IF(AK4902=\"\",\"\",VLOOKUP(AK4902,Sifranti!V:Y,2,FALSE))","v":""},{"$f":"IF(AK4902=\"\",\"\",IF(VLOOKUP(AK4902,Sifranti!V:Y,3,FALSE)=\"\",\"\",VLOOKUP(AK4902,Sifranti!V:Y,3,FALSE)))","v":""},{"$f":"IF(AK4902=\"\",\"\",VLOOKUP(AK4902,Sifranti!V:Y,4,FALSE))","v":""}]
[{"$f":"IF(B4908=\"\",\"\",VLOOKUP(B4908,Sifranti!K:L,2,FALSE))","v":""},null,null,null,null,null,null,null,null,"",{"$f":"IF(L4908=\"\",\"\",VLOOKUP(L4908,Sifranti!A:B,2,FALSE))","v":""},null,{"$f":"IF(N4908=\"\",\"\",VLOOKUP(N4908,Sifranti!D:F,3,FALSE))","v":""},null,{"$f":"IF(P4908=\"\",\"\",VLOOKUP(P4908,Sifranti!H:I,2,FALSE))","v":""},null,null,null,null,null,null,null,null,null,null,null,null,null,null,null,null,null,null,null,null,null,null,null,null,null,{"$f":"IF(AN4908=\"\",\"\",IF(LEN(VLOOKUP(AN4908,Sifranti!BY:BZ,2,FALSE))=0,\"\",VLOOKUP(AN4908,Sifranti!BY:BZ,2,FALSE)))","v":""},{"$f":"IF(C4908=\"\",\"\",VLOOKUP(C4908,Sifranti!P:R,2,FALSE))","v":""},"","",{"$f":"IF(C4908=\"\",\"\",VLOOKUP(C4908,Sifranti!P:R,3,FALSE))","v":""},{"$f":"IF(N4908=\"\",\"\",VLOOKUP(N4908,Sifranti!D:F,2,FALSE))","v":""},{"$f":"IF(AK4908=\"\",\"\",VLOOKUP(AK4908,Sifranti!V:Y,2,FALSE))","v":""},{"$f":"IF(AK4908=\"\",\"\",IF(VLOOKUP(AK4908,Sifranti!V:Y,3,FALSE)=\"\",\"\",VLOOKUP(AK4908,Sifranti!V:Y,3,FALSE)))","v":""},{"$f":"IF(AK4908=\"\",\"\",VLOOKUP(AK4908,Sifranti!V:Y,4,FALSE))","v":""}]
[{"$f":"IF(B4925=\"\",\"\",VLOOKUP(B4925,Sifranti!K:L,2,FALSE))","v":""},null,null,null,null,null,null,null,null,"",{"$f":"IF(L4925=\"\",\"\",VLOOKUP(L4925,Sifranti!A:B,2,FALSE))","v":""},null,{"$f":"IF(N4925=\"\",\"\",VLOOKUP(N4925,Sifranti!D:F,3,FALSE))","v":""},null,{"$f":"IF(P4925=\"\",\"\",VLOOKUP(P4925,Sifranti!H:I,2,FALSE))","v":""},null,null,null,null,null,null,null,null,null,null,null,null,null,null,null,null,null,null,null,null,null,null,null,null,null,{"$f":"IF(AN4925=\"\",\"\",IF(LEN(VLOOKUP(AN4925,Sifranti!BY:BZ,2,FALSE))=0,\"\",VLOOKUP(AN4925,Sifranti!BY:BZ,2,FALSE)))","v":""},{"$f":"IF(C4925=\"\",\"\",VLOOKUP(C4925,Sifranti!P:R,2,FALSE))","v":""},"","",{"$f":"IF(C4925=\"\",\"\",VLOOKUP(C4925,Sifranti!P:R,3,FALSE))","v":""},{"$f":"IF(N4925=\"\",\"\",VLOOKUP(N4925,Sifranti!D:F,2,FALSE))","v":""},{"$f":"IF(AK4925=\"\",\"\",VLOOKUP(AK4925,Sifranti!V:Y,2,FALSE))","v":""},{"$f":"IF(AK4925=\"\",\"\",IF(VLOOKUP(AK4925,Sifranti!V:Y,3,FALSE)=\"\",\"\",VLOOKUP(AK4925,Sifranti!V:Y,3,FALSE)))","v":""},{"$f":"IF(AK4925=\"\",\"\",VLOOKUP(AK4925,Sifranti!V:Y,4,FALSE))","v":""}]
[{"$f":"IF(B4933=\"\",\"\",VLOOKUP(B4933,Sifranti!K:L,2,FALSE))","v":""},null,null,null,null,null,null,null,null,"",{"$f":"IF(L4933=\"\",\"\",VLOOKUP(L4933,Sifranti!A:B,2,FALSE))","v":""},null,{"$f":"IF(N4933=\"\",\"\",VLOOKUP(N4933,Sifranti!D:F,3,FALSE))","v":""},null,{"$f":"IF(P4933=\"\",\"\",VLOOKUP(P4933,Sifranti!H:I,2,FALSE))","v":""},null,null,null,null,null,null,null,null,null,null,null,null,null,null,null,null,null,null,null,null,null,null,null,null,null,{"$f":"IF(AN4933=\"\",\"\",IF(LEN(VLOOKUP(AN4933,Sifranti!BY:BZ,2,FALSE))=0,\"\",VLOOKUP(AN4933,Sifranti!BY:BZ,2,FALSE)))","v":""},{"$f":"IF(C4933=\"\",\"\",VLOOKUP(C4933,Sifranti!P:R,2,FALSE))","v":""},"","",{"$f":"IF(C4933=\"\",\"\",VLOOKUP(C4933,Sifranti!P:R,3,FALSE))","v":""},{"$f":"IF(N4933=\"\",\"\",VLOOKUP(N4933,Sifranti!D:F,2,FALSE))","v":""},{"$f":"IF(AK4933=\"\",\"\",VLOOKUP(AK4933,Sifranti!V:Y,2,FALSE))","v":""},{"$f":"IF(AK4933=\"\",\"\",IF(VLOOKUP(AK4933,Sifranti!V:Y,3,FALSE)=\"\",\"\",VLOOKUP(AK4933,Sifranti!V:Y,3,FALSE)))","v":""},{"$f":"IF(AK4933=\"\",\"\",VLOOKUP(AK4933,Sifranti!V:Y,4,FALSE))","v":""}]
[{"$f":"IF(B4940=\"\",\"\",VLOOKUP(B4940,Sifranti!K:L,2,FALSE))","v":""},null,null,null,null,null,null,null,null,"",{"$f":"IF(L4940=\"\",\"\",VLOOKUP(L4940,Sifranti!A:B,2,FALSE))","v":""},null,{"$f":"IF(N4940=\"\",\"\",VLOOKUP(N4940,Sifranti!D:F,3,FALSE))","v":""},null,{"$f":"IF(P4940=\"\",\"\",VLOOKUP(P4940,Sifranti!H:I,2,FALSE))","v":""},null,null,null,null,null,null,null,null,null,null,null,null,null,null,null,null,null,null,null,null,null,null,null,null,null,{"$f":"IF(AN4940=\"\",\"\",IF(LEN(VLOOKUP(AN4940,Sifranti!BY:BZ,2,FALSE))=0,\"\",VLOOKUP(AN4940,Sifranti!BY:BZ,2,FALSE)))","v":""},{"$f":"IF(C4940=\"\",\"\",VLOOKUP(C4940,Sifranti!P:R,2,FALSE))","v":""},"","",{"$f":"IF(C4940=\"\",\"\",VLOOKUP(C4940,Sifranti!P:R,3,FALSE))","v":""},{"$f":"IF(N4940=\"\",\"\",VLOOKUP(N4940,Sifranti!D:F,2,FALSE))","v":""},{"$f":"IF(AK4940=\"\",\"\",VLOOKUP(AK4940,Sifranti!V:Y,2,FALSE))","v":""},{"$f":"IF(AK4940=\"\",\"\",IF(VLOOKUP(AK4940,Sifranti!V:Y,3,FALSE)=\"\",\"\",VLOOKUP(AK4940,Sifranti!V:Y,3,FALSE)))","v":""},{"$f":"IF(AK4940=\"\",\"\",VLOOKUP(AK4940,Sifranti!V:Y,4,FALSE))","v":""}]
[{"$f":"IF(B4961=\"\",\"\",VLOOKUP(B4961,Sifranti!K:L,2,FALSE))","v":""},null,null,null,null,null,null,null,null,"",{"$f":"IF(L4961=\"\",\"\",VLOOKUP(L4961,Sifranti!A:B,2,FALSE))","v":""},null,{"$f":"IF(N4961=\"\",\"\",VLOOKUP(N4961,Sifranti!D:F,3,FALSE))","v":""},null,{"$f":"IF(P4961=\"\",\"\",VLOOKUP(P4961,Sifranti!H:I,2,FALSE))","v":""},null,null,null,null,null,null,null,null,null,null,null,null,null,null,null,null,null,null,null,null,null,null,null,null,null,{"$f":"IF(AN4961=\"\",\"\",IF(LEN(VLOOKUP(AN4961,Sifranti!BY:BZ,2,FALSE))=0,\"\",VLOOKUP(AN4961,Sifranti!BY:BZ,2,FALSE)))","v":""},{"$f":"IF(C4961=\"\",\"\",VLOOKUP(C4961,Sifranti!P:R,2,FALSE))","v":""},"","",{"$f":"IF(C4961=\"\",\"\",VLOOKUP(C4961,Sifranti!P:R,3,FALSE))","v":""},{"$f":"IF(N4961=\"\",\"\",VLOOKUP(N4961,Sifranti!D:F,2,FALSE))","v":""},{"$f":"IF(AK4961=\"\",\"\",VLOOKUP(AK4961,Sifranti!V:Y,2,FALSE))","v":""},{"$f":"IF(AK4961=\"\",\"\",IF(VLOOKUP(AK4961,Sifranti!V:Y,3,FALSE)=\"\",\"\",VLOOKUP(AK4961,Sifranti!V:Y,3,FALSE)))","v":""},{"$f":"IF(AK4961=\"\",\"\",VLOOKUP(AK4961,Sifranti!V:Y,4,FALSE))","v":""}]
[{"$f":"IF(B4967=\"\",\"\",VLOOKUP(B4967,Sifranti!K:L,2,FALSE))","v":""},null,null,null,null,null,null,null,null,"",{"$f":"IF(L4967=\"\",\"\",VLOOKUP(L4967,Sifranti!A:B,2,FALSE))","v":""},null,{"$f":"IF(N4967=\"\",\"\",VLOOKUP(N4967,Sifranti!D:F,3,FALSE))","v":""},null,{"$f":"IF(P4967=\"\",\"\",VLOOKUP(P4967,Sifranti!H:I,2,FALSE))","v":""},null,null,null,null,null,null,null,null,null,null,null,null,null,null,null,null,null,null,null,null,null,null,null,null,null,{"$f":"IF(AN4967=\"\",\"\",IF(LEN(VLOOKUP(AN4967,Sifranti!BY:BZ,2,FALSE))=0,\"\",VLOOKUP(AN4967,Sifranti!BY:BZ,2,FALSE)))","v":""},{"$f":"IF(C4967=\"\",\"\",VLOOKUP(C4967,Sifranti!P:R,2,FALSE))","v":""},"","",{"$f":"IF(C4967=\"\",\"\",VLOOKUP(C4967,Sifranti!P:R,3,FALSE))","v":""},{"$f":"IF(N4967=\"\",\"\",VLOOKUP(N4967,Sifranti!D:F,2,FALSE))","v":""},{"$f":"IF(AK4967=\"\",\"\",VLOOKUP(AK4967,Sifranti!V:Y,2,FALSE))","v":""},{"$f":"IF(AK4967=\"\",\"\",IF(VLOOKUP(AK4967,Sifranti!V:Y,3,FALSE)=\"\",\"\",VLOOKUP(AK4967,Sifranti!V:Y,3,FALSE)))","v":""},{"$f":"IF(AK4967=\"\",\"\",VLOOKUP(AK4967,Sifranti!V:Y,4,FALSE))","v":""}]
[{"$f":"IF(B4982=\"\",\"\",VLOOKUP(B4982,Sifranti!K:L,2,FALSE))","v":""},null,null,null,null,null,null,null,null,"",{"$f":"IF(L4982=\"\",\"\",VLOOKUP(L4982,Sifranti!A:B,2,FALSE))","v":""},null,{"$f":"IF(N4982=\"\",\"\",VLOOKUP(N4982,Sifranti!D:F,3,FALSE))","v":""},null,{"$f":"IF(P4982=\"\",\"\",VLOOKUP(P4982,Sifranti!H:I,2,FALSE))","v":""},null,null,null,null,null,null,null,null,null,null,null,null,null,null,null,null,null,null,null,null,null,null,null,null,null,{"$f":"IF(AN4982=\"\",\"\",IF(LEN(VLOOKUP(AN4982,Sifranti!BY:BZ,2,FALSE))=0,\"\",VLOOKUP(AN4982,Sifranti!BY:BZ,2,FALSE)))","v":""},{"$f":"IF(C4982=\"\",\"\",VLOOKUP(C4982,Sifranti!P:R,2,FALSE))","v":""},"","",{"$f":"IF(C4982=\"\",\"\",VLOOKUP(C4982,Sifranti!P:R,3,FALSE))","v":""},{"$f":"IF(N4982=\"\",\"\",VLOOKUP(N4982,Sifranti!D:F,2,FALSE))","v":""},{"$f":"IF(AK4982=\"\",\"\",VLOOKUP(AK4982,Sifranti!V:Y,2,FALSE))","v":""},{"$f":"IF(AK4982=\"\",\"\",IF(VLOOKUP(AK4982,Sifranti!V:Y,3,FALSE)=\"\",\"\",VLOOKUP(AK4982,Sifranti!V:Y,3,FALSE)))","v":""},{"$f":"IF(AK4982=\"\",\"\",VLOOKUP(AK4982,Sifranti!V:Y,4,FALSE))","v":""}]
[{"$f":"IF(B4993=\"\",\"\",VLOOKUP(B4993,Sifranti!K:L,2,FALSE))","v":""},null,null,null,null,null,null,null,null,"",{"$f":"IF(L4993=\"\",\"\",VLOOKUP(L4993,Sifranti!A:B,2,FALSE))","v":""},null,{"$f":"IF(N4993=\"\",\"\",VLOOKUP(N4993,Sifranti!D:F,3,FALSE))","v":""},null,{"$f":"IF(P4993=\"\",\"\",VLOOKUP(P4993,Sifranti!H:I,2,FALSE))","v":""},null,null,null,null,null,null,null,null,null,null,null,null,null,null,null,null,null,null,null,null,null,null,null,null,null,{"$f":"IF(AN4993=\"\",\"\",IF(LEN(VLOOKUP(AN4993,Sifranti!BY:BZ,2,FALSE))=0,\"\",VLOOKUP(AN4993,Sifranti!BY:BZ,2,FALSE)))","v":""},{"$f":"IF(C4993=\"\",\"\",VLOOKUP(C4993,Sifranti!P:R,2,FALSE))","v":""},"","",{"$f":"IF(C4993=\"\",\"\",VLOOKUP(C4993,Sifranti!P:R,3,FALSE))","v":""},{"$f":"IF(N4993=\"\",\"\",VLOOKUP(N4993,Sifranti!D:F,2,FALSE))","v":""},{"$f":"IF(AK4993=\"\",\"\",VLOOKUP(AK4993,Sifranti!V:Y,2,FALSE))","v":""},{"$f":"IF(AK4993=\"\",\"\",IF(VLOOKUP(AK4993,Sifranti!V:Y,3,FALSE)=\"\",\"\",VLOOKUP(AK4993,Sifranti!V:Y,3,FALSE)))","v":""},{"$f":"IF(AK4993=\"\",\"\",VLOOKUP(AK4993,Sifranti!V:Y,4,FALSE))","v":""}]
[{"$f":"IF(B4999=\"\",\"\",VLOOKUP(B4999,Sifranti!K:L,2,FALSE))","v":""},null,null,null,null,null,null,null,null,"",{"$f":"IF(L4999=\"\",\"\",VLOOKUP(L4999,Sifranti!A:B,2,FALSE))","v":""},null,{"$f":"IF(N4999=\"\",\"\",VLOOKUP(N4999,Sifranti!D:F,3,FALSE))","v":""},null,{"$f":"IF(P4999=\"\",\"\",VLOOKUP(P4999,Sifranti!H:I,2,FALSE))","v":""},null,null,null,null,null,null,null,null,null,null,null,null,null,null,null,null,null,null,null,null,null,null,null,null,null,{"$f":"IF(AN4999=\"\",\"\",IF(LEN(VLOOKUP(AN4999,Sifranti!BY:BZ,2,FALSE))=0,\"\",VLOOKUP(AN4999,Sifranti!BY:BZ,2,FALSE)))","v":""},{"$f":"IF(C4999=\"\",\"\",VLOOKUP(C4999,Sifranti!P:R,2,FALSE))","v":""},"","",{"$f":"IF(C4999=\"\",\"\",VLOOKUP(C4999,Sifranti!P:R,3,FALSE))","v":""},{"$f":"IF(N4999=\"\",\"\",VLOOKUP(N4999,Sifranti!D:F,2,FALSE))","v":""},{"$f":"IF(AK4999=\"\",\"\",VLOOKUP(AK4999,Sifranti!V:Y,2,FALSE))","v":""},{"$f":"IF(AK4999=\"\",\"\",IF(VLOOKUP(AK4999,Sifranti!V:Y,3,FALSE)=\"\",\"\",VLOOKUP(AK4999,Sifranti!V:Y,3,FALSE)))","v":""},{"$f":"IF(AK4999=\"\",\"\",VLOOKUP(AK4999,Sifranti!V:Y,4,FALSE))","v":""}]
[{"$f":"IF(B5009=\"\",\"\",VLOOKUP(B5009,Sifranti!K:L,2,FALSE))","v":""},null,null,null,null,null,null,null,null,"",{"$f":"IF(L5009=\"\",\"\",VLOOKUP(L5009,Sifranti!A:B,2,FALSE))","v":""},null,{"$f":"IF(N5009=\"\",\"\",VLOOKUP(N5009,Sifranti!D:F,3,FALSE))","v":""},null,{"$f":"IF(P5009=\"\",\"\",VLOOKUP(P5009,Sifranti!H:I,2,FALSE))","v":""},null,null,null,null,null,null,null,null,null,null,null,null,null,null,null,null,null,null,null,null,null,null,null,null,null,{"$f":"IF(AN5009=\"\",\"\",IF(LEN(VLOOKUP(AN5009,Sifranti!BY:BZ,2,FALSE))=0,\"\",VLOOKUP(AN5009,Sifranti!BY:BZ,2,FALSE)))","v":""},{"$f":"IF(C5009=\"\",\"\",VLOOKUP(C5009,Sifranti!P:R,2,FALSE))","v":""},"","",{"$f":"IF(C5009=\"\",\"\",VLOOKUP(C5009,Sifranti!P:R,3,FALSE))","v":""},{"$f":"IF(N5009=\"\",\"\",VLOOKUP(N5009,Sifranti!D:F,2,FALSE))","v":""},{"$f":"IF(AK5009=\"\",\"\",VLOOKUP(AK5009,Sifranti!V:Y,2,FALSE))","v":""},{"$f":"IF(AK5009=\"\",\"\",IF(VLOOKUP(AK5009,Sifranti!V:Y,3,FALSE)=\"\",\"\",VLOOKUP(AK5009,Sifranti!V:Y,3,FALSE)))","v":""},{"$f":"IF(AK5009=\"\",\"\",VLOOKUP(AK5009,Sifranti!V:Y,4,FALSE))","v":""}]
[{"$f":"IF(B5017=\"\",\"\",VLOOKUP(B5017,Sifranti!K:L,2,FALSE))","v":""},null,null,null,null,null,null,null,null,"",{"$f":"IF(L5017=\"\",\"\",VLOOKUP(L5017,Sifranti!A:B,2,FALSE))","v":""},null,{"$f":"IF(N5017=\"\",\"\",VLOOKUP(N5017,Sifranti!D:F,3,FALSE))","v":""},null,{"$f":"IF(P5017=\"\",\"\",VLOOKUP(P5017,Sifranti!H:I,2,FALSE))","v":""},null,null,null,null,null,null,null,null,null,null,null,null,null,null,null,null,null,null,null,null,null,null,null,null,null,{"$f":"IF(AN5017=\"\",\"\",IF(LEN(VLOOKUP(AN5017,Sifranti!BY:BZ,2,FALSE))=0,\"\",VLOOKUP(AN5017,Sifranti!BY:BZ,2,FALSE)))","v":""},{"$f":"IF(C5017=\"\",\"\",VLOOKUP(C5017,Sifranti!P:R,2,FALSE))","v":""},"","",{"$f":"IF(C5017=\"\",\"\",VLOOKUP(C5017,Sifranti!P:R,3,FALSE))","v":""},{"$f":"IF(N5017=\"\",\"\",VLOOKUP(N5017,Sifranti!D:F,2,FALSE))","v":""},{"$f":"IF(AK5017=\"\",\"\",VLOOKUP(AK5017,Sifranti!V:Y,2,FALSE))","v":""},{"$f":"IF(AK5017=\"\",\"\",IF(VLOOKUP(AK5017,Sifranti!V:Y,3,FALSE)=\"\",\"\",VLOOKUP(AK5017,Sifranti!V:Y,3,FALSE)))","v":""},{"$f":"IF(AK5017=\"\",\"\",VLOOKUP(AK5017,Sifranti!V:Y,4,FALSE))","v":""}]
[{"$f":"IF(B5031=\"\",\"\",VLOOKUP(B5031,Sifranti!K:L,2,FALSE))","v":""},null,null,null,null,null,null,null,null,"",{"$f":"IF(L5031=\"\",\"\",VLOOKUP(L5031,Sifranti!A:B,2,FALSE))","v":""},null,{"$f":"IF(N5031=\"\",\"\",VLOOKUP(N5031,Sifranti!D:F,3,FALSE))","v":""},null,{"$f":"IF(P5031=\"\",\"\",VLOOKUP(P5031,Sifranti!H:I,2,FALSE))","v":""},null,null,null,null,null,null,null,null,null,null,null,null,null,null,null,null,null,null,null,null,null,null,null,null,null,{"$f":"IF(AN5031=\"\",\"\",IF(LEN(VLOOKUP(AN5031,Sifranti!BY:BZ,2,FALSE))=0,\"\",VLOOKUP(AN5031,Sifranti!BY:BZ,2,FALSE)))","v":""},{"$f":"IF(C5031=\"\",\"\",VLOOKUP(C5031,Sifranti!P:R,2,FALSE))","v":""},"","",{"$f":"IF(C5031=\"\",\"\",VLOOKUP(C5031,Sifranti!P:R,3,FALSE))","v":""},{"$f":"IF(N5031=\"\",\"\",VLOOKUP(N5031,Sifranti!D:F,2,FALSE))","v":""},{"$f":"IF(AK5031=\"\",\"\",VLOOKUP(AK5031,Sifranti!V:Y,2,FALSE))","v":""},{"$f":"IF(AK5031=\"\",\"\",IF(VLOOKUP(AK5031,Sifranti!V:Y,3,FALSE)=\"\",\"\",VLOOKUP(AK5031,Sifranti!V:Y,3,FALSE)))","v":""},{"$f":"IF(AK5031=\"\",\"\",VLOOKUP(AK5031,Sifranti!V:Y,4,FALSE))","v":""}]
[{"$f":"IF(B5041=\"\",\"\",VLOOKUP(B5041,Sifranti!K:L,2,FALSE))","v":""},null,null,null,null,null,null,null,null,"",{"$f":"IF(L5041=\"\",\"\",VLOOKUP(L5041,Sifranti!A:B,2,FALSE))","v":""},null,{"$f":"IF(N5041=\"\",\"\",VLOOKUP(N5041,Sifranti!D:F,3,FALSE))","v":""},null,{"$f":"IF(P5041=\"\",\"\",VLOOKUP(P5041,Sifranti!H:I,2,FALSE))","v":""},null,null,null,null,null,null,null,null,null,null,null,null,null,null,null,null,null,null,null,null,null,null,null,null,null,{"$f":"IF(AN5041=\"\",\"\",IF(LEN(VLOOKUP(AN5041,Sifranti!BY:BZ,2,FALSE))=0,\"\",VLOOKUP(AN5041,Sifranti!BY:BZ,2,FALSE)))","v":""},{"$f":"IF(C5041=\"\",\"\",VLOOKUP(C5041,Sifranti!P:R,2,FALSE))","v":""},"","",{"$f":"IF(C5041=\"\",\"\",VLOOKUP(C5041,Sifranti!P:R,3,FALSE))","v":""},{"$f":"IF(N5041=\"\",\"\",VLOOKUP(N5041,Sifranti!D:F,2,FALSE))","v":""},{"$f":"IF(AK5041=\"\",\"\",VLOOKUP(AK5041,Sifranti!V:Y,2,FALSE))","v":""},{"$f":"IF(AK5041=\"\",\"\",IF(VLOOKUP(AK5041,Sifranti!V:Y,3,FALSE)=\"\",\"\",VLOOKUP(AK5041,Sifranti!V:Y,3,FALSE)))","v":""},{"$f":"IF(AK5041=\"\",\"\",VLOOKUP(AK5041,Sifranti!V:Y,4,FALSE))","v":""}]
[{"$f":"IF(B5058=\"\",\"\",VLOOKUP(B5058,Sifranti!K:L,2,FALSE))","v":""},null,null,null,null,null,null,null,null,{"$f":"IF(H5058=\"\",\"\",YEAR(H5058))","v":""},{"$f":"IF(L5058=\"\",\"\",VLOOKUP(L5058,Sifranti!A:B,2,FALSE))","v":""},null,{"$f":"IF(N5058=\"\",\"\",VLOOKUP(N5058,Sifranti!D:F,3,FALSE))","v":""},null,{"$f":"IF(P5058=\"\",\"\",VLOOKUP(P5058,Sifranti!H:I,2,FALSE))","v":""},null,null,null,null,null,null,null,null,null,null,null,null,null,null,null,null,null,null,null,null,null,null,null,null,null,{"$f":"IF(AN5058=\"\",\"\",IF(LEN(VLOOKUP(AN5058,Sifranti!BY:BZ,2,FALSE))=0,\"\",VLOOKUP(AN5058,Sifranti!BY:BZ,2,FALSE)))","v":""},{"$f":"IF(C5058=\"\",\"\",VLOOKUP(C5058,Sifranti!P:R,2,FALSE))","v":""},{"$f":"IF(V5058>0,IF(AS5058=\"de minimis\",T5058/S5058*100,U5058/AD5058*100),\"\")","v":""},{"$f":"IF(AE5058>0,AE5058/U5058*100,\"\")","v":""},{"$f":"IF(C5058=\"\",\"\",VLOOKUP(C5058,Sifranti!P:R,3,FALSE))","v":""},{"$f":"IF(N5058=\"\",\"\",VLOOKUP(N5058,Sifranti!D:F,2,FALSE))","v":""},{"$f":"IF(AK5058=\"\",\"\",VLOOKUP(AK5058,Sifranti!V:Y,2,FALSE))","v":""},{"$f":"IF(AK5058=\"\",\"\",IF(VLOOKUP(AK5058,Sifranti!V:Y,3,FALSE)=\"\",\"\",VLOOKUP(AK5058,Sifranti!V:Y,3,FALSE)))","v":""},{"$f":"IF(AK5058=\"\",\"\",VLOOKUP(AK5058,Sifranti!V:Y,4,FALSE))","v":""}]
[{"$f":"IF(B5066=\"\",\"\",VLOOKUP(B5066,Sifranti!K:L,2,FALSE))","v":""},null,null,null,null,null,null,null,null,"",{"$f":"IF(L5066=\"\",\"\",VLOOKUP(L5066,Sifranti!A:B,2,FALSE))","v":""},null,{"$f":"IF(N5066=\"\",\"\",VLOOKUP(N5066,Sifranti!D:F,3,FALSE))","v":""},null,{"$f":"IF(P5066=\"\",\"\",VLOOKUP(P5066,Sifranti!H:I,2,FALSE))","v":""},null,null,null,null,null,null,null,null,null,null,null,null,null,null,null,null,null,null,null,null,null,null,null,null,null,{"$f":"IF(AN5066=\"\",\"\",IF(LEN(VLOOKUP(AN5066,Sifranti!BY:BZ,2,FALSE))=0,\"\",VLOOKUP(AN5066,Sifranti!BY:BZ,2,FALSE)))","v":""},{"$f":"IF(C5066=\"\",\"\",VLOOKUP(C5066,Sifranti!P:R,2,FALSE))","v":""},"","",{"$f":"IF(C5066=\"\",\"\",VLOOKUP(C5066,Sifranti!P:R,3,FALSE))","v":""},{"$f":"IF(N5066=\"\",\"\",VLOOKUP(N5066,Sifranti!D:F,2,FALSE))","v":""},{"$f":"IF(AK5066=\"\",\"\",VLOOKUP(AK5066,Sifranti!V:Y,2,FALSE))","v":""},{"$f":"IF(AK5066=\"\",\"\",IF(VLOOKUP(AK5066,Sifranti!V:Y,3,FALSE)=\"\",\"\",VLOOKUP(AK5066,Sifranti!V:Y,3,FALSE)))","v":""},{"$f":"IF(AK5066=\"\",\"\",VLOOKUP(AK5066,Sifranti!V:Y,4,FALSE))","v":""}]
[{"$f":"IF(B5073=\"\",\"\",VLOOKUP(B5073,Sifranti!K:L,2,FALSE))","v":""},null,null,null,null,null,null,null,null,"",{"$f":"IF(L5073=\"\",\"\",VLOOKUP(L5073,Sifranti!A:B,2,FALSE))","v":""},null,{"$f":"IF(N5073=\"\",\"\",VLOOKUP(N5073,Sifranti!D:F,3,FALSE))","v":""},null,{"$f":"IF(P5073=\"\",\"\",VLOOKUP(P5073,Sifranti!H:I,2,FALSE))","v":""},null,null,null,null,null,null,null,null,null,null,null,null,null,null,null,null,null,null,null,null,null,null,null,null,null,{"$f":"IF(AN5073=\"\",\"\",IF(LEN(VLOOKUP(AN5073,Sifranti!BY:BZ,2,FALSE))=0,\"\",VLOOKUP(AN5073,Sifranti!BY:BZ,2,FALSE)))","v":""},{"$f":"IF(C5073=\"\",\"\",VLOOKUP(C5073,Sifranti!P:R,2,FALSE))","v":""},"","",{"$f":"IF(C5073=\"\",\"\",VLOOKUP(C5073,Sifranti!P:R,3,FALSE))","v":""},{"$f":"IF(N5073=\"\",\"\",VLOOKUP(N5073,Sifranti!D:F,2,FALSE))","v":""},{"$f":"IF(AK5073=\"\",\"\",VLOOKUP(AK5073,Sifranti!V:Y,2,FALSE))","v":""},{"$f":"IF(AK5073=\"\",\"\",IF(VLOOKUP(AK5073,Sifranti!V:Y,3,FALSE)=\"\",\"\",VLOOKUP(AK5073,Sifranti!V:Y,3,FALSE)))","v":""},{"$f":"IF(AK5073=\"\",\"\",VLOOKUP(AK5073,Sifranti!V:Y,4,FALSE))","v":""}]
[{"$f":"IF(B5090=\"\",\"\",VLOOKUP(B5090,Sifranti!K:L,2,FALSE))","v":""},null,null,null,null,null,null,null,null,"",{"$f":"IF(L5090=\"\",\"\",VLOOKUP(L5090,Sifranti!A:B,2,FALSE))","v":""},null,{"$f":"IF(N5090=\"\",\"\",VLOOKUP(N5090,Sifranti!D:F,3,FALSE))","v":""},null,{"$f":"IF(P5090=\"\",\"\",VLOOKUP(P5090,Sifranti!H:I,2,FALSE))","v":""},null,null,null,null,null,null,null,null,null,null,null,null,null,null,null,null,null,null,null,null,null,null,null,null,null,{"$f":"IF(AN5090=\"\",\"\",IF(LEN(VLOOKUP(AN5090,Sifranti!BY:BZ,2,FALSE))=0,\"\",VLOOKUP(AN5090,Sifranti!BY:BZ,2,FALSE)))","v":""},{"$f":"IF(C5090=\"\",\"\",VLOOKUP(C5090,Sifranti!P:R,2,FALSE))","v":""},"","",{"$f":"IF(C5090=\"\",\"\",VLOOKUP(C5090,Sifranti!P:R,3,FALSE))","v":""},{"$f":"IF(N5090=\"\",\"\",VLOOKUP(N5090,Sifranti!D:F,2,FALSE))","v":""},{"$f":"IF(AK5090=\"\",\"\",VLOOKUP(AK5090,Sifranti!V:Y,2,FALSE))","v":""},{"$f":"IF(AK5090=\"\",\"\",IF(VLOOKUP(AK5090,Sifranti!V:Y,3,FALSE)=\"\",\"\",VLOOKUP(AK5090,Sifranti!V:Y,3,FALSE)))","v":""},{"$f":"IF(AK5090=\"\",\"\",VLOOKUP(AK5090,Sifranti!V:Y,4,FALSE))","v":""}]
[{"$f":"IF(B5100=\"\",\"\",VLOOKUP(B5100,Sifranti!K:L,2,FALSE))","v":""},null,null,null,null,null,null,null,null,"",{"$f":"IF(L5100=\"\",\"\",VLOOKUP(L5100,Sifranti!A:B,2,FALSE))","v":""},null,{"$f":"IF(N5100=\"\",\"\",VLOOKUP(N5100,Sifranti!D:F,3,FALSE))","v":""},null,{"$f":"IF(P5100=\"\",\"\",VLOOKUP(P5100,Sifranti!H:I,2,FALSE))","v":""},null,null,null,null,null,null,null,null,null,null,null,null,null,null,null,null,null,null,null,null,null,null,null,null,null,{"$f":"IF(AN5100=\"\",\"\",IF(LEN(VLOOKUP(AN5100,Sifranti!BY:BZ,2,FALSE))=0,\"\",VLOOKUP(AN5100,Sifranti!BY:BZ,2,FALSE)))","v":""},{"$f":"IF(C5100=\"\",\"\",VLOOKUP(C5100,Sifranti!P:R,2,FALSE))","v":""},"","",{"$f":"IF(C5100=\"\",\"\",VLOOKUP(C5100,Sifranti!P:R,3,FALSE))","v":""},{"$f":"IF(N5100=\"\",\"\",VLOOKUP(N5100,Sifranti!D:F,2,FALSE))","v":""},{"$f":"IF(AK5100=\"\",\"\",VLOOKUP(AK5100,Sifranti!V:Y,2,FALSE))","v":""},{"$f":"IF(AK5100=\"\",\"\",IF(VLOOKUP(AK5100,Sifranti!V:Y,3,FALSE)=\"\",\"\",VLOOKUP(AK5100,Sifranti!V:Y,3,FALSE)))","v":""},{"$f":"IF(AK5100=\"\",\"\",VLOOKUP(AK5100,Sifranti!V:Y,4,FALSE))","v":""}]
[{"$f":"IF(B5111=\"\",\"\",VLOOKUP(B5111,Sifranti!K:L,2,FALSE))","v":""},null,null,null,null,null,null,null,null,"",{"$f":"IF(L5111=\"\",\"\",VLOOKUP(L5111,Sifranti!A:B,2,FALSE))","v":""},null,{"$f":"IF(N5111=\"\",\"\",VLOOKUP(N5111,Sifranti!D:F,3,FALSE))","v":""},null,{"$f":"IF(P5111=\"\",\"\",VLOOKUP(P5111,Sifranti!H:I,2,FALSE))","v":""},null,null,null,null,null,null,null,null,null,null,null,null,null,null,null,null,null,null,null,null,null,null,null,null,null,{"$f":"IF(AN5111=\"\",\"\",IF(LEN(VLOOKUP(AN5111,Sifranti!BY:BZ,2,FALSE))=0,\"\",VLOOKUP(AN5111,Sifranti!BY:BZ,2,FALSE)))","v":""},{"$f":"IF(C5111=\"\",\"\",VLOOKUP(C5111,Sifranti!P:R,2,FALSE))","v":""},"","",{"$f":"IF(C5111=\"\",\"\",VLOOKUP(C5111,Sifranti!P:R,3,FALSE))","v":""},{"$f":"IF(N5111=\"\",\"\",VLOOKUP(N5111,Sifranti!D:F,2,FALSE))","v":""},{"$f":"IF(AK5111=\"\",\"\",VLOOKUP(AK5111,Sifranti!V:Y,2,FALSE))","v":""},{"$f":"IF(AK5111=\"\",\"\",IF(VLOOKUP(AK5111,Sifranti!V:Y,3,FALSE)=\"\",\"\",VLOOKUP(AK5111,Sifranti!V:Y,3,FALSE)))","v":""},{"$f":"IF(AK5111=\"\",\"\",VLOOKUP(AK5111,Sifranti!V:Y,4,FALSE))","v":""}]
[{"$f":"IF(B5122=\"\",\"\",VLOOKUP(B5122,Sifranti!K:L,2,FALSE))","v":""},null,null,null,null,null,null,null,null,{"$f":"IF(H5122=\"\",\"\",YEAR(H5122))","v":""},{"$f":"IF(L5122=\"\",\"\",VLOOKUP(L5122,Sifranti!A:B,2,FALSE))","v":""},null,{"$f":"IF(N5122=\"\",\"\",VLOOKUP(N5122,Sifranti!D:F,3,FALSE))","v":""},null,{"$f":"IF(P5122=\"\",\"\",VLOOKUP(P5122,Sifranti!H:I,2,FALSE))","v":""},null,null,null,null,null,null,null,null,null,null,null,null,null,null,null,null,null,null,null,null,null,null,null,null,null,{"$f":"IF(AN5122=\"\",\"\",IF(LEN(VLOOKUP(AN5122,Sifranti!BY:BZ,2,FALSE))=0,\"\",VLOOKUP(AN5122,Sifranti!BY:BZ,2,FALSE)))","v":""},{"$f":"IF(C5122=\"\",\"\",VLOOKUP(C5122,Sifranti!P:R,2,FALSE))","v":""},{"$f":"IF(V5122>0,IF(AS5122=\"de minimis\",T5122/S5122*100,U5122/AD5122*100),\"\")","v":""},{"$f":"IF(AE5122>0,AE5122/U5122*100,\"\")","v":""},{"$f":"IF(C5122=\"\",\"\",VLOOKUP(C5122,Sifranti!P:R,3,FALSE))","v":""},{"$f":"IF(N5122=\"\",\"\",VLOOKUP(N5122,Sifranti!D:F,2,FALSE))","v":""},{"$f":"IF(AK5122=\"\",\"\",VLOOKUP(AK5122,Sifranti!V:Y,2,FALSE))","v":""},{"$f":"IF(AK5122=\"\",\"\",IF(VLOOKUP(AK5122,Sifranti!V:Y,3,FALSE)=\"\",\"\",VLOOKUP(AK5122,Sifranti!V:Y,3,FALSE)))","v":""},{"$f":"IF(AK5122=\"\",\"\",VLOOKUP(AK5122,Sifranti!V:Y,4,FALSE))","v":""}]
[{"$f":"IF(B5132=\"\",\"\",VLOOKUP(B5132,Sifranti!K:L,2,FALSE))","v":""},null,null,null,null,null,null,null,null,"",{"$f":"IF(L5132=\"\",\"\",VLOOKUP(L5132,Sifranti!A:B,2,FALSE))","v":""},null,{"$f":"IF(N5132=\"\",\"\",VLOOKUP(N5132,Sifranti!D:F,3,FALSE))","v":""},null,{"$f":"IF(P5132=\"\",\"\",VLOOKUP(P5132,Sifranti!H:I,2,FALSE))","v":""},null,null,null,null,null,null,null,null,null,null,null,null,null,null,null,null,null,null,null,null,null,null,null,null,null,{"$f":"IF(AN5132=\"\",\"\",IF(LEN(VLOOKUP(AN5132,Sifranti!BY:BZ,2,FALSE))=0,\"\",VLOOKUP(AN5132,Sifranti!BY:BZ,2,FALSE)))","v":""},{"$f":"IF(C5132=\"\",\"\",VLOOKUP(C5132,Sifranti!P:R,2,FALSE))","v":""},"","",{"$f":"IF(C5132=\"\",\"\",VLOOKUP(C5132,Sifranti!P:R,3,FALSE))","v":""},{"$f":"IF(N5132=\"\",\"\",VLOOKUP(N5132,Sifranti!D:F,2,FALSE))","v":""},{"$f":"IF(AK5132=\"\",\"\",VLOOKUP(AK5132,Sifranti!V:Y,2,FALSE))","v":""},{"$f":"IF(AK5132=\"\",\"\",IF(VLOOKUP(AK5132,Sifranti!V:Y,3,FALSE)=\"\",\"\",VLOOKUP(AK5132,Sifranti!V:Y,3,FALSE)))","v":""},{"$f":"IF(AK5132=\"\",\"\",VLOOKUP(AK5132,Sifranti!V:Y,4,FALSE))","v":""}]
[{"$f":"IF(B5138=\"\",\"\",VLOOKUP(B5138,Sifranti!K:L,2,FALSE))","v":""},null,null,null,null,null,null,null,null,"",{"$f":"IF(L5138=\"\",\"\",VLOOKUP(L5138,Sifranti!A:B,2,FALSE))","v":""},null,{"$f":"IF(N5138=\"\",\"\",VLOOKUP(N5138,Sifranti!D:F,3,FALSE))","v":""},null,{"$f":"IF(P5138=\"\",\"\",VLOOKUP(P5138,Sifranti!H:I,2,FALSE))","v":""},null,null,null,null,null,null,null,null,null,null,null,null,null,null,null,null,null,null,null,null,null,null,null,null,null,{"$f":"IF(AN5138=\"\",\"\",IF(LEN(VLOOKUP(AN5138,Sifranti!BY:BZ,2,FALSE))=0,\"\",VLOOKUP(AN5138,Sifranti!BY:BZ,2,FALSE)))","v":""},{"$f":"IF(C5138=\"\",\"\",VLOOKUP(C5138,Sifranti!P:R,2,FALSE))","v":""},"","",{"$f":"IF(C5138=\"\",\"\",VLOOKUP(C5138,Sifranti!P:R,3,FALSE))","v":""},{"$f":"IF(N5138=\"\",\"\",VLOOKUP(N5138,Sifranti!D:F,2,FALSE))","v":""},{"$f":"IF(AK5138=\"\",\"\",VLOOKUP(AK5138,Sifranti!V:Y,2,FALSE))","v":""},{"$f":"IF(AK5138=\"\",\"\",IF(VLOOKUP(AK5138,Sifranti!V:Y,3,FALSE)=\"\",\"\",VLOOKUP(AK5138,Sifranti!V:Y,3,FALSE)))","v":""},{"$f":"IF(AK5138=\"\",\"\",VLOOKUP(AK5138,Sifranti!V:Y,4,FALSE))","v":""}]
[{"$f":"IF(B5146=\"\",\"\",VLOOKUP(B5146,Sifranti!K:L,2,FALSE))","v":""},null,null,null,null,null,null,null,null,"",{"$f":"IF(L5146=\"\",\"\",VLOOKUP(L5146,Sifranti!A:B,2,FALSE))","v":""},null,{"$f":"IF(N5146=\"\",\"\",VLOOKUP(N5146,Sifranti!D:F,3,FALSE))","v":""},null,{"$f":"IF(P5146=\"\",\"\",VLOOKUP(P5146,Sifranti!H:I,2,FALSE))","v":""},null,null,null,null,null,null,null,null,null,null,null,null,null,null,null,null,null,null,null,null,null,null,null,null,null,{"$f":"IF(AN5146=\"\",\"\",IF(LEN(VLOOKUP(AN5146,Sifranti!BY:BZ,2,FALSE))=0,\"\",VLOOKUP(AN5146,Sifranti!BY:BZ,2,FALSE)))","v":""},{"$f":"IF(C5146=\"\",\"\",VLOOKUP(C5146,Sifranti!P:R,2,FALSE))","v":""},"","",{"$f":"IF(C5146=\"\",\"\",VLOOKUP(C5146,Sifranti!P:R,3,FALSE))","v":""},{"$f":"IF(N5146=\"\",\"\",VLOOKUP(N5146,Sifranti!D:F,2,FALSE))","v":""},{"$f":"IF(AK5146=\"\",\"\",VLOOKUP(AK5146,Sifranti!V:Y,2,FALSE))","v":""},{"$f":"IF(AK5146=\"\",\"\",IF(VLOOKUP(AK5146,Sifranti!V:Y,3,FALSE)=\"\",\"\",VLOOKUP(AK5146,Sifranti!V:Y,3,FALSE)))","v":""},{"$f":"IF(AK5146=\"\",\"\",VLOOKUP(AK5146,Sifranti!V:Y,4,FALSE))","v":""}]
[{"$f":"IF(B5164=\"\",\"\",VLOOKUP(B5164,Sifranti!K:L,2,FALSE))","v":""},null,null,null,null,null,null,null,null,"",{"$f":"IF(L5164=\"\",\"\",VLOOKUP(L5164,Sifranti!A:B,2,FALSE))","v":""},null,{"$f":"IF(N5164=\"\",\"\",VLOOKUP(N5164,Sifranti!D:F,3,FALSE))","v":""},null,{"$f":"IF(P5164=\"\",\"\",VLOOKUP(P5164,Sifranti!H:I,2,FALSE))","v":""},null,null,null,null,null,null,null,null,null,null,null,null,null,null,null,null,null,null,null,null,null,null,null,null,null,{"$f":"IF(AN5164=\"\",\"\",IF(LEN(VLOOKUP(AN5164,Sifranti!BY:BZ,2,FALSE))=0,\"\",VLOOKUP(AN5164,Sifranti!BY:BZ,2,FALSE)))","v":""},{"$f":"IF(C5164=\"\",\"\",VLOOKUP(C5164,Sifranti!P:R,2,FALSE))","v":""},"","",{"$f":"IF(C5164=\"\",\"\",VLOOKUP(C5164,Sifranti!P:R,3,FALSE))","v":""},{"$f":"IF(N5164=\"\",\"\",VLOOKUP(N5164,Sifranti!D:F,2,FALSE))","v":""},{"$f":"IF(AK5164=\"\",\"\",VLOOKUP(AK5164,Sifranti!V:Y,2,FALSE))","v":""},{"$f":"IF(AK5164=\"\",\"\",IF(VLOOKUP(AK5164,Sifranti!V:Y,3,FALSE)=\"\",\"\",VLOOKUP(AK5164,Sifranti!V:Y,3,FALSE)))","v":""},{"$f":"IF(AK5164=\"\",\"\",VLOOKUP(AK5164,Sifranti!V:Y,4,FALSE))","v":""}]
[{"$f":"IF(B5170=\"\",\"\",VLOOKUP(B5170,Sifranti!K:L,2,FALSE))","v":""},null,null,null,null,null,null,null,null,"",{"$f":"IF(L5170=\"\",\"\",VLOOKUP(L5170,Sifranti!A:B,2,FALSE))","v":""},null,{"$f":"IF(N5170=\"\",\"\",VLOOKUP(N5170,Sifranti!D:F,3,FALSE))","v":""},null,{"$f":"IF(P5170=\"\",\"\",VLOOKUP(P5170,Sifranti!H:I,2,FALSE))","v":""},null,null,null,null,null,null,null,null,null,null,null,null,null,null,null,null,null,null,null,null,null,null,null,null,null,{"$f":"IF(AN5170=\"\",\"\",IF(LEN(VLOOKUP(AN5170,Sifranti!BY:BZ,2,FALSE))=0,\"\",VLOOKUP(AN5170,Sifranti!BY:BZ,2,FALSE)))","v":""},{"$f":"IF(C5170=\"\",\"\",VLOOKUP(C5170,Sifranti!P:R,2,FALSE))","v":""},"","",{"$f":"IF(C5170=\"\",\"\",VLOOKUP(C5170,Sifranti!P:R,3,FALSE))","v":""},{"$f":"IF(N5170=\"\",\"\",VLOOKUP(N5170,Sifranti!D:F,2,FALSE))","v":""},{"$f":"IF(AK5170=\"\",\"\",VLOOKUP(AK5170,Sifranti!V:Y,2,FALSE))","v":""},{"$f":"IF(AK5170=\"\",\"\",IF(VLOOKUP(AK5170,Sifranti!V:Y,3,FALSE)=\"\",\"\",VLOOKUP(AK5170,Sifranti!V:Y,3,FALSE)))","v":""},{"$f":"IF(AK5170=\"\",\"\",VLOOKUP(AK5170,Sifranti!V:Y,4,FALSE))","v":""}]
[{"$f":"IF(B5180=\"\",\"\",VLOOKUP(B5180,Sifranti!K:L,2,FALSE))","v":""},null,null,null,null,null,null,null,null,"",{"$f":"IF(L5180=\"\",\"\",VLOOKUP(L5180,Sifranti!A:B,2,FALSE))","v":""},null,{"$f":"IF(N5180=\"\",\"\",VLOOKUP(N5180,Sifranti!D:F,3,FALSE))","v":""},null,{"$f":"IF(P5180=\"\",\"\",VLOOKUP(P5180,Sifranti!H:I,2,FALSE))","v":""},null,null,null,null,null,null,null,null,null,null,null,null,null,null,null,null,null,null,null,null,null,null,null,null,null,{"$f":"IF(AN5180=\"\",\"\",IF(LEN(VLOOKUP(AN5180,Sifranti!BY:BZ,2,FALSE))=0,\"\",VLOOKUP(AN5180,Sifranti!BY:BZ,2,FALSE)))","v":""},{"$f":"IF(C5180=\"\",\"\",VLOOKUP(C5180,Sifranti!P:R,2,FALSE))","v":""},"","",{"$f":"IF(C5180=\"\",\"\",VLOOKUP(C5180,Sifranti!P:R,3,FALSE))","v":""},{"$f":"IF(N5180=\"\",\"\",VLOOKUP(N5180,Sifranti!D:F,2,FALSE))","v":""},{"$f":"IF(AK5180=\"\",\"\",VLOOKUP(AK5180,Sifranti!V:Y,2,FALSE))","v":""},{"$f":"IF(AK5180=\"\",\"\",IF(VLOOKUP(AK5180,Sifranti!V:Y,3,FALSE)=\"\",\"\",VLOOKUP(AK5180,Sifranti!V:Y,3,FALSE)))","v":""},{"$f":"IF(AK5180=\"\",\"\",VLOOKUP(AK5180,Sifranti!V:Y,4,FALSE))","v":""}]
[{"$f":"IF(B5195=\"\",\"\",VLOOKUP(B5195,Sifranti!K:L,2,FALSE))","v":""},null,null,null,null,null,null,null,null,"",{"$f":"IF(L5195=\"\",\"\",VLOOKUP(L5195,Sifranti!A:B,2,FALSE))","v":""},null,{"$f":"IF(N5195=\"\",\"\",VLOOKUP(N5195,Sifranti!D:F,3,FALSE))","v":""},null,{"$f":"IF(P5195=\"\",\"\",VLOOKUP(P5195,Sifranti!H:I,2,FALSE))","v":""},null,null,null,null,null,null,null,null,null,null,null,null,null,null,null,null,null,null,null,null,null,null,null,null,null,{"$f":"IF(AN5195=\"\",\"\",IF(LEN(VLOOKUP(AN5195,Sifranti!BY:BZ,2,FALSE))=0,\"\",VLOOKUP(AN5195,Sifranti!BY:BZ,2,FALSE)))","v":""},{"$f":"IF(C5195=\"\",\"\",VLOOKUP(C5195,Sifranti!P:R,2,FALSE))","v":""},"","",{"$f":"IF(C5195=\"\",\"\",VLOOKUP(C5195,Sifranti!P:R,3,FALSE))","v":""},{"$f":"IF(N5195=\"\",\"\",VLOOKUP(N5195,Sifranti!D:F,2,FALSE))","v":""},{"$f":"IF(AK5195=\"\",\"\",VLOOKUP(AK5195,Sifranti!V:Y,2,FALSE))","v":""},{"$f":"IF(AK5195=\"\",\"\",IF(VLOOKUP(AK5195,Sifranti!V:Y,3,FALSE)=\"\",\"\",VLOOKUP(AK5195,Sifranti!V:Y,3,FALSE)))","v":""},{"$f":"IF(AK5195=\"\",\"\",VLOOKUP(AK5195,Sifranti!V:Y,4,FALSE))","v":""}]
[{"$f":"IF(B5202=\"\",\"\",VLOOKUP(B5202,Sifranti!K:L,2,FALSE))","v":""},null,null,null,null,null,null,null,null,"",{"$f":"IF(L5202=\"\",\"\",VLOOKUP(L5202,Sifranti!A:B,2,FALSE))","v":""},null,{"$f":"IF(N5202=\"\",\"\",VLOOKUP(N5202,Sifranti!D:F,3,FALSE))","v":""},null,{"$f":"IF(P5202=\"\",\"\",VLOOKUP(P5202,Sifranti!H:I,2,FALSE))","v":""},null,null,null,null,null,null,null,null,null,null,null,null,null,null,null,null,null,null,null,null,null,null,null,null,null,{"$f":"IF(AN5202=\"\",\"\",IF(LEN(VLOOKUP(AN5202,Sifranti!BY:BZ,2,FALSE))=0,\"\",VLOOKUP(AN5202,Sifranti!BY:BZ,2,FALSE)))","v":""},{"$f":"IF(C5202=\"\",\"\",VLOOKUP(C5202,Sifranti!P:R,2,FALSE))","v":""},"","",{"$f":"IF(C5202=\"\",\"\",VLOOKUP(C5202,Sifranti!P:R,3,FALSE))","v":""},{"$f":"IF(N5202=\"\",\"\",VLOOKUP(N5202,Sifranti!D:F,2,FALSE))","v":""},{"$f":"IF(AK5202=\"\",\"\",VLOOKUP(AK5202,Sifranti!V:Y,2,FALSE))","v":""},{"$f":"IF(AK5202=\"\",\"\",IF(VLOOKUP(AK5202,Sifranti!V:Y,3,FALSE)=\"\",\"\",VLOOKUP(AK5202,Sifranti!V:Y,3,FALSE)))","v":""},{"$f":"IF(AK5202=\"\",\"\",VLOOKUP(AK5202,Sifranti!V:Y,4,FALSE))","v":""}]
[{"$f":"IF(B5212=\"\",\"\",VLOOKUP(B5212,Sifranti!K:L,2,FALSE))","v":""},null,null,null,null,null,null,null,null,"",{"$f":"IF(L5212=\"\",\"\",VLOOKUP(L5212,Sifranti!A:B,2,FALSE))","v":""},null,{"$f":"IF(N5212=\"\",\"\",VLOOKUP(N5212,Sifranti!D:F,3,FALSE))","v":""},null,{"$f":"IF(P5212=\"\",\"\",VLOOKUP(P5212,Sifranti!H:I,2,FALSE))","v":""},null,null,null,null,null,null,null,null,null,null,null,null,null,null,null,null,null,null,null,null,null,null,null,null,null,{"$f":"IF(AN5212=\"\",\"\",IF(LEN(VLOOKUP(AN5212,Sifranti!BY:BZ,2,FALSE))=0,\"\",VLOOKUP(AN5212,Sifranti!BY:BZ,2,FALSE)))","v":""},{"$f":"IF(C5212=\"\",\"\",VLOOKUP(C5212,Sifranti!P:R,2,FALSE))","v":""},"","",{"$f":"IF(C5212=\"\",\"\",VLOOKUP(C5212,Sifranti!P:R,3,FALSE))","v":""},{"$f":"IF(N5212=\"\",\"\",VLOOKUP(N5212,Sifranti!D:F,2,FALSE))","v":""},{"$f":"IF(AK5212=\"\",\"\",VLOOKUP(AK5212,Sifranti!V:Y,2,FALSE))","v":""},{"$f":"IF(AK5212=\"\",\"\",IF(VLOOKUP(AK5212,Sifranti!V:Y,3,FALSE)=\"\",\"\",VLOOKUP(AK5212,Sifranti!V:Y,3,FALSE)))","v":""},{"$f":"IF(AK5212=\"\",\"\",VLOOKUP(AK5212,Sifranti!V:Y,4,FALSE))","v":""}]
[{"$f":"IF(B5229=\"\",\"\",VLOOKUP(B5229,Sifranti!K:L,2,FALSE))","v":""},null,null,null,null,null,null,null,null,"",{"$f":"IF(L5229=\"\",\"\",VLOOKUP(L5229,Sifranti!A:B,2,FALSE))","v":""},null,{"$f":"IF(N5229=\"\",\"\",VLOOKUP(N5229,Sifranti!D:F,3,FALSE))","v":""},null,{"$f":"IF(P5229=\"\",\"\",VLOOKUP(P5229,Sifranti!H:I,2,FALSE))","v":""},null,null,null,null,null,null,null,null,null,null,null,null,null,null,null,null,null,null,null,null,null,null,null,null,null,{"$f":"IF(AN5229=\"\",\"\",IF(LEN(VLOOKUP(AN5229,Sifranti!BY:BZ,2,FALSE))=0,\"\",VLOOKUP(AN5229,Sifranti!BY:BZ,2,FALSE)))","v":""},{"$f":"IF(C5229=\"\",\"\",VLOOKUP(C5229,Sifranti!P:R,2,FALSE))","v":""},"","",{"$f":"IF(C5229=\"\",\"\",VLOOKUP(C5229,Sifranti!P:R,3,FALSE))","v":""},{"$f":"IF(N5229=\"\",\"\",VLOOKUP(N5229,Sifranti!D:F,2,FALSE))","v":""},{"$f":"IF(AK5229=\"\",\"\",VLOOKUP(AK5229,Sifranti!V:Y,2,FALSE))","v":""},{"$f":"IF(AK5229=\"\",\"\",IF(VLOOKUP(AK5229,Sifranti!V:Y,3,FALSE)=\"\",\"\",VLOOKUP(AK5229,Sifranti!V:Y,3,FALSE)))","v":""},{"$f":"IF(AK5229=\"\",\"\",VLOOKUP(AK5229,Sifranti!V:Y,4,FALSE))","v":""}]
[{"$f":"IF(B5240=\"\",\"\",VLOOKUP(B5240,Sifranti!K:L,2,FALSE))","v":""},null,null,null,null,null,null,null,null,"",{"$f":"IF(L5240=\"\",\"\",VLOOKUP(L5240,Sifranti!A:B,2,FALSE))","v":""},null,{"$f":"IF(N5240=\"\",\"\",VLOOKUP(N5240,Sifranti!D:F,3,FALSE))","v":""},null,{"$f":"IF(P5240=\"\",\"\",VLOOKUP(P5240,Sifranti!H:I,2,FALSE))","v":""},null,null,null,null,null,null,null,null,null,null,null,null,null,null,null,null,null,null,null,null,null,null,null,null,null,{"$f":"IF(AN5240=\"\",\"\",IF(LEN(VLOOKUP(AN5240,Sifranti!BY:BZ,2,FALSE))=0,\"\",VLOOKUP(AN5240,Sifranti!BY:BZ,2,FALSE)))","v":""},{"$f":"IF(C5240=\"\",\"\",VLOOKUP(C5240,Sifranti!P:R,2,FALSE))","v":""},"","",{"$f":"IF(C5240=\"\",\"\",VLOOKUP(C5240,Sifranti!P:R,3,FALSE))","v":""},{"$f":"IF(N5240=\"\",\"\",VLOOKUP(N5240,Sifranti!D:F,2,FALSE))","v":""},{"$f":"IF(AK5240=\"\",\"\",VLOOKUP(AK5240,Sifranti!V:Y,2,FALSE))","v":""},{"$f":"IF(AK5240=\"\",\"\",IF(VLOOKUP(AK5240,Sifranti!V:Y,3,FALSE)=\"\",\"\",VLOOKUP(AK5240,Sifranti!V:Y,3,FALSE)))","v":""},{"$f":"IF(AK5240=\"\",\"\",VLOOKUP(AK5240,Sifranti!V:Y,4,FALSE))","v":""}]
[{"$f":"IF(B5244=\"\",\"\",VLOOKUP(B5244,Sifranti!K:L,2,FALSE))","v":""},null,null,null,null,null,null,null,null,"",{"$f":"IF(L5244=\"\",\"\",VLOOKUP(L5244,Sifranti!A:B,2,FALSE))","v":""},null,{"$f":"IF(N5244=\"\",\"\",VLOOKUP(N5244,Sifranti!D:F,3,FALSE))","v":""},null,{"$f":"IF(P5244=\"\",\"\",VLOOKUP(P5244,Sifranti!H:I,2,FALSE))","v":""},null,null,null,null,null,null,null,null,null,null,null,null,null,null,null,null,null,null,null,null,null,null,null,null,null,{"$f":"IF(AN5244=\"\",\"\",IF(LEN(VLOOKUP(AN5244,Sifranti!BY:BZ,2,FALSE))=0,\"\",VLOOKUP(AN5244,Sifranti!BY:BZ,2,FALSE)))","v":""},{"$f":"IF(C5244=\"\",\"\",VLOOKUP(C5244,Sifranti!P:R,2,FALSE))","v":""},"","",{"$f":"IF(C5244=\"\",\"\",VLOOKUP(C5244,Sifranti!P:R,3,FALSE))","v":""},{"$f":"IF(N5244=\"\",\"\",VLOOKUP(N5244,Sifranti!D:F,2,FALSE))","v":""},{"$f":"IF(AK5244=\"\",\"\",VLOOKUP(AK5244,Sifranti!V:Y,2,FALSE))","v":""},{"$f":"IF(AK5244=\"\",\"\",IF(VLOOKUP(AK5244,Sifranti!V:Y,3,FALSE)=\"\",\"\",VLOOKUP(AK5244,Sifranti!V:Y,3,FALSE)))","v":""},{"$f":"IF(AK5244=\"\",\"\",VLOOKUP(AK5244,Sifranti!V:Y,4,FALSE))","v":""}]
[{"$f":"IF(B5261=\"\",\"\",VLOOKUP(B5261,Sifranti!K:L,2,FALSE))","v":""},null,null,null,null,null,null,null,null,"",{"$f":"IF(L5261=\"\",\"\",VLOOKUP(L5261,Sifranti!A:B,2,FALSE))","v":""},null,{"$f":"IF(N5261=\"\",\"\",VLOOKUP(N5261,Sifranti!D:F,3,FALSE))","v":""},null,{"$f":"IF(P5261=\"\",\"\",VLOOKUP(P5261,Sifranti!H:I,2,FALSE))","v":""},null,null,null,null,null,null,null,null,null,null,null,null,null,null,null,null,null,null,null,null,null,null,null,null,null,{"$f":"IF(AN5261=\"\",\"\",IF(LEN(VLOOKUP(AN5261,Sifranti!BY:BZ,2,FALSE))=0,\"\",VLOOKUP(AN5261,Sifranti!BY:BZ,2,FALSE)))","v":""},{"$f":"IF(C5261=\"\",\"\",VLOOKUP(C5261,Sifranti!P:R,2,FALSE))","v":""},"","",{"$f":"IF(C5261=\"\",\"\",VLOOKUP(C5261,Sifranti!P:R,3,FALSE))","v":""},{"$f":"IF(N5261=\"\",\"\",VLOOKUP(N5261,Sifranti!D:F,2,FALSE))","v":""},{"$f":"IF(AK5261=\"\",\"\",VLOOKUP(AK5261,Sifranti!V:Y,2,FALSE))","v":""},{"$f":"IF(AK5261=\"\",\"\",IF(VLOOKUP(AK5261,Sifranti!V:Y,3,FALSE)=\"\",\"\",VLOOKUP(AK5261,Sifranti!V:Y,3,FALSE)))","v":""},{"$f":"IF(AK5261=\"\",\"\",VLOOKUP(AK5261,Sifranti!V:Y,4,FALSE))","v":""}]
[{"$f":"IF(B5271=\"\",\"\",VLOOKUP(B5271,Sifranti!K:L,2,FALSE))","v":""},null,null,null,null,null,null,null,null,"",{"$f":"IF(L5271=\"\",\"\",VLOOKUP(L5271,Sifranti!A:B,2,FALSE))","v":""},null,{"$f":"IF(N5271=\"\",\"\",VLOOKUP(N5271,Sifranti!D:F,3,FALSE))","v":""},null,{"$f":"IF(P5271=\"\",\"\",VLOOKUP(P5271,Sifranti!H:I,2,FALSE))","v":""},null,null,null,null,null,null,null,null,null,null,null,null,null,null,null,null,null,null,null,null,null,null,null,null,null,{"$f":"IF(AN5271=\"\",\"\",IF(LEN(VLOOKUP(AN5271,Sifranti!BY:BZ,2,FALSE))=0,\"\",VLOOKUP(AN5271,Sifranti!BY:BZ,2,FALSE)))","v":""},{"$f":"IF(C5271=\"\",\"\",VLOOKUP(C5271,Sifranti!P:R,2,FALSE))","v":""},"","",{"$f":"IF(C5271=\"\",\"\",VLOOKUP(C5271,Sifranti!P:R,3,FALSE))","v":""},{"$f":"IF(N5271=\"\",\"\",VLOOKUP(N5271,Sifranti!D:F,2,FALSE))","v":""},{"$f":"IF(AK5271=\"\",\"\",VLOOKUP(AK5271,Sifranti!V:Y,2,FALSE))","v":""},{"$f":"IF(AK5271=\"\",\"\",IF(VLOOKUP(AK5271,Sifranti!V:Y,3,FALSE)=\"\",\"\",VLOOKUP(AK5271,Sifranti!V:Y,3,FALSE)))","v":""},{"$f":"IF(AK5271=\"\",\"\",VLOOKUP(AK5271,Sifranti!V:Y,4,FALSE))","v":""}]
[{"$f":"IF(B5279=\"\",\"\",VLOOKUP(B5279,Sifranti!K:L,2,FALSE))","v":""},null,null,null,null,null,null,null,null,"",{"$f":"IF(L5279=\"\",\"\",VLOOKUP(L5279,Sifranti!A:B,2,FALSE))","v":""},null,{"$f":"IF(N5279=\"\",\"\",VLOOKUP(N5279,Sifranti!D:F,3,FALSE))","v":""},null,{"$f":"IF(P5279=\"\",\"\",VLOOKUP(P5279,Sifranti!H:I,2,FALSE))","v":""},null,null,null,null,null,null,null,null,null,null,null,null,null,null,null,null,null,null,null,null,null,null,null,null,null,{"$f":"IF(AN5279=\"\",\"\",IF(LEN(VLOOKUP(AN5279,Sifranti!BY:BZ,2,FALSE))=0,\"\",VLOOKUP(AN5279,Sifranti!BY:BZ,2,FALSE)))","v":""},{"$f":"IF(C5279=\"\",\"\",VLOOKUP(C5279,Sifranti!P:R,2,FALSE))","v":""},"","",{"$f":"IF(C5279=\"\",\"\",VLOOKUP(C5279,Sifranti!P:R,3,FALSE))","v":""},{"$f":"IF(N5279=\"\",\"\",VLOOKUP(N5279,Sifranti!D:F,2,FALSE))","v":""},{"$f":"IF(AK5279=\"\",\"\",VLOOKUP(AK5279,Sifranti!V:Y,2,FALSE))","v":""},{"$f":"IF(AK5279=\"\",\"\",IF(VLOOKUP(AK5279,Sifranti!V:Y,3,FALSE)=\"\",\"\",VLOOKUP(AK5279,Sifranti!V:Y,3,FALSE)))","v":""},{"$f":"IF(AK5279=\"\",\"\",VLOOKUP(AK5279,Sifranti!V:Y,4,FALSE))","v":""}]
[{"$f":"IF(B5293=\"\",\"\",VLOOKUP(B5293,Sifranti!K:L,2,FALSE))","v":""},null,null,null,null,null,null,null,null,"",{"$f":"IF(L5293=\"\",\"\",VLOOKUP(L5293,Sifranti!A:B,2,FALSE))","v":""},null,{"$f":"IF(N5293=\"\",\"\",VLOOKUP(N5293,Sifranti!D:F,3,FALSE))","v":""},null,{"$f":"IF(P5293=\"\",\"\",VLOOKUP(P5293,Sifranti!H:I,2,FALSE))","v":""},null,null,null,null,null,null,null,null,null,null,null,null,null,null,null,null,null,null,null,null,null,null,null,null,null,{"$f":"IF(AN5293=\"\",\"\",IF(LEN(VLOOKUP(AN5293,Sifranti!BY:BZ,2,FALSE))=0,\"\",VLOOKUP(AN5293,Sifranti!BY:BZ,2,FALSE)))","v":""},{"$f":"IF(C5293=\"\",\"\",VLOOKUP(C5293,Sifranti!P:R,2,FALSE))","v":""},"","",{"$f":"IF(C5293=\"\",\"\",VLOOKUP(C5293,Sifranti!P:R,3,FALSE))","v":""},{"$f":"IF(N5293=\"\",\"\",VLOOKUP(N5293,Sifranti!D:F,2,FALSE))","v":""},{"$f":"IF(AK5293=\"\",\"\",VLOOKUP(AK5293,Sifranti!V:Y,2,FALSE))","v":""},{"$f":"IF(AK5293=\"\",\"\",IF(VLOOKUP(AK5293,Sifranti!V:Y,3,FALSE)=\"\",\"\",VLOOKUP(AK5293,Sifranti!V:Y,3,FALSE)))","v":""},{"$f":"IF(AK5293=\"\",\"\",VLOOKUP(AK5293,Sifranti!V:Y,4,FALSE))","v":""}]
[{"$f":"IF(B5303=\"\",\"\",VLOOKUP(B5303,Sifranti!K:L,2,FALSE))","v":""},null,null,null,null,null,null,null,null,"",{"$f":"IF(L5303=\"\",\"\",VLOOKUP(L5303,Sifranti!A:B,2,FALSE))","v":""},null,{"$f":"IF(N5303=\"\",\"\",VLOOKUP(N5303,Sifranti!D:F,3,FALSE))","v":""},null,{"$f":"IF(P5303=\"\",\"\",VLOOKUP(P5303,Sifranti!H:I,2,FALSE))","v":""},null,null,null,null,null,null,null,null,null,null,null,null,null,null,null,null,null,null,null,null,null,null,null,null,null,{"$f":"IF(AN5303=\"\",\"\",IF(LEN(VLOOKUP(AN5303,Sifranti!BY:BZ,2,FALSE))=0,\"\",VLOOKUP(AN5303,Sifranti!BY:BZ,2,FALSE)))","v":""},{"$f":"IF(C5303=\"\",\"\",VLOOKUP(C5303,Sifranti!P:R,2,FALSE))","v":""},"","",{"$f":"IF(C5303=\"\",\"\",VLOOKUP(C5303,Sifranti!P:R,3,FALSE))","v":""},{"$f":"IF(N5303=\"\",\"\",VLOOKUP(N5303,Sifranti!D:F,2,FALSE))","v":""},{"$f":"IF(AK5303=\"\",\"\",VLOOKUP(AK5303,Sifranti!V:Y,2,FALSE))","v":""},{"$f":"IF(AK5303=\"\",\"\",IF(VLOOKUP(AK5303,Sifranti!V:Y,3,FALSE)=\"\",\"\",VLOOKUP(AK5303,Sifranti!V:Y,3,FALSE)))","v":""},{"$f":"IF(AK5303=\"\",\"\",VLOOKUP(AK5303,Sifranti!V:Y,4,FALSE))","v":""}]
[{"$f":"IF(B5309=\"\",\"\",VLOOKUP(B5309,Sifranti!K:L,2,FALSE))","v":""},null,null,null,null,null,null,null,null,"",{"$f":"IF(L5309=\"\",\"\",VLOOKUP(L5309,Sifranti!A:B,2,FALSE))","v":""},null,{"$f":"IF(N5309=\"\",\"\",VLOOKUP(N5309,Sifranti!D:F,3,FALSE))","v":""},null,{"$f":"IF(P5309=\"\",\"\",VLOOKUP(P5309,Sifranti!H:I,2,FALSE))","v":""},null,null,null,null,null,null,null,null,null,null,null,null,null,null,null,null,null,null,null,null,null,null,null,null,null,{"$f":"IF(AN5309=\"\",\"\",IF(LEN(VLOOKUP(AN5309,Sifranti!BY:BZ,2,FALSE))=0,\"\",VLOOKUP(AN5309,Sifranti!BY:BZ,2,FALSE)))","v":""},{"$f":"IF(C5309=\"\",\"\",VLOOKUP(C5309,Sifranti!P:R,2,FALSE))","v":""},"","",{"$f":"IF(C5309=\"\",\"\",VLOOKUP(C5309,Sifranti!P:R,3,FALSE))","v":""},{"$f":"IF(N5309=\"\",\"\",VLOOKUP(N5309,Sifranti!D:F,2,FALSE))","v":""},{"$f":"IF(AK5309=\"\",\"\",VLOOKUP(AK5309,Sifranti!V:Y,2,FALSE))","v":""},{"$f":"IF(AK5309=\"\",\"\",IF(VLOOKUP(AK5309,Sifranti!V:Y,3,FALSE)=\"\",\"\",VLOOKUP(AK5309,Sifranti!V:Y,3,FALSE)))","v":""},{"$f":"IF(AK5309=\"\",\"\",VLOOKUP(AK5309,Sifranti!V:Y,4,FALSE))","v":""}]
[{"$f":"IF(B5324=\"\",\"\",VLOOKUP(B5324,Sifranti!K:L,2,FALSE))","v":""},null,null,null,null,null,null,null,null,"",{"$f":"IF(L5324=\"\",\"\",VLOOKUP(L5324,Sifranti!A:B,2,FALSE))","v":""},null,{"$f":"IF(N5324=\"\",\"\",VLOOKUP(N5324,Sifranti!D:F,3,FALSE))","v":""},null,{"$f":"IF(P5324=\"\",\"\",VLOOKUP(P5324,Sifranti!H:I,2,FALSE))","v":""},null,null,null,null,null,null,null,null,null,null,null,null,null,null,null,null,null,null,null,null,null,null,null,null,null,{"$f":"IF(AN5324=\"\",\"\",IF(LEN(VLOOKUP(AN5324,Sifranti!BY:BZ,2,FALSE))=0,\"\",VLOOKUP(AN5324,Sifranti!BY:BZ,2,FALSE)))","v":""},{"$f":"IF(C5324=\"\",\"\",VLOOKUP(C5324,Sifranti!P:R,2,FALSE))","v":""},"","",{"$f":"IF(C5324=\"\",\"\",VLOOKUP(C5324,Sifranti!P:R,3,FALSE))","v":""},{"$f":"IF(N5324=\"\",\"\",VLOOKUP(N5324,Sifranti!D:F,2,FALSE))","v":""},{"$f":"IF(AK5324=\"\",\"\",VLOOKUP(AK5324,Sifranti!V:Y,2,FALSE))","v":""},{"$f":"IF(AK5324=\"\",\"\",IF(VLOOKUP(AK5324,Sifranti!V:Y,3,FALSE)=\"\",\"\",VLOOKUP(AK5324,Sifranti!V:Y,3,FALSE)))","v":""},{"$f":"IF(AK5324=\"\",\"\",VLOOKUP(AK5324,Sifranti!V:Y,4,FALSE))","v":""}]
[{"$f":"IF(B5335=\"\",\"\",VLOOKUP(B5335,Sifranti!K:L,2,FALSE))","v":""},null,null,null,null,null,null,null,null,"",{"$f":"IF(L5335=\"\",\"\",VLOOKUP(L5335,Sifranti!A:B,2,FALSE))","v":""},null,{"$f":"IF(N5335=\"\",\"\",VLOOKUP(N5335,Sifranti!D:F,3,FALSE))","v":""},null,{"$f":"IF(P5335=\"\",\"\",VLOOKUP(P5335,Sifranti!H:I,2,FALSE))","v":""},null,null,null,null,null,null,null,null,null,null,null,null,null,null,null,null,null,null,null,null,null,null,null,null,null,{"$f":"IF(AN5335=\"\",\"\",IF(LEN(VLOOKUP(AN5335,Sifranti!BY:BZ,2,FALSE))=0,\"\",VLOOKUP(AN5335,Sifranti!BY:BZ,2,FALSE)))","v":""},{"$f":"IF(C5335=\"\",\"\",VLOOKUP(C5335,Sifranti!P:R,2,FALSE))","v":""},"","",{"$f":"IF(C5335=\"\",\"\",VLOOKUP(C5335,Sifranti!P:R,3,FALSE))","v":""},{"$f":"IF(N5335=\"\",\"\",VLOOKUP(N5335,Sifranti!D:F,2,FALSE))","v":""},{"$f":"IF(AK5335=\"\",\"\",VLOOKUP(AK5335,Sifranti!V:Y,2,FALSE))","v":""},{"$f":"IF(AK5335=\"\",\"\",IF(VLOOKUP(AK5335,Sifranti!V:Y,3,FALSE)=\"\",\"\",VLOOKUP(AK5335,Sifranti!V:Y,3,FALSE)))","v":""},{"$f":"IF(AK5335=\"\",\"\",VLOOKUP(AK5335,Sifranti!V:Y,4,FALSE))","v":""}]
[{"$f":"IF(B5341=\"\",\"\",VLOOKUP(B5341,Sifranti!K:L,2,FALSE))","v":""},null,null,null,null,null,null,null,null,"",{"$f":"IF(L5341=\"\",\"\",VLOOKUP(L5341,Sifranti!A:B,2,FALSE))","v":""},null,{"$f":"IF(N5341=\"\",\"\",VLOOKUP(N5341,Sifranti!D:F,3,FALSE))","v":""},null,{"$f":"IF(P5341=\"\",\"\",VLOOKUP(P5341,Sifranti!H:I,2,FALSE))","v":""},null,null,null,null,null,null,null,null,null,null,null,null,null,null,null,null,null,null,null,null,null,null,null,null,null,{"$f":"IF(AN5341=\"\",\"\",IF(LEN(VLOOKUP(AN5341,Sifranti!BY:BZ,2,FALSE))=0,\"\",VLOOKUP(AN5341,Sifranti!BY:BZ,2,FALSE)))","v":""},{"$f":"IF(C5341=\"\",\"\",VLOOKUP(C5341,Sifranti!P:R,2,FALSE))","v":""},"","",{"$f":"IF(C5341=\"\",\"\",VLOOKUP(C5341,Sifranti!P:R,3,FALSE))","v":""},{"$f":"IF(N5341=\"\",\"\",VLOOKUP(N5341,Sifranti!D:F,2,FALSE))","v":""},{"$f":"IF(AK5341=\"\",\"\",VLOOKUP(AK5341,Sifranti!V:Y,2,FALSE))","v":""},{"$f":"IF(AK5341=\"\",\"\",IF(VLOOKUP(AK5341,Sifranti!V:Y,3,FALSE)=\"\",\"\",VLOOKUP(AK5341,Sifranti!V:Y,3,FALSE)))","v":""},{"$f":"IF(AK5341=\"\",\"\",VLOOKUP(AK5341,Sifranti!V:Y,4,FALSE))","v":""}]
[{"$f":"IF(B5351=\"\",\"\",VLOOKUP(B5351,Sifranti!K:L,2,FALSE))","v":""},null,null,null,null,null,null,null,null,"",{"$f":"IF(L5351=\"\",\"\",VLOOKUP(L5351,Sifranti!A:B,2,FALSE))","v":""},null,{"$f":"IF(N5351=\"\",\"\",VLOOKUP(N5351,Sifranti!D:F,3,FALSE))","v":""},null,{"$f":"IF(P5351=\"\",\"\",VLOOKUP(P5351,Sifranti!H:I,2,FALSE))","v":""},null,null,null,null,null,null,null,null,null,null,null,null,null,null,null,null,null,null,null,null,null,null,null,null,null,{"$f":"IF(AN5351=\"\",\"\",IF(LEN(VLOOKUP(AN5351,Sifranti!BY:BZ,2,FALSE))=0,\"\",VLOOKUP(AN5351,Sifranti!BY:BZ,2,FALSE)))","v":""},{"$f":"IF(C5351=\"\",\"\",VLOOKUP(C5351,Sifranti!P:R,2,FALSE))","v":""},"","",{"$f":"IF(C5351=\"\",\"\",VLOOKUP(C5351,Sifranti!P:R,3,FALSE))","v":""},{"$f":"IF(N5351=\"\",\"\",VLOOKUP(N5351,Sifranti!D:F,2,FALSE))","v":""},{"$f":"IF(AK5351=\"\",\"\",VLOOKUP(AK5351,Sifranti!V:Y,2,FALSE))","v":""},{"$f":"IF(AK5351=\"\",\"\",IF(VLOOKUP(AK5351,Sifranti!V:Y,3,FALSE)=\"\",\"\",VLOOKUP(AK5351,Sifranti!V:Y,3,FALSE)))","v":""},{"$f":"IF(AK5351=\"\",\"\",VLOOKUP(AK5351,Sifranti!V:Y,4,FALSE))","v":""}]
[{"$f":"IF(B5363=\"\",\"\",VLOOKUP(B5363,Sifranti!K:L,2,FALSE))","v":""},null,null,null,null,null,null,null,null,"",{"$f":"IF(L5363=\"\",\"\",VLOOKUP(L5363,Sifranti!A:B,2,FALSE))","v":""},null,{"$f":"IF(N5363=\"\",\"\",VLOOKUP(N5363,Sifranti!D:F,3,FALSE))","v":""},null,{"$f":"IF(P5363=\"\",\"\",VLOOKUP(P5363,Sifranti!H:I,2,FALSE))","v":""},null,null,null,null,null,null,null,null,null,null,null,null,null,null,null,null,null,null,null,null,null,null,null,null,null,{"$f":"IF(AN5363=\"\",\"\",IF(LEN(VLOOKUP(AN5363,Sifranti!BY:BZ,2,FALSE))=0,\"\",VLOOKUP(AN5363,Sifranti!BY:BZ,2,FALSE)))","v":""},{"$f":"IF(C5363=\"\",\"\",VLOOKUP(C5363,Sifranti!P:R,2,FALSE))","v":""},"","",{"$f":"IF(C5363=\"\",\"\",VLOOKUP(C5363,Sifranti!P:R,3,FALSE))","v":""},{"$f":"IF(N5363=\"\",\"\",VLOOKUP(N5363,Sifranti!D:F,2,FALSE))","v":""},{"$f":"IF(AK5363=\"\",\"\",VLOOKUP(AK5363,Sifranti!V:Y,2,FALSE))","v":""},{"$f":"IF(AK5363=\"\",\"\",IF(VLOOKUP(AK5363,Sifranti!V:Y,3,FALSE)=\"\",\"\",VLOOKUP(AK5363,Sifranti!V:Y,3,FALSE)))","v":""},{"$f":"IF(AK5363=\"\",\"\",VLOOKUP(AK5363,Sifranti!V:Y,4,FALSE))","v":""}]
[{"$f":"IF(B5377=\"\",\"\",VLOOKUP(B5377,Sifranti!K:L,2,FALSE))","v":""},null,null,null,null,null,null,null,null,"",{"$f":"IF(L5377=\"\",\"\",VLOOKUP(L5377,Sifranti!A:B,2,FALSE))","v":""},null,{"$f":"IF(N5377=\"\",\"\",VLOOKUP(N5377,Sifranti!D:F,3,FALSE))","v":""},null,{"$f":"IF(P5377=\"\",\"\",VLOOKUP(P5377,Sifranti!H:I,2,FALSE))","v":""},null,null,null,null,null,null,null,null,null,null,null,null,null,null,null,null,null,null,null,null,null,null,null,null,null,{"$f":"IF(AN5377=\"\",\"\",IF(LEN(VLOOKUP(AN5377,Sifranti!BY:BZ,2,FALSE))=0,\"\",VLOOKUP(AN5377,Sifranti!BY:BZ,2,FALSE)))","v":""},{"$f":"IF(C5377=\"\",\"\",VLOOKUP(C5377,Sifranti!P:R,2,FALSE))","v":""},"","",{"$f":"IF(C5377=\"\",\"\",VLOOKUP(C5377,Sifranti!P:R,3,FALSE))","v":""},{"$f":"IF(N5377=\"\",\"\",VLOOKUP(N5377,Sifranti!D:F,2,FALSE))","v":""},{"$f":"IF(AK5377=\"\",\"\",VLOOKUP(AK5377,Sifranti!V:Y,2,FALSE))","v":""},{"$f":"IF(AK5377=\"\",\"\",IF(VLOOKUP(AK5377,Sifranti!V:Y,3,FALSE)=\"\",\"\",VLOOKUP(AK5377,Sifranti!V:Y,3,FALSE)))","v":""},{"$f":"IF(AK5377=\"\",\"\",VLOOKUP(AK5377,Sifranti!V:Y,4,FALSE))","v":""}]
[{"$f":"IF(B5383=\"\",\"\",VLOOKUP(B5383,Sifranti!K:L,2,FALSE))","v":""},null,null,null,null,null,null,null,null,"",{"$f":"IF(L5383=\"\",\"\",VLOOKUP(L5383,Sifranti!A:B,2,FALSE))","v":""},null,{"$f":"IF(N5383=\"\",\"\",VLOOKUP(N5383,Sifranti!D:F,3,FALSE))","v":""},null,{"$f":"IF(P5383=\"\",\"\",VLOOKUP(P5383,Sifranti!H:I,2,FALSE))","v":""},null,null,null,null,null,null,null,null,null,null,null,null,null,null,null,null,null,null,null,null,null,null,null,null,null,{"$f":"IF(AN5383=\"\",\"\",IF(LEN(VLOOKUP(AN5383,Sifranti!BY:BZ,2,FALSE))=0,\"\",VLOOKUP(AN5383,Sifranti!BY:BZ,2,FALSE)))","v":""},{"$f":"IF(C5383=\"\",\"\",VLOOKUP(C5383,Sifranti!P:R,2,FALSE))","v":""},"","",{"$f":"IF(C5383=\"\",\"\",VLOOKUP(C5383,Sifranti!P:R,3,FALSE))","v":""},{"$f":"IF(N5383=\"\",\"\",VLOOKUP(N5383,Sifranti!D:F,2,FALSE))","v":""},{"$f":"IF(AK5383=\"\",\"\",VLOOKUP(AK5383,Sifranti!V:Y,2,FALSE))","v":""},{"$f":"IF(AK5383=\"\",\"\",IF(VLOOKUP(AK5383,Sifranti!V:Y,3,FALSE)=\"\",\"\",VLOOKUP(AK5383,Sifranti!V:Y,3,FALSE)))","v":""},{"$f":"IF(AK5383=\"\",\"\",VLOOKUP(AK5383,Sifranti!V:Y,4,FALSE))","v":""}]
[{"$f":"IF(B5400=\"\",\"\",VLOOKUP(B5400,Sifranti!K:L,2,FALSE))","v":""},null,null,null,null,null,null,null,null,"",{"$f":"IF(L5400=\"\",\"\",VLOOKUP(L5400,Sifranti!A:B,2,FALSE))","v":""},null,{"$f":"IF(N5400=\"\",\"\",VLOOKUP(N5400,Sifranti!D:F,3,FALSE))","v":""},null,{"$f":"IF(P5400=\"\",\"\",VLOOKUP(P5400,Sifranti!H:I,2,FALSE))","v":""},null,null,null,null,null,null,null,null,null,null,null,null,null,null,null,null,null,null,null,null,null,null,null,null,null,{"$f":"IF(AN5400=\"\",\"\",IF(LEN(VLOOKUP(AN5400,Sifranti!BY:BZ,2,FALSE))=0,\"\",VLOOKUP(AN5400,Sifranti!BY:BZ,2,FALSE)))","v":""},{"$f":"IF(C5400=\"\",\"\",VLOOKUP(C5400,Sifranti!P:R,2,FALSE))","v":""},"","",{"$f":"IF(C5400=\"\",\"\",VLOOKUP(C5400,Sifranti!P:R,3,FALSE))","v":""},{"$f":"IF(N5400=\"\",\"\",VLOOKUP(N5400,Sifranti!D:F,2,FALSE))","v":""},{"$f":"IF(AK5400=\"\",\"\",VLOOKUP(AK5400,Sifranti!V:Y,2,FALSE))","v":""},{"$f":"IF(AK5400=\"\",\"\",IF(VLOOKUP(AK5400,Sifranti!V:Y,3,FALSE)=\"\",\"\",VLOOKUP(AK5400,Sifranti!V:Y,3,FALSE)))","v":""},{"$f":"IF(AK5400=\"\",\"\",VLOOKUP(AK5400,Sifranti!V:Y,4,FALSE))","v":""}]
[{"$f":"IF(B5408=\"\",\"\",VLOOKUP(B5408,Sifranti!K:L,2,FALSE))","v":""},null,null,null,null,null,null,null,null,"",{"$f":"IF(L5408=\"\",\"\",VLOOKUP(L5408,Sifranti!A:B,2,FALSE))","v":""},null,{"$f":"IF(N5408=\"\",\"\",VLOOKUP(N5408,Sifranti!D:F,3,FALSE))","v":""},null,{"$f":"IF(P5408=\"\",\"\",VLOOKUP(P5408,Sifranti!H:I,2,FALSE))","v":""},null,null,null,null,null,null,null,null,null,null,null,null,null,null,null,null,null,null,null,null,null,null,null,null,null,{"$f":"IF(AN5408=\"\",\"\",IF(LEN(VLOOKUP(AN5408,Sifranti!BY:BZ,2,FALSE))=0,\"\",VLOOKUP(AN5408,Sifranti!BY:BZ,2,FALSE)))","v":""},{"$f":"IF(C5408=\"\",\"\",VLOOKUP(C5408,Sifranti!P:R,2,FALSE))","v":""},"","",{"$f":"IF(C5408=\"\",\"\",VLOOKUP(C5408,Sifranti!P:R,3,FALSE))","v":""},{"$f":"IF(N5408=\"\",\"\",VLOOKUP(N5408,Sifranti!D:F,2,FALSE))","v":""},{"$f":"IF(AK5408=\"\",\"\",VLOOKUP(AK5408,Sifranti!V:Y,2,FALSE))","v":""},{"$f":"IF(AK5408=\"\",\"\",IF(VLOOKUP(AK5408,Sifranti!V:Y,3,FALSE)=\"\",\"\",VLOOKUP(AK5408,Sifranti!V:Y,3,FALSE)))","v":""},{"$f":"IF(AK5408=\"\",\"\",VLOOKUP(AK5408,Sifranti!V:Y,4,FALSE))","v":""}]
[{"$f":"IF(B5415=\"\",\"\",VLOOKUP(B5415,Sifranti!K:L,2,FALSE))","v":""},null,null,null,null,null,null,null,null,"",{"$f":"IF(L5415=\"\",\"\",VLOOKUP(L5415,Sifranti!A:B,2,FALSE))","v":""},null,{"$f":"IF(N5415=\"\",\"\",VLOOKUP(N5415,Sifranti!D:F,3,FALSE))","v":""},null,{"$f":"IF(P5415=\"\",\"\",VLOOKUP(P5415,Sifranti!H:I,2,FALSE))","v":""},null,null,null,null,null,null,null,null,null,null,null,null,null,null,null,null,null,null,null,null,null,null,null,null,null,{"$f":"IF(AN5415=\"\",\"\",IF(LEN(VLOOKUP(AN5415,Sifranti!BY:BZ,2,FALSE))=0,\"\",VLOOKUP(AN5415,Sifranti!BY:BZ,2,FALSE)))","v":""},{"$f":"IF(C5415=\"\",\"\",VLOOKUP(C5415,Sifranti!P:R,2,FALSE))","v":""},"","",{"$f":"IF(C5415=\"\",\"\",VLOOKUP(C5415,Sifranti!P:R,3,FALSE))","v":""},{"$f":"IF(N5415=\"\",\"\",VLOOKUP(N5415,Sifranti!D:F,2,FALSE))","v":""},{"$f":"IF(AK5415=\"\",\"\",VLOOKUP(AK5415,Sifranti!V:Y,2,FALSE))","v":""},{"$f":"IF(AK5415=\"\",\"\",IF(VLOOKUP(AK5415,Sifranti!V:Y,3,FALSE)=\"\",\"\",VLOOKUP(AK5415,Sifranti!V:Y,3,FALSE)))","v":""},{"$f":"IF(AK5415=\"\",\"\",VLOOKUP(AK5415,Sifranti!V:Y,4,FALSE))","v":""}]
[{"$f":"IF(B5432=\"\",\"\",VLOOKUP(B5432,Sifranti!K:L,2,FALSE))","v":""},null,null,null,null,null,null,null,null,"",{"$f":"IF(L5432=\"\",\"\",VLOOKUP(L5432,Sifranti!A:B,2,FALSE))","v":""},null,{"$f":"IF(N5432=\"\",\"\",VLOOKUP(N5432,Sifranti!D:F,3,FALSE))","v":""},null,{"$f":"IF(P5432=\"\",\"\",VLOOKUP(P5432,Sifranti!H:I,2,FALSE))","v":""},null,null,null,null,null,null,null,null,null,null,null,null,null,null,null,null,null,null,null,null,null,null,null,null,null,{"$f":"IF(AN5432=\"\",\"\",IF(LEN(VLOOKUP(AN5432,Sifranti!BY:BZ,2,FALSE))=0,\"\",VLOOKUP(AN5432,Sifranti!BY:BZ,2,FALSE)))","v":""},{"$f":"IF(C5432=\"\",\"\",VLOOKUP(C5432,Sifranti!P:R,2,FALSE))","v":""},"","",{"$f":"IF(C5432=\"\",\"\",VLOOKUP(C5432,Sifranti!P:R,3,FALSE))","v":""},{"$f":"IF(N5432=\"\",\"\",VLOOKUP(N5432,Sifranti!D:F,2,FALSE))","v":""},{"$f":"IF(AK5432=\"\",\"\",VLOOKUP(AK5432,Sifranti!V:Y,2,FALSE))","v":""},{"$f":"IF(AK5432=\"\",\"\",IF(VLOOKUP(AK5432,Sifranti!V:Y,3,FALSE)=\"\",\"\",VLOOKUP(AK5432,Sifranti!V:Y,3,FALSE)))","v":""},{"$f":"IF(AK5432=\"\",\"\",VLOOKUP(AK5432,Sifranti!V:Y,4,FALSE))","v":""}]
[{"$f":"IF(B5442=\"\",\"\",VLOOKUP(B5442,Sifranti!K:L,2,FALSE))","v":""},null,null,null,null,null,null,null,null,{"$f":"IF(H5442=\"\",\"\",YEAR(H5442))","v":""},{"$f":"IF(L5442=\"\",\"\",VLOOKUP(L5442,Sifranti!A:B,2,FALSE))","v":""},null,{"$f":"IF(N5442=\"\",\"\",VLOOKUP(N5442,Sifranti!D:F,3,FALSE))","v":""},null,{"$f":"IF(P5442=\"\",\"\",VLOOKUP(P5442,Sifranti!H:I,2,FALSE))","v":""},null,null,null,null,null,null,null,null,null,null,null,null,null,null,null,null,null,null,null,null,null,null,null,null,null,{"$f":"IF(AN5442=\"\",\"\",IF(LEN(VLOOKUP(AN5442,Sifranti!BY:BZ,2,FALSE))=0,\"\",VLOOKUP(AN5442,Sifranti!BY:BZ,2,FALSE)))","v":""},{"$f":"IF(C5442=\"\",\"\",VLOOKUP(C5442,Sifranti!P:R,2,FALSE))","v":""},{"$f":"IF(V5442>0,IF(AS5442=\"de minimis\",T5442/S5442*100,U5442/AD5442*100),\"\")","v":""},{"$f":"IF(AE5442>0,AE5442/U5442*100,\"\")","v":""},{"$f":"IF(C5442=\"\",\"\",VLOOKUP(C5442,Sifranti!P:R,3,FALSE))","v":""},{"$f":"IF(N5442=\"\",\"\",VLOOKUP(N5442,Sifranti!D:F,2,FALSE))","v":""},{"$f":"IF(AK5442=\"\",\"\",VLOOKUP(AK5442,Sifranti!V:Y,2,FALSE))","v":""},{"$f":"IF(AK5442=\"\",\"\",IF(VLOOKUP(AK5442,Sifranti!V:Y,3,FALSE)=\"\",\"\",VLOOKUP(AK5442,Sifranti!V:Y,3,FALSE)))","v":""},{"$f":"IF(AK5442=\"\",\"\",VLOOKUP(AK5442,Sifranti!V:Y,4,FALSE))","v":""}]
[{"$f":"IF(B5447=\"\",\"\",VLOOKUP(B5447,Sifranti!K:L,2,FALSE))","v":""},null,null,null,null,null,null,null,null,"",{"$f":"IF(L5447=\"\",\"\",VLOOKUP(L5447,Sifranti!A:B,2,FALSE))","v":""},null,{"$f":"IF(N5447=\"\",\"\",VLOOKUP(N5447,Sifranti!D:F,3,FALSE))","v":""},null,{"$f":"IF(P5447=\"\",\"\",VLOOKUP(P5447,Sifranti!H:I,2,FALSE))","v":""},null,null,null,null,null,null,null,null,null,null,null,null,null,null,null,null,null,null,null,null,null,null,null,null,null,{"$f":"IF(AN5447=\"\",\"\",IF(LEN(VLOOKUP(AN5447,Sifranti!BY:BZ,2,FALSE))=0,\"\",VLOOKUP(AN5447,Sifranti!BY:BZ,2,FALSE)))","v":""},{"$f":"IF(C5447=\"\",\"\",VLOOKUP(C5447,Sifranti!P:R,2,FALSE))","v":""},"","",{"$f":"IF(C5447=\"\",\"\",VLOOKUP(C5447,Sifranti!P:R,3,FALSE))","v":""},{"$f":"IF(N5447=\"\",\"\",VLOOKUP(N5447,Sifranti!D:F,2,FALSE))","v":""},{"$f":"IF(AK5447=\"\",\"\",VLOOKUP(AK5447,Sifranti!V:Y,2,FALSE))","v":""},{"$f":"IF(AK5447=\"\",\"\",IF(VLOOKUP(AK5447,Sifranti!V:Y,3,FALSE)=\"\",\"\",VLOOKUP(AK5447,Sifranti!V:Y,3,FALSE)))","v":""},{"$f":"IF(AK5447=\"\",\"\",VLOOKUP(AK5447,Sifranti!V:Y,4,FALSE))","v":""}]
[{"$f":"IF(B5457=\"\",\"\",VLOOKUP(B5457,Sifranti!K:L,2,FALSE))","v":""},null,null,null,null,null,null,null,null,"",{"$f":"IF(L5457=\"\",\"\",VLOOKUP(L5457,Sifranti!A:B,2,FALSE))","v":""},null,{"$f":"IF(N5457=\"\",\"\",VLOOKUP(N5457,Sifranti!D:F,3,FALSE))","v":""},null,{"$f":"IF(P5457=\"\",\"\",VLOOKUP(P5457,Sifranti!H:I,2,FALSE))","v":""},null,null,null,null,null,null,null,null,null,null,null,null,null,null,null,null,null,null,null,null,null,null,null,null,null,{"$f":"IF(AN5457=\"\",\"\",IF(LEN(VLOOKUP(AN5457,Sifranti!BY:BZ,2,FALSE))=0,\"\",VLOOKUP(AN5457,Sifranti!BY:BZ,2,FALSE)))","v":""},{"$f":"IF(C5457=\"\",\"\",VLOOKUP(C5457,Sifranti!P:R,2,FALSE))","v":""},"","",{"$f":"IF(C5457=\"\",\"\",VLOOKUP(C5457,Sifranti!P:R,3,FALSE))","v":""},{"$f":"IF(N5457=\"\",\"\",VLOOKUP(N5457,Sifranti!D:F,2,FALSE))","v":""},{"$f":"IF(AK5457=\"\",\"\",VLOOKUP(AK5457,Sifranti!V:Y,2,FALSE))","v":""},{"$f":"IF(AK5457=\"\",\"\",IF(VLOOKUP(AK5457,Sifranti!V:Y,3,FALSE)=\"\",\"\",VLOOKUP(AK5457,Sifranti!V:Y,3,FALSE)))","v":""},{"$f":"IF(AK5457=\"\",\"\",VLOOKUP(AK5457,Sifranti!V:Y,4,FALSE))","v":""}]
[{"$f":"IF(B5474=\"\",\"\",VLOOKUP(B5474,Sifranti!K:L,2,FALSE))","v":""},null,null,null,null,null,null,null,null,"",{"$f":"IF(L5474=\"\",\"\",VLOOKUP(L5474,Sifranti!A:B,2,FALSE))","v":""},null,{"$f":"IF(N5474=\"\",\"\",VLOOKUP(N5474,Sifranti!D:F,3,FALSE))","v":""},null,{"$f":"IF(P5474=\"\",\"\",VLOOKUP(P5474,Sifranti!H:I,2,FALSE))","v":""},null,null,null,null,null,null,null,null,null,null,null,null,null,null,null,null,null,null,null,null,null,null,null,null,null,{"$f":"IF(AN5474=\"\",\"\",IF(LEN(VLOOKUP(AN5474,Sifranti!BY:BZ,2,FALSE))=0,\"\",VLOOKUP(AN5474,Sifranti!BY:BZ,2,FALSE)))","v":""},{"$f":"IF(C5474=\"\",\"\",VLOOKUP(C5474,Sifranti!P:R,2,FALSE))","v":""},"","",{"$f":"IF(C5474=\"\",\"\",VLOOKUP(C5474,Sifranti!P:R,3,FALSE))","v":""},{"$f":"IF(N5474=\"\",\"\",VLOOKUP(N5474,Sifranti!D:F,2,FALSE))","v":""},{"$f":"IF(AK5474=\"\",\"\",VLOOKUP(AK5474,Sifranti!V:Y,2,FALSE))","v":""},{"$f":"IF(AK5474=\"\",\"\",IF(VLOOKUP(AK5474,Sifranti!V:Y,3,FALSE)=\"\",\"\",VLOOKUP(AK5474,Sifranti!V:Y,3,FALSE)))","v":""},{"$f":"IF(AK5474=\"\",\"\",VLOOKUP(AK5474,Sifranti!V:Y,4,FALSE))","v":""}]
[{"$f":"IF(B5480=\"\",\"\",VLOOKUP(B5480,Sifranti!K:L,2,FALSE))","v":""},null,null,null,null,null,null,null,null,"",{"$f":"IF(L5480=\"\",\"\",VLOOKUP(L5480,Sifranti!A:B,2,FALSE))","v":""},null,{"$f":"IF(N5480=\"\",\"\",VLOOKUP(N5480,Sifranti!D:F,3,FALSE))","v":""},null,{"$f":"IF(P5480=\"\",\"\",VLOOKUP(P5480,Sifranti!H:I,2,FALSE))","v":""},null,null,null,null,null,null,null,null,null,null,null,null,null,null,null,null,null,null,null,null,null,null,null,null,null,{"$f":"IF(AN5480=\"\",\"\",IF(LEN(VLOOKUP(AN5480,Sifranti!BY:BZ,2,FALSE))=0,\"\",VLOOKUP(AN5480,Sifranti!BY:BZ,2,FALSE)))","v":""},{"$f":"IF(C5480=\"\",\"\",VLOOKUP(C5480,Sifranti!P:R,2,FALSE))","v":""},"","",{"$f":"IF(C5480=\"\",\"\",VLOOKUP(C5480,Sifranti!P:R,3,FALSE))","v":""},{"$f":"IF(N5480=\"\",\"\",VLOOKUP(N5480,Sifranti!D:F,2,FALSE))","v":""},{"$f":"IF(AK5480=\"\",\"\",VLOOKUP(AK5480,Sifranti!V:Y,2,FALSE))","v":""},{"$f":"IF(AK5480=\"\",\"\",IF(VLOOKUP(AK5480,Sifranti!V:Y,3,FALSE)=\"\",\"\",VLOOKUP(AK5480,Sifranti!V:Y,3,FALSE)))","v":""},{"$f":"IF(AK5480=\"\",\"\",VLOOKUP(AK5480,Sifranti!V:Y,4,FALSE))","v":""}]
[{"$f":"IF(B5492=\"\",\"\",VLOOKUP(B5492,Sifranti!K:L,2,FALSE))","v":""},null,null,null,null,null,null,null,null,"",{"$f":"IF(L5492=\"\",\"\",VLOOKUP(L5492,Sifranti!A:B,2,FALSE))","v":""},null,{"$f":"IF(N5492=\"\",\"\",VLOOKUP(N5492,Sifranti!D:F,3,FALSE))","v":""},null,{"$f":"IF(P5492=\"\",\"\",VLOOKUP(P5492,Sifranti!H:I,2,FALSE))","v":""},null,null,null,null,null,null,null,null,null,null,null,null,null,null,null,null,null,null,null,null,null,null,null,null,null,{"$f":"IF(AN5492=\"\",\"\",IF(LEN(VLOOKUP(AN5492,Sifranti!BY:BZ,2,FALSE))=0,\"\",VLOOKUP(AN5492,Sifranti!BY:BZ,2,FALSE)))","v":""},{"$f":"IF(C5492=\"\",\"\",VLOOKUP(C5492,Sifranti!P:R,2,FALSE))","v":""},"","",{"$f":"IF(C5492=\"\",\"\",VLOOKUP(C5492,Sifranti!P:R,3,FALSE))","v":""},{"$f":"IF(N5492=\"\",\"\",VLOOKUP(N5492,Sifranti!D:F,2,FALSE))","v":""},{"$f":"IF(AK5492=\"\",\"\",VLOOKUP(AK5492,Sifranti!V:Y,2,FALSE))","v":""},{"$f":"IF(AK5492=\"\",\"\",IF(VLOOKUP(AK5492,Sifranti!V:Y,3,FALSE)=\"\",\"\",VLOOKUP(AK5492,Sifranti!V:Y,3,FALSE)))","v":""},{"$f":"IF(AK5492=\"\",\"\",VLOOKUP(AK5492,Sifranti!V:Y,4,FALSE))","v":""}]
[{"$f":"IF(B5506=\"\",\"\",VLOOKUP(B5506,Sifranti!K:L,2,FALSE))","v":""},null,null,null,null,null,null,null,null,{"$f":"IF(H5506=\"\",\"\",YEAR(H5506))","v":""},{"$f":"IF(L5506=\"\",\"\",VLOOKUP(L5506,Sifranti!A:B,2,FALSE))","v":""},null,{"$f":"IF(N5506=\"\",\"\",VLOOKUP(N5506,Sifranti!D:F,3,FALSE))","v":""},null,{"$f":"IF(P5506=\"\",\"\",VLOOKUP(P5506,Sifranti!H:I,2,FALSE))","v":""},null,null,null,null,null,null,null,null,null,null,null,null,null,null,null,null,null,null,null,null,null,null,null,null,null,{"$f":"IF(AN5506=\"\",\"\",IF(LEN(VLOOKUP(AN5506,Sifranti!BY:BZ,2,FALSE))=0,\"\",VLOOKUP(AN5506,Sifranti!BY:BZ,2,FALSE)))","v":""},{"$f":"IF(C5506=\"\",\"\",VLOOKUP(C5506,Sifranti!P:R,2,FALSE))","v":""},{"$f":"IF(V5506>0,IF(AS5506=\"de minimis\",T5506/S5506*100,U5506/AD5506*100),\"\")","v":""},{"$f":"IF(AE5506>0,AE5506/U5506*100,\"\")","v":""},{"$f":"IF(C5506=\"\",\"\",VLOOKUP(C5506,Sifranti!P:R,3,FALSE))","v":""},{"$f":"IF(N5506=\"\",\"\",VLOOKUP(N5506,Sifranti!D:F,2,FALSE))","v":""},{"$f":"IF(AK5506=\"\",\"\",VLOOKUP(AK5506,Sifranti!V:Y,2,FALSE))","v":""},{"$f":"IF(AK5506=\"\",\"\",IF(VLOOKUP(AK5506,Sifranti!V:Y,3,FALSE)=\"\",\"\",VLOOKUP(AK5506,Sifranti!V:Y,3,FALSE)))","v":""},{"$f":"IF(AK5506=\"\",\"\",VLOOKUP(AK5506,Sifranti!V:Y,4,FALSE))","v":""}]
[{"$f":"IF(B5512=\"\",\"\",VLOOKUP(B5512,Sifranti!K:L,2,FALSE))","v":""},null,null,null,null,null,null,null,null,"",{"$f":"IF(L5512=\"\",\"\",VLOOKUP(L5512,Sifranti!A:B,2,FALSE))","v":""},null,{"$f":"IF(N5512=\"\",\"\",VLOOKUP(N5512,Sifranti!D:F,3,FALSE))","v":""},null,{"$f":"IF(P5512=\"\",\"\",VLOOKUP(P5512,Sifranti!H:I,2,FALSE))","v":""},null,null,null,null,null,null,null,null,null,null,null,null,null,null,null,null,null,null,null,null,null,null,null,null,null,{"$f":"IF(AN5512=\"\",\"\",IF(LEN(VLOOKUP(AN5512,Sifranti!BY:BZ,2,FALSE))=0,\"\",VLOOKUP(AN5512,Sifranti!BY:BZ,2,FALSE)))","v":""},{"$f":"IF(C5512=\"\",\"\",VLOOKUP(C5512,Sifranti!P:R,2,FALSE))","v":""},"","",{"$f":"IF(C5512=\"\",\"\",VLOOKUP(C5512,Sifranti!P:R,3,FALSE))","v":""},{"$f":"IF(N5512=\"\",\"\",VLOOKUP(N5512,Sifranti!D:F,2,FALSE))","v":""},{"$f":"IF(AK5512=\"\",\"\",VLOOKUP(AK5512,Sifranti!V:Y,2,FALSE))","v":""},{"$f":"IF(AK5512=\"\",\"\",IF(VLOOKUP(AK5512,Sifranti!V:Y,3,FALSE)=\"\",\"\",VLOOKUP(AK5512,Sifranti!V:Y,3,FALSE)))","v":""},{"$f":"IF(AK5512=\"\",\"\",VLOOKUP(AK5512,Sifranti!V:Y,4,FALSE))","v":""}]
[{"$f":"IF(B5522=\"\",\"\",VLOOKUP(B5522,Sifranti!K:L,2,FALSE))","v":""},null,null,null,null,null,null,null,null,"",{"$f":"IF(L5522=\"\",\"\",VLOOKUP(L5522,Sifranti!A:B,2,FALSE))","v":""},null,{"$f":"IF(N5522=\"\",\"\",VLOOKUP(N5522,Sifranti!D:F,3,FALSE))","v":""},null,{"$f":"IF(P5522=\"\",\"\",VLOOKUP(P5522,Sifranti!H:I,2,FALSE))","v":""},null,null,null,null,null,null,null,null,null,null,null,null,null,null,null,null,null,null,null,null,null,null,null,null,null,{"$f":"IF(AN5522=\"\",\"\",IF(LEN(VLOOKUP(AN5522,Sifranti!BY:BZ,2,FALSE))=0,\"\",VLOOKUP(AN5522,Sifranti!BY:BZ,2,FALSE)))","v":""},{"$f":"IF(C5522=\"\",\"\",VLOOKUP(C5522,Sifranti!P:R,2,FALSE))","v":""},"","",{"$f":"IF(C5522=\"\",\"\",VLOOKUP(C5522,Sifranti!P:R,3,FALSE))","v":""},{"$f":"IF(N5522=\"\",\"\",VLOOKUP(N5522,Sifranti!D:F,2,FALSE))","v":""},{"$f":"IF(AK5522=\"\",\"\",VLOOKUP(AK5522,Sifranti!V:Y,2,FALSE))","v":""},{"$f":"IF(AK5522=\"\",\"\",IF(VLOOKUP(AK5522,Sifranti!V:Y,3,FALSE)=\"\",\"\",VLOOKUP(AK5522,Sifranti!V:Y,3,FALSE)))","v":""},{"$f":"IF(AK5522=\"\",\"\",VLOOKUP(AK5522,Sifranti!V:Y,4,FALSE))","v":""}]
[{"$f":"IF(B5541=\"\",\"\",VLOOKUP(B5541,Sifranti!K:L,2,FALSE))","v":""},null,null,null,null,null,null,null,null,"",{"$f":"IF(L5541=\"\",\"\",VLOOKUP(L5541,Sifranti!A:B,2,FALSE))","v":""},null,{"$f":"IF(N5541=\"\",\"\",VLOOKUP(N5541,Sifranti!D:F,3,FALSE))","v":""},null,{"$f":"IF(P5541=\"\",\"\",VLOOKUP(P5541,Sifranti!H:I,2,FALSE))","v":""},null,null,null,null,null,null,null,null,null,null,null,null,null,null,null,null,null,null,null,null,null,null,null,null,null,{"$f":"IF(AN5541=\"\",\"\",IF(LEN(VLOOKUP(AN5541,Sifranti!BY:BZ,2,FALSE))=0,\"\",VLOOKUP(AN5541,Sifranti!BY:BZ,2,FALSE)))","v":""},{"$f":"IF(C5541=\"\",\"\",VLOOKUP(C5541,Sifranti!P:R,2,FALSE))","v":""},"","",{"$f":"IF(C5541=\"\",\"\",VLOOKUP(C5541,Sifranti!P:R,3,FALSE))","v":""},{"$f":"IF(N5541=\"\",\"\",VLOOKUP(N5541,Sifranti!D:F,2,FALSE))","v":""},{"$f":"IF(AK5541=\"\",\"\",VLOOKUP(AK5541,Sifranti!V:Y,2,FALSE))","v":""},{"$f":"IF(AK5541=\"\",\"\",IF(VLOOKUP(AK5541,Sifranti!V:Y,3,FALSE)=\"\",\"\",VLOOKUP(AK5541,Sifranti!V:Y,3,FALSE)))","v":""},{"$f":"IF(AK5541=\"\",\"\",VLOOKUP(AK5541,Sifranti!V:Y,4,FALSE))","v":""}]
[{"$f":"IF(B5548=\"\",\"\",VLOOKUP(B5548,Sifranti!K:L,2,FALSE))","v":""},null,null,null,null,null,null,null,null,"",{"$f":"IF(L5548=\"\",\"\",VLOOKUP(L5548,Sifranti!A:B,2,FALSE))","v":""},null,{"$f":"IF(N5548=\"\",\"\",VLOOKUP(N5548,Sifranti!D:F,3,FALSE))","v":""},null,{"$f":"IF(P5548=\"\",\"\",VLOOKUP(P5548,Sifranti!H:I,2,FALSE))","v":""},null,null,null,null,null,null,null,null,null,null,null,null,null,null,null,null,null,null,null,null,null,null,null,null,null,{"$f":"IF(AN5548=\"\",\"\",IF(LEN(VLOOKUP(AN5548,Sifranti!BY:BZ,2,FALSE))=0,\"\",VLOOKUP(AN5548,Sifranti!BY:BZ,2,FALSE)))","v":""},{"$f":"IF(C5548=\"\",\"\",VLOOKUP(C5548,Sifranti!P:R,2,FALSE))","v":""},"","",{"$f":"IF(C5548=\"\",\"\",VLOOKUP(C5548,Sifranti!P:R,3,FALSE))","v":""},{"$f":"IF(N5548=\"\",\"\",VLOOKUP(N5548,Sifranti!D:F,2,FALSE))","v":""},{"$f":"IF(AK5548=\"\",\"\",VLOOKUP(AK5548,Sifranti!V:Y,2,FALSE))","v":""},{"$f":"IF(AK5548=\"\",\"\",IF(VLOOKUP(AK5548,Sifranti!V:Y,3,FALSE)=\"\",\"\",VLOOKUP(AK5548,Sifranti!V:Y,3,FALSE)))","v":""},{"$f":"IF(AK5548=\"\",\"\",VLOOKUP(AK5548,Sifranti!V:Y,4,FALSE))","v":""}]
[{"$f":"IF(B5554=\"\",\"\",VLOOKUP(B5554,Sifranti!K:L,2,FALSE))","v":""},null,null,null,null,null,null,null,null,"",{"$f":"IF(L5554=\"\",\"\",VLOOKUP(L5554,Sifranti!A:B,2,FALSE))","v":""},null,{"$f":"IF(N5554=\"\",\"\",VLOOKUP(N5554,Sifranti!D:F,3,FALSE))","v":""},null,{"$f":"IF(P5554=\"\",\"\",VLOOKUP(P5554,Sifranti!H:I,2,FALSE))","v":""},null,null,null,null,null,null,null,null,null,null,null,null,null,null,null,null,null,null,null,null,null,null,null,null,null,{"$f":"IF(AN5554=\"\",\"\",IF(LEN(VLOOKUP(AN5554,Sifranti!BY:BZ,2,FALSE))=0,\"\",VLOOKUP(AN5554,Sifranti!BY:BZ,2,FALSE)))","v":""},{"$f":"IF(C5554=\"\",\"\",VLOOKUP(C5554,Sifranti!P:R,2,FALSE))","v":""},"","",{"$f":"IF(C5554=\"\",\"\",VLOOKUP(C5554,Sifranti!P:R,3,FALSE))","v":""},{"$f":"IF(N5554=\"\",\"\",VLOOKUP(N5554,Sifranti!D:F,2,FALSE))","v":""},{"$f":"IF(AK5554=\"\",\"\",VLOOKUP(AK5554,Sifranti!V:Y,2,FALSE))","v":""},{"$f":"IF(AK5554=\"\",\"\",IF(VLOOKUP(AK5554,Sifranti!V:Y,3,FALSE)=\"\",\"\",VLOOKUP(AK5554,Sifranti!V:Y,3,FALSE)))","v":""},{"$f":"IF(AK5554=\"\",\"\",VLOOKUP(AK5554,Sifranti!V:Y,4,FALSE))","v":""}]
[{"$f":"IF(B5571=\"\",\"\",VLOOKUP(B5571,Sifranti!K:L,2,FALSE))","v":""},null,null,null,null,null,null,null,null,"",{"$f":"IF(L5571=\"\",\"\",VLOOKUP(L5571,Sifranti!A:B,2,FALSE))","v":""},null,{"$f":"IF(N5571=\"\",\"\",VLOOKUP(N5571,Sifranti!D:F,3,FALSE))","v":""},null,{"$f":"IF(P5571=\"\",\"\",VLOOKUP(P5571,Sifranti!H:I,2,FALSE))","v":""},null,null,null,null,null,null,null,null,null,null,null,null,null,null,null,null,null,null,null,null,null,null,null,null,null,{"$f":"IF(AN5571=\"\",\"\",IF(LEN(VLOOKUP(AN5571,Sifranti!BY:BZ,2,FALSE))=0,\"\",VLOOKUP(AN5571,Sifranti!BY:BZ,2,FALSE)))","v":""},{"$f":"IF(C5571=\"\",\"\",VLOOKUP(C5571,Sifranti!P:R,2,FALSE))","v":""},"","",{"$f":"IF(C5571=\"\",\"\",VLOOKUP(C5571,Sifranti!P:R,3,FALSE))","v":""},{"$f":"IF(N5571=\"\",\"\",VLOOKUP(N5571,Sifranti!D:F,2,FALSE))","v":""},{"$f":"IF(AK5571=\"\",\"\",VLOOKUP(AK5571,Sifranti!V:Y,2,FALSE))","v":""},{"$f":"IF(AK5571=\"\",\"\",IF(VLOOKUP(AK5571,Sifranti!V:Y,3,FALSE)=\"\",\"\",VLOOKUP(AK5571,Sifranti!V:Y,3,FALSE)))","v":""},{"$f":"IF(AK5571=\"\",\"\",VLOOKUP(AK5571,Sifranti!V:Y,4,FALSE))","v":""}]
[{"$f":"IF(B5576=\"\",\"\",VLOOKUP(B5576,Sifranti!K:L,2,FALSE))","v":""},null,null,null,null,null,null,null,null,"",{"$f":"IF(L5576=\"\",\"\",VLOOKUP(L5576,Sifranti!A:B,2,FALSE))","v":""},null,{"$f":"IF(N5576=\"\",\"\",VLOOKUP(N5576,Sifranti!D:F,3,FALSE))","v":""},null,{"$f":"IF(P5576=\"\",\"\",VLOOKUP(P5576,Sifranti!H:I,2,FALSE))","v":""},null,null,null,null,null,null,null,null,null,null,null,null,null,null,null,null,null,null,null,null,null,null,null,null,null,{"$f":"IF(AN5576=\"\",\"\",IF(LEN(VLOOKUP(AN5576,Sifranti!BY:BZ,2,FALSE))=0,\"\",VLOOKUP(AN5576,Sifranti!BY:BZ,2,FALSE)))","v":""},{"$f":"IF(C5576=\"\",\"\",VLOOKUP(C5576,Sifranti!P:R,2,FALSE))","v":""},"","",{"$f":"IF(C5576=\"\",\"\",VLOOKUP(C5576,Sifranti!P:R,3,FALSE))","v":""},{"$f":"IF(N5576=\"\",\"\",VLOOKUP(N5576,Sifranti!D:F,2,FALSE))","v":""},{"$f":"IF(AK5576=\"\",\"\",VLOOKUP(AK5576,Sifranti!V:Y,2,FALSE))","v":""},{"$f":"IF(AK5576=\"\",\"\",IF(VLOOKUP(AK5576,Sifranti!V:Y,3,FALSE)=\"\",\"\",VLOOKUP(AK5576,Sifranti!V:Y,3,FALSE)))","v":""},{"$f":"IF(AK5576=\"\",\"\",VLOOKUP(AK5576,Sifranti!V:Y,4,FALSE))","v":""}]
[{"$f":"IF(B5586=\"\",\"\",VLOOKUP(B5586,Sifranti!K:L,2,FALSE))","v":""},null,null,null,null,null,null,null,null,"",{"$f":"IF(L5586=\"\",\"\",VLOOKUP(L5586,Sifranti!A:B,2,FALSE))","v":""},null,{"$f":"IF(N5586=\"\",\"\",VLOOKUP(N5586,Sifranti!D:F,3,FALSE))","v":""},null,{"$f":"IF(P5586=\"\",\"\",VLOOKUP(P5586,Sifranti!H:I,2,FALSE))","v":""},null,null,null,null,null,null,null,null,null,null,null,null,null,null,null,null,null,null,null,null,null,null,null,null,null,{"$f":"IF(AN5586=\"\",\"\",IF(LEN(VLOOKUP(AN5586,Sifranti!BY:BZ,2,FALSE))=0,\"\",VLOOKUP(AN5586,Sifranti!BY:BZ,2,FALSE)))","v":""},{"$f":"IF(C5586=\"\",\"\",VLOOKUP(C5586,Sifranti!P:R,2,FALSE))","v":""},"","",{"$f":"IF(C5586=\"\",\"\",VLOOKUP(C5586,Sifranti!P:R,3,FALSE))","v":""},{"$f":"IF(N5586=\"\",\"\",VLOOKUP(N5586,Sifranti!D:F,2,FALSE))","v":""},{"$f":"IF(AK5586=\"\",\"\",VLOOKUP(AK5586,Sifranti!V:Y,2,FALSE))","v":""},{"$f":"IF(AK5586=\"\",\"\",IF(VLOOKUP(AK5586,Sifranti!V:Y,3,FALSE)=\"\",\"\",VLOOKUP(AK5586,Sifranti!V:Y,3,FALSE)))","v":""},{"$f":"IF(AK5586=\"\",\"\",VLOOKUP(AK5586,Sifranti!V:Y,4,FALSE))","v":""}]
[{"$f":"IF(B5596=\"\",\"\",VLOOKUP(B5596,Sifranti!K:L,2,FALSE))","v":""},null,null,null,null,null,null,null,null,"",{"$f":"IF(L5596=\"\",\"\",VLOOKUP(L5596,Sifranti!A:B,2,FALSE))","v":""},null,{"$f":"IF(N5596=\"\",\"\",VLOOKUP(N5596,Sifranti!D:F,3,FALSE))","v":""},null,{"$f":"IF(P5596=\"\",\"\",VLOOKUP(P5596,Sifranti!H:I,2,FALSE))","v":""},null,null,null,null,null,null,null,null,null,null,null,null,null,null,null,null,null,null,null,null,null,null,null,null,null,{"$f":"IF(AN5596=\"\",\"\",IF(LEN(VLOOKUP(AN5596,Sifranti!BY:BZ,2,FALSE))=0,\"\",VLOOKUP(AN5596,Sifranti!BY:BZ,2,FALSE)))","v":""},{"$f":"IF(C5596=\"\",\"\",VLOOKUP(C5596,Sifranti!P:R,2,FALSE))","v":""},"","",{"$f":"IF(C5596=\"\",\"\",VLOOKUP(C5596,Sifranti!P:R,3,FALSE))","v":""},{"$f":"IF(N5596=\"\",\"\",VLOOKUP(N5596,Sifranti!D:F,2,FALSE))","v":""},{"$f":"IF(AK5596=\"\",\"\",VLOOKUP(AK5596,Sifranti!V:Y,2,FALSE))","v":""},{"$f":"IF(AK5596=\"\",\"\",IF(VLOOKUP(AK5596,Sifranti!V:Y,3,FALSE)=\"\",\"\",VLOOKUP(AK5596,Sifranti!V:Y,3,FALSE)))","v":""},{"$f":"IF(AK5596=\"\",\"\",VLOOKUP(AK5596,Sifranti!V:Y,4,FALSE))","v":""}]
[{"$f":"IF(B5613=\"\",\"\",VLOOKUP(B5613,Sifranti!K:L,2,FALSE))","v":""},null,null,null,null,null,null,null,null,"",{"$f":"IF(L5613=\"\",\"\",VLOOKUP(L5613,Sifranti!A:B,2,FALSE))","v":""},null,{"$f":"IF(N5613=\"\",\"\",VLOOKUP(N5613,Sifranti!D:F,3,FALSE))","v":""},null,{"$f":"IF(P5613=\"\",\"\",VLOOKUP(P5613,Sifranti!H:I,2,FALSE))","v":""},null,null,null,null,null,null,null,null,null,null,null,null,null,null,null,null,null,null,null,null,null,null,null,null,null,{"$f":"IF(AN5613=\"\",\"\",IF(LEN(VLOOKUP(AN5613,Sifranti!BY:BZ,2,FALSE))=0,\"\",VLOOKUP(AN5613,Sifranti!BY:BZ,2,FALSE)))","v":""},{"$f":"IF(C5613=\"\",\"\",VLOOKUP(C5613,Sifranti!P:R,2,FALSE))","v":""},"","",{"$f":"IF(C5613=\"\",\"\",VLOOKUP(C5613,Sifranti!P:R,3,FALSE))","v":""},{"$f":"IF(N5613=\"\",\"\",VLOOKUP(N5613,Sifranti!D:F,2,FALSE))","v":""},{"$f":"IF(AK5613=\"\",\"\",VLOOKUP(AK5613,Sifranti!V:Y,2,FALSE))","v":""},{"$f":"IF(AK5613=\"\",\"\",IF(VLOOKUP(AK5613,Sifranti!V:Y,3,FALSE)=\"\",\"\",VLOOKUP(AK5613,Sifranti!V:Y,3,FALSE)))","v":""},{"$f":"IF(AK5613=\"\",\"\",VLOOKUP(AK5613,Sifranti!V:Y,4,FALSE))","v":""}]
[{"$f":"IF(B5625=\"\",\"\",VLOOKUP(B5625,Sifranti!K:L,2,FALSE))","v":""},null,null,null,null,null,null,null,null,"",{"$f":"IF(L5625=\"\",\"\",VLOOKUP(L5625,Sifranti!A:B,2,FALSE))","v":""},null,{"$f":"IF(N5625=\"\",\"\",VLOOKUP(N5625,Sifranti!D:F,3,FALSE))","v":""},null,{"$f":"IF(P5625=\"\",\"\",VLOOKUP(P5625,Sifranti!H:I,2,FALSE))","v":""},null,null,null,null,null,null,null,null,null,null,null,null,null,null,null,null,null,null,null,null,null,null,null,null,null,{"$f":"IF(AN5625=\"\",\"\",IF(LEN(VLOOKUP(AN5625,Sifranti!BY:BZ,2,FALSE))=0,\"\",VLOOKUP(AN5625,Sifranti!BY:BZ,2,FALSE)))","v":""},{"$f":"IF(C5625=\"\",\"\",VLOOKUP(C5625,Sifranti!P:R,2,FALSE))","v":""},"","",{"$f":"IF(C5625=\"\",\"\",VLOOKUP(C5625,Sifranti!P:R,3,FALSE))","v":""},{"$f":"IF(N5625=\"\",\"\",VLOOKUP(N5625,Sifranti!D:F,2,FALSE))","v":""},{"$f":"IF(AK5625=\"\",\"\",VLOOKUP(AK5625,Sifranti!V:Y,2,FALSE))","v":""},{"$f":"IF(AK5625=\"\",\"\",IF(VLOOKUP(AK5625,Sifranti!V:Y,3,FALSE)=\"\",\"\",VLOOKUP(AK5625,Sifranti!V:Y,3,FALSE)))","v":""},{"$f":"IF(AK5625=\"\",\"\",VLOOKUP(AK5625,Sifranti!V:Y,4,FALSE))","v":""}]
[{"$f":"IF(B5628=\"\",\"\",VLOOKUP(B5628,Sifranti!K:L,2,FALSE))","v":""},null,null,null,null,null,null,null,null,"",{"$f":"IF(L5628=\"\",\"\",VLOOKUP(L5628,Sifranti!A:B,2,FALSE))","v":""},null,{"$f":"IF(N5628=\"\",\"\",VLOOKUP(N5628,Sifranti!D:F,3,FALSE))","v":""},null,{"$f":"IF(P5628=\"\",\"\",VLOOKUP(P5628,Sifranti!H:I,2,FALSE))","v":""},null,null,null,null,null,null,null,null,null,null,null,null,null,null,null,null,null,null,null,null,null,null,null,null,null,{"$f":"IF(AN5628=\"\",\"\",IF(LEN(VLOOKUP(AN5628,Sifranti!BY:BZ,2,FALSE))=0,\"\",VLOOKUP(AN5628,Sifranti!BY:BZ,2,FALSE)))","v":""},{"$f":"IF(C5628=\"\",\"\",VLOOKUP(C5628,Sifranti!P:R,2,FALSE))","v":""},"","",{"$f":"IF(C5628=\"\",\"\",VLOOKUP(C5628,Sifranti!P:R,3,FALSE))","v":""},{"$f":"IF(N5628=\"\",\"\",VLOOKUP(N5628,Sifranti!D:F,2,FALSE))","v":""},{"$f":"IF(AK5628=\"\",\"\",VLOOKUP(AK5628,Sifranti!V:Y,2,FALSE))","v":""},{"$f":"IF(AK5628=\"\",\"\",IF(VLOOKUP(AK5628,Sifranti!V:Y,3,FALSE)=\"\",\"\",VLOOKUP(AK5628,Sifranti!V:Y,3,FALSE)))","v":""},{"$f":"IF(AK5628=\"\",\"\",VLOOKUP(AK5628,Sifranti!V:Y,4,FALSE))","v":""}]
[{"$f":"IF(B5645=\"\",\"\",VLOOKUP(B5645,Sifranti!K:L,2,FALSE))","v":""},null,null,null,null,null,null,null,null,"",{"$f":"IF(L5645=\"\",\"\",VLOOKUP(L5645,Sifranti!A:B,2,FALSE))","v":""},null,{"$f":"IF(N5645=\"\",\"\",VLOOKUP(N5645,Sifranti!D:F,3,FALSE))","v":""},null,{"$f":"IF(P5645=\"\",\"\",VLOOKUP(P5645,Sifranti!H:I,2,FALSE))","v":""},null,null,null,null,null,null,null,null,null,null,null,null,null,null,null,null,null,null,null,null,null,null,null,null,null,{"$f":"IF(AN5645=\"\",\"\",IF(LEN(VLOOKUP(AN5645,Sifranti!BY:BZ,2,FALSE))=0,\"\",VLOOKUP(AN5645,Sifranti!BY:BZ,2,FALSE)))","v":""},{"$f":"IF(C5645=\"\",\"\",VLOOKUP(C5645,Sifranti!P:R,2,FALSE))","v":""},"","",{"$f":"IF(C5645=\"\",\"\",VLOOKUP(C5645,Sifranti!P:R,3,FALSE))","v":""},{"$f":"IF(N5645=\"\",\"\",VLOOKUP(N5645,Sifranti!D:F,2,FALSE))","v":""},{"$f":"IF(AK5645=\"\",\"\",VLOOKUP(AK5645,Sifranti!V:Y,2,FALSE))","v":""},{"$f":"IF(AK5645=\"\",\"\",IF(VLOOKUP(AK5645,Sifranti!V:Y,3,FALSE)=\"\",\"\",VLOOKUP(AK5645,Sifranti!V:Y,3,FALSE)))","v":""},{"$f":"IF(AK5645=\"\",\"\",VLOOKUP(AK5645,Sifranti!V:Y,4,FALSE))","v":""}]
[{"$f":"IF(B5651=\"\",\"\",VLOOKUP(B5651,Sifranti!K:L,2,FALSE))","v":""},null,null,null,null,null,null,null,null,"",{"$f":"IF(L5651=\"\",\"\",VLOOKUP(L5651,Sifranti!A:B,2,FALSE))","v":""},null,{"$f":"IF(N5651=\"\",\"\",VLOOKUP(N5651,Sifranti!D:F,3,FALSE))","v":""},null,{"$f":"IF(P5651=\"\",\"\",VLOOKUP(P5651,Sifranti!H:I,2,FALSE))","v":""},null,null,null,null,null,null,null,null,null,null,null,null,null,null,null,null,null,null,null,null,null,null,null,null,null,{"$f":"IF(AN5651=\"\",\"\",IF(LEN(VLOOKUP(AN5651,Sifranti!BY:BZ,2,FALSE))=0,\"\",VLOOKUP(AN5651,Sifranti!BY:BZ,2,FALSE)))","v":""},{"$f":"IF(C5651=\"\",\"\",VLOOKUP(C5651,Sifranti!P:R,2,FALSE))","v":""},"","",{"$f":"IF(C5651=\"\",\"\",VLOOKUP(C5651,Sifranti!P:R,3,FALSE))","v":""},{"$f":"IF(N5651=\"\",\"\",VLOOKUP(N5651,Sifranti!D:F,2,FALSE))","v":""},{"$f":"IF(AK5651=\"\",\"\",VLOOKUP(AK5651,Sifranti!V:Y,2,FALSE))","v":""},{"$f":"IF(AK5651=\"\",\"\",IF(VLOOKUP(AK5651,Sifranti!V:Y,3,FALSE)=\"\",\"\",VLOOKUP(AK5651,Sifranti!V:Y,3,FALSE)))","v":""},{"$f":"IF(AK5651=\"\",\"\",VLOOKUP(AK5651,Sifranti!V:Y,4,FALSE))","v":""}]
[{"$f":"IF(B5670=\"\",\"\",VLOOKUP(B5670,Sifranti!K:L,2,FALSE))","v":""},null,null,null,null,null,null,null,null,"",{"$f":"IF(L5670=\"\",\"\",VLOOKUP(L5670,Sifranti!A:B,2,FALSE))","v":""},null,{"$f":"IF(N5670=\"\",\"\",VLOOKUP(N5670,Sifranti!D:F,3,FALSE))","v":""},null,{"$f":"IF(P5670=\"\",\"\",VLOOKUP(P5670,Sifranti!H:I,2,FALSE))","v":""},null,null,null,null,null,null,null,null,null,null,null,null,null,null,null,null,null,null,null,null,null,null,null,null,null,{"$f":"IF(AN5670=\"\",\"\",IF(LEN(VLOOKUP(AN5670,Sifranti!BY:BZ,2,FALSE))=0,\"\",VLOOKUP(AN5670,Sifranti!BY:BZ,2,FALSE)))","v":""},{"$f":"IF(C5670=\"\",\"\",VLOOKUP(C5670,Sifranti!P:R,2,FALSE))","v":""},"","",{"$f":"IF(C5670=\"\",\"\",VLOOKUP(C5670,Sifranti!P:R,3,FALSE))","v":""},{"$f":"IF(N5670=\"\",\"\",VLOOKUP(N5670,Sifranti!D:F,2,FALSE))","v":""},{"$f":"IF(AK5670=\"\",\"\",VLOOKUP(AK5670,Sifranti!V:Y,2,FALSE))","v":""},{"$f":"IF(AK5670=\"\",\"\",IF(VLOOKUP(AK5670,Sifranti!V:Y,3,FALSE)=\"\",\"\",VLOOKUP(AK5670,Sifranti!V:Y,3,FALSE)))","v":""},{"$f":"IF(AK5670=\"\",\"\",VLOOKUP(AK5670,Sifranti!V:Y,4,FALSE))","v":""}]
[{"$f":"IF(B5677=\"\",\"\",VLOOKUP(B5677,Sifranti!K:L,2,FALSE))","v":""},null,null,null,null,null,null,null,null,"",{"$f":"IF(L5677=\"\",\"\",VLOOKUP(L5677,Sifranti!A:B,2,FALSE))","v":""},null,{"$f":"IF(N5677=\"\",\"\",VLOOKUP(N5677,Sifranti!D:F,3,FALSE))","v":""},null,{"$f":"IF(P5677=\"\",\"\",VLOOKUP(P5677,Sifranti!H:I,2,FALSE))","v":""},null,null,null,null,null,null,null,null,null,null,null,null,null,null,null,null,null,null,null,null,null,null,null,null,null,{"$f":"IF(AN5677=\"\",\"\",IF(LEN(VLOOKUP(AN5677,Sifranti!BY:BZ,2,FALSE))=0,\"\",VLOOKUP(AN5677,Sifranti!BY:BZ,2,FALSE)))","v":""},{"$f":"IF(C5677=\"\",\"\",VLOOKUP(C5677,Sifranti!P:R,2,FALSE))","v":""},"","",{"$f":"IF(C5677=\"\",\"\",VLOOKUP(C5677,Sifranti!P:R,3,FALSE))","v":""},{"$f":"IF(N5677=\"\",\"\",VLOOKUP(N5677,Sifranti!D:F,2,FALSE))","v":""},{"$f":"IF(AK5677=\"\",\"\",VLOOKUP(AK5677,Sifranti!V:Y,2,FALSE))","v":""},{"$f":"IF(AK5677=\"\",\"\",IF(VLOOKUP(AK5677,Sifranti!V:Y,3,FALSE)=\"\",\"\",VLOOKUP(AK5677,Sifranti!V:Y,3,FALSE)))","v":""},{"$f":"IF(AK5677=\"\",\"\",VLOOKUP(AK5677,Sifranti!V:Y,4,FALSE))","v":""}]
[{"$f":"IF(B5687=\"\",\"\",VLOOKUP(B5687,Sifranti!K:L,2,FALSE))","v":""},null,null,null,null,null,null,null,null,"",{"$f":"IF(L5687=\"\",\"\",VLOOKUP(L5687,Sifranti!A:B,2,FALSE))","v":""},null,{"$f":"IF(N5687=\"\",\"\",VLOOKUP(N5687,Sifranti!D:F,3,FALSE))","v":""},null,{"$f":"IF(P5687=\"\",\"\",VLOOKUP(P5687,Sifranti!H:I,2,FALSE))","v":""},null,null,null,null,null,null,null,null,null,null,null,null,null,null,null,null,null,null,null,null,null,null,null,null,null,{"$f":"IF(AN5687=\"\",\"\",IF(LEN(VLOOKUP(AN5687,Sifranti!BY:BZ,2,FALSE))=0,\"\",VLOOKUP(AN5687,Sifranti!BY:BZ,2,FALSE)))","v":""},{"$f":"IF(C5687=\"\",\"\",VLOOKUP(C5687,Sifranti!P:R,2,FALSE))","v":""},"","",{"$f":"IF(C5687=\"\",\"\",VLOOKUP(C5687,Sifranti!P:R,3,FALSE))","v":""},{"$f":"IF(N5687=\"\",\"\",VLOOKUP(N5687,Sifranti!D:F,2,FALSE))","v":""},{"$f":"IF(AK5687=\"\",\"\",VLOOKUP(AK5687,Sifranti!V:Y,2,FALSE))","v":""},{"$f":"IF(AK5687=\"\",\"\",IF(VLOOKUP(AK5687,Sifranti!V:Y,3,FALSE)=\"\",\"\",VLOOKUP(AK5687,Sifranti!V:Y,3,FALSE)))","v":""},{"$f":"IF(AK5687=\"\",\"\",VLOOKUP(AK5687,Sifranti!V:Y,4,FALSE))","v":""}]
[{"$f":"IF(B5693=\"\",\"\",VLOOKUP(B5693,Sifranti!K:L,2,FALSE))","v":""},null,null,null,null,null,null,null,null,"",{"$f":"IF(L5693=\"\",\"\",VLOOKUP(L5693,Sifranti!A:B,2,FALSE))","v":""},null,{"$f":"IF(N5693=\"\",\"\",VLOOKUP(N5693,Sifranti!D:F,3,FALSE))","v":""},null,{"$f":"IF(P5693=\"\",\"\",VLOOKUP(P5693,Sifranti!H:I,2,FALSE))","v":""},null,null,null,null,null,null,null,null,null,null,null,null,null,null,null,null,null,null,null,null,null,null,null,null,null,{"$f":"IF(AN5693=\"\",\"\",IF(LEN(VLOOKUP(AN5693,Sifranti!BY:BZ,2,FALSE))=0,\"\",VLOOKUP(AN5693,Sifranti!BY:BZ,2,FALSE)))","v":""},{"$f":"IF(C5693=\"\",\"\",VLOOKUP(C5693,Sifranti!P:R,2,FALSE))","v":""},"","",{"$f":"IF(C5693=\"\",\"\",VLOOKUP(C5693,Sifranti!P:R,3,FALSE))","v":""},{"$f":"IF(N5693=\"\",\"\",VLOOKUP(N5693,Sifranti!D:F,2,FALSE))","v":""},{"$f":"IF(AK5693=\"\",\"\",VLOOKUP(AK5693,Sifranti!V:Y,2,FALSE))","v":""},{"$f":"IF(AK5693=\"\",\"\",IF(VLOOKUP(AK5693,Sifranti!V:Y,3,FALSE)=\"\",\"\",VLOOKUP(AK5693,Sifranti!V:Y,3,FALSE)))","v":""},{"$f":"IF(AK5693=\"\",\"\",VLOOKUP(AK5693,Sifranti!V:Y,4,FALSE))","v":""}]
[{"$f":"IF(B5709=\"\",\"\",VLOOKUP(B5709,Sifranti!K:L,2,FALSE))","v":""},null,null,null,null,null,null,null,null,"",{"$f":"IF(L5709=\"\",\"\",VLOOKUP(L5709,Sifranti!A:B,2,FALSE))","v":""},null,{"$f":"IF(N5709=\"\",\"\",VLOOKUP(N5709,Sifranti!D:F,3,FALSE))","v":""},null,{"$f":"IF(P5709=\"\",\"\",VLOOKUP(P5709,Sifranti!H:I,2,FALSE))","v":""},null,null,null,null,null,null,null,null,null,null,null,null,null,null,null,null,null,null,null,null,null,null,null,null,null,{"$f":"IF(AN5709=\"\",\"\",IF(LEN(VLOOKUP(AN5709,Sifranti!BY:BZ,2,FALSE))=0,\"\",VLOOKUP(AN5709,Sifranti!BY:BZ,2,FALSE)))","v":""},{"$f":"IF(C5709=\"\",\"\",VLOOKUP(C5709,Sifranti!P:R,2,FALSE))","v":""},"","",{"$f":"IF(C5709=\"\",\"\",VLOOKUP(C5709,Sifranti!P:R,3,FALSE))","v":""},{"$f":"IF(N5709=\"\",\"\",VLOOKUP(N5709,Sifranti!D:F,2,FALSE))","v":""},{"$f":"IF(AK5709=\"\",\"\",VLOOKUP(AK5709,Sifranti!V:Y,2,FALSE))","v":""},{"$f":"IF(AK5709=\"\",\"\",IF(VLOOKUP(AK5709,Sifranti!V:Y,3,FALSE)=\"\",\"\",VLOOKUP(AK5709,Sifranti!V:Y,3,FALSE)))","v":""},{"$f":"IF(AK5709=\"\",\"\",VLOOKUP(AK5709,Sifranti!V:Y,4,FALSE))","v":""}]
[{"$f":"IF(B5719=\"\",\"\",VLOOKUP(B5719,Sifranti!K:L,2,FALSE))","v":""},null,null,null,null,null,null,null,null,"",{"$f":"IF(L5719=\"\",\"\",VLOOKUP(L5719,Sifranti!A:B,2,FALSE))","v":""},null,{"$f":"IF(N5719=\"\",\"\",VLOOKUP(N5719,Sifranti!D:F,3,FALSE))","v":""},null,{"$f":"IF(P5719=\"\",\"\",VLOOKUP(P5719,Sifranti!H:I,2,FALSE))","v":""},null,null,null,null,null,null,null,null,null,null,null,null,null,null,null,null,null,null,null,null,null,null,null,null,null,{"$f":"IF(AN5719=\"\",\"\",IF(LEN(VLOOKUP(AN5719,Sifranti!BY:BZ,2,FALSE))=0,\"\",VLOOKUP(AN5719,Sifranti!BY:BZ,2,FALSE)))","v":""},{"$f":"IF(C5719=\"\",\"\",VLOOKUP(C5719,Sifranti!P:R,2,FALSE))","v":""},"","",{"$f":"IF(C5719=\"\",\"\",VLOOKUP(C5719,Sifranti!P:R,3,FALSE))","v":""},{"$f":"IF(N5719=\"\",\"\",VLOOKUP(N5719,Sifranti!D:F,2,FALSE))","v":""},{"$f":"IF(AK5719=\"\",\"\",VLOOKUP(AK5719,Sifranti!V:Y,2,FALSE))","v":""},{"$f":"IF(AK5719=\"\",\"\",IF(VLOOKUP(AK5719,Sifranti!V:Y,3,FALSE)=\"\",\"\",VLOOKUP(AK5719,Sifranti!V:Y,3,FALSE)))","v":""},{"$f":"IF(AK5719=\"\",\"\",VLOOKUP(AK5719,Sifranti!V:Y,4,FALSE))","v":""}]
[{"$f":"IF(B5725=\"\",\"\",VLOOKUP(B5725,Sifranti!K:L,2,FALSE))","v":""},null,null,null,null,null,null,null,null,"",{"$f":"IF(L5725=\"\",\"\",VLOOKUP(L5725,Sifranti!A:B,2,FALSE))","v":""},null,{"$f":"IF(N5725=\"\",\"\",VLOOKUP(N5725,Sifranti!D:F,3,FALSE))","v":""},null,{"$f":"IF(P5725=\"\",\"\",VLOOKUP(P5725,Sifranti!H:I,2,FALSE))","v":""},null,null,null,null,null,null,null,null,null,null,null,null,null,null,null,null,null,null,null,null,null,null,null,null,null,{"$f":"IF(AN5725=\"\",\"\",IF(LEN(VLOOKUP(AN5725,Sifranti!BY:BZ,2,FALSE))=0,\"\",VLOOKUP(AN5725,Sifranti!BY:BZ,2,FALSE)))","v":""},{"$f":"IF(C5725=\"\",\"\",VLOOKUP(C5725,Sifranti!P:R,2,FALSE))","v":""},"","",{"$f":"IF(C5725=\"\",\"\",VLOOKUP(C5725,Sifranti!P:R,3,FALSE))","v":""},{"$f":"IF(N5725=\"\",\"\",VLOOKUP(N5725,Sifranti!D:F,2,FALSE))","v":""},{"$f":"IF(AK5725=\"\",\"\",VLOOKUP(AK5725,Sifranti!V:Y,2,FALSE))","v":""},{"$f":"IF(AK5725=\"\",\"\",IF(VLOOKUP(AK5725,Sifranti!V:Y,3,FALSE)=\"\",\"\",VLOOKUP(AK5725,Sifranti!V:Y,3,FALSE)))","v":""},{"$f":"IF(AK5725=\"\",\"\",VLOOKUP(AK5725,Sifranti!V:Y,4,FALSE))","v":""}]
[{"$f":"IF(B5746=\"\",\"\",VLOOKUP(B5746,Sifranti!K:L,2,FALSE))","v":""},null,null,null,null,null,null,null,null,"",{"$f":"IF(L5746=\"\",\"\",VLOOKUP(L5746,Sifranti!A:B,2,FALSE))","v":""},null,{"$f":"IF(N5746=\"\",\"\",VLOOKUP(N5746,Sifranti!D:F,3,FALSE))","v":""},null,{"$f":"IF(P5746=\"\",\"\",VLOOKUP(P5746,Sifranti!H:I,2,FALSE))","v":""},null,null,null,null,null,null,null,null,null,null,null,null,null,null,null,null,null,null,null,null,null,null,null,null,null,{"$f":"IF(AN5746=\"\",\"\",IF(LEN(VLOOKUP(AN5746,Sifranti!BY:BZ,2,FALSE))=0,\"\",VLOOKUP(AN5746,Sifranti!BY:BZ,2,FALSE)))","v":""},{"$f":"IF(C5746=\"\",\"\",VLOOKUP(C5746,Sifranti!P:R,2,FALSE))","v":""},"","",{"$f":"IF(C5746=\"\",\"\",VLOOKUP(C5746,Sifranti!P:R,3,FALSE))","v":""},{"$f":"IF(N5746=\"\",\"\",VLOOKUP(N5746,Sifranti!D:F,2,FALSE))","v":""},{"$f":"IF(AK5746=\"\",\"\",VLOOKUP(AK5746,Sifranti!V:Y,2,FALSE))","v":""},{"$f":"IF(AK5746=\"\",\"\",IF(VLOOKUP(AK5746,Sifranti!V:Y,3,FALSE)=\"\",\"\",VLOOKUP(AK5746,Sifranti!V:Y,3,FALSE)))","v":""},{"$f":"IF(AK5746=\"\",\"\",VLOOKUP(AK5746,Sifranti!V:Y,4,FALSE))","v":""}]
[{"$f":"IF(B5754=\"\",\"\",VLOOKUP(B5754,Sifranti!K:L,2,FALSE))","v":""},null,null,null,null,null,null,null,null,"",{"$f":"IF(L5754=\"\",\"\",VLOOKUP(L5754,Sifranti!A:B,2,FALSE))","v":""},null,{"$f":"IF(N5754=\"\",\"\",VLOOKUP(N5754,Sifranti!D:F,3,FALSE))","v":""},null,{"$f":"IF(P5754=\"\",\"\",VLOOKUP(P5754,Sifranti!H:I,2,FALSE))","v":""},null,null,null,null,null,null,null,null,null,null,null,null,null,null,null,null,null,null,null,null,null,null,null,null,null,{"$f":"IF(AN5754=\"\",\"\",IF(LEN(VLOOKUP(AN5754,Sifranti!BY:BZ,2,FALSE))=0,\"\",VLOOKUP(AN5754,Sifranti!BY:BZ,2,FALSE)))","v":""},{"$f":"IF(C5754=\"\",\"\",VLOOKUP(C5754,Sifranti!P:R,2,FALSE))","v":""},"","",{"$f":"IF(C5754=\"\",\"\",VLOOKUP(C5754,Sifranti!P:R,3,FALSE))","v":""},{"$f":"IF(N5754=\"\",\"\",VLOOKUP(N5754,Sifranti!D:F,2,FALSE))","v":""},{"$f":"IF(AK5754=\"\",\"\",VLOOKUP(AK5754,Sifranti!V:Y,2,FALSE))","v":""},{"$f":"IF(AK5754=\"\",\"\",IF(VLOOKUP(AK5754,Sifranti!V:Y,3,FALSE)=\"\",\"\",VLOOKUP(AK5754,Sifranti!V:Y,3,FALSE)))","v":""},{"$f":"IF(AK5754=\"\",\"\",VLOOKUP(AK5754,Sifranti!V:Y,4,FALSE))","v":""}]
[{"$f":"IF(B5757=\"\",\"\",VLOOKUP(B5757,Sifranti!K:L,2,FALSE))","v":""},null,null,null,null,null,null,null,null,"",{"$f":"IF(L5757=\"\",\"\",VLOOKUP(L5757,Sifranti!A:B,2,FALSE))","v":""},null,{"$f":"IF(N5757=\"\",\"\",VLOOKUP(N5757,Sifranti!D:F,3,FALSE))","v":""},null,{"$f":"IF(P5757=\"\",\"\",VLOOKUP(P5757,Sifranti!H:I,2,FALSE))","v":""},null,null,null,null,null,null,null,null,null,null,null,null,null,null,null,null,null,null,null,null,null,null,null,null,null,{"$f":"IF(AN5757=\"\",\"\",IF(LEN(VLOOKUP(AN5757,Sifranti!BY:BZ,2,FALSE))=0,\"\",VLOOKUP(AN5757,Sifranti!BY:BZ,2,FALSE)))","v":""},{"$f":"IF(C5757=\"\",\"\",VLOOKUP(C5757,Sifranti!P:R,2,FALSE))","v":""},"","",{"$f":"IF(C5757=\"\",\"\",VLOOKUP(C5757,Sifranti!P:R,3,FALSE))","v":""},{"$f":"IF(N5757=\"\",\"\",VLOOKUP(N5757,Sifranti!D:F,2,FALSE))","v":""},{"$f":"IF(AK5757=\"\",\"\",VLOOKUP(AK5757,Sifranti!V:Y,2,FALSE))","v":""},{"$f":"IF(AK5757=\"\",\"\",IF(VLOOKUP(AK5757,Sifranti!V:Y,3,FALSE)=\"\",\"\",VLOOKUP(AK5757,Sifranti!V:Y,3,FALSE)))","v":""},{"$f":"IF(AK5757=\"\",\"\",VLOOKUP(AK5757,Sifranti!V:Y,4,FALSE))","v":""}]
[{"$f":"IF(B5778=\"\",\"\",VLOOKUP(B5778,Sifranti!K:L,2,FALSE))","v":""},null,null,null,null,null,null,null,null,"",{"$f":"IF(L5778=\"\",\"\",VLOOKUP(L5778,Sifranti!A:B,2,FALSE))","v":""},null,{"$f":"IF(N5778=\"\",\"\",VLOOKUP(N5778,Sifranti!D:F,3,FALSE))","v":""},null,{"$f":"IF(P5778=\"\",\"\",VLOOKUP(P5778,Sifranti!H:I,2,FALSE))","v":""},null,null,null,null,null,null,null,null,null,null,null,null,null,null,null,null,null,null,null,null,null,null,null,null,null,{"$f":"IF(AN5778=\"\",\"\",IF(LEN(VLOOKUP(AN5778,Sifranti!BY:BZ,2,FALSE))=0,\"\",VLOOKUP(AN5778,Sifranti!BY:BZ,2,FALSE)))","v":""},{"$f":"IF(C5778=\"\",\"\",VLOOKUP(C5778,Sifranti!P:R,2,FALSE))","v":""},"","",{"$f":"IF(C5778=\"\",\"\",VLOOKUP(C5778,Sifranti!P:R,3,FALSE))","v":""},{"$f":"IF(N5778=\"\",\"\",VLOOKUP(N5778,Sifranti!D:F,2,FALSE))","v":""},{"$f":"IF(AK5778=\"\",\"\",VLOOKUP(AK5778,Sifranti!V:Y,2,FALSE))","v":""},{"$f":"IF(AK5778=\"\",\"\",IF(VLOOKUP(AK5778,Sifranti!V:Y,3,FALSE)=\"\",\"\",VLOOKUP(AK5778,Sifranti!V:Y,3,FALSE)))","v":""},{"$f":"IF(AK5778=\"\",\"\",VLOOKUP(AK5778,Sifranti!V:Y,4,FALSE))","v":""}]
[{"$f":"IF(B5784=\"\",\"\",VLOOKUP(B5784,Sifranti!K:L,2,FALSE))","v":""},null,null,null,null,null,null,null,null,"",{"$f":"IF(L5784=\"\",\"\",VLOOKUP(L5784,Sifranti!A:B,2,FALSE))","v":""},null,{"$f":"IF(N5784=\"\",\"\",VLOOKUP(N5784,Sifranti!D:F,3,FALSE))","v":""},null,{"$f":"IF(P5784=\"\",\"\",VLOOKUP(P5784,Sifranti!H:I,2,FALSE))","v":""},null,null,null,null,null,null,null,null,null,null,null,null,null,null,null,null,null,null,null,null,null,null,null,null,null,{"$f":"IF(AN5784=\"\",\"\",IF(LEN(VLOOKUP(AN5784,Sifranti!BY:BZ,2,FALSE))=0,\"\",VLOOKUP(AN5784,Sifranti!BY:BZ,2,FALSE)))","v":""},{"$f":"IF(C5784=\"\",\"\",VLOOKUP(C5784,Sifranti!P:R,2,FALSE))","v":""},"","",{"$f":"IF(C5784=\"\",\"\",VLOOKUP(C5784,Sifranti!P:R,3,FALSE))","v":""},{"$f":"IF(N5784=\"\",\"\",VLOOKUP(N5784,Sifranti!D:F,2,FALSE))","v":""},{"$f":"IF(AK5784=\"\",\"\",VLOOKUP(AK5784,Sifranti!V:Y,2,FALSE))","v":""},{"$f":"IF(AK5784=\"\",\"\",IF(VLOOKUP(AK5784,Sifranti!V:Y,3,FALSE)=\"\",\"\",VLOOKUP(AK5784,Sifranti!V:Y,3,FALSE)))","v":""},{"$f":"IF(AK5784=\"\",\"\",VLOOKUP(AK5784,Sifranti!V:Y,4,FALSE))","v":""}]
[{"$f":"IF(B5793=\"\",\"\",VLOOKUP(B5793,Sifranti!K:L,2,FALSE))","v":""},null,null,null,null,null,null,null,null,"",{"$f":"IF(L5793=\"\",\"\",VLOOKUP(L5793,Sifranti!A:B,2,FALSE))","v":""},null,{"$f":"IF(N5793=\"\",\"\",VLOOKUP(N5793,Sifranti!D:F,3,FALSE))","v":""},null,{"$f":"IF(P5793=\"\",\"\",VLOOKUP(P5793,Sifranti!H:I,2,FALSE))","v":""},null,null,null,null,null,null,null,null,null,null,null,null,null,null,null,null,null,null,null,null,null,null,null,null,null,{"$f":"IF(AN5793=\"\",\"\",IF(LEN(VLOOKUP(AN5793,Sifranti!BY:BZ,2,FALSE))=0,\"\",VLOOKUP(AN5793,Sifranti!BY:BZ,2,FALSE)))","v":""},{"$f":"IF(C5793=\"\",\"\",VLOOKUP(C5793,Sifranti!P:R,2,FALSE))","v":""},"","",{"$f":"IF(C5793=\"\",\"\",VLOOKUP(C5793,Sifranti!P:R,3,FALSE))","v":""},{"$f":"IF(N5793=\"\",\"\",VLOOKUP(N5793,Sifranti!D:F,2,FALSE))","v":""},{"$f":"IF(AK5793=\"\",\"\",VLOOKUP(AK5793,Sifranti!V:Y,2,FALSE))","v":""},{"$f":"IF(AK5793=\"\",\"\",IF(VLOOKUP(AK5793,Sifranti!V:Y,3,FALSE)=\"\",\"\",VLOOKUP(AK5793,Sifranti!V:Y,3,FALSE)))","v":""},{"$f":"IF(AK5793=\"\",\"\",VLOOKUP(AK5793,Sifranti!V:Y,4,FALSE))","v":""}]
[{"$f":"IF(B5810=\"\",\"\",VLOOKUP(B5810,Sifranti!K:L,2,FALSE))","v":""},null,null,null,null,null,null,null,null,"",{"$f":"IF(L5810=\"\",\"\",VLOOKUP(L5810,Sifranti!A:B,2,FALSE))","v":""},null,{"$f":"IF(N5810=\"\",\"\",VLOOKUP(N5810,Sifranti!D:F,3,FALSE))","v":""},null,{"$f":"IF(P5810=\"\",\"\",VLOOKUP(P5810,Sifranti!H:I,2,FALSE))","v":""},null,null,null,null,null,null,null,null,null,null,null,null,null,null,null,null,null,null,null,null,null,null,null,null,null,{"$f":"IF(AN5810=\"\",\"\",IF(LEN(VLOOKUP(AN5810,Sifranti!BY:BZ,2,FALSE))=0,\"\",VLOOKUP(AN5810,Sifranti!BY:BZ,2,FALSE)))","v":""},{"$f":"IF(C5810=\"\",\"\",VLOOKUP(C5810,Sifranti!P:R,2,FALSE))","v":""},"","",{"$f":"IF(C5810=\"\",\"\",VLOOKUP(C5810,Sifranti!P:R,3,FALSE))","v":""},{"$f":"IF(N5810=\"\",\"\",VLOOKUP(N5810,Sifranti!D:F,2,FALSE))","v":""},{"$f":"IF(AK5810=\"\",\"\",VLOOKUP(AK5810,Sifranti!V:Y,2,FALSE))","v":""},{"$f":"IF(AK5810=\"\",\"\",IF(VLOOKUP(AK5810,Sifranti!V:Y,3,FALSE)=\"\",\"\",VLOOKUP(AK5810,Sifranti!V:Y,3,FALSE)))","v":""},{"$f":"IF(AK5810=\"\",\"\",VLOOKUP(AK5810,Sifranti!V:Y,4,FALSE))","v":""}]
[{"$f":"IF(B5816=\"\",\"\",VLOOKUP(B5816,Sifranti!K:L,2,FALSE))","v":""},null,null,null,null,null,null,null,null,"",{"$f":"IF(L5816=\"\",\"\",VLOOKUP(L5816,Sifranti!A:B,2,FALSE))","v":""},null,{"$f":"IF(N5816=\"\",\"\",VLOOKUP(N5816,Sifranti!D:F,3,FALSE))","v":""},null,{"$f":"IF(P5816=\"\",\"\",VLOOKUP(P5816,Sifranti!H:I,2,FALSE))","v":""},null,null,null,null,null,null,null,null,null,null,null,null,null,null,null,null,null,null,null,null,null,null,null,null,null,{"$f":"IF(AN5816=\"\",\"\",IF(LEN(VLOOKUP(AN5816,Sifranti!BY:BZ,2,FALSE))=0,\"\",VLOOKUP(AN5816,Sifranti!BY:BZ,2,FALSE)))","v":""},{"$f":"IF(C5816=\"\",\"\",VLOOKUP(C5816,Sifranti!P:R,2,FALSE))","v":""},"","",{"$f":"IF(C5816=\"\",\"\",VLOOKUP(C5816,Sifranti!P:R,3,FALSE))","v":""},{"$f":"IF(N5816=\"\",\"\",VLOOKUP(N5816,Sifranti!D:F,2,FALSE))","v":""},{"$f":"IF(AK5816=\"\",\"\",VLOOKUP(AK5816,Sifranti!V:Y,2,FALSE))","v":""},{"$f":"IF(AK5816=\"\",\"\",IF(VLOOKUP(AK5816,Sifranti!V:Y,3,FALSE)=\"\",\"\",VLOOKUP(AK5816,Sifranti!V:Y,3,FALSE)))","v":""},{"$f":"IF(AK5816=\"\",\"\",VLOOKUP(AK5816,Sifranti!V:Y,4,FALSE))","v":""}]
[{"$f":"IF(B5826=\"\",\"\",VLOOKUP(B5826,Sifranti!K:L,2,FALSE))","v":""},null,null,null,null,null,null,null,null,{"$f":"IF(H5826=\"\",\"\",YEAR(H5826))","v":""},{"$f":"IF(L5826=\"\",\"\",VLOOKUP(L5826,Sifranti!A:B,2,FALSE))","v":""},null,{"$f":"IF(N5826=\"\",\"\",VLOOKUP(N5826,Sifranti!D:F,3,FALSE))","v":""},null,{"$f":"IF(P5826=\"\",\"\",VLOOKUP(P5826,Sifranti!H:I,2,FALSE))","v":""},null,null,null,null,null,null,null,null,null,null,null,null,null,null,null,null,null,null,null,null,null,null,null,null,null,{"$f":"IF(AN5826=\"\",\"\",IF(LEN(VLOOKUP(AN5826,Sifranti!BY:BZ,2,FALSE))=0,\"\",VLOOKUP(AN5826,Sifranti!BY:BZ,2,FALSE)))","v":""},{"$f":"IF(C5826=\"\",\"\",VLOOKUP(C5826,Sifranti!P:R,2,FALSE))","v":""},{"$f":"IF(V5826>0,IF(AS5826=\"de minimis\",T5826/S5826*100,U5826/AD5826*100),\"\")","v":""},{"$f":"IF(AE5826>0,AE5826/U5826*100,\"\")","v":""},{"$f":"IF(C5826=\"\",\"\",VLOOKUP(C5826,Sifranti!P:R,3,FALSE))","v":""},{"$f":"IF(N5826=\"\",\"\",VLOOKUP(N5826,Sifranti!D:F,2,FALSE))","v":""},{"$f":"IF(AK5826=\"\",\"\",VLOOKUP(AK5826,Sifranti!V:Y,2,FALSE))","v":""},{"$f":"IF(AK5826=\"\",\"\",IF(VLOOKUP(AK5826,Sifranti!V:Y,3,FALSE)=\"\",\"\",VLOOKUP(AK5826,Sifranti!V:Y,3,FALSE)))","v":""},{"$f":"IF(AK5826=\"\",\"\",VLOOKUP(AK5826,Sifranti!V:Y,4,FALSE))","v":""}]
[{"$f":"IF(B5838=\"\",\"\",VLOOKUP(B5838,Sifranti!K:L,2,FALSE))","v":""},null,null,null,null,null,null,null,null,"",{"$f":"IF(L5838=\"\",\"\",VLOOKUP(L5838,Sifranti!A:B,2,FALSE))","v":""},null,{"$f":"IF(N5838=\"\",\"\",VLOOKUP(N5838,Sifranti!D:F,3,FALSE))","v":""},null,{"$f":"IF(P5838=\"\",\"\",VLOOKUP(P5838,Sifranti!H:I,2,FALSE))","v":""},null,null,null,null,null,null,null,null,null,null,null,null,null,null,null,null,null,null,null,null,null,null,null,null,null,{"$f":"IF(AN5838=\"\",\"\",IF(LEN(VLOOKUP(AN5838,Sifranti!BY:BZ,2,FALSE))=0,\"\",VLOOKUP(AN5838,Sifranti!BY:BZ,2,FALSE)))","v":""},{"$f":"IF(C5838=\"\",\"\",VLOOKUP(C5838,Sifranti!P:R,2,FALSE))","v":""},"","",{"$f":"IF(C5838=\"\",\"\",VLOOKUP(C5838,Sifranti!P:R,3,FALSE))","v":""},{"$f":"IF(N5838=\"\",\"\",VLOOKUP(N5838,Sifranti!D:F,2,FALSE))","v":""},{"$f":"IF(AK5838=\"\",\"\",VLOOKUP(AK5838,Sifranti!V:Y,2,FALSE))","v":""},{"$f":"IF(AK5838=\"\",\"\",IF(VLOOKUP(AK5838,Sifranti!V:Y,3,FALSE)=\"\",\"\",VLOOKUP(AK5838,Sifranti!V:Y,3,FALSE)))","v":""},{"$f":"IF(AK5838=\"\",\"\",VLOOKUP(AK5838,Sifranti!V:Y,4,FALSE))","v":""}]
[{"$f":"IF(B5848=\"\",\"\",VLOOKUP(B5848,Sifranti!K:L,2,FALSE))","v":""},null,null,null,null,null,null,null,null,"",{"$f":"IF(L5848=\"\",\"\",VLOOKUP(L5848,Sifranti!A:B,2,FALSE))","v":""},null,{"$f":"IF(N5848=\"\",\"\",VLOOKUP(N5848,Sifranti!D:F,3,FALSE))","v":""},null,{"$f":"IF(P5848=\"\",\"\",VLOOKUP(P5848,Sifranti!H:I,2,FALSE))","v":""},null,null,null,null,null,null,null,null,null,null,null,null,null,null,null,null,null,null,null,null,null,null,null,null,null,{"$f":"IF(AN5848=\"\",\"\",IF(LEN(VLOOKUP(AN5848,Sifranti!BY:BZ,2,FALSE))=0,\"\",VLOOKUP(AN5848,Sifranti!BY:BZ,2,FALSE)))","v":""},{"$f":"IF(C5848=\"\",\"\",VLOOKUP(C5848,Sifranti!P:R,2,FALSE))","v":""},"","",{"$f":"IF(C5848=\"\",\"\",VLOOKUP(C5848,Sifranti!P:R,3,FALSE))","v":""},{"$f":"IF(N5848=\"\",\"\",VLOOKUP(N5848,Sifranti!D:F,2,FALSE))","v":""},{"$f":"IF(AK5848=\"\",\"\",VLOOKUP(AK5848,Sifranti!V:Y,2,FALSE))","v":""},{"$f":"IF(AK5848=\"\",\"\",IF(VLOOKUP(AK5848,Sifranti!V:Y,3,FALSE)=\"\",\"\",VLOOKUP(AK5848,Sifranti!V:Y,3,FALSE)))","v":""},{"$f":"IF(AK5848=\"\",\"\",VLOOKUP(AK5848,Sifranti!V:Y,4,FALSE))","v":""}]
[{"$f":"IF(B5858=\"\",\"\",VLOOKUP(B5858,Sifranti!K:L,2,FALSE))","v":""},null,null,null,null,null,null,null,null,"",{"$f":"IF(L5858=\"\",\"\",VLOOKUP(L5858,Sifranti!A:B,2,FALSE))","v":""},null,{"$f":"IF(N5858=\"\",\"\",VLOOKUP(N5858,Sifranti!D:F,3,FALSE))","v":""},null,{"$f":"IF(P5858=\"\",\"\",VLOOKUP(P5858,Sifranti!H:I,2,FALSE))","v":""},null,null,null,null,null,null,null,null,null,null,null,null,null,null,null,null,null,null,null,null,null,null,null,null,null,{"$f":"IF(AN5858=\"\",\"\",IF(LEN(VLOOKUP(AN5858,Sifranti!BY:BZ,2,FALSE))=0,\"\",VLOOKUP(AN5858,Sifranti!BY:BZ,2,FALSE)))","v":""},{"$f":"IF(C5858=\"\",\"\",VLOOKUP(C5858,Sifranti!P:R,2,FALSE))","v":""},"","",{"$f":"IF(C5858=\"\",\"\",VLOOKUP(C5858,Sifranti!P:R,3,FALSE))","v":""},{"$f":"IF(N5858=\"\",\"\",VLOOKUP(N5858,Sifranti!D:F,2,FALSE))","v":""},{"$f":"IF(AK5858=\"\",\"\",VLOOKUP(AK5858,Sifranti!V:Y,2,FALSE))","v":""},{"$f":"IF(AK5858=\"\",\"\",IF(VLOOKUP(AK5858,Sifranti!V:Y,3,FALSE)=\"\",\"\",VLOOKUP(AK5858,Sifranti!V:Y,3,FALSE)))","v":""},{"$f":"IF(AK5858=\"\",\"\",VLOOKUP(AK5858,Sifranti!V:Y,4,FALSE))","v":""}]
[{"$f":"IF(B5875=\"\",\"\",VLOOKUP(B5875,Sifranti!K:L,2,FALSE))","v":""},null,null,null,null,null,null,null,null,"",{"$f":"IF(L5875=\"\",\"\",VLOOKUP(L5875,Sifranti!A:B,2,FALSE))","v":""},null,{"$f":"IF(N5875=\"\",\"\",VLOOKUP(N5875,Sifranti!D:F,3,FALSE))","v":""},null,{"$f":"IF(P5875=\"\",\"\",VLOOKUP(P5875,Sifranti!H:I,2,FALSE))","v":""},null,null,null,null,null,null,null,null,null,null,null,null,null,null,null,null,null,null,null,null,null,null,null,null,null,{"$f":"IF(AN5875=\"\",\"\",IF(LEN(VLOOKUP(AN5875,Sifranti!BY:BZ,2,FALSE))=0,\"\",VLOOKUP(AN5875,Sifranti!BY:BZ,2,FALSE)))","v":""},{"$f":"IF(C5875=\"\",\"\",VLOOKUP(C5875,Sifranti!P:R,2,FALSE))","v":""},"","",{"$f":"IF(C5875=\"\",\"\",VLOOKUP(C5875,Sifranti!P:R,3,FALSE))","v":""},{"$f":"IF(N5875=\"\",\"\",VLOOKUP(N5875,Sifranti!D:F,2,FALSE))","v":""},{"$f":"IF(AK5875=\"\",\"\",VLOOKUP(AK5875,Sifranti!V:Y,2,FALSE))","v":""},{"$f":"IF(AK5875=\"\",\"\",IF(VLOOKUP(AK5875,Sifranti!V:Y,3,FALSE)=\"\",\"\",VLOOKUP(AK5875,Sifranti!V:Y,3,FALSE)))","v":""},{"$f":"IF(AK5875=\"\",\"\",VLOOKUP(AK5875,Sifranti!V:Y,4,FALSE))","v":""}]
[{"$f":"IF(B5876=\"\",\"\",VLOOKUP(B5876,Sifranti!K:L,2,FALSE))","v":""},null,null,null,null,null,null,null,null,"",{"$f":"IF(L5876=\"\",\"\",VLOOKUP(L5876,Sifranti!A:B,2,FALSE))","v":""},null,{"$f":"IF(N5876=\"\",\"\",VLOOKUP(N5876,Sifranti!D:F,3,FALSE))","v":""},null,{"$f":"IF(P5876=\"\",\"\",VLOOKUP(P5876,Sifranti!H:I,2,FALSE))","v":""},null,null,null,null,null,null,null,null,null,null,null,null,null,null,null,null,null,null,null,null,null,null,null,null,null,{"$f":"IF(AN5876=\"\",\"\",IF(LEN(VLOOKUP(AN5876,Sifranti!BY:BZ,2,FALSE))=0,\"\",VLOOKUP(AN5876,Sifranti!BY:BZ,2,FALSE)))","v":""},{"$f":"IF(C5876=\"\",\"\",VLOOKUP(C5876,Sifranti!P:R,2,FALSE))","v":""},"","",{"$f":"IF(C5876=\"\",\"\",VLOOKUP(C5876,Sifranti!P:R,3,FALSE))","v":""},{"$f":"IF(N5876=\"\",\"\",VLOOKUP(N5876,Sifranti!D:F,2,FALSE))","v":""},{"$f":"IF(AK5876=\"\",\"\",VLOOKUP(AK5876,Sifranti!V:Y,2,FALSE))","v":""},{"$f":"IF(AK5876=\"\",\"\",IF(VLOOKUP(AK5876,Sifranti!V:Y,3,FALSE)=\"\",\"\",VLOOKUP(AK5876,Sifranti!V:Y,3,FALSE)))","v":""},{"$f":"IF(AK5876=\"\",\"\",VLOOKUP(AK5876,Sifranti!V:Y,4,FALSE))","v":""}]
[{"$f":"IF(B5877=\"\",\"\",VLOOKUP(B5877,Sifranti!K:L,2,FALSE))","v":""},null,null,null,null,null,null,null,null,"",{"$f":"IF(L5877=\"\",\"\",VLOOKUP(L5877,Sifranti!A:B,2,FALSE))","v":""},null,{"$f":"IF(N5877=\"\",\"\",VLOOKUP(N5877,Sifranti!D:F,3,FALSE))","v":""},null,{"$f":"IF(P5877=\"\",\"\",VLOOKUP(P5877,Sifranti!H:I,2,FALSE))","v":""},null,null,null,null,null,null,null,null,null,null,null,null,null,null,null,null,null,null,null,null,null,null,null,null,null,{"$f":"IF(AN5877=\"\",\"\",IF(LEN(VLOOKUP(AN5877,Sifranti!BY:BZ,2,FALSE))=0,\"\",VLOOKUP(AN5877,Sifranti!BY:BZ,2,FALSE)))","v":""},{"$f":"IF(C5877=\"\",\"\",VLOOKUP(C5877,Sifranti!P:R,2,FALSE))","v":""},"","",{"$f":"IF(C5877=\"\",\"\",VLOOKUP(C5877,Sifranti!P:R,3,FALSE))","v":""},{"$f":"IF(N5877=\"\",\"\",VLOOKUP(N5877,Sifranti!D:F,2,FALSE))","v":""},{"$f":"IF(AK5877=\"\",\"\",VLOOKUP(AK5877,Sifranti!V:Y,2,FALSE))","v":""},{"$f":"IF(AK5877=\"\",\"\",IF(VLOOKUP(AK5877,Sifranti!V:Y,3,FALSE)=\"\",\"\",VLOOKUP(AK5877,Sifranti!V:Y,3,FALSE)))","v":""},{"$f":"IF(AK5877=\"\",\"\",VLOOKUP(AK5877,Sifranti!V:Y,4,FALSE))","v":""}]
[{"$f":"IF(B5878=\"\",\"\",VLOOKUP(B5878,Sifranti!K:L,2,FALSE))","v":""},null,null,null,null,null,null,null,null,"",{"$f":"IF(L5878=\"\",\"\",VLOOKUP(L5878,Sifranti!A:B,2,FALSE))","v":""},null,{"$f":"IF(N5878=\"\",\"\",VLOOKUP(N5878,Sifranti!D:F,3,FALSE))","v":""},null,{"$f":"IF(P5878=\"\",\"\",VLOOKUP(P5878,Sifranti!H:I,2,FALSE))","v":""},null,null,null,null,null,null,null,null,null,null,null,null,null,null,null,null,null,null,null,null,null,null,null,null,null,{"$f":"IF(AN5878=\"\",\"\",IF(LEN(VLOOKUP(AN5878,Sifranti!BY:BZ,2,FALSE))=0,\"\",VLOOKUP(AN5878,Sifranti!BY:BZ,2,FALSE)))","v":""},{"$f":"IF(C5878=\"\",\"\",VLOOKUP(C5878,Sifranti!P:R,2,FALSE))","v":""},"","",{"$f":"IF(C5878=\"\",\"\",VLOOKUP(C5878,Sifranti!P:R,3,FALSE))","v":""},{"$f":"IF(N5878=\"\",\"\",VLOOKUP(N5878,Sifranti!D:F,2,FALSE))","v":""},{"$f":"IF(AK5878=\"\",\"\",VLOOKUP(AK5878,Sifranti!V:Y,2,FALSE))","v":""},{"$f":"IF(AK5878=\"\",\"\",IF(VLOOKUP(AK5878,Sifranti!V:Y,3,FALSE)=\"\",\"\",VLOOKUP(AK5878,Sifranti!V:Y,3,FALSE)))","v":""},{"$f":"IF(AK5878=\"\",\"\",VLOOKUP(AK5878,Sifranti!V:Y,4,FALSE))","v":""}]
[{"$f":"IF(B5879=\"\",\"\",VLOOKUP(B5879,Sifranti!K:L,2,FALSE))","v":""},null,null,null,null,null,null,null,null,"",{"$f":"IF(L5879=\"\",\"\",VLOOKUP(L5879,Sifranti!A:B,2,FALSE))","v":""},null,{"$f":"IF(N5879=\"\",\"\",VLOOKUP(N5879,Sifranti!D:F,3,FALSE))","v":""},null,{"$f":"IF(P5879=\"\",\"\",VLOOKUP(P5879,Sifranti!H:I,2,FALSE))","v":""},null,null,null,null,null,null,null,null,null,null,null,null,null,null,null,null,null,null,null,null,null,null,null,null,null,{"$f":"IF(AN5879=\"\",\"\",IF(LEN(VLOOKUP(AN5879,Sifranti!BY:BZ,2,FALSE))=0,\"\",VLOOKUP(AN5879,Sifranti!BY:BZ,2,FALSE)))","v":""},{"$f":"IF(C5879=\"\",\"\",VLOOKUP(C5879,Sifranti!P:R,2,FALSE))","v":""},"","",{"$f":"IF(C5879=\"\",\"\",VLOOKUP(C5879,Sifranti!P:R,3,FALSE))","v":""},{"$f":"IF(N5879=\"\",\"\",VLOOKUP(N5879,Sifranti!D:F,2,FALSE))","v":""},{"$f":"IF(AK5879=\"\",\"\",VLOOKUP(AK5879,Sifranti!V:Y,2,FALSE))","v":""},{"$f":"IF(AK5879=\"\",\"\",IF(VLOOKUP(AK5879,Sifranti!V:Y,3,FALSE)=\"\",\"\",VLOOKUP(AK5879,Sifranti!V:Y,3,FALSE)))","v":""},{"$f":"IF(AK5879=\"\",\"\",VLOOKUP(AK5879,Sifranti!V:Y,4,FALSE))","v":""}]
[{"$f":"IF(B5880=\"\",\"\",VLOOKUP(B5880,Sifranti!K:L,2,FALSE))","v":""},null,null,null,null,null,null,null,null,"",{"$f":"IF(L5880=\"\",\"\",VLOOKUP(L5880,Sifranti!A:B,2,FALSE))","v":""},null,{"$f":"IF(N5880=\"\",\"\",VLOOKUP(N5880,Sifranti!D:F,3,FALSE))","v":""},null,{"$f":"IF(P5880=\"\",\"\",VLOOKUP(P5880,Sifranti!H:I,2,FALSE))","v":""},null,null,null,null,null,null,null,null,null,null,null,null,null,null,null,null,null,null,null,null,null,null,null,null,null,{"$f":"IF(AN5880=\"\",\"\",IF(LEN(VLOOKUP(AN5880,Sifranti!BY:BZ,2,FALSE))=0,\"\",VLOOKUP(AN5880,Sifranti!BY:BZ,2,FALSE)))","v":""},{"$f":"IF(C5880=\"\",\"\",VLOOKUP(C5880,Sifranti!P:R,2,FALSE))","v":""},"","",{"$f":"IF(C5880=\"\",\"\",VLOOKUP(C5880,Sifranti!P:R,3,FALSE))","v":""},{"$f":"IF(N5880=\"\",\"\",VLOOKUP(N5880,Sifranti!D:F,2,FALSE))","v":""},{"$f":"IF(AK5880=\"\",\"\",VLOOKUP(AK5880,Sifranti!V:Y,2,FALSE))","v":""},{"$f":"IF(AK5880=\"\",\"\",IF(VLOOKUP(AK5880,Sifranti!V:Y,3,FALSE)=\"\",\"\",VLOOKUP(AK5880,Sifranti!V:Y,3,FALSE)))","v":""},{"$f":"IF(AK5880=\"\",\"\",VLOOKUP(AK5880,Sifranti!V:Y,4,FALSE))","v":""}]
[{"$f":"IF(B5881=\"\",\"\",VLOOKUP(B5881,Sifranti!K:L,2,FALSE))","v":""},null,null,null,null,null,null,null,null,"",{"$f":"IF(L5881=\"\",\"\",VLOOKUP(L5881,Sifranti!A:B,2,FALSE))","v":""},null,{"$f":"IF(N5881=\"\",\"\",VLOOKUP(N5881,Sifranti!D:F,3,FALSE))","v":""},null,{"$f":"IF(P5881=\"\",\"\",VLOOKUP(P5881,Sifranti!H:I,2,FALSE))","v":""},null,null,null,null,null,null,null,null,null,null,null,null,null,null,null,null,null,null,null,null,null,null,null,null,null,{"$f":"IF(AN5881=\"\",\"\",IF(LEN(VLOOKUP(AN5881,Sifranti!BY:BZ,2,FALSE))=0,\"\",VLOOKUP(AN5881,Sifranti!BY:BZ,2,FALSE)))","v":""},{"$f":"IF(C5881=\"\",\"\",VLOOKUP(C5881,Sifranti!P:R,2,FALSE))","v":""},"","",{"$f":"IF(C5881=\"\",\"\",VLOOKUP(C5881,Sifranti!P:R,3,FALSE))","v":""},{"$f":"IF(N5881=\"\",\"\",VLOOKUP(N5881,Sifranti!D:F,2,FALSE))","v":""},{"$f":"IF(AK5881=\"\",\"\",VLOOKUP(AK5881,Sifranti!V:Y,2,FALSE))","v":""},{"$f":"IF(AK5881=\"\",\"\",IF(VLOOKUP(AK5881,Sifranti!V:Y,3,FALSE)=\"\",\"\",VLOOKUP(AK5881,Sifranti!V:Y,3,FALSE)))","v":""},{"$f":"IF(AK5881=\"\",\"\",VLOOKUP(AK5881,Sifranti!V:Y,4,FALSE))","v":""}]
[{"$f":"IF(B5882=\"\",\"\",VLOOKUP(B5882,Sifranti!K:L,2,FALSE))","v":""},null,null,null,null,null,null,null,null,"",{"$f":"IF(L5882=\"\",\"\",VLOOKUP(L5882,Sifranti!A:B,2,FALSE))","v":""},null,{"$f":"IF(N5882=\"\",\"\",VLOOKUP(N5882,Sifranti!D:F,3,FALSE))","v":""},null,{"$f":"IF(P5882=\"\",\"\",VLOOKUP(P5882,Sifranti!H:I,2,FALSE))","v":""},null,null,null,null,null,null,null,null,null,null,null,null,null,null,null,null,null,null,null,null,null,null,null,null,null,{"$f":"IF(AN5882=\"\",\"\",IF(LEN(VLOOKUP(AN5882,Sifranti!BY:BZ,2,FALSE))=0,\"\",VLOOKUP(AN5882,Sifranti!BY:BZ,2,FALSE)))","v":""},{"$f":"IF(C5882=\"\",\"\",VLOOKUP(C5882,Sifranti!P:R,2,FALSE))","v":""},"","",{"$f":"IF(C5882=\"\",\"\",VLOOKUP(C5882,Sifranti!P:R,3,FALSE))","v":""},{"$f":"IF(N5882=\"\",\"\",VLOOKUP(N5882,Sifranti!D:F,2,FALSE))","v":""},{"$f":"IF(AK5882=\"\",\"\",VLOOKUP(AK5882,Sifranti!V:Y,2,FALSE))","v":""},{"$f":"IF(AK5882=\"\",\"\",IF(VLOOKUP(AK5882,Sifranti!V:Y,3,FALSE)=\"\",\"\",VLOOKUP(AK5882,Sifranti!V:Y,3,FALSE)))","v":""},{"$f":"IF(AK5882=\"\",\"\",VLOOKUP(AK5882,Sifranti!V:Y,4,FALSE))","v":""}]
[{"$f":"IF(B5883=\"\",\"\",VLOOKUP(B5883,Sifranti!K:L,2,FALSE))","v":""},null,null,null,null,null,null,null,null,"",{"$f":"IF(L5883=\"\",\"\",VLOOKUP(L5883,Sifranti!A:B,2,FALSE))","v":""},null,{"$f":"IF(N5883=\"\",\"\",VLOOKUP(N5883,Sifranti!D:F,3,FALSE))","v":""},null,{"$f":"IF(P5883=\"\",\"\",VLOOKUP(P5883,Sifranti!H:I,2,FALSE))","v":""},null,null,null,null,null,null,null,null,null,null,null,null,null,null,null,null,null,null,null,null,null,null,null,null,null,{"$f":"IF(AN5883=\"\",\"\",IF(LEN(VLOOKUP(AN5883,Sifranti!BY:BZ,2,FALSE))=0,\"\",VLOOKUP(AN5883,Sifranti!BY:BZ,2,FALSE)))","v":""},{"$f":"IF(C5883=\"\",\"\",VLOOKUP(C5883,Sifranti!P:R,2,FALSE))","v":""},"","",{"$f":"IF(C5883=\"\",\"\",VLOOKUP(C5883,Sifranti!P:R,3,FALSE))","v":""},{"$f":"IF(N5883=\"\",\"\",VLOOKUP(N5883,Sifranti!D:F,2,FALSE))","v":""},{"$f":"IF(AK5883=\"\",\"\",VLOOKUP(AK5883,Sifranti!V:Y,2,FALSE))","v":""},{"$f":"IF(AK5883=\"\",\"\",IF(VLOOKUP(AK5883,Sifranti!V:Y,3,FALSE)=\"\",\"\",VLOOKUP(AK5883,Sifranti!V:Y,3,FALSE)))","v":""},{"$f":"IF(AK5883=\"\",\"\",VLOOKUP(AK5883,Sifranti!V:Y,4,FALSE))","v":""}]
[{"$f":"IF(B5884=\"\",\"\",VLOOKUP(B5884,Sifranti!K:L,2,FALSE))","v":""},null,null,null,null,null,null,null,null,"",{"$f":"IF(L5884=\"\",\"\",VLOOKUP(L5884,Sifranti!A:B,2,FALSE))","v":""},null,{"$f":"IF(N5884=\"\",\"\",VLOOKUP(N5884,Sifranti!D:F,3,FALSE))","v":""},null,{"$f":"IF(P5884=\"\",\"\",VLOOKUP(P5884,Sifranti!H:I,2,FALSE))","v":""},null,null,null,null,null,null,null,null,null,null,null,null,null,null,null,null,null,null,null,null,null,null,null,null,null,{"$f":"IF(AN5884=\"\",\"\",IF(LEN(VLOOKUP(AN5884,Sifranti!BY:BZ,2,FALSE))=0,\"\",VLOOKUP(AN5884,Sifranti!BY:BZ,2,FALSE)))","v":""},{"$f":"IF(C5884=\"\",\"\",VLOOKUP(C5884,Sifranti!P:R,2,FALSE))","v":""},"","",{"$f":"IF(C5884=\"\",\"\",VLOOKUP(C5884,Sifranti!P:R,3,FALSE))","v":""},{"$f":"IF(N5884=\"\",\"\",VLOOKUP(N5884,Sifranti!D:F,2,FALSE))","v":""},{"$f":"IF(AK5884=\"\",\"\",VLOOKUP(AK5884,Sifranti!V:Y,2,FALSE))","v":""},{"$f":"IF(AK5884=\"\",\"\",IF(VLOOKUP(AK5884,Sifranti!V:Y,3,FALSE)=\"\",\"\",VLOOKUP(AK5884,Sifranti!V:Y,3,FALSE)))","v":""},{"$f":"IF(AK5884=\"\",\"\",VLOOKUP(AK5884,Sifranti!V:Y,4,FALSE))","v":""}]
[{"$f":"IF(B5885=\"\",\"\",VLOOKUP(B5885,Sifranti!K:L,2,FALSE))","v":""},null,null,null,null,null,null,null,null,"",{"$f":"IF(L5885=\"\",\"\",VLOOKUP(L5885,Sifranti!A:B,2,FALSE))","v":""},null,{"$f":"IF(N5885=\"\",\"\",VLOOKUP(N5885,Sifranti!D:F,3,FALSE))","v":""},null,{"$f":"IF(P5885=\"\",\"\",VLOOKUP(P5885,Sifranti!H:I,2,FALSE))","v":""},null,null,null,null,null,null,null,null,null,null,null,null,null,null,null,null,null,null,null,null,null,null,null,null,null,{"$f":"IF(AN5885=\"\",\"\",IF(LEN(VLOOKUP(AN5885,Sifranti!BY:BZ,2,FALSE))=0,\"\",VLOOKUP(AN5885,Sifranti!BY:BZ,2,FALSE)))","v":""},{"$f":"IF(C5885=\"\",\"\",VLOOKUP(C5885,Sifranti!P:R,2,FALSE))","v":""},"","",{"$f":"IF(C5885=\"\",\"\",VLOOKUP(C5885,Sifranti!P:R,3,FALSE))","v":""},{"$f":"IF(N5885=\"\",\"\",VLOOKUP(N5885,Sifranti!D:F,2,FALSE))","v":""},{"$f":"IF(AK5885=\"\",\"\",VLOOKUP(AK5885,Sifranti!V:Y,2,FALSE))","v":""},{"$f":"IF(AK5885=\"\",\"\",IF(VLOOKUP(AK5885,Sifranti!V:Y,3,FALSE)=\"\",\"\",VLOOKUP(AK5885,Sifranti!V:Y,3,FALSE)))","v":""},{"$f":"IF(AK5885=\"\",\"\",VLOOKUP(AK5885,Sifranti!V:Y,4,FALSE))","v":""}]
[{"$f":"IF(B5886=\"\",\"\",VLOOKUP(B5886,Sifranti!K:L,2,FALSE))","v":""},null,null,null,null,null,null,null,null,"",{"$f":"IF(L5886=\"\",\"\",VLOOKUP(L5886,Sifranti!A:B,2,FALSE))","v":""},null,{"$f":"IF(N5886=\"\",\"\",VLOOKUP(N5886,Sifranti!D:F,3,FALSE))","v":""},null,{"$f":"IF(P5886=\"\",\"\",VLOOKUP(P5886,Sifranti!H:I,2,FALSE))","v":""},null,null,null,null,null,null,null,null,null,null,null,null,null,null,null,null,null,null,null,null,null,null,null,null,null,{"$f":"IF(AN5886=\"\",\"\",IF(LEN(VLOOKUP(AN5886,Sifranti!BY:BZ,2,FALSE))=0,\"\",VLOOKUP(AN5886,Sifranti!BY:BZ,2,FALSE)))","v":""},{"$f":"IF(C5886=\"\",\"\",VLOOKUP(C5886,Sifranti!P:R,2,FALSE))","v":""},"","",{"$f":"IF(C5886=\"\",\"\",VLOOKUP(C5886,Sifranti!P:R,3,FALSE))","v":""},{"$f":"IF(N5886=\"\",\"\",VLOOKUP(N5886,Sifranti!D:F,2,FALSE))","v":""},{"$f":"IF(AK5886=\"\",\"\",VLOOKUP(AK5886,Sifranti!V:Y,2,FALSE))","v":""},{"$f":"IF(AK5886=\"\",\"\",IF(VLOOKUP(AK5886,Sifranti!V:Y,3,FALSE)=\"\",\"\",VLOOKUP(AK5886,Sifranti!V:Y,3,FALSE)))","v":""},{"$f":"IF(AK5886=\"\",\"\",VLOOKUP(AK5886,Sifranti!V:Y,4,FALSE))","v":""}]
[{"$f":"IF(B5887=\"\",\"\",VLOOKUP(B5887,Sifranti!K:L,2,FALSE))","v":""},null,null,null,null,null,null,null,null,"",{"$f":"IF(L5887=\"\",\"\",VLOOKUP(L5887,Sifranti!A:B,2,FALSE))","v":""},null,{"$f":"IF(N5887=\"\",\"\",VLOOKUP(N5887,Sifranti!D:F,3,FALSE))","v":""},null,{"$f":"IF(P5887=\"\",\"\",VLOOKUP(P5887,Sifranti!H:I,2,FALSE))","v":""},null,null,null,null,null,null,null,null,null,null,null,null,null,null,null,null,null,null,null,null,null,null,null,null,null,{"$f":"IF(AN5887=\"\",\"\",IF(LEN(VLOOKUP(AN5887,Sifranti!BY:BZ,2,FALSE))=0,\"\",VLOOKUP(AN5887,Sifranti!BY:BZ,2,FALSE)))","v":""},{"$f":"IF(C5887=\"\",\"\",VLOOKUP(C5887,Sifranti!P:R,2,FALSE))","v":""},"","",{"$f":"IF(C5887=\"\",\"\",VLOOKUP(C5887,Sifranti!P:R,3,FALSE))","v":""},{"$f":"IF(N5887=\"\",\"\",VLOOKUP(N5887,Sifranti!D:F,2,FALSE))","v":""},{"$f":"IF(AK5887=\"\",\"\",VLOOKUP(AK5887,Sifranti!V:Y,2,FALSE))","v":""},{"$f":"IF(AK5887=\"\",\"\",IF(VLOOKUP(AK5887,Sifranti!V:Y,3,FALSE)=\"\",\"\",VLOOKUP(AK5887,Sifranti!V:Y,3,FALSE)))","v":""},{"$f":"IF(AK5887=\"\",\"\",VLOOKUP(AK5887,Sifranti!V:Y,4,FALSE))","v":""}]
[{"$f":"IF(B5888=\"\",\"\",VLOOKUP(B5888,Sifranti!K:L,2,FALSE))","v":""},null,null,null,null,null,null,null,null,"",{"$f":"IF(L5888=\"\",\"\",VLOOKUP(L5888,Sifranti!A:B,2,FALSE))","v":""},null,{"$f":"IF(N5888=\"\",\"\",VLOOKUP(N5888,Sifranti!D:F,3,FALSE))","v":""},null,{"$f":"IF(P5888=\"\",\"\",VLOOKUP(P5888,Sifranti!H:I,2,FALSE))","v":""},null,null,null,null,null,null,null,null,null,null,null,null,null,null,null,null,null,null,null,null,null,null,null,null,null,{"$f":"IF(AN5888=\"\",\"\",IF(LEN(VLOOKUP(AN5888,Sifranti!BY:BZ,2,FALSE))=0,\"\",VLOOKUP(AN5888,Sifranti!BY:BZ,2,FALSE)))","v":""},{"$f":"IF(C5888=\"\",\"\",VLOOKUP(C5888,Sifranti!P:R,2,FALSE))","v":""},"","",{"$f":"IF(C5888=\"\",\"\",VLOOKUP(C5888,Sifranti!P:R,3,FALSE))","v":""},{"$f":"IF(N5888=\"\",\"\",VLOOKUP(N5888,Sifranti!D:F,2,FALSE))","v":""},{"$f":"IF(AK5888=\"\",\"\",VLOOKUP(AK5888,Sifranti!V:Y,2,FALSE))","v":""},{"$f":"IF(AK5888=\"\",\"\",IF(VLOOKUP(AK5888,Sifranti!V:Y,3,FALSE)=\"\",\"\",VLOOKUP(AK5888,Sifranti!V:Y,3,FALSE)))","v":""},{"$f":"IF(AK5888=\"\",\"\",VLOOKUP(AK5888,Sifranti!V:Y,4,FALSE))","v":""}]
[{"$f":"IF(B5889=\"\",\"\",VLOOKUP(B5889,Sifranti!K:L,2,FALSE))","v":""},null,null,null,null,null,null,null,null,"",{"$f":"IF(L5889=\"\",\"\",VLOOKUP(L5889,Sifranti!A:B,2,FALSE))","v":""},null,{"$f":"IF(N5889=\"\",\"\",VLOOKUP(N5889,Sifranti!D:F,3,FALSE))","v":""},null,{"$f":"IF(P5889=\"\",\"\",VLOOKUP(P5889,Sifranti!H:I,2,FALSE))","v":""},null,null,null,null,null,null,null,null,null,null,null,null,null,null,null,null,null,null,null,null,null,null,null,null,null,{"$f":"IF(AN5889=\"\",\"\",IF(LEN(VLOOKUP(AN5889,Sifranti!BY:BZ,2,FALSE))=0,\"\",VLOOKUP(AN5889,Sifranti!BY:BZ,2,FALSE)))","v":""},{"$f":"IF(C5889=\"\",\"\",VLOOKUP(C5889,Sifranti!P:R,2,FALSE))","v":""},"","",{"$f":"IF(C5889=\"\",\"\",VLOOKUP(C5889,Sifranti!P:R,3,FALSE))","v":""},{"$f":"IF(N5889=\"\",\"\",VLOOKUP(N5889,Sifranti!D:F,2,FALSE))","v":""},{"$f":"IF(AK5889=\"\",\"\",VLOOKUP(AK5889,Sifranti!V:Y,2,FALSE))","v":""},{"$f":"IF(AK5889=\"\",\"\",IF(VLOOKUP(AK5889,Sifranti!V:Y,3,FALSE)=\"\",\"\",VLOOKUP(AK5889,Sifranti!V:Y,3,FALSE)))","v":""},{"$f":"IF(AK5889=\"\",\"\",VLOOKUP(AK5889,Sifranti!V:Y,4,FALSE))","v":""}]
[{"$f":"IF(B5890=\"\",\"\",VLOOKUP(B5890,Sifranti!K:L,2,FALSE))","v":""},null,null,null,null,null,null,null,null,{"$f":"IF(H5890=\"\",\"\",YEAR(H5890))","v":""},{"$f":"IF(L5890=\"\",\"\",VLOOKUP(L5890,Sifranti!A:B,2,FALSE))","v":""},null,{"$f":"IF(N5890=\"\",\"\",VLOOKUP(N5890,Sifranti!D:F,3,FALSE))","v":""},null,{"$f":"IF(P5890=\"\",\"\",VLOOKUP(P5890,Sifranti!H:I,2,FALSE))","v":""},null,null,null,null,null,null,null,null,null,null,null,null,null,null,null,null,null,null,null,null,null,null,null,null,null,{"$f":"IF(AN5890=\"\",\"\",IF(LEN(VLOOKUP(AN5890,Sifranti!BY:BZ,2,FALSE))=0,\"\",VLOOKUP(AN5890,Sifranti!BY:BZ,2,FALSE)))","v":""},{"$f":"IF(C5890=\"\",\"\",VLOOKUP(C5890,Sifranti!P:R,2,FALSE))","v":""},{"$f":"IF(V5890>0,IF(AS5890=\"de minimis\",T5890/S5890*100,U5890/AD5890*100),\"\")","v":""},{"$f":"IF(AE5890>0,AE5890/U5890*100,\"\")","v":""},{"$f":"IF(C5890=\"\",\"\",VLOOKUP(C5890,Sifranti!P:R,3,FALSE))","v":""},{"$f":"IF(N5890=\"\",\"\",VLOOKUP(N5890,Sifranti!D:F,2,FALSE))","v":""},{"$f":"IF(AK5890=\"\",\"\",VLOOKUP(AK5890,Sifranti!V:Y,2,FALSE))","v":""},{"$f":"IF(AK5890=\"\",\"\",IF(VLOOKUP(AK5890,Sifranti!V:Y,3,FALSE)=\"\",\"\",VLOOKUP(AK5890,Sifranti!V:Y,3,FALSE)))","v":""},{"$f":"IF(AK5890=\"\",\"\",VLOOKUP(AK5890,Sifranti!V:Y,4,FALSE))","v":""}]
[{"$f":"IF(B5891=\"\",\"\",VLOOKUP(B5891,Sifranti!K:L,2,FALSE))","v":""},null,null,null,null,null,null,null,null,"",{"$f":"IF(L5891=\"\",\"\",VLOOKUP(L5891,Sifranti!A:B,2,FALSE))","v":""},null,{"$f":"IF(N5891=\"\",\"\",VLOOKUP(N5891,Sifranti!D:F,3,FALSE))","v":""},null,{"$f":"IF(P5891=\"\",\"\",VLOOKUP(P5891,Sifranti!H:I,2,FALSE))","v":""},null,null,null,null,null,null,null,null,null,null,null,null,null,null,null,null,null,null,null,null,null,null,null,null,null,{"$f":"IF(AN5891=\"\",\"\",IF(LEN(VLOOKUP(AN5891,Sifranti!BY:BZ,2,FALSE))=0,\"\",VLOOKUP(AN5891,Sifranti!BY:BZ,2,FALSE)))","v":""},{"$f":"IF(C5891=\"\",\"\",VLOOKUP(C5891,Sifranti!P:R,2,FALSE))","v":""},"","",{"$f":"IF(C5891=\"\",\"\",VLOOKUP(C5891,Sifranti!P:R,3,FALSE))","v":""},{"$f":"IF(N5891=\"\",\"\",VLOOKUP(N5891,Sifranti!D:F,2,FALSE))","v":""},{"$f":"IF(AK5891=\"\",\"\",VLOOKUP(AK5891,Sifranti!V:Y,2,FALSE))","v":""},{"$f":"IF(AK5891=\"\",\"\",IF(VLOOKUP(AK5891,Sifranti!V:Y,3,FALSE)=\"\",\"\",VLOOKUP(AK5891,Sifranti!V:Y,3,FALSE)))","v":""},{"$f":"IF(AK5891=\"\",\"\",VLOOKUP(AK5891,Sifranti!V:Y,4,FALSE))","v":""}]
[{"$f":"IF(B5892=\"\",\"\",VLOOKUP(B5892,Sifranti!K:L,2,FALSE))","v":""},null,null,null,null,null,null,null,null,"",{"$f":"IF(L5892=\"\",\"\",VLOOKUP(L5892,Sifranti!A:B,2,FALSE))","v":""},null,{"$f":"IF(N5892=\"\",\"\",VLOOKUP(N5892,Sifranti!D:F,3,FALSE))","v":""},null,{"$f":"IF(P5892=\"\",\"\",VLOOKUP(P5892,Sifranti!H:I,2,FALSE))","v":""},null,null,null,null,null,null,null,null,null,null,null,null,null,null,null,null,null,null,null,null,null,null,null,null,null,{"$f":"IF(AN5892=\"\",\"\",IF(LEN(VLOOKUP(AN5892,Sifranti!BY:BZ,2,FALSE))=0,\"\",VLOOKUP(AN5892,Sifranti!BY:BZ,2,FALSE)))","v":""},{"$f":"IF(C5892=\"\",\"\",VLOOKUP(C5892,Sifranti!P:R,2,FALSE))","v":""},"","",{"$f":"IF(C5892=\"\",\"\",VLOOKUP(C5892,Sifranti!P:R,3,FALSE))","v":""},{"$f":"IF(N5892=\"\",\"\",VLOOKUP(N5892,Sifranti!D:F,2,FALSE))","v":""},{"$f":"IF(AK5892=\"\",\"\",VLOOKUP(AK5892,Sifranti!V:Y,2,FALSE))","v":""},{"$f":"IF(AK5892=\"\",\"\",IF(VLOOKUP(AK5892,Sifranti!V:Y,3,FALSE)=\"\",\"\",VLOOKUP(AK5892,Sifranti!V:Y,3,FALSE)))","v":""},{"$f":"IF(AK5892=\"\",\"\",VLOOKUP(AK5892,Sifranti!V:Y,4,FALSE))","v":""}]
[{"$f":"IF(B5893=\"\",\"\",VLOOKUP(B5893,Sifranti!K:L,2,FALSE))","v":""},null,null,null,null,null,null,null,null,"",{"$f":"IF(L5893=\"\",\"\",VLOOKUP(L5893,Sifranti!A:B,2,FALSE))","v":""},null,{"$f":"IF(N5893=\"\",\"\",VLOOKUP(N5893,Sifranti!D:F,3,FALSE))","v":""},null,{"$f":"IF(P5893=\"\",\"\",VLOOKUP(P5893,Sifranti!H:I,2,FALSE))","v":""},null,null,null,null,null,null,null,null,null,null,null,null,null,null,null,null,null,null,null,null,null,null,null,null,null,{"$f":"IF(AN5893=\"\",\"\",IF(LEN(VLOOKUP(AN5893,Sifranti!BY:BZ,2,FALSE))=0,\"\",VLOOKUP(AN5893,Sifranti!BY:BZ,2,FALSE)))","v":""},{"$f":"IF(C5893=\"\",\"\",VLOOKUP(C5893,Sifranti!P:R,2,FALSE))","v":""},"","",{"$f":"IF(C5893=\"\",\"\",VLOOKUP(C5893,Sifranti!P:R,3,FALSE))","v":""},{"$f":"IF(N5893=\"\",\"\",VLOOKUP(N5893,Sifranti!D:F,2,FALSE))","v":""},{"$f":"IF(AK5893=\"\",\"\",VLOOKUP(AK5893,Sifranti!V:Y,2,FALSE))","v":""},{"$f":"IF(AK5893=\"\",\"\",IF(VLOOKUP(AK5893,Sifranti!V:Y,3,FALSE)=\"\",\"\",VLOOKUP(AK5893,Sifranti!V:Y,3,FALSE)))","v":""},{"$f":"IF(AK5893=\"\",\"\",VLOOKUP(AK5893,Sifranti!V:Y,4,FALSE))","v":""}]
[{"$f":"IF(B5894=\"\",\"\",VLOOKUP(B5894,Sifranti!K:L,2,FALSE))","v":""},null,null,null,null,null,null,null,null,"",{"$f":"IF(L5894=\"\",\"\",VLOOKUP(L5894,Sifranti!A:B,2,FALSE))","v":""},null,{"$f":"IF(N5894=\"\",\"\",VLOOKUP(N5894,Sifranti!D:F,3,FALSE))","v":""},null,{"$f":"IF(P5894=\"\",\"\",VLOOKUP(P5894,Sifranti!H:I,2,FALSE))","v":""},null,null,null,null,null,null,null,null,null,null,null,null,null,null,null,null,null,null,null,null,null,null,null,null,null,{"$f":"IF(AN5894=\"\",\"\",IF(LEN(VLOOKUP(AN5894,Sifranti!BY:BZ,2,FALSE))=0,\"\",VLOOKUP(AN5894,Sifranti!BY:BZ,2,FALSE)))","v":""},{"$f":"IF(C5894=\"\",\"\",VLOOKUP(C5894,Sifranti!P:R,2,FALSE))","v":""},"","",{"$f":"IF(C5894=\"\",\"\",VLOOKUP(C5894,Sifranti!P:R,3,FALSE))","v":""},{"$f":"IF(N5894=\"\",\"\",VLOOKUP(N5894,Sifranti!D:F,2,FALSE))","v":""},{"$f":"IF(AK5894=\"\",\"\",VLOOKUP(AK5894,Sifranti!V:Y,2,FALSE))","v":""},{"$f":"IF(AK5894=\"\",\"\",IF(VLOOKUP(AK5894,Sifranti!V:Y,3,FALSE)=\"\",\"\",VLOOKUP(AK5894,Sifranti!V:Y,3,FALSE)))","v":""},{"$f":"IF(AK5894=\"\",\"\",VLOOKUP(AK5894,Sifranti!V:Y,4,FALSE))","v":""}]
[{"$f":"IF(B5895=\"\",\"\",VLOOKUP(B5895,Sifranti!K:L,2,FALSE))","v":""},null,null,null,null,null,null,null,null,"",{"$f":"IF(L5895=\"\",\"\",VLOOKUP(L5895,Sifranti!A:B,2,FALSE))","v":""},null,{"$f":"IF(N5895=\"\",\"\",VLOOKUP(N5895,Sifranti!D:F,3,FALSE))","v":""},null,{"$f":"IF(P5895=\"\",\"\",VLOOKUP(P5895,Sifranti!H:I,2,FALSE))","v":""},null,null,null,null,null,null,null,null,null,null,null,null,null,null,null,null,null,null,null,null,null,null,null,null,null,{"$f":"IF(AN5895=\"\",\"\",IF(LEN(VLOOKUP(AN5895,Sifranti!BY:BZ,2,FALSE))=0,\"\",VLOOKUP(AN5895,Sifranti!BY:BZ,2,FALSE)))","v":""},{"$f":"IF(C5895=\"\",\"\",VLOOKUP(C5895,Sifranti!P:R,2,FALSE))","v":""},"","",{"$f":"IF(C5895=\"\",\"\",VLOOKUP(C5895,Sifranti!P:R,3,FALSE))","v":""},{"$f":"IF(N5895=\"\",\"\",VLOOKUP(N5895,Sifranti!D:F,2,FALSE))","v":""},{"$f":"IF(AK5895=\"\",\"\",VLOOKUP(AK5895,Sifranti!V:Y,2,FALSE))","v":""},{"$f":"IF(AK5895=\"\",\"\",IF(VLOOKUP(AK5895,Sifranti!V:Y,3,FALSE)=\"\",\"\",VLOOKUP(AK5895,Sifranti!V:Y,3,FALSE)))","v":""},{"$f":"IF(AK5895=\"\",\"\",VLOOKUP(AK5895,Sifranti!V:Y,4,FALSE))","v":""}]
[{"$f":"IF(B5896=\"\",\"\",VLOOKUP(B5896,Sifranti!K:L,2,FALSE))","v":""},null,null,null,null,null,null,null,null,"",{"$f":"IF(L5896=\"\",\"\",VLOOKUP(L5896,Sifranti!A:B,2,FALSE))","v":""},null,{"$f":"IF(N5896=\"\",\"\",VLOOKUP(N5896,Sifranti!D:F,3,FALSE))","v":""},null,{"$f":"IF(P5896=\"\",\"\",VLOOKUP(P5896,Sifranti!H:I,2,FALSE))","v":""},null,null,null,null,null,null,null,null,null,null,null,null,null,null,null,null,null,null,null,null,null,null,null,null,null,{"$f":"IF(AN5896=\"\",\"\",IF(LEN(VLOOKUP(AN5896,Sifranti!BY:BZ,2,FALSE))=0,\"\",VLOOKUP(AN5896,Sifranti!BY:BZ,2,FALSE)))","v":""},{"$f":"IF(C5896=\"\",\"\",VLOOKUP(C5896,Sifranti!P:R,2,FALSE))","v":""},"","",{"$f":"IF(C5896=\"\",\"\",VLOOKUP(C5896,Sifranti!P:R,3,FALSE))","v":""},{"$f":"IF(N5896=\"\",\"\",VLOOKUP(N5896,Sifranti!D:F,2,FALSE))","v":""},{"$f":"IF(AK5896=\"\",\"\",VLOOKUP(AK5896,Sifranti!V:Y,2,FALSE))","v":""},{"$f":"IF(AK5896=\"\",\"\",IF(VLOOKUP(AK5896,Sifranti!V:Y,3,FALSE)=\"\",\"\",VLOOKUP(AK5896,Sifranti!V:Y,3,FALSE)))","v":""},{"$f":"IF(AK5896=\"\",\"\",VLOOKUP(AK5896,Sifranti!V:Y,4,FALSE))","v":""}]
[{"$f":"IF(B5897=\"\",\"\",VLOOKUP(B5897,Sifranti!K:L,2,FALSE))","v":""},null,null,null,null,null,null,null,null,"",{"$f":"IF(L5897=\"\",\"\",VLOOKUP(L5897,Sifranti!A:B,2,FALSE))","v":""},null,{"$f":"IF(N5897=\"\",\"\",VLOOKUP(N5897,Sifranti!D:F,3,FALSE))","v":""},null,{"$f":"IF(P5897=\"\",\"\",VLOOKUP(P5897,Sifranti!H:I,2,FALSE))","v":""},null,null,null,null,null,null,null,null,null,null,null,null,null,null,null,null,null,null,null,null,null,null,null,null,null,{"$f":"IF(AN5897=\"\",\"\",IF(LEN(VLOOKUP(AN5897,Sifranti!BY:BZ,2,FALSE))=0,\"\",VLOOKUP(AN5897,Sifranti!BY:BZ,2,FALSE)))","v":""},{"$f":"IF(C5897=\"\",\"\",VLOOKUP(C5897,Sifranti!P:R,2,FALSE))","v":""},"","",{"$f":"IF(C5897=\"\",\"\",VLOOKUP(C5897,Sifranti!P:R,3,FALSE))","v":""},{"$f":"IF(N5897=\"\",\"\",VLOOKUP(N5897,Sifranti!D:F,2,FALSE))","v":""},{"$f":"IF(AK5897=\"\",\"\",VLOOKUP(AK5897,Sifranti!V:Y,2,FALSE))","v":""},{"$f":"IF(AK5897=\"\",\"\",IF(VLOOKUP(AK5897,Sifranti!V:Y,3,FALSE)=\"\",\"\",VLOOKUP(AK5897,Sifranti!V:Y,3,FALSE)))","v":""},{"$f":"IF(AK5897=\"\",\"\",VLOOKUP(AK5897,Sifranti!V:Y,4,FALSE))","v":""}]
[{"$f":"IF(B5898=\"\",\"\",VLOOKUP(B5898,Sifranti!K:L,2,FALSE))","v":""},null,null,null,null,null,null,null,null,"",{"$f":"IF(L5898=\"\",\"\",VLOOKUP(L5898,Sifranti!A:B,2,FALSE))","v":""},null,{"$f":"IF(N5898=\"\",\"\",VLOOKUP(N5898,Sifranti!D:F,3,FALSE))","v":""},null,{"$f":"IF(P5898=\"\",\"\",VLOOKUP(P5898,Sifranti!H:I,2,FALSE))","v":""},null,null,null,null,null,null,null,null,null,null,null,null,null,null,null,null,null,null,null,null,null,null,null,null,null,{"$f":"IF(AN5898=\"\",\"\",IF(LEN(VLOOKUP(AN5898,Sifranti!BY:BZ,2,FALSE))=0,\"\",VLOOKUP(AN5898,Sifranti!BY:BZ,2,FALSE)))","v":""},{"$f":"IF(C5898=\"\",\"\",VLOOKUP(C5898,Sifranti!P:R,2,FALSE))","v":""},"","",{"$f":"IF(C5898=\"\",\"\",VLOOKUP(C5898,Sifranti!P:R,3,FALSE))","v":""},{"$f":"IF(N5898=\"\",\"\",VLOOKUP(N5898,Sifranti!D:F,2,FALSE))","v":""},{"$f":"IF(AK5898=\"\",\"\",VLOOKUP(AK5898,Sifranti!V:Y,2,FALSE))","v":""},{"$f":"IF(AK5898=\"\",\"\",IF(VLOOKUP(AK5898,Sifranti!V:Y,3,FALSE)=\"\",\"\",VLOOKUP(AK5898,Sifranti!V:Y,3,FALSE)))","v":""},{"$f":"IF(AK5898=\"\",\"\",VLOOKUP(AK5898,Sifranti!V:Y,4,FALSE))","v":""}]
[{"$f":"IF(B5899=\"\",\"\",VLOOKUP(B5899,Sifranti!K:L,2,FALSE))","v":""},null,null,null,null,null,null,null,null,"",{"$f":"IF(L5899=\"\",\"\",VLOOKUP(L5899,Sifranti!A:B,2,FALSE))","v":""},null,{"$f":"IF(N5899=\"\",\"\",VLOOKUP(N5899,Sifranti!D:F,3,FALSE))","v":""},null,{"$f":"IF(P5899=\"\",\"\",VLOOKUP(P5899,Sifranti!H:I,2,FALSE))","v":""},null,null,null,null,null,null,null,null,null,null,null,null,null,null,null,null,null,null,null,null,null,null,null,null,null,{"$f":"IF(AN5899=\"\",\"\",IF(LEN(VLOOKUP(AN5899,Sifranti!BY:BZ,2,FALSE))=0,\"\",VLOOKUP(AN5899,Sifranti!BY:BZ,2,FALSE)))","v":""},{"$f":"IF(C5899=\"\",\"\",VLOOKUP(C5899,Sifranti!P:R,2,FALSE))","v":""},"","",{"$f":"IF(C5899=\"\",\"\",VLOOKUP(C5899,Sifranti!P:R,3,FALSE))","v":""},{"$f":"IF(N5899=\"\",\"\",VLOOKUP(N5899,Sifranti!D:F,2,FALSE))","v":""},{"$f":"IF(AK5899=\"\",\"\",VLOOKUP(AK5899,Sifranti!V:Y,2,FALSE))","v":""},{"$f":"IF(AK5899=\"\",\"\",IF(VLOOKUP(AK5899,Sifranti!V:Y,3,FALSE)=\"\",\"\",VLOOKUP(AK5899,Sifranti!V:Y,3,FALSE)))","v":""},{"$f":"IF(AK5899=\"\",\"\",VLOOKUP(AK5899,Sifranti!V:Y,4,FALSE))","v":""}]
[{"$f":"IF(B5900=\"\",\"\",VLOOKUP(B5900,Sifranti!K:L,2,FALSE))","v":""},null,null,null,null,null,null,null,null,"",{"$f":"IF(L5900=\"\",\"\",VLOOKUP(L5900,Sifranti!A:B,2,FALSE))","v":""},null,{"$f":"IF(N5900=\"\",\"\",VLOOKUP(N5900,Sifranti!D:F,3,FALSE))","v":""},null,{"$f":"IF(P5900=\"\",\"\",VLOOKUP(P5900,Sifranti!H:I,2,FALSE))","v":""},null,null,null,null,null,null,null,null,null,null,null,null,null,null,null,null,null,null,null,null,null,null,null,null,null,{"$f":"IF(AN5900=\"\",\"\",IF(LEN(VLOOKUP(AN5900,Sifranti!BY:BZ,2,FALSE))=0,\"\",VLOOKUP(AN5900,Sifranti!BY:BZ,2,FALSE)))","v":""},{"$f":"IF(C5900=\"\",\"\",VLOOKUP(C5900,Sifranti!P:R,2,FALSE))","v":""},"","",{"$f":"IF(C5900=\"\",\"\",VLOOKUP(C5900,Sifranti!P:R,3,FALSE))","v":""},{"$f":"IF(N5900=\"\",\"\",VLOOKUP(N5900,Sifranti!D:F,2,FALSE))","v":""},{"$f":"IF(AK5900=\"\",\"\",VLOOKUP(AK5900,Sifranti!V:Y,2,FALSE))","v":""},{"$f":"IF(AK5900=\"\",\"\",IF(VLOOKUP(AK5900,Sifranti!V:Y,3,FALSE)=\"\",\"\",VLOOKUP(AK5900,Sifranti!V:Y,3,FALSE)))","v":""},{"$f":"IF(AK5900=\"\",\"\",VLOOKUP(AK5900,Sifranti!V:Y,4,FALSE))","v":""}]
[{"$f":"IF(B5901=\"\",\"\",VLOOKUP(B5901,Sifranti!K:L,2,FALSE))","v":""},null,null,null,null,null,null,null,null,"",{"$f":"IF(L5901=\"\",\"\",VLOOKUP(L5901,Sifranti!A:B,2,FALSE))","v":""},null,{"$f":"IF(N5901=\"\",\"\",VLOOKUP(N5901,Sifranti!D:F,3,FALSE))","v":""},null,{"$f":"IF(P5901=\"\",\"\",VLOOKUP(P5901,Sifranti!H:I,2,FALSE))","v":""},null,null,null,null,null,null,null,null,null,null,null,null,null,null,null,null,null,null,null,null,null,null,null,null,null,{"$f":"IF(AN5901=\"\",\"\",IF(LEN(VLOOKUP(AN5901,Sifranti!BY:BZ,2,FALSE))=0,\"\",VLOOKUP(AN5901,Sifranti!BY:BZ,2,FALSE)))","v":""},{"$f":"IF(C5901=\"\",\"\",VLOOKUP(C5901,Sifranti!P:R,2,FALSE))","v":""},"","",{"$f":"IF(C5901=\"\",\"\",VLOOKUP(C5901,Sifranti!P:R,3,FALSE))","v":""},{"$f":"IF(N5901=\"\",\"\",VLOOKUP(N5901,Sifranti!D:F,2,FALSE))","v":""},{"$f":"IF(AK5901=\"\",\"\",VLOOKUP(AK5901,Sifranti!V:Y,2,FALSE))","v":""},{"$f":"IF(AK5901=\"\",\"\",IF(VLOOKUP(AK5901,Sifranti!V:Y,3,FALSE)=\"\",\"\",VLOOKUP(AK5901,Sifranti!V:Y,3,FALSE)))","v":""},{"$f":"IF(AK5901=\"\",\"\",VLOOKUP(AK5901,Sifranti!V:Y,4,FALSE))","v":""}]
[{"$f":"IF(B5902=\"\",\"\",VLOOKUP(B5902,Sifranti!K:L,2,FALSE))","v":""},null,null,null,null,null,null,null,null,"",{"$f":"IF(L5902=\"\",\"\",VLOOKUP(L5902,Sifranti!A:B,2,FALSE))","v":""},null,{"$f":"IF(N5902=\"\",\"\",VLOOKUP(N5902,Sifranti!D:F,3,FALSE))","v":""},null,{"$f":"IF(P5902=\"\",\"\",VLOOKUP(P5902,Sifranti!H:I,2,FALSE))","v":""},null,null,null,null,null,null,null,null,null,null,null,null,null,null,null,null,null,null,null,null,null,null,null,null,null,{"$f":"IF(AN5902=\"\",\"\",IF(LEN(VLOOKUP(AN5902,Sifranti!BY:BZ,2,FALSE))=0,\"\",VLOOKUP(AN5902,Sifranti!BY:BZ,2,FALSE)))","v":""},{"$f":"IF(C5902=\"\",\"\",VLOOKUP(C5902,Sifranti!P:R,2,FALSE))","v":""},"","",{"$f":"IF(C5902=\"\",\"\",VLOOKUP(C5902,Sifranti!P:R,3,FALSE))","v":""},{"$f":"IF(N5902=\"\",\"\",VLOOKUP(N5902,Sifranti!D:F,2,FALSE))","v":""},{"$f":"IF(AK5902=\"\",\"\",VLOOKUP(AK5902,Sifranti!V:Y,2,FALSE))","v":""},{"$f":"IF(AK5902=\"\",\"\",IF(VLOOKUP(AK5902,Sifranti!V:Y,3,FALSE)=\"\",\"\",VLOOKUP(AK5902,Sifranti!V:Y,3,FALSE)))","v":""},{"$f":"IF(AK5902=\"\",\"\",VLOOKUP(AK5902,Sifranti!V:Y,4,FALSE))","v":""}]
[{"$f":"IF(B5903=\"\",\"\",VLOOKUP(B5903,Sifranti!K:L,2,FALSE))","v":""},null,null,null,null,null,null,null,null,"",{"$f":"IF(L5903=\"\",\"\",VLOOKUP(L5903,Sifranti!A:B,2,FALSE))","v":""},null,{"$f":"IF(N5903=\"\",\"\",VLOOKUP(N5903,Sifranti!D:F,3,FALSE))","v":""},null,{"$f":"IF(P5903=\"\",\"\",VLOOKUP(P5903,Sifranti!H:I,2,FALSE))","v":""},null,null,null,null,null,null,null,null,null,null,null,null,null,null,null,null,null,null,null,null,null,null,null,null,null,{"$f":"IF(AN5903=\"\",\"\",IF(LEN(VLOOKUP(AN5903,Sifranti!BY:BZ,2,FALSE))=0,\"\",VLOOKUP(AN5903,Sifranti!BY:BZ,2,FALSE)))","v":""},{"$f":"IF(C5903=\"\",\"\",VLOOKUP(C5903,Sifranti!P:R,2,FALSE))","v":""},"","",{"$f":"IF(C5903=\"\",\"\",VLOOKUP(C5903,Sifranti!P:R,3,FALSE))","v":""},{"$f":"IF(N5903=\"\",\"\",VLOOKUP(N5903,Sifranti!D:F,2,FALSE))","v":""},{"$f":"IF(AK5903=\"\",\"\",VLOOKUP(AK5903,Sifranti!V:Y,2,FALSE))","v":""},{"$f":"IF(AK5903=\"\",\"\",IF(VLOOKUP(AK5903,Sifranti!V:Y,3,FALSE)=\"\",\"\",VLOOKUP(AK5903,Sifranti!V:Y,3,FALSE)))","v":""},{"$f":"IF(AK5903=\"\",\"\",VLOOKUP(AK5903,Sifranti!V:Y,4,FALSE))","v":""}]
[{"$f":"IF(B5904=\"\",\"\",VLOOKUP(B5904,Sifranti!K:L,2,FALSE))","v":""},null,null,null,null,null,null,null,null,"",{"$f":"IF(L5904=\"\",\"\",VLOOKUP(L5904,Sifranti!A:B,2,FALSE))","v":""},null,{"$f":"IF(N5904=\"\",\"\",VLOOKUP(N5904,Sifranti!D:F,3,FALSE))","v":""},null,{"$f":"IF(P5904=\"\",\"\",VLOOKUP(P5904,Sifranti!H:I,2,FALSE))","v":""},null,null,null,null,null,null,null,null,null,null,null,null,null,null,null,null,null,null,null,null,null,null,null,null,null,{"$f":"IF(AN5904=\"\",\"\",IF(LEN(VLOOKUP(AN5904,Sifranti!BY:BZ,2,FALSE))=0,\"\",VLOOKUP(AN5904,Sifranti!BY:BZ,2,FALSE)))","v":""},{"$f":"IF(C5904=\"\",\"\",VLOOKUP(C5904,Sifranti!P:R,2,FALSE))","v":""},"","",{"$f":"IF(C5904=\"\",\"\",VLOOKUP(C5904,Sifranti!P:R,3,FALSE))","v":""},{"$f":"IF(N5904=\"\",\"\",VLOOKUP(N5904,Sifranti!D:F,2,FALSE))","v":""},{"$f":"IF(AK5904=\"\",\"\",VLOOKUP(AK5904,Sifranti!V:Y,2,FALSE))","v":""},{"$f":"IF(AK5904=\"\",\"\",IF(VLOOKUP(AK5904,Sifranti!V:Y,3,FALSE)=\"\",\"\",VLOOKUP(AK5904,Sifranti!V:Y,3,FALSE)))","v":""},{"$f":"IF(AK5904=\"\",\"\",VLOOKUP(AK5904,Sifranti!V:Y,4,FALSE))","v":""}]
[{"$f":"IF(B5905=\"\",\"\",VLOOKUP(B5905,Sifranti!K:L,2,FALSE))","v":""},null,null,null,null,null,null,null,null,"",{"$f":"IF(L5905=\"\",\"\",VLOOKUP(L5905,Sifranti!A:B,2,FALSE))","v":""},null,{"$f":"IF(N5905=\"\",\"\",VLOOKUP(N5905,Sifranti!D:F,3,FALSE))","v":""},null,{"$f":"IF(P5905=\"\",\"\",VLOOKUP(P5905,Sifranti!H:I,2,FALSE))","v":""},null,null,null,null,null,null,null,null,null,null,null,null,null,null,null,null,null,null,null,null,null,null,null,null,null,{"$f":"IF(AN5905=\"\",\"\",IF(LEN(VLOOKUP(AN5905,Sifranti!BY:BZ,2,FALSE))=0,\"\",VLOOKUP(AN5905,Sifranti!BY:BZ,2,FALSE)))","v":""},{"$f":"IF(C5905=\"\",\"\",VLOOKUP(C5905,Sifranti!P:R,2,FALSE))","v":""},"","",{"$f":"IF(C5905=\"\",\"\",VLOOKUP(C5905,Sifranti!P:R,3,FALSE))","v":""},{"$f":"IF(N5905=\"\",\"\",VLOOKUP(N5905,Sifranti!D:F,2,FALSE))","v":""},{"$f":"IF(AK5905=\"\",\"\",VLOOKUP(AK5905,Sifranti!V:Y,2,FALSE))","v":""},{"$f":"IF(AK5905=\"\",\"\",IF(VLOOKUP(AK5905,Sifranti!V:Y,3,FALSE)=\"\",\"\",VLOOKUP(AK5905,Sifranti!V:Y,3,FALSE)))","v":""},{"$f":"IF(AK5905=\"\",\"\",VLOOKUP(AK5905,Sifranti!V:Y,4,FALSE))","v":""}]
[{"$f":"IF(B5906=\"\",\"\",VLOOKUP(B5906,Sifranti!K:L,2,FALSE))","v":""},null,null,null,null,null,null,null,null,"",{"$f":"IF(L5906=\"\",\"\",VLOOKUP(L5906,Sifranti!A:B,2,FALSE))","v":""},null,{"$f":"IF(N5906=\"\",\"\",VLOOKUP(N5906,Sifranti!D:F,3,FALSE))","v":""},null,{"$f":"IF(P5906=\"\",\"\",VLOOKUP(P5906,Sifranti!H:I,2,FALSE))","v":""},null,null,null,null,null,null,null,null,null,null,null,null,null,null,null,null,null,null,null,null,null,null,null,null,null,{"$f":"IF(AN5906=\"\",\"\",IF(LEN(VLOOKUP(AN5906,Sifranti!BY:BZ,2,FALSE))=0,\"\",VLOOKUP(AN5906,Sifranti!BY:BZ,2,FALSE)))","v":""},{"$f":"IF(C5906=\"\",\"\",VLOOKUP(C5906,Sifranti!P:R,2,FALSE))","v":""},"","",{"$f":"IF(C5906=\"\",\"\",VLOOKUP(C5906,Sifranti!P:R,3,FALSE))","v":""},{"$f":"IF(N5906=\"\",\"\",VLOOKUP(N5906,Sifranti!D:F,2,FALSE))","v":""},{"$f":"IF(AK5906=\"\",\"\",VLOOKUP(AK5906,Sifranti!V:Y,2,FALSE))","v":""},{"$f":"IF(AK5906=\"\",\"\",IF(VLOOKUP(AK5906,Sifranti!V:Y,3,FALSE)=\"\",\"\",VLOOKUP(AK5906,Sifranti!V:Y,3,FALSE)))","v":""},{"$f":"IF(AK5906=\"\",\"\",VLOOKUP(AK5906,Sifranti!V:Y,4,FALSE))","v":""}]
[{"$f":"IF(B5907=\"\",\"\",VLOOKUP(B5907,Sifranti!K:L,2,FALSE))","v":""},null,null,null,null,null,null,null,null,"",{"$f":"IF(L5907=\"\",\"\",VLOOKUP(L5907,Sifranti!A:B,2,FALSE))","v":""},null,{"$f":"IF(N5907=\"\",\"\",VLOOKUP(N5907,Sifranti!D:F,3,FALSE))","v":""},null,{"$f":"IF(P5907=\"\",\"\",VLOOKUP(P5907,Sifranti!H:I,2,FALSE))","v":""},null,null,null,null,null,null,null,null,null,null,null,null,null,null,null,null,null,null,null,null,null,null,null,null,null,{"$f":"IF(AN5907=\"\",\"\",IF(LEN(VLOOKUP(AN5907,Sifranti!BY:BZ,2,FALSE))=0,\"\",VLOOKUP(AN5907,Sifranti!BY:BZ,2,FALSE)))","v":""},{"$f":"IF(C5907=\"\",\"\",VLOOKUP(C5907,Sifranti!P:R,2,FALSE))","v":""},"","",{"$f":"IF(C5907=\"\",\"\",VLOOKUP(C5907,Sifranti!P:R,3,FALSE))","v":""},{"$f":"IF(N5907=\"\",\"\",VLOOKUP(N5907,Sifranti!D:F,2,FALSE))","v":""},{"$f":"IF(AK5907=\"\",\"\",VLOOKUP(AK5907,Sifranti!V:Y,2,FALSE))","v":""},{"$f":"IF(AK5907=\"\",\"\",IF(VLOOKUP(AK5907,Sifranti!V:Y,3,FALSE)=\"\",\"\",VLOOKUP(AK5907,Sifranti!V:Y,3,FALSE)))","v":""},{"$f":"IF(AK5907=\"\",\"\",VLOOKUP(AK5907,Sifranti!V:Y,4,FALSE))","v":""}]
[{"$f":"IF(B5908=\"\",\"\",VLOOKUP(B5908,Sifranti!K:L,2,FALSE))","v":""},null,null,null,null,null,null,null,null,"",{"$f":"IF(L5908=\"\",\"\",VLOOKUP(L5908,Sifranti!A:B,2,FALSE))","v":""},null,{"$f":"IF(N5908=\"\",\"\",VLOOKUP(N5908,Sifranti!D:F,3,FALSE))","v":""},null,{"$f":"IF(P5908=\"\",\"\",VLOOKUP(P5908,Sifranti!H:I,2,FALSE))","v":""},null,null,null,null,null,null,null,null,null,null,null,null,null,null,null,null,null,null,null,null,null,null,null,null,null,{"$f":"IF(AN5908=\"\",\"\",IF(LEN(VLOOKUP(AN5908,Sifranti!BY:BZ,2,FALSE))=0,\"\",VLOOKUP(AN5908,Sifranti!BY:BZ,2,FALSE)))","v":""},{"$f":"IF(C5908=\"\",\"\",VLOOKUP(C5908,Sifranti!P:R,2,FALSE))","v":""},"","",{"$f":"IF(C5908=\"\",\"\",VLOOKUP(C5908,Sifranti!P:R,3,FALSE))","v":""},{"$f":"IF(N5908=\"\",\"\",VLOOKUP(N5908,Sifranti!D:F,2,FALSE))","v":""},{"$f":"IF(AK5908=\"\",\"\",VLOOKUP(AK5908,Sifranti!V:Y,2,FALSE))","v":""},{"$f":"IF(AK5908=\"\",\"\",IF(VLOOKUP(AK5908,Sifranti!V:Y,3,FALSE)=\"\",\"\",VLOOKUP(AK5908,Sifranti!V:Y,3,FALSE)))","v":""},{"$f":"IF(AK5908=\"\",\"\",VLOOKUP(AK5908,Sifranti!V:Y,4,FALSE))","v":""}]
[{"$f":"IF(B5909=\"\",\"\",VLOOKUP(B5909,Sifranti!K:L,2,FALSE))","v":""},null,null,null,null,null,null,null,null,"",{"$f":"IF(L5909=\"\",\"\",VLOOKUP(L5909,Sifranti!A:B,2,FALSE))","v":""},null,{"$f":"IF(N5909=\"\",\"\",VLOOKUP(N5909,Sifranti!D:F,3,FALSE))","v":""},null,{"$f":"IF(P5909=\"\",\"\",VLOOKUP(P5909,Sifranti!H:I,2,FALSE))","v":""},null,null,null,null,null,null,null,null,null,null,null,null,null,null,null,null,null,null,null,null,null,null,null,null,null,{"$f":"IF(AN5909=\"\",\"\",IF(LEN(VLOOKUP(AN5909,Sifranti!BY:BZ,2,FALSE))=0,\"\",VLOOKUP(AN5909,Sifranti!BY:BZ,2,FALSE)))","v":""},{"$f":"IF(C5909=\"\",\"\",VLOOKUP(C5909,Sifranti!P:R,2,FALSE))","v":""},"","",{"$f":"IF(C5909=\"\",\"\",VLOOKUP(C5909,Sifranti!P:R,3,FALSE))","v":""},{"$f":"IF(N5909=\"\",\"\",VLOOKUP(N5909,Sifranti!D:F,2,FALSE))","v":""},{"$f":"IF(AK5909=\"\",\"\",VLOOKUP(AK5909,Sifranti!V:Y,2,FALSE))","v":""},{"$f":"IF(AK5909=\"\",\"\",IF(VLOOKUP(AK5909,Sifranti!V:Y,3,FALSE)=\"\",\"\",VLOOKUP(AK5909,Sifranti!V:Y,3,FALSE)))","v":""},{"$f":"IF(AK5909=\"\",\"\",VLOOKUP(AK5909,Sifranti!V:Y,4,FALSE))","v":""}]
[{"$f":"IF(B5910=\"\",\"\",VLOOKUP(B5910,Sifranti!K:L,2,FALSE))","v":""},null,null,null,null,null,null,null,null,"",{"$f":"IF(L5910=\"\",\"\",VLOOKUP(L5910,Sifranti!A:B,2,FALSE))","v":""},null,{"$f":"IF(N5910=\"\",\"\",VLOOKUP(N5910,Sifranti!D:F,3,FALSE))","v":""},null,{"$f":"IF(P5910=\"\",\"\",VLOOKUP(P5910,Sifranti!H:I,2,FALSE))","v":""},null,null,null,null,null,null,null,null,null,null,null,null,null,null,null,null,null,null,null,null,null,null,null,null,null,{"$f":"IF(AN5910=\"\",\"\",IF(LEN(VLOOKUP(AN5910,Sifranti!BY:BZ,2,FALSE))=0,\"\",VLOOKUP(AN5910,Sifranti!BY:BZ,2,FALSE)))","v":""},{"$f":"IF(C5910=\"\",\"\",VLOOKUP(C5910,Sifranti!P:R,2,FALSE))","v":""},"","",{"$f":"IF(C5910=\"\",\"\",VLOOKUP(C5910,Sifranti!P:R,3,FALSE))","v":""},{"$f":"IF(N5910=\"\",\"\",VLOOKUP(N5910,Sifranti!D:F,2,FALSE))","v":""},{"$f":"IF(AK5910=\"\",\"\",VLOOKUP(AK5910,Sifranti!V:Y,2,FALSE))","v":""},{"$f":"IF(AK5910=\"\",\"\",IF(VLOOKUP(AK5910,Sifranti!V:Y,3,FALSE)=\"\",\"\",VLOOKUP(AK5910,Sifranti!V:Y,3,FALSE)))","v":""},{"$f":"IF(AK5910=\"\",\"\",VLOOKUP(AK5910,Sifranti!V:Y,4,FALSE))","v":""}]
[{"$f":"IF(B5911=\"\",\"\",VLOOKUP(B5911,Sifranti!K:L,2,FALSE))","v":""},null,null,null,null,null,null,null,null,"",{"$f":"IF(L5911=\"\",\"\",VLOOKUP(L5911,Sifranti!A:B,2,FALSE))","v":""},null,{"$f":"IF(N5911=\"\",\"\",VLOOKUP(N5911,Sifranti!D:F,3,FALSE))","v":""},null,{"$f":"IF(P5911=\"\",\"\",VLOOKUP(P5911,Sifranti!H:I,2,FALSE))","v":""},null,null,null,null,null,null,null,null,null,null,null,null,null,null,null,null,null,null,null,null,null,null,null,null,null,{"$f":"IF(AN5911=\"\",\"\",IF(LEN(VLOOKUP(AN5911,Sifranti!BY:BZ,2,FALSE))=0,\"\",VLOOKUP(AN5911,Sifranti!BY:BZ,2,FALSE)))","v":""},{"$f":"IF(C5911=\"\",\"\",VLOOKUP(C5911,Sifranti!P:R,2,FALSE))","v":""},"","",{"$f":"IF(C5911=\"\",\"\",VLOOKUP(C5911,Sifranti!P:R,3,FALSE))","v":""},{"$f":"IF(N5911=\"\",\"\",VLOOKUP(N5911,Sifranti!D:F,2,FALSE))","v":""},{"$f":"IF(AK5911=\"\",\"\",VLOOKUP(AK5911,Sifranti!V:Y,2,FALSE))","v":""},{"$f":"IF(AK5911=\"\",\"\",IF(VLOOKUP(AK5911,Sifranti!V:Y,3,FALSE)=\"\",\"\",VLOOKUP(AK5911,Sifranti!V:Y,3,FALSE)))","v":""},{"$f":"IF(AK5911=\"\",\"\",VLOOKUP(AK5911,Sifranti!V:Y,4,FALSE))","v":""}]
[{"$f":"IF(B5912=\"\",\"\",VLOOKUP(B5912,Sifranti!K:L,2,FALSE))","v":""},null,null,null,null,null,null,null,null,"",{"$f":"IF(L5912=\"\",\"\",VLOOKUP(L5912,Sifranti!A:B,2,FALSE))","v":""},null,{"$f":"IF(N5912=\"\",\"\",VLOOKUP(N5912,Sifranti!D:F,3,FALSE))","v":""},null,{"$f":"IF(P5912=\"\",\"\",VLOOKUP(P5912,Sifranti!H:I,2,FALSE))","v":""},null,null,null,null,null,null,null,null,null,null,null,null,null,null,null,null,null,null,null,null,null,null,null,null,null,{"$f":"IF(AN5912=\"\",\"\",IF(LEN(VLOOKUP(AN5912,Sifranti!BY:BZ,2,FALSE))=0,\"\",VLOOKUP(AN5912,Sifranti!BY:BZ,2,FALSE)))","v":""},{"$f":"IF(C5912=\"\",\"\",VLOOKUP(C5912,Sifranti!P:R,2,FALSE))","v":""},"","",{"$f":"IF(C5912=\"\",\"\",VLOOKUP(C5912,Sifranti!P:R,3,FALSE))","v":""},{"$f":"IF(N5912=\"\",\"\",VLOOKUP(N5912,Sifranti!D:F,2,FALSE))","v":""},{"$f":"IF(AK5912=\"\",\"\",VLOOKUP(AK5912,Sifranti!V:Y,2,FALSE))","v":""},{"$f":"IF(AK5912=\"\",\"\",IF(VLOOKUP(AK5912,Sifranti!V:Y,3,FALSE)=\"\",\"\",VLOOKUP(AK5912,Sifranti!V:Y,3,FALSE)))","v":""},{"$f":"IF(AK5912=\"\",\"\",VLOOKUP(AK5912,Sifranti!V:Y,4,FALSE))","v":""}]
[{"$f":"IF(B5913=\"\",\"\",VLOOKUP(B5913,Sifranti!K:L,2,FALSE))","v":""},null,null,null,null,null,null,null,null,"",{"$f":"IF(L5913=\"\",\"\",VLOOKUP(L5913,Sifranti!A:B,2,FALSE))","v":""},null,{"$f":"IF(N5913=\"\",\"\",VLOOKUP(N5913,Sifranti!D:F,3,FALSE))","v":""},null,{"$f":"IF(P5913=\"\",\"\",VLOOKUP(P5913,Sifranti!H:I,2,FALSE))","v":""},null,null,null,null,null,null,null,null,null,null,null,null,null,null,null,null,null,null,null,null,null,null,null,null,null,{"$f":"IF(AN5913=\"\",\"\",IF(LEN(VLOOKUP(AN5913,Sifranti!BY:BZ,2,FALSE))=0,\"\",VLOOKUP(AN5913,Sifranti!BY:BZ,2,FALSE)))","v":""},{"$f":"IF(C5913=\"\",\"\",VLOOKUP(C5913,Sifranti!P:R,2,FALSE))","v":""},"","",{"$f":"IF(C5913=\"\",\"\",VLOOKUP(C5913,Sifranti!P:R,3,FALSE))","v":""},{"$f":"IF(N5913=\"\",\"\",VLOOKUP(N5913,Sifranti!D:F,2,FALSE))","v":""},{"$f":"IF(AK5913=\"\",\"\",VLOOKUP(AK5913,Sifranti!V:Y,2,FALSE))","v":""},{"$f":"IF(AK5913=\"\",\"\",IF(VLOOKUP(AK5913,Sifranti!V:Y,3,FALSE)=\"\",\"\",VLOOKUP(AK5913,Sifranti!V:Y,3,FALSE)))","v":""},{"$f":"IF(AK5913=\"\",\"\",VLOOKUP(AK5913,Sifranti!V:Y,4,FALSE))","v":""}]
[{"$f":"IF(B5914=\"\",\"\",VLOOKUP(B5914,Sifranti!K:L,2,FALSE))","v":""},null,null,null,null,null,null,null,null,"",{"$f":"IF(L5914=\"\",\"\",VLOOKUP(L5914,Sifranti!A:B,2,FALSE))","v":""},null,{"$f":"IF(N5914=\"\",\"\",VLOOKUP(N5914,Sifranti!D:F,3,FALSE))","v":""},null,{"$f":"IF(P5914=\"\",\"\",VLOOKUP(P5914,Sifranti!H:I,2,FALSE))","v":""},null,null,null,null,null,null,null,null,null,null,null,null,null,null,null,null,null,null,null,null,null,null,null,null,null,{"$f":"IF(AN5914=\"\",\"\",IF(LEN(VLOOKUP(AN5914,Sifranti!BY:BZ,2,FALSE))=0,\"\",VLOOKUP(AN5914,Sifranti!BY:BZ,2,FALSE)))","v":""},{"$f":"IF(C5914=\"\",\"\",VLOOKUP(C5914,Sifranti!P:R,2,FALSE))","v":""},"","",{"$f":"IF(C5914=\"\",\"\",VLOOKUP(C5914,Sifranti!P:R,3,FALSE))","v":""},{"$f":"IF(N5914=\"\",\"\",VLOOKUP(N5914,Sifranti!D:F,2,FALSE))","v":""},{"$f":"IF(AK5914=\"\",\"\",VLOOKUP(AK5914,Sifranti!V:Y,2,FALSE))","v":""},{"$f":"IF(AK5914=\"\",\"\",IF(VLOOKUP(AK5914,Sifranti!V:Y,3,FALSE)=\"\",\"\",VLOOKUP(AK5914,Sifranti!V:Y,3,FALSE)))","v":""},{"$f":"IF(AK5914=\"\",\"\",VLOOKUP(AK5914,Sifranti!V:Y,4,FALSE))","v":""}]
[{"$f":"IF(B5915=\"\",\"\",VLOOKUP(B5915,Sifranti!K:L,2,FALSE))","v":""},null,null,null,null,null,null,null,null,"",{"$f":"IF(L5915=\"\",\"\",VLOOKUP(L5915,Sifranti!A:B,2,FALSE))","v":""},null,{"$f":"IF(N5915=\"\",\"\",VLOOKUP(N5915,Sifranti!D:F,3,FALSE))","v":""},null,{"$f":"IF(P5915=\"\",\"\",VLOOKUP(P5915,Sifranti!H:I,2,FALSE))","v":""},null,null,null,null,null,null,null,null,null,null,null,null,null,null,null,null,null,null,null,null,null,null,null,null,null,{"$f":"IF(AN5915=\"\",\"\",IF(LEN(VLOOKUP(AN5915,Sifranti!BY:BZ,2,FALSE))=0,\"\",VLOOKUP(AN5915,Sifranti!BY:BZ,2,FALSE)))","v":""},{"$f":"IF(C5915=\"\",\"\",VLOOKUP(C5915,Sifranti!P:R,2,FALSE))","v":""},"","",{"$f":"IF(C5915=\"\",\"\",VLOOKUP(C5915,Sifranti!P:R,3,FALSE))","v":""},{"$f":"IF(N5915=\"\",\"\",VLOOKUP(N5915,Sifranti!D:F,2,FALSE))","v":""},{"$f":"IF(AK5915=\"\",\"\",VLOOKUP(AK5915,Sifranti!V:Y,2,FALSE))","v":""},{"$f":"IF(AK5915=\"\",\"\",IF(VLOOKUP(AK5915,Sifranti!V:Y,3,FALSE)=\"\",\"\",VLOOKUP(AK5915,Sifranti!V:Y,3,FALSE)))","v":""},{"$f":"IF(AK5915=\"\",\"\",VLOOKUP(AK5915,Sifranti!V:Y,4,FALSE))","v":""}]
[{"$f":"IF(B5916=\"\",\"\",VLOOKUP(B5916,Sifranti!K:L,2,FALSE))","v":""},null,null,null,null,null,null,null,null,"",{"$f":"IF(L5916=\"\",\"\",VLOOKUP(L5916,Sifranti!A:B,2,FALSE))","v":""},null,{"$f":"IF(N5916=\"\",\"\",VLOOKUP(N5916,Sifranti!D:F,3,FALSE))","v":""},null,{"$f":"IF(P5916=\"\",\"\",VLOOKUP(P5916,Sifranti!H:I,2,FALSE))","v":""},null,null,null,null,null,null,null,null,null,null,null,null,null,null,null,null,null,null,null,null,null,null,null,null,null,{"$f":"IF(AN5916=\"\",\"\",IF(LEN(VLOOKUP(AN5916,Sifranti!BY:BZ,2,FALSE))=0,\"\",VLOOKUP(AN5916,Sifranti!BY:BZ,2,FALSE)))","v":""},{"$f":"IF(C5916=\"\",\"\",VLOOKUP(C5916,Sifranti!P:R,2,FALSE))","v":""},"","",{"$f":"IF(C5916=\"\",\"\",VLOOKUP(C5916,Sifranti!P:R,3,FALSE))","v":""},{"$f":"IF(N5916=\"\",\"\",VLOOKUP(N5916,Sifranti!D:F,2,FALSE))","v":""},{"$f":"IF(AK5916=\"\",\"\",VLOOKUP(AK5916,Sifranti!V:Y,2,FALSE))","v":""},{"$f":"IF(AK5916=\"\",\"\",IF(VLOOKUP(AK5916,Sifranti!V:Y,3,FALSE)=\"\",\"\",VLOOKUP(AK5916,Sifranti!V:Y,3,FALSE)))","v":""},{"$f":"IF(AK5916=\"\",\"\",VLOOKUP(AK5916,Sifranti!V:Y,4,FALSE))","v":""}]
[{"$f":"IF(B5917=\"\",\"\",VLOOKUP(B5917,Sifranti!K:L,2,FALSE))","v":""},null,null,null,null,null,null,null,null,"",{"$f":"IF(L5917=\"\",\"\",VLOOKUP(L5917,Sifranti!A:B,2,FALSE))","v":""},null,{"$f":"IF(N5917=\"\",\"\",VLOOKUP(N5917,Sifranti!D:F,3,FALSE))","v":""},null,{"$f":"IF(P5917=\"\",\"\",VLOOKUP(P5917,Sifranti!H:I,2,FALSE))","v":""},null,null,null,null,null,null,null,null,null,null,null,null,null,null,null,null,null,null,null,null,null,null,null,null,null,{"$f":"IF(AN5917=\"\",\"\",IF(LEN(VLOOKUP(AN5917,Sifranti!BY:BZ,2,FALSE))=0,\"\",VLOOKUP(AN5917,Sifranti!BY:BZ,2,FALSE)))","v":""},{"$f":"IF(C5917=\"\",\"\",VLOOKUP(C5917,Sifranti!P:R,2,FALSE))","v":""},"","",{"$f":"IF(C5917=\"\",\"\",VLOOKUP(C5917,Sifranti!P:R,3,FALSE))","v":""},{"$f":"IF(N5917=\"\",\"\",VLOOKUP(N5917,Sifranti!D:F,2,FALSE))","v":""},{"$f":"IF(AK5917=\"\",\"\",VLOOKUP(AK5917,Sifranti!V:Y,2,FALSE))","v":""},{"$f":"IF(AK5917=\"\",\"\",IF(VLOOKUP(AK5917,Sifranti!V:Y,3,FALSE)=\"\",\"\",VLOOKUP(AK5917,Sifranti!V:Y,3,FALSE)))","v":""},{"$f":"IF(AK5917=\"\",\"\",VLOOKUP(AK5917,Sifranti!V:Y,4,FALSE))","v":""}]
[{"$f":"IF(B5918=\"\",\"\",VLOOKUP(B5918,Sifranti!K:L,2,FALSE))","v":""},null,null,null,null,null,null,null,null,"",{"$f":"IF(L5918=\"\",\"\",VLOOKUP(L5918,Sifranti!A:B,2,FALSE))","v":""},null,{"$f":"IF(N5918=\"\",\"\",VLOOKUP(N5918,Sifranti!D:F,3,FALSE))","v":""},null,{"$f":"IF(P5918=\"\",\"\",VLOOKUP(P5918,Sifranti!H:I,2,FALSE))","v":""},null,null,null,null,null,null,null,null,null,null,null,null,null,null,null,null,null,null,null,null,null,null,null,null,null,{"$f":"IF(AN5918=\"\",\"\",IF(LEN(VLOOKUP(AN5918,Sifranti!BY:BZ,2,FALSE))=0,\"\",VLOOKUP(AN5918,Sifranti!BY:BZ,2,FALSE)))","v":""},{"$f":"IF(C5918=\"\",\"\",VLOOKUP(C5918,Sifranti!P:R,2,FALSE))","v":""},"","",{"$f":"IF(C5918=\"\",\"\",VLOOKUP(C5918,Sifranti!P:R,3,FALSE))","v":""},{"$f":"IF(N5918=\"\",\"\",VLOOKUP(N5918,Sifranti!D:F,2,FALSE))","v":""},{"$f":"IF(AK5918=\"\",\"\",VLOOKUP(AK5918,Sifranti!V:Y,2,FALSE))","v":""},{"$f":"IF(AK5918=\"\",\"\",IF(VLOOKUP(AK5918,Sifranti!V:Y,3,FALSE)=\"\",\"\",VLOOKUP(AK5918,Sifranti!V:Y,3,FALSE)))","v":""},{"$f":"IF(AK5918=\"\",\"\",VLOOKUP(AK5918,Sifranti!V:Y,4,FALSE))","v":""}]
[{"$f":"IF(B5919=\"\",\"\",VLOOKUP(B5919,Sifranti!K:L,2,FALSE))","v":""},null,null,null,null,null,null,null,null,"",{"$f":"IF(L5919=\"\",\"\",VLOOKUP(L5919,Sifranti!A:B,2,FALSE))","v":""},null,{"$f":"IF(N5919=\"\",\"\",VLOOKUP(N5919,Sifranti!D:F,3,FALSE))","v":""},null,{"$f":"IF(P5919=\"\",\"\",VLOOKUP(P5919,Sifranti!H:I,2,FALSE))","v":""},null,null,null,null,null,null,null,null,null,null,null,null,null,null,null,null,null,null,null,null,null,null,null,null,null,{"$f":"IF(AN5919=\"\",\"\",IF(LEN(VLOOKUP(AN5919,Sifranti!BY:BZ,2,FALSE))=0,\"\",VLOOKUP(AN5919,Sifranti!BY:BZ,2,FALSE)))","v":""},{"$f":"IF(C5919=\"\",\"\",VLOOKUP(C5919,Sifranti!P:R,2,FALSE))","v":""},"","",{"$f":"IF(C5919=\"\",\"\",VLOOKUP(C5919,Sifranti!P:R,3,FALSE))","v":""},{"$f":"IF(N5919=\"\",\"\",VLOOKUP(N5919,Sifranti!D:F,2,FALSE))","v":""},{"$f":"IF(AK5919=\"\",\"\",VLOOKUP(AK5919,Sifranti!V:Y,2,FALSE))","v":""},{"$f":"IF(AK5919=\"\",\"\",IF(VLOOKUP(AK5919,Sifranti!V:Y,3,FALSE)=\"\",\"\",VLOOKUP(AK5919,Sifranti!V:Y,3,FALSE)))","v":""},{"$f":"IF(AK5919=\"\",\"\",VLOOKUP(AK5919,Sifranti!V:Y,4,FALSE))","v":""}]
[{"$f":"IF(B5920=\"\",\"\",VLOOKUP(B5920,Sifranti!K:L,2,FALSE))","v":""},null,null,null,null,null,null,null,null,"",{"$f":"IF(L5920=\"\",\"\",VLOOKUP(L5920,Sifranti!A:B,2,FALSE))","v":""},null,{"$f":"IF(N5920=\"\",\"\",VLOOKUP(N5920,Sifranti!D:F,3,FALSE))","v":""},null,{"$f":"IF(P5920=\"\",\"\",VLOOKUP(P5920,Sifranti!H:I,2,FALSE))","v":""},null,null,null,null,null,null,null,null,null,null,null,null,null,null,null,null,null,null,null,null,null,null,null,null,null,{"$f":"IF(AN5920=\"\",\"\",IF(LEN(VLOOKUP(AN5920,Sifranti!BY:BZ,2,FALSE))=0,\"\",VLOOKUP(AN5920,Sifranti!BY:BZ,2,FALSE)))","v":""},{"$f":"IF(C5920=\"\",\"\",VLOOKUP(C5920,Sifranti!P:R,2,FALSE))","v":""},"","",{"$f":"IF(C5920=\"\",\"\",VLOOKUP(C5920,Sifranti!P:R,3,FALSE))","v":""},{"$f":"IF(N5920=\"\",\"\",VLOOKUP(N5920,Sifranti!D:F,2,FALSE))","v":""},{"$f":"IF(AK5920=\"\",\"\",VLOOKUP(AK5920,Sifranti!V:Y,2,FALSE))","v":""},{"$f":"IF(AK5920=\"\",\"\",IF(VLOOKUP(AK5920,Sifranti!V:Y,3,FALSE)=\"\",\"\",VLOOKUP(AK5920,Sifranti!V:Y,3,FALSE)))","v":""},{"$f":"IF(AK5920=\"\",\"\",VLOOKUP(AK5920,Sifranti!V:Y,4,FALSE))","v":""}]
[{"$f":"IF(B5921=\"\",\"\",VLOOKUP(B5921,Sifranti!K:L,2,FALSE))","v":""},null,null,null,null,null,null,null,null,"",{"$f":"IF(L5921=\"\",\"\",VLOOKUP(L5921,Sifranti!A:B,2,FALSE))","v":""},null,{"$f":"IF(N5921=\"\",\"\",VLOOKUP(N5921,Sifranti!D:F,3,FALSE))","v":""},null,{"$f":"IF(P5921=\"\",\"\",VLOOKUP(P5921,Sifranti!H:I,2,FALSE))","v":""},null,null,null,null,null,null,null,null,null,null,null,null,null,null,null,null,null,null,null,null,null,null,null,null,null,{"$f":"IF(AN5921=\"\",\"\",IF(LEN(VLOOKUP(AN5921,Sifranti!BY:BZ,2,FALSE))=0,\"\",VLOOKUP(AN5921,Sifranti!BY:BZ,2,FALSE)))","v":""},{"$f":"IF(C5921=\"\",\"\",VLOOKUP(C5921,Sifranti!P:R,2,FALSE))","v":""},"","",{"$f":"IF(C5921=\"\",\"\",VLOOKUP(C5921,Sifranti!P:R,3,FALSE))","v":""},{"$f":"IF(N5921=\"\",\"\",VLOOKUP(N5921,Sifranti!D:F,2,FALSE))","v":""},{"$f":"IF(AK5921=\"\",\"\",VLOOKUP(AK5921,Sifranti!V:Y,2,FALSE))","v":""},{"$f":"IF(AK5921=\"\",\"\",IF(VLOOKUP(AK5921,Sifranti!V:Y,3,FALSE)=\"\",\"\",VLOOKUP(AK5921,Sifranti!V:Y,3,FALSE)))","v":""},{"$f":"IF(AK5921=\"\",\"\",VLOOKUP(AK5921,Sifranti!V:Y,4,FALSE))","v":""}]
[{"$f":"IF(B5922=\"\",\"\",VLOOKUP(B5922,Sifranti!K:L,2,FALSE))","v":""},null,null,null,null,null,null,null,null,"",{"$f":"IF(L5922=\"\",\"\",VLOOKUP(L5922,Sifranti!A:B,2,FALSE))","v":""},null,{"$f":"IF(N5922=\"\",\"\",VLOOKUP(N5922,Sifranti!D:F,3,FALSE))","v":""},null,{"$f":"IF(P5922=\"\",\"\",VLOOKUP(P5922,Sifranti!H:I,2,FALSE))","v":""},null,null,null,null,null,null,null,null,null,null,null,null,null,null,null,null,null,null,null,null,null,null,null,null,null,{"$f":"IF(AN5922=\"\",\"\",IF(LEN(VLOOKUP(AN5922,Sifranti!BY:BZ,2,FALSE))=0,\"\",VLOOKUP(AN5922,Sifranti!BY:BZ,2,FALSE)))","v":""},{"$f":"IF(C5922=\"\",\"\",VLOOKUP(C5922,Sifranti!P:R,2,FALSE))","v":""},"","",{"$f":"IF(C5922=\"\",\"\",VLOOKUP(C5922,Sifranti!P:R,3,FALSE))","v":""},{"$f":"IF(N5922=\"\",\"\",VLOOKUP(N5922,Sifranti!D:F,2,FALSE))","v":""},{"$f":"IF(AK5922=\"\",\"\",VLOOKUP(AK5922,Sifranti!V:Y,2,FALSE))","v":""},{"$f":"IF(AK5922=\"\",\"\",IF(VLOOKUP(AK5922,Sifranti!V:Y,3,FALSE)=\"\",\"\",VLOOKUP(AK5922,Sifranti!V:Y,3,FALSE)))","v":""},{"$f":"IF(AK5922=\"\",\"\",VLOOKUP(AK5922,Sifranti!V:Y,4,FALSE))","v":""}]
[{"$f":"IF(B5923=\"\",\"\",VLOOKUP(B5923,Sifranti!K:L,2,FALSE))","v":""},null,null,null,null,null,null,null,null,"",{"$f":"IF(L5923=\"\",\"\",VLOOKUP(L5923,Sifranti!A:B,2,FALSE))","v":""},null,{"$f":"IF(N5923=\"\",\"\",VLOOKUP(N5923,Sifranti!D:F,3,FALSE))","v":""},null,{"$f":"IF(P5923=\"\",\"\",VLOOKUP(P5923,Sifranti!H:I,2,FALSE))","v":""},null,null,null,null,null,null,null,null,null,null,null,null,null,null,null,null,null,null,null,null,null,null,null,null,null,{"$f":"IF(AN5923=\"\",\"\",IF(LEN(VLOOKUP(AN5923,Sifranti!BY:BZ,2,FALSE))=0,\"\",VLOOKUP(AN5923,Sifranti!BY:BZ,2,FALSE)))","v":""},{"$f":"IF(C5923=\"\",\"\",VLOOKUP(C5923,Sifranti!P:R,2,FALSE))","v":""},"","",{"$f":"IF(C5923=\"\",\"\",VLOOKUP(C5923,Sifranti!P:R,3,FALSE))","v":""},{"$f":"IF(N5923=\"\",\"\",VLOOKUP(N5923,Sifranti!D:F,2,FALSE))","v":""},{"$f":"IF(AK5923=\"\",\"\",VLOOKUP(AK5923,Sifranti!V:Y,2,FALSE))","v":""},{"$f":"IF(AK5923=\"\",\"\",IF(VLOOKUP(AK5923,Sifranti!V:Y,3,FALSE)=\"\",\"\",VLOOKUP(AK5923,Sifranti!V:Y,3,FALSE)))","v":""},{"$f":"IF(AK5923=\"\",\"\",VLOOKUP(AK5923,Sifranti!V:Y,4,FALSE))","v":""}]
[{"$f":"IF(B5924=\"\",\"\",VLOOKUP(B5924,Sifranti!K:L,2,FALSE))","v":""},null,null,null,null,null,null,null,null,"",{"$f":"IF(L5924=\"\",\"\",VLOOKUP(L5924,Sifranti!A:B,2,FALSE))","v":""},null,{"$f":"IF(N5924=\"\",\"\",VLOOKUP(N5924,Sifranti!D:F,3,FALSE))","v":""},null,{"$f":"IF(P5924=\"\",\"\",VLOOKUP(P5924,Sifranti!H:I,2,FALSE))","v":""},null,null,null,null,null,null,null,null,null,null,null,null,null,null,null,null,null,null,null,null,null,null,null,null,null,{"$f":"IF(AN5924=\"\",\"\",IF(LEN(VLOOKUP(AN5924,Sifranti!BY:BZ,2,FALSE))=0,\"\",VLOOKUP(AN5924,Sifranti!BY:BZ,2,FALSE)))","v":""},{"$f":"IF(C5924=\"\",\"\",VLOOKUP(C5924,Sifranti!P:R,2,FALSE))","v":""},"","",{"$f":"IF(C5924=\"\",\"\",VLOOKUP(C5924,Sifranti!P:R,3,FALSE))","v":""},{"$f":"IF(N5924=\"\",\"\",VLOOKUP(N5924,Sifranti!D:F,2,FALSE))","v":""},{"$f":"IF(AK5924=\"\",\"\",VLOOKUP(AK5924,Sifranti!V:Y,2,FALSE))","v":""},{"$f":"IF(AK5924=\"\",\"\",IF(VLOOKUP(AK5924,Sifranti!V:Y,3,FALSE)=\"\",\"\",VLOOKUP(AK5924,Sifranti!V:Y,3,FALSE)))","v":""},{"$f":"IF(AK5924=\"\",\"\",VLOOKUP(AK5924,Sifranti!V:Y,4,FALSE))","v":""}]
[{"$f":"IF(B5925=\"\",\"\",VLOOKUP(B5925,Sifranti!K:L,2,FALSE))","v":""},null,null,null,null,null,null,null,null,"",{"$f":"IF(L5925=\"\",\"\",VLOOKUP(L5925,Sifranti!A:B,2,FALSE))","v":""},null,{"$f":"IF(N5925=\"\",\"\",VLOOKUP(N5925,Sifranti!D:F,3,FALSE))","v":""},null,{"$f":"IF(P5925=\"\",\"\",VLOOKUP(P5925,Sifranti!H:I,2,FALSE))","v":""},null,null,null,null,null,null,null,null,null,null,null,null,null,null,null,null,null,null,null,null,null,null,null,null,null,{"$f":"IF(AN5925=\"\",\"\",IF(LEN(VLOOKUP(AN5925,Sifranti!BY:BZ,2,FALSE))=0,\"\",VLOOKUP(AN5925,Sifranti!BY:BZ,2,FALSE)))","v":""},{"$f":"IF(C5925=\"\",\"\",VLOOKUP(C5925,Sifranti!P:R,2,FALSE))","v":""},"","",{"$f":"IF(C5925=\"\",\"\",VLOOKUP(C5925,Sifranti!P:R,3,FALSE))","v":""},{"$f":"IF(N5925=\"\",\"\",VLOOKUP(N5925,Sifranti!D:F,2,FALSE))","v":""},{"$f":"IF(AK5925=\"\",\"\",VLOOKUP(AK5925,Sifranti!V:Y,2,FALSE))","v":""},{"$f":"IF(AK5925=\"\",\"\",IF(VLOOKUP(AK5925,Sifranti!V:Y,3,FALSE)=\"\",\"\",VLOOKUP(AK5925,Sifranti!V:Y,3,FALSE)))","v":""},{"$f":"IF(AK5925=\"\",\"\",VLOOKUP(AK5925,Sifranti!V:Y,4,FALSE))","v":""}]
[{"$f":"IF(B5926=\"\",\"\",VLOOKUP(B5926,Sifranti!K:L,2,FALSE))","v":""},null,null,null,null,null,null,null,null,"",{"$f":"IF(L5926=\"\",\"\",VLOOKUP(L5926,Sifranti!A:B,2,FALSE))","v":""},null,{"$f":"IF(N5926=\"\",\"\",VLOOKUP(N5926,Sifranti!D:F,3,FALSE))","v":""},null,{"$f":"IF(P5926=\"\",\"\",VLOOKUP(P5926,Sifranti!H:I,2,FALSE))","v":""},null,null,null,null,null,null,null,null,null,null,null,null,null,null,null,null,null,null,null,null,null,null,null,null,null,{"$f":"IF(AN5926=\"\",\"\",IF(LEN(VLOOKUP(AN5926,Sifranti!BY:BZ,2,FALSE))=0,\"\",VLOOKUP(AN5926,Sifranti!BY:BZ,2,FALSE)))","v":""},{"$f":"IF(C5926=\"\",\"\",VLOOKUP(C5926,Sifranti!P:R,2,FALSE))","v":""},"","",{"$f":"IF(C5926=\"\",\"\",VLOOKUP(C5926,Sifranti!P:R,3,FALSE))","v":""},{"$f":"IF(N5926=\"\",\"\",VLOOKUP(N5926,Sifranti!D:F,2,FALSE))","v":""},{"$f":"IF(AK5926=\"\",\"\",VLOOKUP(AK5926,Sifranti!V:Y,2,FALSE))","v":""},{"$f":"IF(AK5926=\"\",\"\",IF(VLOOKUP(AK5926,Sifranti!V:Y,3,FALSE)=\"\",\"\",VLOOKUP(AK5926,Sifranti!V:Y,3,FALSE)))","v":""},{"$f":"IF(AK5926=\"\",\"\",VLOOKUP(AK5926,Sifranti!V:Y,4,FALSE))","v":""}]
[{"$f":"IF(B5927=\"\",\"\",VLOOKUP(B5927,Sifranti!K:L,2,FALSE))","v":""},null,null,null,null,null,null,null,null,"",{"$f":"IF(L5927=\"\",\"\",VLOOKUP(L5927,Sifranti!A:B,2,FALSE))","v":""},null,{"$f":"IF(N5927=\"\",\"\",VLOOKUP(N5927,Sifranti!D:F,3,FALSE))","v":""},null,{"$f":"IF(P5927=\"\",\"\",VLOOKUP(P5927,Sifranti!H:I,2,FALSE))","v":""},null,null,null,null,null,null,null,null,null,null,null,null,null,null,null,null,null,null,null,null,null,null,null,null,null,{"$f":"IF(AN5927=\"\",\"\",IF(LEN(VLOOKUP(AN5927,Sifranti!BY:BZ,2,FALSE))=0,\"\",VLOOKUP(AN5927,Sifranti!BY:BZ,2,FALSE)))","v":""},{"$f":"IF(C5927=\"\",\"\",VLOOKUP(C5927,Sifranti!P:R,2,FALSE))","v":""},"","",{"$f":"IF(C5927=\"\",\"\",VLOOKUP(C5927,Sifranti!P:R,3,FALSE))","v":""},{"$f":"IF(N5927=\"\",\"\",VLOOKUP(N5927,Sifranti!D:F,2,FALSE))","v":""},{"$f":"IF(AK5927=\"\",\"\",VLOOKUP(AK5927,Sifranti!V:Y,2,FALSE))","v":""},{"$f":"IF(AK5927=\"\",\"\",IF(VLOOKUP(AK5927,Sifranti!V:Y,3,FALSE)=\"\",\"\",VLOOKUP(AK5927,Sifranti!V:Y,3,FALSE)))","v":""},{"$f":"IF(AK5927=\"\",\"\",VLOOKUP(AK5927,Sifranti!V:Y,4,FALSE))","v":""}]
[{"$f":"IF(B5928=\"\",\"\",VLOOKUP(B5928,Sifranti!K:L,2,FALSE))","v":""},null,null,null,null,null,null,null,null,"",{"$f":"IF(L5928=\"\",\"\",VLOOKUP(L5928,Sifranti!A:B,2,FALSE))","v":""},null,{"$f":"IF(N5928=\"\",\"\",VLOOKUP(N5928,Sifranti!D:F,3,FALSE))","v":""},null,{"$f":"IF(P5928=\"\",\"\",VLOOKUP(P5928,Sifranti!H:I,2,FALSE))","v":""},null,null,null,null,null,null,null,null,null,null,null,null,null,null,null,null,null,null,null,null,null,null,null,null,null,{"$f":"IF(AN5928=\"\",\"\",IF(LEN(VLOOKUP(AN5928,Sifranti!BY:BZ,2,FALSE))=0,\"\",VLOOKUP(AN5928,Sifranti!BY:BZ,2,FALSE)))","v":""},{"$f":"IF(C5928=\"\",\"\",VLOOKUP(C5928,Sifranti!P:R,2,FALSE))","v":""},"","",{"$f":"IF(C5928=\"\",\"\",VLOOKUP(C5928,Sifranti!P:R,3,FALSE))","v":""},{"$f":"IF(N5928=\"\",\"\",VLOOKUP(N5928,Sifranti!D:F,2,FALSE))","v":""},{"$f":"IF(AK5928=\"\",\"\",VLOOKUP(AK5928,Sifranti!V:Y,2,FALSE))","v":""},{"$f":"IF(AK5928=\"\",\"\",IF(VLOOKUP(AK5928,Sifranti!V:Y,3,FALSE)=\"\",\"\",VLOOKUP(AK5928,Sifranti!V:Y,3,FALSE)))","v":""},{"$f":"IF(AK5928=\"\",\"\",VLOOKUP(AK5928,Sifranti!V:Y,4,FALSE))","v":""}]
[{"$f":"IF(B5929=\"\",\"\",VLOOKUP(B5929,Sifranti!K:L,2,FALSE))","v":""},null,null,null,null,null,null,null,null,"",{"$f":"IF(L5929=\"\",\"\",VLOOKUP(L5929,Sifranti!A:B,2,FALSE))","v":""},null,{"$f":"IF(N5929=\"\",\"\",VLOOKUP(N5929,Sifranti!D:F,3,FALSE))","v":""},null,{"$f":"IF(P5929=\"\",\"\",VLOOKUP(P5929,Sifranti!H:I,2,FALSE))","v":""},null,null,null,null,null,null,null,null,null,null,null,null,null,null,null,null,null,null,null,null,null,null,null,null,null,{"$f":"IF(AN5929=\"\",\"\",IF(LEN(VLOOKUP(AN5929,Sifranti!BY:BZ,2,FALSE))=0,\"\",VLOOKUP(AN5929,Sifranti!BY:BZ,2,FALSE)))","v":""},{"$f":"IF(C5929=\"\",\"\",VLOOKUP(C5929,Sifranti!P:R,2,FALSE))","v":""},"","",{"$f":"IF(C5929=\"\",\"\",VLOOKUP(C5929,Sifranti!P:R,3,FALSE))","v":""},{"$f":"IF(N5929=\"\",\"\",VLOOKUP(N5929,Sifranti!D:F,2,FALSE))","v":""},{"$f":"IF(AK5929=\"\",\"\",VLOOKUP(AK5929,Sifranti!V:Y,2,FALSE))","v":""},{"$f":"IF(AK5929=\"\",\"\",IF(VLOOKUP(AK5929,Sifranti!V:Y,3,FALSE)=\"\",\"\",VLOOKUP(AK5929,Sifranti!V:Y,3,FALSE)))","v":""},{"$f":"IF(AK5929=\"\",\"\",VLOOKUP(AK5929,Sifranti!V:Y,4,FALSE))","v":""}]
[{"$f":"IF(B5930=\"\",\"\",VLOOKUP(B5930,Sifranti!K:L,2,FALSE))","v":""},null,null,null,null,null,null,null,null,"",{"$f":"IF(L5930=\"\",\"\",VLOOKUP(L5930,Sifranti!A:B,2,FALSE))","v":""},null,{"$f":"IF(N5930=\"\",\"\",VLOOKUP(N5930,Sifranti!D:F,3,FALSE))","v":""},null,{"$f":"IF(P5930=\"\",\"\",VLOOKUP(P5930,Sifranti!H:I,2,FALSE))","v":""},null,null,null,null,null,null,null,null,null,null,null,null,null,null,null,null,null,null,null,null,null,null,null,null,null,{"$f":"IF(AN5930=\"\",\"\",IF(LEN(VLOOKUP(AN5930,Sifranti!BY:BZ,2,FALSE))=0,\"\",VLOOKUP(AN5930,Sifranti!BY:BZ,2,FALSE)))","v":""},{"$f":"IF(C5930=\"\",\"\",VLOOKUP(C5930,Sifranti!P:R,2,FALSE))","v":""},"","",{"$f":"IF(C5930=\"\",\"\",VLOOKUP(C5930,Sifranti!P:R,3,FALSE))","v":""},{"$f":"IF(N5930=\"\",\"\",VLOOKUP(N5930,Sifranti!D:F,2,FALSE))","v":""},{"$f":"IF(AK5930=\"\",\"\",VLOOKUP(AK5930,Sifranti!V:Y,2,FALSE))","v":""},{"$f":"IF(AK5930=\"\",\"\",IF(VLOOKUP(AK5930,Sifranti!V:Y,3,FALSE)=\"\",\"\",VLOOKUP(AK5930,Sifranti!V:Y,3,FALSE)))","v":""},{"$f":"IF(AK5930=\"\",\"\",VLOOKUP(AK5930,Sifranti!V:Y,4,FALSE))","v":""}]
[{"$f":"IF(B5931=\"\",\"\",VLOOKUP(B5931,Sifranti!K:L,2,FALSE))","v":""},null,null,null,null,null,null,null,null,"",{"$f":"IF(L5931=\"\",\"\",VLOOKUP(L5931,Sifranti!A:B,2,FALSE))","v":""},null,{"$f":"IF(N5931=\"\",\"\",VLOOKUP(N5931,Sifranti!D:F,3,FALSE))","v":""},null,{"$f":"IF(P5931=\"\",\"\",VLOOKUP(P5931,Sifranti!H:I,2,FALSE))","v":""},null,null,null,null,null,null,null,null,null,null,null,null,null,null,null,null,null,null,null,null,null,null,null,null,null,{"$f":"IF(AN5931=\"\",\"\",IF(LEN(VLOOKUP(AN5931,Sifranti!BY:BZ,2,FALSE))=0,\"\",VLOOKUP(AN5931,Sifranti!BY:BZ,2,FALSE)))","v":""},{"$f":"IF(C5931=\"\",\"\",VLOOKUP(C5931,Sifranti!P:R,2,FALSE))","v":""},"","",{"$f":"IF(C5931=\"\",\"\",VLOOKUP(C5931,Sifranti!P:R,3,FALSE))","v":""},{"$f":"IF(N5931=\"\",\"\",VLOOKUP(N5931,Sifranti!D:F,2,FALSE))","v":""},{"$f":"IF(AK5931=\"\",\"\",VLOOKUP(AK5931,Sifranti!V:Y,2,FALSE))","v":""},{"$f":"IF(AK5931=\"\",\"\",IF(VLOOKUP(AK5931,Sifranti!V:Y,3,FALSE)=\"\",\"\",VLOOKUP(AK5931,Sifranti!V:Y,3,FALSE)))","v":""},{"$f":"IF(AK5931=\"\",\"\",VLOOKUP(AK5931,Sifranti!V:Y,4,FALSE))","v":""}]
[{"$f":"IF(B5932=\"\",\"\",VLOOKUP(B5932,Sifranti!K:L,2,FALSE))","v":""},null,null,null,null,null,null,null,null,"",{"$f":"IF(L5932=\"\",\"\",VLOOKUP(L5932,Sifranti!A:B,2,FALSE))","v":""},null,{"$f":"IF(N5932=\"\",\"\",VLOOKUP(N5932,Sifranti!D:F,3,FALSE))","v":""},null,{"$f":"IF(P5932=\"\",\"\",VLOOKUP(P5932,Sifranti!H:I,2,FALSE))","v":""},null,null,null,null,null,null,null,null,null,null,null,null,null,null,null,null,null,null,null,null,null,null,null,null,null,{"$f":"IF(AN5932=\"\",\"\",IF(LEN(VLOOKUP(AN5932,Sifranti!BY:BZ,2,FALSE))=0,\"\",VLOOKUP(AN5932,Sifranti!BY:BZ,2,FALSE)))","v":""},{"$f":"IF(C5932=\"\",\"\",VLOOKUP(C5932,Sifranti!P:R,2,FALSE))","v":""},"","",{"$f":"IF(C5932=\"\",\"\",VLOOKUP(C5932,Sifranti!P:R,3,FALSE))","v":""},{"$f":"IF(N5932=\"\",\"\",VLOOKUP(N5932,Sifranti!D:F,2,FALSE))","v":""},{"$f":"IF(AK5932=\"\",\"\",VLOOKUP(AK5932,Sifranti!V:Y,2,FALSE))","v":""},{"$f":"IF(AK5932=\"\",\"\",IF(VLOOKUP(AK5932,Sifranti!V:Y,3,FALSE)=\"\",\"\",VLOOKUP(AK5932,Sifranti!V:Y,3,FALSE)))","v":""},{"$f":"IF(AK5932=\"\",\"\",VLOOKUP(AK5932,Sifranti!V:Y,4,FALSE))","v":""}]
[{"$f":"IF(B5933=\"\",\"\",VLOOKUP(B5933,Sifranti!K:L,2,FALSE))","v":""},null,null,null,null,null,null,null,null,"",{"$f":"IF(L5933=\"\",\"\",VLOOKUP(L5933,Sifranti!A:B,2,FALSE))","v":""},null,{"$f":"IF(N5933=\"\",\"\",VLOOKUP(N5933,Sifranti!D:F,3,FALSE))","v":""},null,{"$f":"IF(P5933=\"\",\"\",VLOOKUP(P5933,Sifranti!H:I,2,FALSE))","v":""},null,null,null,null,null,null,null,null,null,null,null,null,null,null,null,null,null,null,null,null,null,null,null,null,null,{"$f":"IF(AN5933=\"\",\"\",IF(LEN(VLOOKUP(AN5933,Sifranti!BY:BZ,2,FALSE))=0,\"\",VLOOKUP(AN5933,Sifranti!BY:BZ,2,FALSE)))","v":""},{"$f":"IF(C5933=\"\",\"\",VLOOKUP(C5933,Sifranti!P:R,2,FALSE))","v":""},"","",{"$f":"IF(C5933=\"\",\"\",VLOOKUP(C5933,Sifranti!P:R,3,FALSE))","v":""},{"$f":"IF(N5933=\"\",\"\",VLOOKUP(N5933,Sifranti!D:F,2,FALSE))","v":""},{"$f":"IF(AK5933=\"\",\"\",VLOOKUP(AK5933,Sifranti!V:Y,2,FALSE))","v":""},{"$f":"IF(AK5933=\"\",\"\",IF(VLOOKUP(AK5933,Sifranti!V:Y,3,FALSE)=\"\",\"\",VLOOKUP(AK5933,Sifranti!V:Y,3,FALSE)))","v":""},{"$f":"IF(AK5933=\"\",\"\",VLOOKUP(AK5933,Sifranti!V:Y,4,FALSE))","v":""}]
[{"$f":"IF(B5934=\"\",\"\",VLOOKUP(B5934,Sifranti!K:L,2,FALSE))","v":""},null,null,null,null,null,null,null,null,"",{"$f":"IF(L5934=\"\",\"\",VLOOKUP(L5934,Sifranti!A:B,2,FALSE))","v":""},null,{"$f":"IF(N5934=\"\",\"\",VLOOKUP(N5934,Sifranti!D:F,3,FALSE))","v":""},null,{"$f":"IF(P5934=\"\",\"\",VLOOKUP(P5934,Sifranti!H:I,2,FALSE))","v":""},null,null,null,null,null,null,null,null,null,null,null,null,null,null,null,null,null,null,null,null,null,null,null,null,null,{"$f":"IF(AN5934=\"\",\"\",IF(LEN(VLOOKUP(AN5934,Sifranti!BY:BZ,2,FALSE))=0,\"\",VLOOKUP(AN5934,Sifranti!BY:BZ,2,FALSE)))","v":""},{"$f":"IF(C5934=\"\",\"\",VLOOKUP(C5934,Sifranti!P:R,2,FALSE))","v":""},"","",{"$f":"IF(C5934=\"\",\"\",VLOOKUP(C5934,Sifranti!P:R,3,FALSE))","v":""},{"$f":"IF(N5934=\"\",\"\",VLOOKUP(N5934,Sifranti!D:F,2,FALSE))","v":""},{"$f":"IF(AK5934=\"\",\"\",VLOOKUP(AK5934,Sifranti!V:Y,2,FALSE))","v":""},{"$f":"IF(AK5934=\"\",\"\",IF(VLOOKUP(AK5934,Sifranti!V:Y,3,FALSE)=\"\",\"\",VLOOKUP(AK5934,Sifranti!V:Y,3,FALSE)))","v":""},{"$f":"IF(AK5934=\"\",\"\",VLOOKUP(AK5934,Sifranti!V:Y,4,FALSE))","v":""}]
[{"$f":"IF(B5935=\"\",\"\",VLOOKUP(B5935,Sifranti!K:L,2,FALSE))","v":""},null,null,null,null,null,null,null,null,"",{"$f":"IF(L5935=\"\",\"\",VLOOKUP(L5935,Sifranti!A:B,2,FALSE))","v":""},null,{"$f":"IF(N5935=\"\",\"\",VLOOKUP(N5935,Sifranti!D:F,3,FALSE))","v":""},null,{"$f":"IF(P5935=\"\",\"\",VLOOKUP(P5935,Sifranti!H:I,2,FALSE))","v":""},null,null,null,null,null,null,null,null,null,null,null,null,null,null,null,null,null,null,null,null,null,null,null,null,null,{"$f":"IF(AN5935=\"\",\"\",IF(LEN(VLOOKUP(AN5935,Sifranti!BY:BZ,2,FALSE))=0,\"\",VLOOKUP(AN5935,Sifranti!BY:BZ,2,FALSE)))","v":""},{"$f":"IF(C5935=\"\",\"\",VLOOKUP(C5935,Sifranti!P:R,2,FALSE))","v":""},"","",{"$f":"IF(C5935=\"\",\"\",VLOOKUP(C5935,Sifranti!P:R,3,FALSE))","v":""},{"$f":"IF(N5935=\"\",\"\",VLOOKUP(N5935,Sifranti!D:F,2,FALSE))","v":""},{"$f":"IF(AK5935=\"\",\"\",VLOOKUP(AK5935,Sifranti!V:Y,2,FALSE))","v":""},{"$f":"IF(AK5935=\"\",\"\",IF(VLOOKUP(AK5935,Sifranti!V:Y,3,FALSE)=\"\",\"\",VLOOKUP(AK5935,Sifranti!V:Y,3,FALSE)))","v":""},{"$f":"IF(AK5935=\"\",\"\",VLOOKUP(AK5935,Sifranti!V:Y,4,FALSE))","v":""}]
[{"$f":"IF(B5936=\"\",\"\",VLOOKUP(B5936,Sifranti!K:L,2,FALSE))","v":""},null,null,null,null,null,null,null,null,"",{"$f":"IF(L5936=\"\",\"\",VLOOKUP(L5936,Sifranti!A:B,2,FALSE))","v":""},null,{"$f":"IF(N5936=\"\",\"\",VLOOKUP(N5936,Sifranti!D:F,3,FALSE))","v":""},null,{"$f":"IF(P5936=\"\",\"\",VLOOKUP(P5936,Sifranti!H:I,2,FALSE))","v":""},null,null,null,null,null,null,null,null,null,null,null,null,null,null,null,null,null,null,null,null,null,null,null,null,null,{"$f":"IF(AN5936=\"\",\"\",IF(LEN(VLOOKUP(AN5936,Sifranti!BY:BZ,2,FALSE))=0,\"\",VLOOKUP(AN5936,Sifranti!BY:BZ,2,FALSE)))","v":""},{"$f":"IF(C5936=\"\",\"\",VLOOKUP(C5936,Sifranti!P:R,2,FALSE))","v":""},"","",{"$f":"IF(C5936=\"\",\"\",VLOOKUP(C5936,Sifranti!P:R,3,FALSE))","v":""},{"$f":"IF(N5936=\"\",\"\",VLOOKUP(N5936,Sifranti!D:F,2,FALSE))","v":""},{"$f":"IF(AK5936=\"\",\"\",VLOOKUP(AK5936,Sifranti!V:Y,2,FALSE))","v":""},{"$f":"IF(AK5936=\"\",\"\",IF(VLOOKUP(AK5936,Sifranti!V:Y,3,FALSE)=\"\",\"\",VLOOKUP(AK5936,Sifranti!V:Y,3,FALSE)))","v":""},{"$f":"IF(AK5936=\"\",\"\",VLOOKUP(AK5936,Sifranti!V:Y,4,FALSE))","v":""}]
[{"$f":"IF(B5937=\"\",\"\",VLOOKUP(B5937,Sifranti!K:L,2,FALSE))","v":""},null,null,null,null,null,null,null,null,"",{"$f":"IF(L5937=\"\",\"\",VLOOKUP(L5937,Sifranti!A:B,2,FALSE))","v":""},null,{"$f":"IF(N5937=\"\",\"\",VLOOKUP(N5937,Sifranti!D:F,3,FALSE))","v":""},null,{"$f":"IF(P5937=\"\",\"\",VLOOKUP(P5937,Sifranti!H:I,2,FALSE))","v":""},null,null,null,null,null,null,null,null,null,null,null,null,null,null,null,null,null,null,null,null,null,null,null,null,null,{"$f":"IF(AN5937=\"\",\"\",IF(LEN(VLOOKUP(AN5937,Sifranti!BY:BZ,2,FALSE))=0,\"\",VLOOKUP(AN5937,Sifranti!BY:BZ,2,FALSE)))","v":""},{"$f":"IF(C5937=\"\",\"\",VLOOKUP(C5937,Sifranti!P:R,2,FALSE))","v":""},"","",{"$f":"IF(C5937=\"\",\"\",VLOOKUP(C5937,Sifranti!P:R,3,FALSE))","v":""},{"$f":"IF(N5937=\"\",\"\",VLOOKUP(N5937,Sifranti!D:F,2,FALSE))","v":""},{"$f":"IF(AK5937=\"\",\"\",VLOOKUP(AK5937,Sifranti!V:Y,2,FALSE))","v":""},{"$f":"IF(AK5937=\"\",\"\",IF(VLOOKUP(AK5937,Sifranti!V:Y,3,FALSE)=\"\",\"\",VLOOKUP(AK5937,Sifranti!V:Y,3,FALSE)))","v":""},{"$f":"IF(AK5937=\"\",\"\",VLOOKUP(AK5937,Sifranti!V:Y,4,FALSE))","v":""}]
[{"$f":"IF(B5938=\"\",\"\",VLOOKUP(B5938,Sifranti!K:L,2,FALSE))","v":""},null,null,null,null,null,null,null,null,"",{"$f":"IF(L5938=\"\",\"\",VLOOKUP(L5938,Sifranti!A:B,2,FALSE))","v":""},null,{"$f":"IF(N5938=\"\",\"\",VLOOKUP(N5938,Sifranti!D:F,3,FALSE))","v":""},null,{"$f":"IF(P5938=\"\",\"\",VLOOKUP(P5938,Sifranti!H:I,2,FALSE))","v":""},null,null,null,null,null,null,null,null,null,null,null,null,null,null,null,null,null,null,null,null,null,null,null,null,null,{"$f":"IF(AN5938=\"\",\"\",IF(LEN(VLOOKUP(AN5938,Sifranti!BY:BZ,2,FALSE))=0,\"\",VLOOKUP(AN5938,Sifranti!BY:BZ,2,FALSE)))","v":""},{"$f":"IF(C5938=\"\",\"\",VLOOKUP(C5938,Sifranti!P:R,2,FALSE))","v":""},"","",{"$f":"IF(C5938=\"\",\"\",VLOOKUP(C5938,Sifranti!P:R,3,FALSE))","v":""},{"$f":"IF(N5938=\"\",\"\",VLOOKUP(N5938,Sifranti!D:F,2,FALSE))","v":""},{"$f":"IF(AK5938=\"\",\"\",VLOOKUP(AK5938,Sifranti!V:Y,2,FALSE))","v":""},{"$f":"IF(AK5938=\"\",\"\",IF(VLOOKUP(AK5938,Sifranti!V:Y,3,FALSE)=\"\",\"\",VLOOKUP(AK5938,Sifranti!V:Y,3,FALSE)))","v":""},{"$f":"IF(AK5938=\"\",\"\",VLOOKUP(AK5938,Sifranti!V:Y,4,FALSE))","v":""}]
[{"$f":"IF(B5939=\"\",\"\",VLOOKUP(B5939,Sifranti!K:L,2,FALSE))","v":""},null,null,null,null,null,null,null,null,"",{"$f":"IF(L5939=\"\",\"\",VLOOKUP(L5939,Sifranti!A:B,2,FALSE))","v":""},null,{"$f":"IF(N5939=\"\",\"\",VLOOKUP(N5939,Sifranti!D:F,3,FALSE))","v":""},null,{"$f":"IF(P5939=\"\",\"\",VLOOKUP(P5939,Sifranti!H:I,2,FALSE))","v":""},null,null,null,null,null,null,null,null,null,null,null,null,null,null,null,null,null,null,null,null,null,null,null,null,null,{"$f":"IF(AN5939=\"\",\"\",IF(LEN(VLOOKUP(AN5939,Sifranti!BY:BZ,2,FALSE))=0,\"\",VLOOKUP(AN5939,Sifranti!BY:BZ,2,FALSE)))","v":""},{"$f":"IF(C5939=\"\",\"\",VLOOKUP(C5939,Sifranti!P:R,2,FALSE))","v":""},"","",{"$f":"IF(C5939=\"\",\"\",VLOOKUP(C5939,Sifranti!P:R,3,FALSE))","v":""},{"$f":"IF(N5939=\"\",\"\",VLOOKUP(N5939,Sifranti!D:F,2,FALSE))","v":""},{"$f":"IF(AK5939=\"\",\"\",VLOOKUP(AK5939,Sifranti!V:Y,2,FALSE))","v":""},{"$f":"IF(AK5939=\"\",\"\",IF(VLOOKUP(AK5939,Sifranti!V:Y,3,FALSE)=\"\",\"\",VLOOKUP(AK5939,Sifranti!V:Y,3,FALSE)))","v":""},{"$f":"IF(AK5939=\"\",\"\",VLOOKUP(AK5939,Sifranti!V:Y,4,FALSE))","v":""}]
[{"$f":"IF(B5940=\"\",\"\",VLOOKUP(B5940,Sifranti!K:L,2,FALSE))","v":""},null,null,null,null,null,null,null,null,"",{"$f":"IF(L5940=\"\",\"\",VLOOKUP(L5940,Sifranti!A:B,2,FALSE))","v":""},null,{"$f":"IF(N5940=\"\",\"\",VLOOKUP(N5940,Sifranti!D:F,3,FALSE))","v":""},null,{"$f":"IF(P5940=\"\",\"\",VLOOKUP(P5940,Sifranti!H:I,2,FALSE))","v":""},null,null,null,null,null,null,null,null,null,null,null,null,null,null,null,null,null,null,null,null,null,null,null,null,null,{"$f":"IF(AN5940=\"\",\"\",IF(LEN(VLOOKUP(AN5940,Sifranti!BY:BZ,2,FALSE))=0,\"\",VLOOKUP(AN5940,Sifranti!BY:BZ,2,FALSE)))","v":""},{"$f":"IF(C5940=\"\",\"\",VLOOKUP(C5940,Sifranti!P:R,2,FALSE))","v":""},"","",{"$f":"IF(C5940=\"\",\"\",VLOOKUP(C5940,Sifranti!P:R,3,FALSE))","v":""},{"$f":"IF(N5940=\"\",\"\",VLOOKUP(N5940,Sifranti!D:F,2,FALSE))","v":""},{"$f":"IF(AK5940=\"\",\"\",VLOOKUP(AK5940,Sifranti!V:Y,2,FALSE))","v":""},{"$f":"IF(AK5940=\"\",\"\",IF(VLOOKUP(AK5940,Sifranti!V:Y,3,FALSE)=\"\",\"\",VLOOKUP(AK5940,Sifranti!V:Y,3,FALSE)))","v":""},{"$f":"IF(AK5940=\"\",\"\",VLOOKUP(AK5940,Sifranti!V:Y,4,FALSE))","v":""}]
[{"$f":"IF(B5941=\"\",\"\",VLOOKUP(B5941,Sifranti!K:L,2,FALSE))","v":""},null,null,null,null,null,null,null,null,"",{"$f":"IF(L5941=\"\",\"\",VLOOKUP(L5941,Sifranti!A:B,2,FALSE))","v":""},null,{"$f":"IF(N5941=\"\",\"\",VLOOKUP(N5941,Sifranti!D:F,3,FALSE))","v":""},null,{"$f":"IF(P5941=\"\",\"\",VLOOKUP(P5941,Sifranti!H:I,2,FALSE))","v":""},null,null,null,null,null,null,null,null,null,null,null,null,null,null,null,null,null,null,null,null,null,null,null,null,null,{"$f":"IF(AN5941=\"\",\"\",IF(LEN(VLOOKUP(AN5941,Sifranti!BY:BZ,2,FALSE))=0,\"\",VLOOKUP(AN5941,Sifranti!BY:BZ,2,FALSE)))","v":""},{"$f":"IF(C5941=\"\",\"\",VLOOKUP(C5941,Sifranti!P:R,2,FALSE))","v":""},"","",{"$f":"IF(C5941=\"\",\"\",VLOOKUP(C5941,Sifranti!P:R,3,FALSE))","v":""},{"$f":"IF(N5941=\"\",\"\",VLOOKUP(N5941,Sifranti!D:F,2,FALSE))","v":""},{"$f":"IF(AK5941=\"\",\"\",VLOOKUP(AK5941,Sifranti!V:Y,2,FALSE))","v":""},{"$f":"IF(AK5941=\"\",\"\",IF(VLOOKUP(AK5941,Sifranti!V:Y,3,FALSE)=\"\",\"\",VLOOKUP(AK5941,Sifranti!V:Y,3,FALSE)))","v":""},{"$f":"IF(AK5941=\"\",\"\",VLOOKUP(AK5941,Sifranti!V:Y,4,FALSE))","v":""}]
[{"$f":"IF(B5942=\"\",\"\",VLOOKUP(B5942,Sifranti!K:L,2,FALSE))","v":""},null,null,null,null,null,null,null,null,"",{"$f":"IF(L5942=\"\",\"\",VLOOKUP(L5942,Sifranti!A:B,2,FALSE))","v":""},null,{"$f":"IF(N5942=\"\",\"\",VLOOKUP(N5942,Sifranti!D:F,3,FALSE))","v":""},null,{"$f":"IF(P5942=\"\",\"\",VLOOKUP(P5942,Sifranti!H:I,2,FALSE))","v":""},null,null,null,null,null,null,null,null,null,null,null,null,null,null,null,null,null,null,null,null,null,null,null,null,null,{"$f":"IF(AN5942=\"\",\"\",IF(LEN(VLOOKUP(AN5942,Sifranti!BY:BZ,2,FALSE))=0,\"\",VLOOKUP(AN5942,Sifranti!BY:BZ,2,FALSE)))","v":""},{"$f":"IF(C5942=\"\",\"\",VLOOKUP(C5942,Sifranti!P:R,2,FALSE))","v":""},"","",{"$f":"IF(C5942=\"\",\"\",VLOOKUP(C5942,Sifranti!P:R,3,FALSE))","v":""},{"$f":"IF(N5942=\"\",\"\",VLOOKUP(N5942,Sifranti!D:F,2,FALSE))","v":""},{"$f":"IF(AK5942=\"\",\"\",VLOOKUP(AK5942,Sifranti!V:Y,2,FALSE))","v":""},{"$f":"IF(AK5942=\"\",\"\",IF(VLOOKUP(AK5942,Sifranti!V:Y,3,FALSE)=\"\",\"\",VLOOKUP(AK5942,Sifranti!V:Y,3,FALSE)))","v":""},{"$f":"IF(AK5942=\"\",\"\",VLOOKUP(AK5942,Sifranti!V:Y,4,FALSE))","v":""}]
[{"$f":"IF(B5943=\"\",\"\",VLOOKUP(B5943,Sifranti!K:L,2,FALSE))","v":""},null,null,null,null,null,null,null,null,"",{"$f":"IF(L5943=\"\",\"\",VLOOKUP(L5943,Sifranti!A:B,2,FALSE))","v":""},null,{"$f":"IF(N5943=\"\",\"\",VLOOKUP(N5943,Sifranti!D:F,3,FALSE))","v":""},null,{"$f":"IF(P5943=\"\",\"\",VLOOKUP(P5943,Sifranti!H:I,2,FALSE))","v":""},null,null,null,null,null,null,null,null,null,null,null,null,null,null,null,null,null,null,null,null,null,null,null,null,null,{"$f":"IF(AN5943=\"\",\"\",IF(LEN(VLOOKUP(AN5943,Sifranti!BY:BZ,2,FALSE))=0,\"\",VLOOKUP(AN5943,Sifranti!BY:BZ,2,FALSE)))","v":""},{"$f":"IF(C5943=\"\",\"\",VLOOKUP(C5943,Sifranti!P:R,2,FALSE))","v":""},"","",{"$f":"IF(C5943=\"\",\"\",VLOOKUP(C5943,Sifranti!P:R,3,FALSE))","v":""},{"$f":"IF(N5943=\"\",\"\",VLOOKUP(N5943,Sifranti!D:F,2,FALSE))","v":""},{"$f":"IF(AK5943=\"\",\"\",VLOOKUP(AK5943,Sifranti!V:Y,2,FALSE))","v":""},{"$f":"IF(AK5943=\"\",\"\",IF(VLOOKUP(AK5943,Sifranti!V:Y,3,FALSE)=\"\",\"\",VLOOKUP(AK5943,Sifranti!V:Y,3,FALSE)))","v":""},{"$f":"IF(AK5943=\"\",\"\",VLOOKUP(AK5943,Sifranti!V:Y,4,FALSE))","v":""}]
[{"$f":"IF(B5944=\"\",\"\",VLOOKUP(B5944,Sifranti!K:L,2,FALSE))","v":""},null,null,null,null,null,null,null,null,"",{"$f":"IF(L5944=\"\",\"\",VLOOKUP(L5944,Sifranti!A:B,2,FALSE))","v":""},null,{"$f":"IF(N5944=\"\",\"\",VLOOKUP(N5944,Sifranti!D:F,3,FALSE))","v":""},null,{"$f":"IF(P5944=\"\",\"\",VLOOKUP(P5944,Sifranti!H:I,2,FALSE))","v":""},null,null,null,null,null,null,null,null,null,null,null,null,null,null,null,null,null,null,null,null,null,null,null,null,null,{"$f":"IF(AN5944=\"\",\"\",IF(LEN(VLOOKUP(AN5944,Sifranti!BY:BZ,2,FALSE))=0,\"\",VLOOKUP(AN5944,Sifranti!BY:BZ,2,FALSE)))","v":""},{"$f":"IF(C5944=\"\",\"\",VLOOKUP(C5944,Sifranti!P:R,2,FALSE))","v":""},"","",{"$f":"IF(C5944=\"\",\"\",VLOOKUP(C5944,Sifranti!P:R,3,FALSE))","v":""},{"$f":"IF(N5944=\"\",\"\",VLOOKUP(N5944,Sifranti!D:F,2,FALSE))","v":""},{"$f":"IF(AK5944=\"\",\"\",VLOOKUP(AK5944,Sifranti!V:Y,2,FALSE))","v":""},{"$f":"IF(AK5944=\"\",\"\",IF(VLOOKUP(AK5944,Sifranti!V:Y,3,FALSE)=\"\",\"\",VLOOKUP(AK5944,Sifranti!V:Y,3,FALSE)))","v":""},{"$f":"IF(AK5944=\"\",\"\",VLOOKUP(AK5944,Sifranti!V:Y,4,FALSE))","v":""}]
[{"$f":"IF(B5945=\"\",\"\",VLOOKUP(B5945,Sifranti!K:L,2,FALSE))","v":""},null,null,null,null,null,null,null,null,"",{"$f":"IF(L5945=\"\",\"\",VLOOKUP(L5945,Sifranti!A:B,2,FALSE))","v":""},null,{"$f":"IF(N5945=\"\",\"\",VLOOKUP(N5945,Sifranti!D:F,3,FALSE))","v":""},null,{"$f":"IF(P5945=\"\",\"\",VLOOKUP(P5945,Sifranti!H:I,2,FALSE))","v":""},null,null,null,null,null,null,null,null,null,null,null,null,null,null,null,null,null,null,null,null,null,null,null,null,null,{"$f":"IF(AN5945=\"\",\"\",IF(LEN(VLOOKUP(AN5945,Sifranti!BY:BZ,2,FALSE))=0,\"\",VLOOKUP(AN5945,Sifranti!BY:BZ,2,FALSE)))","v":""},{"$f":"IF(C5945=\"\",\"\",VLOOKUP(C5945,Sifranti!P:R,2,FALSE))","v":""},"","",{"$f":"IF(C5945=\"\",\"\",VLOOKUP(C5945,Sifranti!P:R,3,FALSE))","v":""},{"$f":"IF(N5945=\"\",\"\",VLOOKUP(N5945,Sifranti!D:F,2,FALSE))","v":""},{"$f":"IF(AK5945=\"\",\"\",VLOOKUP(AK5945,Sifranti!V:Y,2,FALSE))","v":""},{"$f":"IF(AK5945=\"\",\"\",IF(VLOOKUP(AK5945,Sifranti!V:Y,3,FALSE)=\"\",\"\",VLOOKUP(AK5945,Sifranti!V:Y,3,FALSE)))","v":""},{"$f":"IF(AK5945=\"\",\"\",VLOOKUP(AK5945,Sifranti!V:Y,4,FALSE))","v":""}]
[{"$f":"IF(B5946=\"\",\"\",VLOOKUP(B5946,Sifranti!K:L,2,FALSE))","v":""},null,null,null,null,null,null,null,null,"",{"$f":"IF(L5946=\"\",\"\",VLOOKUP(L5946,Sifranti!A:B,2,FALSE))","v":""},null,{"$f":"IF(N5946=\"\",\"\",VLOOKUP(N5946,Sifranti!D:F,3,FALSE))","v":""},null,{"$f":"IF(P5946=\"\",\"\",VLOOKUP(P5946,Sifranti!H:I,2,FALSE))","v":""},null,null,null,null,null,null,null,null,null,null,null,null,null,null,null,null,null,null,null,null,null,null,null,null,null,{"$f":"IF(AN5946=\"\",\"\",IF(LEN(VLOOKUP(AN5946,Sifranti!BY:BZ,2,FALSE))=0,\"\",VLOOKUP(AN5946,Sifranti!BY:BZ,2,FALSE)))","v":""},{"$f":"IF(C5946=\"\",\"\",VLOOKUP(C5946,Sifranti!P:R,2,FALSE))","v":""},"","",{"$f":"IF(C5946=\"\",\"\",VLOOKUP(C5946,Sifranti!P:R,3,FALSE))","v":""},{"$f":"IF(N5946=\"\",\"\",VLOOKUP(N5946,Sifranti!D:F,2,FALSE))","v":""},{"$f":"IF(AK5946=\"\",\"\",VLOOKUP(AK5946,Sifranti!V:Y,2,FALSE))","v":""},{"$f":"IF(AK5946=\"\",\"\",IF(VLOOKUP(AK5946,Sifranti!V:Y,3,FALSE)=\"\",\"\",VLOOKUP(AK5946,Sifranti!V:Y,3,FALSE)))","v":""},{"$f":"IF(AK5946=\"\",\"\",VLOOKUP(AK5946,Sifranti!V:Y,4,FALSE))","v":""}]
[{"$f":"IF(B5947=\"\",\"\",VLOOKUP(B5947,Sifranti!K:L,2,FALSE))","v":""},null,null,null,null,null,null,null,null,"",{"$f":"IF(L5947=\"\",\"\",VLOOKUP(L5947,Sifranti!A:B,2,FALSE))","v":""},null,{"$f":"IF(N5947=\"\",\"\",VLOOKUP(N5947,Sifranti!D:F,3,FALSE))","v":""},null,{"$f":"IF(P5947=\"\",\"\",VLOOKUP(P5947,Sifranti!H:I,2,FALSE))","v":""},null,null,null,null,null,null,null,null,null,null,null,null,null,null,null,null,null,null,null,null,null,null,null,null,null,{"$f":"IF(AN5947=\"\",\"\",IF(LEN(VLOOKUP(AN5947,Sifranti!BY:BZ,2,FALSE))=0,\"\",VLOOKUP(AN5947,Sifranti!BY:BZ,2,FALSE)))","v":""},{"$f":"IF(C5947=\"\",\"\",VLOOKUP(C5947,Sifranti!P:R,2,FALSE))","v":""},"","",{"$f":"IF(C5947=\"\",\"\",VLOOKUP(C5947,Sifranti!P:R,3,FALSE))","v":""},{"$f":"IF(N5947=\"\",\"\",VLOOKUP(N5947,Sifranti!D:F,2,FALSE))","v":""},{"$f":"IF(AK5947=\"\",\"\",VLOOKUP(AK5947,Sifranti!V:Y,2,FALSE))","v":""},{"$f":"IF(AK5947=\"\",\"\",IF(VLOOKUP(AK5947,Sifranti!V:Y,3,FALSE)=\"\",\"\",VLOOKUP(AK5947,Sifranti!V:Y,3,FALSE)))","v":""},{"$f":"IF(AK5947=\"\",\"\",VLOOKUP(AK5947,Sifranti!V:Y,4,FALSE))","v":""}]
[{"$f":"IF(B5948=\"\",\"\",VLOOKUP(B5948,Sifranti!K:L,2,FALSE))","v":""},null,null,null,null,null,null,null,null,"",{"$f":"IF(L5948=\"\",\"\",VLOOKUP(L5948,Sifranti!A:B,2,FALSE))","v":""},null,{"$f":"IF(N5948=\"\",\"\",VLOOKUP(N5948,Sifranti!D:F,3,FALSE))","v":""},null,{"$f":"IF(P5948=\"\",\"\",VLOOKUP(P5948,Sifranti!H:I,2,FALSE))","v":""},null,null,null,null,null,null,null,null,null,null,null,null,null,null,null,null,null,null,null,null,null,null,null,null,null,{"$f":"IF(AN5948=\"\",\"\",IF(LEN(VLOOKUP(AN5948,Sifranti!BY:BZ,2,FALSE))=0,\"\",VLOOKUP(AN5948,Sifranti!BY:BZ,2,FALSE)))","v":""},{"$f":"IF(C5948=\"\",\"\",VLOOKUP(C5948,Sifranti!P:R,2,FALSE))","v":""},"","",{"$f":"IF(C5948=\"\",\"\",VLOOKUP(C5948,Sifranti!P:R,3,FALSE))","v":""},{"$f":"IF(N5948=\"\",\"\",VLOOKUP(N5948,Sifranti!D:F,2,FALSE))","v":""},{"$f":"IF(AK5948=\"\",\"\",VLOOKUP(AK5948,Sifranti!V:Y,2,FALSE))","v":""},{"$f":"IF(AK5948=\"\",\"\",IF(VLOOKUP(AK5948,Sifranti!V:Y,3,FALSE)=\"\",\"\",VLOOKUP(AK5948,Sifranti!V:Y,3,FALSE)))","v":""},{"$f":"IF(AK5948=\"\",\"\",VLOOKUP(AK5948,Sifranti!V:Y,4,FALSE))","v":""}]
[{"$f":"IF(B5949=\"\",\"\",VLOOKUP(B5949,Sifranti!K:L,2,FALSE))","v":""},null,null,null,null,null,null,null,null,"",{"$f":"IF(L5949=\"\",\"\",VLOOKUP(L5949,Sifranti!A:B,2,FALSE))","v":""},null,{"$f":"IF(N5949=\"\",\"\",VLOOKUP(N5949,Sifranti!D:F,3,FALSE))","v":""},null,{"$f":"IF(P5949=\"\",\"\",VLOOKUP(P5949,Sifranti!H:I,2,FALSE))","v":""},null,null,null,null,null,null,null,null,null,null,null,null,null,null,null,null,null,null,null,null,null,null,null,null,null,{"$f":"IF(AN5949=\"\",\"\",IF(LEN(VLOOKUP(AN5949,Sifranti!BY:BZ,2,FALSE))=0,\"\",VLOOKUP(AN5949,Sifranti!BY:BZ,2,FALSE)))","v":""},{"$f":"IF(C5949=\"\",\"\",VLOOKUP(C5949,Sifranti!P:R,2,FALSE))","v":""},"","",{"$f":"IF(C5949=\"\",\"\",VLOOKUP(C5949,Sifranti!P:R,3,FALSE))","v":""},{"$f":"IF(N5949=\"\",\"\",VLOOKUP(N5949,Sifranti!D:F,2,FALSE))","v":""},{"$f":"IF(AK5949=\"\",\"\",VLOOKUP(AK5949,Sifranti!V:Y,2,FALSE))","v":""},{"$f":"IF(AK5949=\"\",\"\",IF(VLOOKUP(AK5949,Sifranti!V:Y,3,FALSE)=\"\",\"\",VLOOKUP(AK5949,Sifranti!V:Y,3,FALSE)))","v":""},{"$f":"IF(AK5949=\"\",\"\",VLOOKUP(AK5949,Sifranti!V:Y,4,FALSE))","v":""}]
[{"$f":"IF(B5950=\"\",\"\",VLOOKUP(B5950,Sifranti!K:L,2,FALSE))","v":""},null,null,null,null,null,null,null,null,"",{"$f":"IF(L5950=\"\",\"\",VLOOKUP(L5950,Sifranti!A:B,2,FALSE))","v":""},null,{"$f":"IF(N5950=\"\",\"\",VLOOKUP(N5950,Sifranti!D:F,3,FALSE))","v":""},null,{"$f":"IF(P5950=\"\",\"\",VLOOKUP(P5950,Sifranti!H:I,2,FALSE))","v":""},null,null,null,null,null,null,null,null,null,null,null,null,null,null,null,null,null,null,null,null,null,null,null,null,null,{"$f":"IF(AN5950=\"\",\"\",IF(LEN(VLOOKUP(AN5950,Sifranti!BY:BZ,2,FALSE))=0,\"\",VLOOKUP(AN5950,Sifranti!BY:BZ,2,FALSE)))","v":""},{"$f":"IF(C5950=\"\",\"\",VLOOKUP(C5950,Sifranti!P:R,2,FALSE))","v":""},"","",{"$f":"IF(C5950=\"\",\"\",VLOOKUP(C5950,Sifranti!P:R,3,FALSE))","v":""},{"$f":"IF(N5950=\"\",\"\",VLOOKUP(N5950,Sifranti!D:F,2,FALSE))","v":""},{"$f":"IF(AK5950=\"\",\"\",VLOOKUP(AK5950,Sifranti!V:Y,2,FALSE))","v":""},{"$f":"IF(AK5950=\"\",\"\",IF(VLOOKUP(AK5950,Sifranti!V:Y,3,FALSE)=\"\",\"\",VLOOKUP(AK5950,Sifranti!V:Y,3,FALSE)))","v":""},{"$f":"IF(AK5950=\"\",\"\",VLOOKUP(AK5950,Sifranti!V:Y,4,FALSE))","v":""}]
[{"$f":"IF(B5951=\"\",\"\",VLOOKUP(B5951,Sifranti!K:L,2,FALSE))","v":""},null,null,null,null,null,null,null,null,"",{"$f":"IF(L5951=\"\",\"\",VLOOKUP(L5951,Sifranti!A:B,2,FALSE))","v":""},null,{"$f":"IF(N5951=\"\",\"\",VLOOKUP(N5951,Sifranti!D:F,3,FALSE))","v":""},null,{"$f":"IF(P5951=\"\",\"\",VLOOKUP(P5951,Sifranti!H:I,2,FALSE))","v":""},null,null,null,null,null,null,null,null,null,null,null,null,null,null,null,null,null,null,null,null,null,null,null,null,null,{"$f":"IF(AN5951=\"\",\"\",IF(LEN(VLOOKUP(AN5951,Sifranti!BY:BZ,2,FALSE))=0,\"\",VLOOKUP(AN5951,Sifranti!BY:BZ,2,FALSE)))","v":""},{"$f":"IF(C5951=\"\",\"\",VLOOKUP(C5951,Sifranti!P:R,2,FALSE))","v":""},"","",{"$f":"IF(C5951=\"\",\"\",VLOOKUP(C5951,Sifranti!P:R,3,FALSE))","v":""},{"$f":"IF(N5951=\"\",\"\",VLOOKUP(N5951,Sifranti!D:F,2,FALSE))","v":""},{"$f":"IF(AK5951=\"\",\"\",VLOOKUP(AK5951,Sifranti!V:Y,2,FALSE))","v":""},{"$f":"IF(AK5951=\"\",\"\",IF(VLOOKUP(AK5951,Sifranti!V:Y,3,FALSE)=\"\",\"\",VLOOKUP(AK5951,Sifranti!V:Y,3,FALSE)))","v":""},{"$f":"IF(AK5951=\"\",\"\",VLOOKUP(AK5951,Sifranti!V:Y,4,FALSE))","v":""}]
[{"$f":"IF(B5952=\"\",\"\",VLOOKUP(B5952,Sifranti!K:L,2,FALSE))","v":""},null,null,null,null,null,null,null,null,"",{"$f":"IF(L5952=\"\",\"\",VLOOKUP(L5952,Sifranti!A:B,2,FALSE))","v":""},null,{"$f":"IF(N5952=\"\",\"\",VLOOKUP(N5952,Sifranti!D:F,3,FALSE))","v":""},null,{"$f":"IF(P5952=\"\",\"\",VLOOKUP(P5952,Sifranti!H:I,2,FALSE))","v":""},null,null,null,null,null,null,null,null,null,null,null,null,null,null,null,null,null,null,null,null,null,null,null,null,null,{"$f":"IF(AN5952=\"\",\"\",IF(LEN(VLOOKUP(AN5952,Sifranti!BY:BZ,2,FALSE))=0,\"\",VLOOKUP(AN5952,Sifranti!BY:BZ,2,FALSE)))","v":""},{"$f":"IF(C5952=\"\",\"\",VLOOKUP(C5952,Sifranti!P:R,2,FALSE))","v":""},"","",{"$f":"IF(C5952=\"\",\"\",VLOOKUP(C5952,Sifranti!P:R,3,FALSE))","v":""},{"$f":"IF(N5952=\"\",\"\",VLOOKUP(N5952,Sifranti!D:F,2,FALSE))","v":""},{"$f":"IF(AK5952=\"\",\"\",VLOOKUP(AK5952,Sifranti!V:Y,2,FALSE))","v":""},{"$f":"IF(AK5952=\"\",\"\",IF(VLOOKUP(AK5952,Sifranti!V:Y,3,FALSE)=\"\",\"\",VLOOKUP(AK5952,Sifranti!V:Y,3,FALSE)))","v":""},{"$f":"IF(AK5952=\"\",\"\",VLOOKUP(AK5952,Sifranti!V:Y,4,FALSE))","v":""}]
[{"$f":"IF(B5953=\"\",\"\",VLOOKUP(B5953,Sifranti!K:L,2,FALSE))","v":""},null,null,null,null,null,null,null,null,"",{"$f":"IF(L5953=\"\",\"\",VLOOKUP(L5953,Sifranti!A:B,2,FALSE))","v":""},null,{"$f":"IF(N5953=\"\",\"\",VLOOKUP(N5953,Sifranti!D:F,3,FALSE))","v":""},null,{"$f":"IF(P5953=\"\",\"\",VLOOKUP(P5953,Sifranti!H:I,2,FALSE))","v":""},null,null,null,null,null,null,null,null,null,null,null,null,null,null,null,null,null,null,null,null,null,null,null,null,null,{"$f":"IF(AN5953=\"\",\"\",IF(LEN(VLOOKUP(AN5953,Sifranti!BY:BZ,2,FALSE))=0,\"\",VLOOKUP(AN5953,Sifranti!BY:BZ,2,FALSE)))","v":""},{"$f":"IF(C5953=\"\",\"\",VLOOKUP(C5953,Sifranti!P:R,2,FALSE))","v":""},"","",{"$f":"IF(C5953=\"\",\"\",VLOOKUP(C5953,Sifranti!P:R,3,FALSE))","v":""},{"$f":"IF(N5953=\"\",\"\",VLOOKUP(N5953,Sifranti!D:F,2,FALSE))","v":""},{"$f":"IF(AK5953=\"\",\"\",VLOOKUP(AK5953,Sifranti!V:Y,2,FALSE))","v":""},{"$f":"IF(AK5953=\"\",\"\",IF(VLOOKUP(AK5953,Sifranti!V:Y,3,FALSE)=\"\",\"\",VLOOKUP(AK5953,Sifranti!V:Y,3,FALSE)))","v":""},{"$f":"IF(AK5953=\"\",\"\",VLOOKUP(AK5953,Sifranti!V:Y,4,FALSE))","v":""}]
[{"$f":"IF(B5954=\"\",\"\",VLOOKUP(B5954,Sifranti!K:L,2,FALSE))","v":""},null,null,null,null,null,null,null,null,{"$f":"IF(H5954=\"\",\"\",YEAR(H5954))","v":""},{"$f":"IF(L5954=\"\",\"\",VLOOKUP(L5954,Sifranti!A:B,2,FALSE))","v":""},null,{"$f":"IF(N5954=\"\",\"\",VLOOKUP(N5954,Sifranti!D:F,3,FALSE))","v":""},null,{"$f":"IF(P5954=\"\",\"\",VLOOKUP(P5954,Sifranti!H:I,2,FALSE))","v":""},null,null,null,null,null,null,null,null,null,null,null,null,null,null,null,null,null,null,null,null,null,null,null,null,null,{"$f":"IF(AN5954=\"\",\"\",IF(LEN(VLOOKUP(AN5954,Sifranti!BY:BZ,2,FALSE))=0,\"\",VLOOKUP(AN5954,Sifranti!BY:BZ,2,FALSE)))","v":""},{"$f":"IF(C5954=\"\",\"\",VLOOKUP(C5954,Sifranti!P:R,2,FALSE))","v":""},{"$f":"IF(V5954>0,IF(AS5954=\"de minimis\",T5954/S5954*100,U5954/AD5954*100),\"\")","v":""},{"$f":"IF(AE5954>0,AE5954/U5954*100,\"\")","v":""},{"$f":"IF(C5954=\"\",\"\",VLOOKUP(C5954,Sifranti!P:R,3,FALSE))","v":""},{"$f":"IF(N5954=\"\",\"\",VLOOKUP(N5954,Sifranti!D:F,2,FALSE))","v":""},{"$f":"IF(AK5954=\"\",\"\",VLOOKUP(AK5954,Sifranti!V:Y,2,FALSE))","v":""},{"$f":"IF(AK5954=\"\",\"\",IF(VLOOKUP(AK5954,Sifranti!V:Y,3,FALSE)=\"\",\"\",VLOOKUP(AK5954,Sifranti!V:Y,3,FALSE)))","v":""},{"$f":"IF(AK5954=\"\",\"\",VLOOKUP(AK5954,Sifranti!V:Y,4,FALSE))","v":""}]
[{"$f":"IF(B5955=\"\",\"\",VLOOKUP(B5955,Sifranti!K:L,2,FALSE))","v":""},null,null,null,null,null,null,null,null,"",{"$f":"IF(L5955=\"\",\"\",VLOOKUP(L5955,Sifranti!A:B,2,FALSE))","v":""},null,{"$f":"IF(N5955=\"\",\"\",VLOOKUP(N5955,Sifranti!D:F,3,FALSE))","v":""},null,{"$f":"IF(P5955=\"\",\"\",VLOOKUP(P5955,Sifranti!H:I,2,FALSE))","v":""},null,null,null,null,null,null,null,null,null,null,null,null,null,null,null,null,null,null,null,null,null,null,null,null,null,{"$f":"IF(AN5955=\"\",\"\",IF(LEN(VLOOKUP(AN5955,Sifranti!BY:BZ,2,FALSE))=0,\"\",VLOOKUP(AN5955,Sifranti!BY:BZ,2,FALSE)))","v":""},{"$f":"IF(C5955=\"\",\"\",VLOOKUP(C5955,Sifranti!P:R,2,FALSE))","v":""},"","",{"$f":"IF(C5955=\"\",\"\",VLOOKUP(C5955,Sifranti!P:R,3,FALSE))","v":""},{"$f":"IF(N5955=\"\",\"\",VLOOKUP(N5955,Sifranti!D:F,2,FALSE))","v":""},{"$f":"IF(AK5955=\"\",\"\",VLOOKUP(AK5955,Sifranti!V:Y,2,FALSE))","v":""},{"$f":"IF(AK5955=\"\",\"\",IF(VLOOKUP(AK5955,Sifranti!V:Y,3,FALSE)=\"\",\"\",VLOOKUP(AK5955,Sifranti!V:Y,3,FALSE)))","v":""},{"$f":"IF(AK5955=\"\",\"\",VLOOKUP(AK5955,Sifranti!V:Y,4,FALSE))","v":""}]
[{"$f":"IF(B5956=\"\",\"\",VLOOKUP(B5956,Sifranti!K:L,2,FALSE))","v":""},null,null,null,null,null,null,null,null,"",{"$f":"IF(L5956=\"\",\"\",VLOOKUP(L5956,Sifranti!A:B,2,FALSE))","v":""},null,{"$f":"IF(N5956=\"\",\"\",VLOOKUP(N5956,Sifranti!D:F,3,FALSE))","v":""},null,{"$f":"IF(P5956=\"\",\"\",VLOOKUP(P5956,Sifranti!H:I,2,FALSE))","v":""},null,null,null,null,null,null,null,null,null,null,null,null,null,null,null,null,null,null,null,null,null,null,null,null,null,{"$f":"IF(AN5956=\"\",\"\",IF(LEN(VLOOKUP(AN5956,Sifranti!BY:BZ,2,FALSE))=0,\"\",VLOOKUP(AN5956,Sifranti!BY:BZ,2,FALSE)))","v":""},{"$f":"IF(C5956=\"\",\"\",VLOOKUP(C5956,Sifranti!P:R,2,FALSE))","v":""},"","",{"$f":"IF(C5956=\"\",\"\",VLOOKUP(C5956,Sifranti!P:R,3,FALSE))","v":""},{"$f":"IF(N5956=\"\",\"\",VLOOKUP(N5956,Sifranti!D:F,2,FALSE))","v":""},{"$f":"IF(AK5956=\"\",\"\",VLOOKUP(AK5956,Sifranti!V:Y,2,FALSE))","v":""},{"$f":"IF(AK5956=\"\",\"\",IF(VLOOKUP(AK5956,Sifranti!V:Y,3,FALSE)=\"\",\"\",VLOOKUP(AK5956,Sifranti!V:Y,3,FALSE)))","v":""},{"$f":"IF(AK5956=\"\",\"\",VLOOKUP(AK5956,Sifranti!V:Y,4,FALSE))","v":""}]
[{"$f":"IF(B5957=\"\",\"\",VLOOKUP(B5957,Sifranti!K:L,2,FALSE))","v":""},null,null,null,null,null,null,null,null,"",{"$f":"IF(L5957=\"\",\"\",VLOOKUP(L5957,Sifranti!A:B,2,FALSE))","v":""},null,{"$f":"IF(N5957=\"\",\"\",VLOOKUP(N5957,Sifranti!D:F,3,FALSE))","v":""},null,{"$f":"IF(P5957=\"\",\"\",VLOOKUP(P5957,Sifranti!H:I,2,FALSE))","v":""},null,null,null,null,null,null,null,null,null,null,null,null,null,null,null,null,null,null,null,null,null,null,null,null,null,{"$f":"IF(AN5957=\"\",\"\",IF(LEN(VLOOKUP(AN5957,Sifranti!BY:BZ,2,FALSE))=0,\"\",VLOOKUP(AN5957,Sifranti!BY:BZ,2,FALSE)))","v":""},{"$f":"IF(C5957=\"\",\"\",VLOOKUP(C5957,Sifranti!P:R,2,FALSE))","v":""},"","",{"$f":"IF(C5957=\"\",\"\",VLOOKUP(C5957,Sifranti!P:R,3,FALSE))","v":""},{"$f":"IF(N5957=\"\",\"\",VLOOKUP(N5957,Sifranti!D:F,2,FALSE))","v":""},{"$f":"IF(AK5957=\"\",\"\",VLOOKUP(AK5957,Sifranti!V:Y,2,FALSE))","v":""},{"$f":"IF(AK5957=\"\",\"\",IF(VLOOKUP(AK5957,Sifranti!V:Y,3,FALSE)=\"\",\"\",VLOOKUP(AK5957,Sifranti!V:Y,3,FALSE)))","v":""},{"$f":"IF(AK5957=\"\",\"\",VLOOKUP(AK5957,Sifranti!V:Y,4,FALSE))","v":""}]
[{"$f":"IF(B5958=\"\",\"\",VLOOKUP(B5958,Sifranti!K:L,2,FALSE))","v":""},null,null,null,null,null,null,null,null,"",{"$f":"IF(L5958=\"\",\"\",VLOOKUP(L5958,Sifranti!A:B,2,FALSE))","v":""},null,{"$f":"IF(N5958=\"\",\"\",VLOOKUP(N5958,Sifranti!D:F,3,FALSE))","v":""},null,{"$f":"IF(P5958=\"\",\"\",VLOOKUP(P5958,Sifranti!H:I,2,FALSE))","v":""},null,null,null,null,null,null,null,null,null,null,null,null,null,null,null,null,null,null,null,null,null,null,null,null,null,{"$f":"IF(AN5958=\"\",\"\",IF(LEN(VLOOKUP(AN5958,Sifranti!BY:BZ,2,FALSE))=0,\"\",VLOOKUP(AN5958,Sifranti!BY:BZ,2,FALSE)))","v":""},{"$f":"IF(C5958=\"\",\"\",VLOOKUP(C5958,Sifranti!P:R,2,FALSE))","v":""},"","",{"$f":"IF(C5958=\"\",\"\",VLOOKUP(C5958,Sifranti!P:R,3,FALSE))","v":""},{"$f":"IF(N5958=\"\",\"\",VLOOKUP(N5958,Sifranti!D:F,2,FALSE))","v":""},{"$f":"IF(AK5958=\"\",\"\",VLOOKUP(AK5958,Sifranti!V:Y,2,FALSE))","v":""},{"$f":"IF(AK5958=\"\",\"\",IF(VLOOKUP(AK5958,Sifranti!V:Y,3,FALSE)=\"\",\"\",VLOOKUP(AK5958,Sifranti!V:Y,3,FALSE)))","v":""},{"$f":"IF(AK5958=\"\",\"\",VLOOKUP(AK5958,Sifranti!V:Y,4,FALSE))","v":""}]
[{"$f":"IF(B5959=\"\",\"\",VLOOKUP(B5959,Sifranti!K:L,2,FALSE))","v":""},null,null,null,null,null,null,null,null,"",{"$f":"IF(L5959=\"\",\"\",VLOOKUP(L5959,Sifranti!A:B,2,FALSE))","v":""},null,{"$f":"IF(N5959=\"\",\"\",VLOOKUP(N5959,Sifranti!D:F,3,FALSE))","v":""},null,{"$f":"IF(P5959=\"\",\"\",VLOOKUP(P5959,Sifranti!H:I,2,FALSE))","v":""},null,null,null,null,null,null,null,null,null,null,null,null,null,null,null,null,null,null,null,null,null,null,null,null,null,{"$f":"IF(AN5959=\"\",\"\",IF(LEN(VLOOKUP(AN5959,Sifranti!BY:BZ,2,FALSE))=0,\"\",VLOOKUP(AN5959,Sifranti!BY:BZ,2,FALSE)))","v":""},{"$f":"IF(C5959=\"\",\"\",VLOOKUP(C5959,Sifranti!P:R,2,FALSE))","v":""},"","",{"$f":"IF(C5959=\"\",\"\",VLOOKUP(C5959,Sifranti!P:R,3,FALSE))","v":""},{"$f":"IF(N5959=\"\",\"\",VLOOKUP(N5959,Sifranti!D:F,2,FALSE))","v":""},{"$f":"IF(AK5959=\"\",\"\",VLOOKUP(AK5959,Sifranti!V:Y,2,FALSE))","v":""},{"$f":"IF(AK5959=\"\",\"\",IF(VLOOKUP(AK5959,Sifranti!V:Y,3,FALSE)=\"\",\"\",VLOOKUP(AK5959,Sifranti!V:Y,3,FALSE)))","v":""},{"$f":"IF(AK5959=\"\",\"\",VLOOKUP(AK5959,Sifranti!V:Y,4,FALSE))","v":""}]
[{"$f":"IF(B5960=\"\",\"\",VLOOKUP(B5960,Sifranti!K:L,2,FALSE))","v":""},null,null,null,null,null,null,null,null,"",{"$f":"IF(L5960=\"\",\"\",VLOOKUP(L5960,Sifranti!A:B,2,FALSE))","v":""},null,{"$f":"IF(N5960=\"\",\"\",VLOOKUP(N5960,Sifranti!D:F,3,FALSE))","v":""},null,{"$f":"IF(P5960=\"\",\"\",VLOOKUP(P5960,Sifranti!H:I,2,FALSE))","v":""},null,null,null,null,null,null,null,null,null,null,null,null,null,null,null,null,null,null,null,null,null,null,null,null,null,{"$f":"IF(AN5960=\"\",\"\",IF(LEN(VLOOKUP(AN5960,Sifranti!BY:BZ,2,FALSE))=0,\"\",VLOOKUP(AN5960,Sifranti!BY:BZ,2,FALSE)))","v":""},{"$f":"IF(C5960=\"\",\"\",VLOOKUP(C5960,Sifranti!P:R,2,FALSE))","v":""},"","",{"$f":"IF(C5960=\"\",\"\",VLOOKUP(C5960,Sifranti!P:R,3,FALSE))","v":""},{"$f":"IF(N5960=\"\",\"\",VLOOKUP(N5960,Sifranti!D:F,2,FALSE))","v":""},{"$f":"IF(AK5960=\"\",\"\",VLOOKUP(AK5960,Sifranti!V:Y,2,FALSE))","v":""},{"$f":"IF(AK5960=\"\",\"\",IF(VLOOKUP(AK5960,Sifranti!V:Y,3,FALSE)=\"\",\"\",VLOOKUP(AK5960,Sifranti!V:Y,3,FALSE)))","v":""},{"$f":"IF(AK5960=\"\",\"\",VLOOKUP(AK5960,Sifranti!V:Y,4,FALSE))","v":""}]
[{"$f":"IF(B5961=\"\",\"\",VLOOKUP(B5961,Sifranti!K:L,2,FALSE))","v":""},null,null,null,null,null,null,null,null,"",{"$f":"IF(L5961=\"\",\"\",VLOOKUP(L5961,Sifranti!A:B,2,FALSE))","v":""},null,{"$f":"IF(N5961=\"\",\"\",VLOOKUP(N5961,Sifranti!D:F,3,FALSE))","v":""},null,{"$f":"IF(P5961=\"\",\"\",VLOOKUP(P5961,Sifranti!H:I,2,FALSE))","v":""},null,null,null,null,null,null,null,null,null,null,null,null,null,null,null,null,null,null,null,null,null,null,null,null,null,{"$f":"IF(AN5961=\"\",\"\",IF(LEN(VLOOKUP(AN5961,Sifranti!BY:BZ,2,FALSE))=0,\"\",VLOOKUP(AN5961,Sifranti!BY:BZ,2,FALSE)))","v":""},{"$f":"IF(C5961=\"\",\"\",VLOOKUP(C5961,Sifranti!P:R,2,FALSE))","v":""},"","",{"$f":"IF(C5961=\"\",\"\",VLOOKUP(C5961,Sifranti!P:R,3,FALSE))","v":""},{"$f":"IF(N5961=\"\",\"\",VLOOKUP(N5961,Sifranti!D:F,2,FALSE))","v":""},{"$f":"IF(AK5961=\"\",\"\",VLOOKUP(AK5961,Sifranti!V:Y,2,FALSE))","v":""},{"$f":"IF(AK5961=\"\",\"\",IF(VLOOKUP(AK5961,Sifranti!V:Y,3,FALSE)=\"\",\"\",VLOOKUP(AK5961,Sifranti!V:Y,3,FALSE)))","v":""},{"$f":"IF(AK5961=\"\",\"\",VLOOKUP(AK5961,Sifranti!V:Y,4,FALSE))","v":""}]
[{"$f":"IF(B5962=\"\",\"\",VLOOKUP(B5962,Sifranti!K:L,2,FALSE))","v":""},null,null,null,null,null,null,null,null,"",{"$f":"IF(L5962=\"\",\"\",VLOOKUP(L5962,Sifranti!A:B,2,FALSE))","v":""},null,{"$f":"IF(N5962=\"\",\"\",VLOOKUP(N5962,Sifranti!D:F,3,FALSE))","v":""},null,{"$f":"IF(P5962=\"\",\"\",VLOOKUP(P5962,Sifranti!H:I,2,FALSE))","v":""},null,null,null,null,null,null,null,null,null,null,null,null,null,null,null,null,null,null,null,null,null,null,null,null,null,{"$f":"IF(AN5962=\"\",\"\",IF(LEN(VLOOKUP(AN5962,Sifranti!BY:BZ,2,FALSE))=0,\"\",VLOOKUP(AN5962,Sifranti!BY:BZ,2,FALSE)))","v":""},{"$f":"IF(C5962=\"\",\"\",VLOOKUP(C5962,Sifranti!P:R,2,FALSE))","v":""},"","",{"$f":"IF(C5962=\"\",\"\",VLOOKUP(C5962,Sifranti!P:R,3,FALSE))","v":""},{"$f":"IF(N5962=\"\",\"\",VLOOKUP(N5962,Sifranti!D:F,2,FALSE))","v":""},{"$f":"IF(AK5962=\"\",\"\",VLOOKUP(AK5962,Sifranti!V:Y,2,FALSE))","v":""},{"$f":"IF(AK5962=\"\",\"\",IF(VLOOKUP(AK5962,Sifranti!V:Y,3,FALSE)=\"\",\"\",VLOOKUP(AK5962,Sifranti!V:Y,3,FALSE)))","v":""},{"$f":"IF(AK5962=\"\",\"\",VLOOKUP(AK5962,Sifranti!V:Y,4,FALSE))","v":""}]
[{"$f":"IF(B5963=\"\",\"\",VLOOKUP(B5963,Sifranti!K:L,2,FALSE))","v":""},null,null,null,null,null,null,null,null,"",{"$f":"IF(L5963=\"\",\"\",VLOOKUP(L5963,Sifranti!A:B,2,FALSE))","v":""},null,{"$f":"IF(N5963=\"\",\"\",VLOOKUP(N5963,Sifranti!D:F,3,FALSE))","v":""},null,{"$f":"IF(P5963=\"\",\"\",VLOOKUP(P5963,Sifranti!H:I,2,FALSE))","v":""},null,null,null,null,null,null,null,null,null,null,null,null,null,null,null,null,null,null,null,null,null,null,null,null,null,{"$f":"IF(AN5963=\"\",\"\",IF(LEN(VLOOKUP(AN5963,Sifranti!BY:BZ,2,FALSE))=0,\"\",VLOOKUP(AN5963,Sifranti!BY:BZ,2,FALSE)))","v":""},{"$f":"IF(C5963=\"\",\"\",VLOOKUP(C5963,Sifranti!P:R,2,FALSE))","v":""},"","",{"$f":"IF(C5963=\"\",\"\",VLOOKUP(C5963,Sifranti!P:R,3,FALSE))","v":""},{"$f":"IF(N5963=\"\",\"\",VLOOKUP(N5963,Sifranti!D:F,2,FALSE))","v":""},{"$f":"IF(AK5963=\"\",\"\",VLOOKUP(AK5963,Sifranti!V:Y,2,FALSE))","v":""},{"$f":"IF(AK5963=\"\",\"\",IF(VLOOKUP(AK5963,Sifranti!V:Y,3,FALSE)=\"\",\"\",VLOOKUP(AK5963,Sifranti!V:Y,3,FALSE)))","v":""},{"$f":"IF(AK5963=\"\",\"\",VLOOKUP(AK5963,Sifranti!V:Y,4,FALSE))","v":""}]
[{"$f":"IF(B5964=\"\",\"\",VLOOKUP(B5964,Sifranti!K:L,2,FALSE))","v":""},null,null,null,null,null,null,null,null,"",{"$f":"IF(L5964=\"\",\"\",VLOOKUP(L5964,Sifranti!A:B,2,FALSE))","v":""},null,{"$f":"IF(N5964=\"\",\"\",VLOOKUP(N5964,Sifranti!D:F,3,FALSE))","v":""},null,{"$f":"IF(P5964=\"\",\"\",VLOOKUP(P5964,Sifranti!H:I,2,FALSE))","v":""},null,null,null,null,null,null,null,null,null,null,null,null,null,null,null,null,null,null,null,null,null,null,null,null,null,{"$f":"IF(AN5964=\"\",\"\",IF(LEN(VLOOKUP(AN5964,Sifranti!BY:BZ,2,FALSE))=0,\"\",VLOOKUP(AN5964,Sifranti!BY:BZ,2,FALSE)))","v":""},{"$f":"IF(C5964=\"\",\"\",VLOOKUP(C5964,Sifranti!P:R,2,FALSE))","v":""},"","",{"$f":"IF(C5964=\"\",\"\",VLOOKUP(C5964,Sifranti!P:R,3,FALSE))","v":""},{"$f":"IF(N5964=\"\",\"\",VLOOKUP(N5964,Sifranti!D:F,2,FALSE))","v":""},{"$f":"IF(AK5964=\"\",\"\",VLOOKUP(AK5964,Sifranti!V:Y,2,FALSE))","v":""},{"$f":"IF(AK5964=\"\",\"\",IF(VLOOKUP(AK5964,Sifranti!V:Y,3,FALSE)=\"\",\"\",VLOOKUP(AK5964,Sifranti!V:Y,3,FALSE)))","v":""},{"$f":"IF(AK5964=\"\",\"\",VLOOKUP(AK5964,Sifranti!V:Y,4,FALSE))","v":""}]
[{"$f":"IF(B5965=\"\",\"\",VLOOKUP(B5965,Sifranti!K:L,2,FALSE))","v":""},null,null,null,null,null,null,null,null,"",{"$f":"IF(L5965=\"\",\"\",VLOOKUP(L5965,Sifranti!A:B,2,FALSE))","v":""},null,{"$f":"IF(N5965=\"\",\"\",VLOOKUP(N5965,Sifranti!D:F,3,FALSE))","v":""},null,{"$f":"IF(P5965=\"\",\"\",VLOOKUP(P5965,Sifranti!H:I,2,FALSE))","v":""},null,null,null,null,null,null,null,null,null,null,null,null,null,null,null,null,null,null,null,null,null,null,null,null,null,{"$f":"IF(AN5965=\"\",\"\",IF(LEN(VLOOKUP(AN5965,Sifranti!BY:BZ,2,FALSE))=0,\"\",VLOOKUP(AN5965,Sifranti!BY:BZ,2,FALSE)))","v":""},{"$f":"IF(C5965=\"\",\"\",VLOOKUP(C5965,Sifranti!P:R,2,FALSE))","v":""},"","",{"$f":"IF(C5965=\"\",\"\",VLOOKUP(C5965,Sifranti!P:R,3,FALSE))","v":""},{"$f":"IF(N5965=\"\",\"\",VLOOKUP(N5965,Sifranti!D:F,2,FALSE))","v":""},{"$f":"IF(AK5965=\"\",\"\",VLOOKUP(AK5965,Sifranti!V:Y,2,FALSE))","v":""},{"$f":"IF(AK5965=\"\",\"\",IF(VLOOKUP(AK5965,Sifranti!V:Y,3,FALSE)=\"\",\"\",VLOOKUP(AK5965,Sifranti!V:Y,3,FALSE)))","v":""},{"$f":"IF(AK5965=\"\",\"\",VLOOKUP(AK5965,Sifranti!V:Y,4,FALSE))","v":""}]
[{"$f":"IF(B5966=\"\",\"\",VLOOKUP(B5966,Sifranti!K:L,2,FALSE))","v":""},null,null,null,null,null,null,null,null,"",{"$f":"IF(L5966=\"\",\"\",VLOOKUP(L5966,Sifranti!A:B,2,FALSE))","v":""},null,{"$f":"IF(N5966=\"\",\"\",VLOOKUP(N5966,Sifranti!D:F,3,FALSE))","v":""},null,{"$f":"IF(P5966=\"\",\"\",VLOOKUP(P5966,Sifranti!H:I,2,FALSE))","v":""},null,null,null,null,null,null,null,null,null,null,null,null,null,null,null,null,null,null,null,null,null,null,null,null,null,{"$f":"IF(AN5966=\"\",\"\",IF(LEN(VLOOKUP(AN5966,Sifranti!BY:BZ,2,FALSE))=0,\"\",VLOOKUP(AN5966,Sifranti!BY:BZ,2,FALSE)))","v":""},{"$f":"IF(C5966=\"\",\"\",VLOOKUP(C5966,Sifranti!P:R,2,FALSE))","v":""},"","",{"$f":"IF(C5966=\"\",\"\",VLOOKUP(C5966,Sifranti!P:R,3,FALSE))","v":""},{"$f":"IF(N5966=\"\",\"\",VLOOKUP(N5966,Sifranti!D:F,2,FALSE))","v":""},{"$f":"IF(AK5966=\"\",\"\",VLOOKUP(AK5966,Sifranti!V:Y,2,FALSE))","v":""},{"$f":"IF(AK5966=\"\",\"\",IF(VLOOKUP(AK5966,Sifranti!V:Y,3,FALSE)=\"\",\"\",VLOOKUP(AK5966,Sifranti!V:Y,3,FALSE)))","v":""},{"$f":"IF(AK5966=\"\",\"\",VLOOKUP(AK5966,Sifranti!V:Y,4,FALSE))","v":""}]
[{"$f":"IF(B5967=\"\",\"\",VLOOKUP(B5967,Sifranti!K:L,2,FALSE))","v":""},null,null,null,null,null,null,null,null,"",{"$f":"IF(L5967=\"\",\"\",VLOOKUP(L5967,Sifranti!A:B,2,FALSE))","v":""},null,{"$f":"IF(N5967=\"\",\"\",VLOOKUP(N5967,Sifranti!D:F,3,FALSE))","v":""},null,{"$f":"IF(P5967=\"\",\"\",VLOOKUP(P5967,Sifranti!H:I,2,FALSE))","v":""},null,null,null,null,null,null,null,null,null,null,null,null,null,null,null,null,null,null,null,null,null,null,null,null,null,{"$f":"IF(AN5967=\"\",\"\",IF(LEN(VLOOKUP(AN5967,Sifranti!BY:BZ,2,FALSE))=0,\"\",VLOOKUP(AN5967,Sifranti!BY:BZ,2,FALSE)))","v":""},{"$f":"IF(C5967=\"\",\"\",VLOOKUP(C5967,Sifranti!P:R,2,FALSE))","v":""},"","",{"$f":"IF(C5967=\"\",\"\",VLOOKUP(C5967,Sifranti!P:R,3,FALSE))","v":""},{"$f":"IF(N5967=\"\",\"\",VLOOKUP(N5967,Sifranti!D:F,2,FALSE))","v":""},{"$f":"IF(AK5967=\"\",\"\",VLOOKUP(AK5967,Sifranti!V:Y,2,FALSE))","v":""},{"$f":"IF(AK5967=\"\",\"\",IF(VLOOKUP(AK5967,Sifranti!V:Y,3,FALSE)=\"\",\"\",VLOOKUP(AK5967,Sifranti!V:Y,3,FALSE)))","v":""},{"$f":"IF(AK5967=\"\",\"\",VLOOKUP(AK5967,Sifranti!V:Y,4,FALSE))","v":""}]
[{"$f":"IF(B5968=\"\",\"\",VLOOKUP(B5968,Sifranti!K:L,2,FALSE))","v":""},null,null,null,null,null,null,null,null,"",{"$f":"IF(L5968=\"\",\"\",VLOOKUP(L5968,Sifranti!A:B,2,FALSE))","v":""},null,{"$f":"IF(N5968=\"\",\"\",VLOOKUP(N5968,Sifranti!D:F,3,FALSE))","v":""},null,{"$f":"IF(P5968=\"\",\"\",VLOOKUP(P5968,Sifranti!H:I,2,FALSE))","v":""},null,null,null,null,null,null,null,null,null,null,null,null,null,null,null,null,null,null,null,null,null,null,null,null,null,{"$f":"IF(AN5968=\"\",\"\",IF(LEN(VLOOKUP(AN5968,Sifranti!BY:BZ,2,FALSE))=0,\"\",VLOOKUP(AN5968,Sifranti!BY:BZ,2,FALSE)))","v":""},{"$f":"IF(C5968=\"\",\"\",VLOOKUP(C5968,Sifranti!P:R,2,FALSE))","v":""},"","",{"$f":"IF(C5968=\"\",\"\",VLOOKUP(C5968,Sifranti!P:R,3,FALSE))","v":""},{"$f":"IF(N5968=\"\",\"\",VLOOKUP(N5968,Sifranti!D:F,2,FALSE))","v":""},{"$f":"IF(AK5968=\"\",\"\",VLOOKUP(AK5968,Sifranti!V:Y,2,FALSE))","v":""},{"$f":"IF(AK5968=\"\",\"\",IF(VLOOKUP(AK5968,Sifranti!V:Y,3,FALSE)=\"\",\"\",VLOOKUP(AK5968,Sifranti!V:Y,3,FALSE)))","v":""},{"$f":"IF(AK5968=\"\",\"\",VLOOKUP(AK5968,Sifranti!V:Y,4,FALSE))","v":""}]
[{"$f":"IF(B5969=\"\",\"\",VLOOKUP(B5969,Sifranti!K:L,2,FALSE))","v":""},null,null,null,null,null,null,null,null,"",{"$f":"IF(L5969=\"\",\"\",VLOOKUP(L5969,Sifranti!A:B,2,FALSE))","v":""},null,{"$f":"IF(N5969=\"\",\"\",VLOOKUP(N5969,Sifranti!D:F,3,FALSE))","v":""},null,{"$f":"IF(P5969=\"\",\"\",VLOOKUP(P5969,Sifranti!H:I,2,FALSE))","v":""},null,null,null,null,null,null,null,null,null,null,null,null,null,null,null,null,null,null,null,null,null,null,null,null,null,{"$f":"IF(AN5969=\"\",\"\",IF(LEN(VLOOKUP(AN5969,Sifranti!BY:BZ,2,FALSE))=0,\"\",VLOOKUP(AN5969,Sifranti!BY:BZ,2,FALSE)))","v":""},{"$f":"IF(C5969=\"\",\"\",VLOOKUP(C5969,Sifranti!P:R,2,FALSE))","v":""},"","",{"$f":"IF(C5969=\"\",\"\",VLOOKUP(C5969,Sifranti!P:R,3,FALSE))","v":""},{"$f":"IF(N5969=\"\",\"\",VLOOKUP(N5969,Sifranti!D:F,2,FALSE))","v":""},{"$f":"IF(AK5969=\"\",\"\",VLOOKUP(AK5969,Sifranti!V:Y,2,FALSE))","v":""},{"$f":"IF(AK5969=\"\",\"\",IF(VLOOKUP(AK5969,Sifranti!V:Y,3,FALSE)=\"\",\"\",VLOOKUP(AK5969,Sifranti!V:Y,3,FALSE)))","v":""},{"$f":"IF(AK5969=\"\",\"\",VLOOKUP(AK5969,Sifranti!V:Y,4,FALSE))","v":""}]
[{"$f":"IF(B5970=\"\",\"\",VLOOKUP(B5970,Sifranti!K:L,2,FALSE))","v":""},null,null,null,null,null,null,null,null,"",{"$f":"IF(L5970=\"\",\"\",VLOOKUP(L5970,Sifranti!A:B,2,FALSE))","v":""},null,{"$f":"IF(N5970=\"\",\"\",VLOOKUP(N5970,Sifranti!D:F,3,FALSE))","v":""},null,{"$f":"IF(P5970=\"\",\"\",VLOOKUP(P5970,Sifranti!H:I,2,FALSE))","v":""},null,null,null,null,null,null,null,null,null,null,null,null,null,null,null,null,null,null,null,null,null,null,null,null,null,{"$f":"IF(AN5970=\"\",\"\",IF(LEN(VLOOKUP(AN5970,Sifranti!BY:BZ,2,FALSE))=0,\"\",VLOOKUP(AN5970,Sifranti!BY:BZ,2,FALSE)))","v":""},{"$f":"IF(C5970=\"\",\"\",VLOOKUP(C5970,Sifranti!P:R,2,FALSE))","v":""},"","",{"$f":"IF(C5970=\"\",\"\",VLOOKUP(C5970,Sifranti!P:R,3,FALSE))","v":""},{"$f":"IF(N5970=\"\",\"\",VLOOKUP(N5970,Sifranti!D:F,2,FALSE))","v":""},{"$f":"IF(AK5970=\"\",\"\",VLOOKUP(AK5970,Sifranti!V:Y,2,FALSE))","v":""},{"$f":"IF(AK5970=\"\",\"\",IF(VLOOKUP(AK5970,Sifranti!V:Y,3,FALSE)=\"\",\"\",VLOOKUP(AK5970,Sifranti!V:Y,3,FALSE)))","v":""},{"$f":"IF(AK5970=\"\",\"\",VLOOKUP(AK5970,Sifranti!V:Y,4,FALSE))","v":""}]
[{"$f":"IF(B5971=\"\",\"\",VLOOKUP(B5971,Sifranti!K:L,2,FALSE))","v":""},null,null,null,null,null,null,null,null,"",{"$f":"IF(L5971=\"\",\"\",VLOOKUP(L5971,Sifranti!A:B,2,FALSE))","v":""},null,{"$f":"IF(N5971=\"\",\"\",VLOOKUP(N5971,Sifranti!D:F,3,FALSE))","v":""},null,{"$f":"IF(P5971=\"\",\"\",VLOOKUP(P5971,Sifranti!H:I,2,FALSE))","v":""},null,null,null,null,null,null,null,null,null,null,null,null,null,null,null,null,null,null,null,null,null,null,null,null,null,{"$f":"IF(AN5971=\"\",\"\",IF(LEN(VLOOKUP(AN5971,Sifranti!BY:BZ,2,FALSE))=0,\"\",VLOOKUP(AN5971,Sifranti!BY:BZ,2,FALSE)))","v":""},{"$f":"IF(C5971=\"\",\"\",VLOOKUP(C5971,Sifranti!P:R,2,FALSE))","v":""},"","",{"$f":"IF(C5971=\"\",\"\",VLOOKUP(C5971,Sifranti!P:R,3,FALSE))","v":""},{"$f":"IF(N5971=\"\",\"\",VLOOKUP(N5971,Sifranti!D:F,2,FALSE))","v":""},{"$f":"IF(AK5971=\"\",\"\",VLOOKUP(AK5971,Sifranti!V:Y,2,FALSE))","v":""},{"$f":"IF(AK5971=\"\",\"\",IF(VLOOKUP(AK5971,Sifranti!V:Y,3,FALSE)=\"\",\"\",VLOOKUP(AK5971,Sifranti!V:Y,3,FALSE)))","v":""},{"$f":"IF(AK5971=\"\",\"\",VLOOKUP(AK5971,Sifranti!V:Y,4,FALSE))","v":""}]
[{"$f":"IF(B5972=\"\",\"\",VLOOKUP(B5972,Sifranti!K:L,2,FALSE))","v":""},null,null,null,null,null,null,null,null,"",{"$f":"IF(L5972=\"\",\"\",VLOOKUP(L5972,Sifranti!A:B,2,FALSE))","v":""},null,{"$f":"IF(N5972=\"\",\"\",VLOOKUP(N5972,Sifranti!D:F,3,FALSE))","v":""},null,{"$f":"IF(P5972=\"\",\"\",VLOOKUP(P5972,Sifranti!H:I,2,FALSE))","v":""},null,null,null,null,null,null,null,null,null,null,null,null,null,null,null,null,null,null,null,null,null,null,null,null,null,{"$f":"IF(AN5972=\"\",\"\",IF(LEN(VLOOKUP(AN5972,Sifranti!BY:BZ,2,FALSE))=0,\"\",VLOOKUP(AN5972,Sifranti!BY:BZ,2,FALSE)))","v":""},{"$f":"IF(C5972=\"\",\"\",VLOOKUP(C5972,Sifranti!P:R,2,FALSE))","v":""},"","",{"$f":"IF(C5972=\"\",\"\",VLOOKUP(C5972,Sifranti!P:R,3,FALSE))","v":""},{"$f":"IF(N5972=\"\",\"\",VLOOKUP(N5972,Sifranti!D:F,2,FALSE))","v":""},{"$f":"IF(AK5972=\"\",\"\",VLOOKUP(AK5972,Sifranti!V:Y,2,FALSE))","v":""},{"$f":"IF(AK5972=\"\",\"\",IF(VLOOKUP(AK5972,Sifranti!V:Y,3,FALSE)=\"\",\"\",VLOOKUP(AK5972,Sifranti!V:Y,3,FALSE)))","v":""},{"$f":"IF(AK5972=\"\",\"\",VLOOKUP(AK5972,Sifranti!V:Y,4,FALSE))","v":""}]
[{"$f":"IF(B5973=\"\",\"\",VLOOKUP(B5973,Sifranti!K:L,2,FALSE))","v":""},null,null,null,null,null,null,null,null,"",{"$f":"IF(L5973=\"\",\"\",VLOOKUP(L5973,Sifranti!A:B,2,FALSE))","v":""},null,{"$f":"IF(N5973=\"\",\"\",VLOOKUP(N5973,Sifranti!D:F,3,FALSE))","v":""},null,{"$f":"IF(P5973=\"\",\"\",VLOOKUP(P5973,Sifranti!H:I,2,FALSE))","v":""},null,null,null,null,null,null,null,null,null,null,null,null,null,null,null,null,null,null,null,null,null,null,null,null,null,{"$f":"IF(AN5973=\"\",\"\",IF(LEN(VLOOKUP(AN5973,Sifranti!BY:BZ,2,FALSE))=0,\"\",VLOOKUP(AN5973,Sifranti!BY:BZ,2,FALSE)))","v":""},{"$f":"IF(C5973=\"\",\"\",VLOOKUP(C5973,Sifranti!P:R,2,FALSE))","v":""},"","",{"$f":"IF(C5973=\"\",\"\",VLOOKUP(C5973,Sifranti!P:R,3,FALSE))","v":""},{"$f":"IF(N5973=\"\",\"\",VLOOKUP(N5973,Sifranti!D:F,2,FALSE))","v":""},{"$f":"IF(AK5973=\"\",\"\",VLOOKUP(AK5973,Sifranti!V:Y,2,FALSE))","v":""},{"$f":"IF(AK5973=\"\",\"\",IF(VLOOKUP(AK5973,Sifranti!V:Y,3,FALSE)=\"\",\"\",VLOOKUP(AK5973,Sifranti!V:Y,3,FALSE)))","v":""},{"$f":"IF(AK5973=\"\",\"\",VLOOKUP(AK5973,Sifranti!V:Y,4,FALSE))","v":""}]
[{"$f":"IF(B5974=\"\",\"\",VLOOKUP(B5974,Sifranti!K:L,2,FALSE))","v":""},null,null,null,null,null,null,null,null,"",{"$f":"IF(L5974=\"\",\"\",VLOOKUP(L5974,Sifranti!A:B,2,FALSE))","v":""},null,{"$f":"IF(N5974=\"\",\"\",VLOOKUP(N5974,Sifranti!D:F,3,FALSE))","v":""},null,{"$f":"IF(P5974=\"\",\"\",VLOOKUP(P5974,Sifranti!H:I,2,FALSE))","v":""},null,null,null,null,null,null,null,null,null,null,null,null,null,null,null,null,null,null,null,null,null,null,null,null,null,{"$f":"IF(AN5974=\"\",\"\",IF(LEN(VLOOKUP(AN5974,Sifranti!BY:BZ,2,FALSE))=0,\"\",VLOOKUP(AN5974,Sifranti!BY:BZ,2,FALSE)))","v":""},{"$f":"IF(C5974=\"\",\"\",VLOOKUP(C5974,Sifranti!P:R,2,FALSE))","v":""},"","",{"$f":"IF(C5974=\"\",\"\",VLOOKUP(C5974,Sifranti!P:R,3,FALSE))","v":""},{"$f":"IF(N5974=\"\",\"\",VLOOKUP(N5974,Sifranti!D:F,2,FALSE))","v":""},{"$f":"IF(AK5974=\"\",\"\",VLOOKUP(AK5974,Sifranti!V:Y,2,FALSE))","v":""},{"$f":"IF(AK5974=\"\",\"\",IF(VLOOKUP(AK5974,Sifranti!V:Y,3,FALSE)=\"\",\"\",VLOOKUP(AK5974,Sifranti!V:Y,3,FALSE)))","v":""},{"$f":"IF(AK5974=\"\",\"\",VLOOKUP(AK5974,Sifranti!V:Y,4,FALSE))","v":""}]
[{"$f":"IF(B5975=\"\",\"\",VLOOKUP(B5975,Sifranti!K:L,2,FALSE))","v":""},null,null,null,null,null,null,null,null,"",{"$f":"IF(L5975=\"\",\"\",VLOOKUP(L5975,Sifranti!A:B,2,FALSE))","v":""},null,{"$f":"IF(N5975=\"\",\"\",VLOOKUP(N5975,Sifranti!D:F,3,FALSE))","v":""},null,{"$f":"IF(P5975=\"\",\"\",VLOOKUP(P5975,Sifranti!H:I,2,FALSE))","v":""},null,null,null,null,null,null,null,null,null,null,null,null,null,null,null,null,null,null,null,null,null,null,null,null,null,{"$f":"IF(AN5975=\"\",\"\",IF(LEN(VLOOKUP(AN5975,Sifranti!BY:BZ,2,FALSE))=0,\"\",VLOOKUP(AN5975,Sifranti!BY:BZ,2,FALSE)))","v":""},{"$f":"IF(C5975=\"\",\"\",VLOOKUP(C5975,Sifranti!P:R,2,FALSE))","v":""},"","",{"$f":"IF(C5975=\"\",\"\",VLOOKUP(C5975,Sifranti!P:R,3,FALSE))","v":""},{"$f":"IF(N5975=\"\",\"\",VLOOKUP(N5975,Sifranti!D:F,2,FALSE))","v":""},{"$f":"IF(AK5975=\"\",\"\",VLOOKUP(AK5975,Sifranti!V:Y,2,FALSE))","v":""},{"$f":"IF(AK5975=\"\",\"\",IF(VLOOKUP(AK5975,Sifranti!V:Y,3,FALSE)=\"\",\"\",VLOOKUP(AK5975,Sifranti!V:Y,3,FALSE)))","v":""},{"$f":"IF(AK5975=\"\",\"\",VLOOKUP(AK5975,Sifranti!V:Y,4,FALSE))","v":""}]
[{"$f":"IF(B5976=\"\",\"\",VLOOKUP(B5976,Sifranti!K:L,2,FALSE))","v":""},null,null,null,null,null,null,null,null,"",{"$f":"IF(L5976=\"\",\"\",VLOOKUP(L5976,Sifranti!A:B,2,FALSE))","v":""},null,{"$f":"IF(N5976=\"\",\"\",VLOOKUP(N5976,Sifranti!D:F,3,FALSE))","v":""},null,{"$f":"IF(P5976=\"\",\"\",VLOOKUP(P5976,Sifranti!H:I,2,FALSE))","v":""},null,null,null,null,null,null,null,null,null,null,null,null,null,null,null,null,null,null,null,null,null,null,null,null,null,{"$f":"IF(AN5976=\"\",\"\",IF(LEN(VLOOKUP(AN5976,Sifranti!BY:BZ,2,FALSE))=0,\"\",VLOOKUP(AN5976,Sifranti!BY:BZ,2,FALSE)))","v":""},{"$f":"IF(C5976=\"\",\"\",VLOOKUP(C5976,Sifranti!P:R,2,FALSE))","v":""},"","",{"$f":"IF(C5976=\"\",\"\",VLOOKUP(C5976,Sifranti!P:R,3,FALSE))","v":""},{"$f":"IF(N5976=\"\",\"\",VLOOKUP(N5976,Sifranti!D:F,2,FALSE))","v":""},{"$f":"IF(AK5976=\"\",\"\",VLOOKUP(AK5976,Sifranti!V:Y,2,FALSE))","v":""},{"$f":"IF(AK5976=\"\",\"\",IF(VLOOKUP(AK5976,Sifranti!V:Y,3,FALSE)=\"\",\"\",VLOOKUP(AK5976,Sifranti!V:Y,3,FALSE)))","v":""},{"$f":"IF(AK5976=\"\",\"\",VLOOKUP(AK5976,Sifranti!V:Y,4,FALSE))","v":""}]
[{"$f":"IF(B5977=\"\",\"\",VLOOKUP(B5977,Sifranti!K:L,2,FALSE))","v":""},null,null,null,null,null,null,null,null,"",{"$f":"IF(L5977=\"\",\"\",VLOOKUP(L5977,Sifranti!A:B,2,FALSE))","v":""},null,{"$f":"IF(N5977=\"\",\"\",VLOOKUP(N5977,Sifranti!D:F,3,FALSE))","v":""},null,{"$f":"IF(P5977=\"\",\"\",VLOOKUP(P5977,Sifranti!H:I,2,FALSE))","v":""},null,null,null,null,null,null,null,null,null,null,null,null,null,null,null,null,null,null,null,null,null,null,null,null,null,{"$f":"IF(AN5977=\"\",\"\",IF(LEN(VLOOKUP(AN5977,Sifranti!BY:BZ,2,FALSE))=0,\"\",VLOOKUP(AN5977,Sifranti!BY:BZ,2,FALSE)))","v":""},{"$f":"IF(C5977=\"\",\"\",VLOOKUP(C5977,Sifranti!P:R,2,FALSE))","v":""},"","",{"$f":"IF(C5977=\"\",\"\",VLOOKUP(C5977,Sifranti!P:R,3,FALSE))","v":""},{"$f":"IF(N5977=\"\",\"\",VLOOKUP(N5977,Sifranti!D:F,2,FALSE))","v":""},{"$f":"IF(AK5977=\"\",\"\",VLOOKUP(AK5977,Sifranti!V:Y,2,FALSE))","v":""},{"$f":"IF(AK5977=\"\",\"\",IF(VLOOKUP(AK5977,Sifranti!V:Y,3,FALSE)=\"\",\"\",VLOOKUP(AK5977,Sifranti!V:Y,3,FALSE)))","v":""},{"$f":"IF(AK5977=\"\",\"\",VLOOKUP(AK5977,Sifranti!V:Y,4,FALSE))","v":""}]
[{"$f":"IF(B5978=\"\",\"\",VLOOKUP(B5978,Sifranti!K:L,2,FALSE))","v":""},null,null,null,null,null,null,null,null,"",{"$f":"IF(L5978=\"\",\"\",VLOOKUP(L5978,Sifranti!A:B,2,FALSE))","v":""},null,{"$f":"IF(N5978=\"\",\"\",VLOOKUP(N5978,Sifranti!D:F,3,FALSE))","v":""},null,{"$f":"IF(P5978=\"\",\"\",VLOOKUP(P5978,Sifranti!H:I,2,FALSE))","v":""},null,null,null,null,null,null,null,null,null,null,null,null,null,null,null,null,null,null,null,null,null,null,null,null,null,{"$f":"IF(AN5978=\"\",\"\",IF(LEN(VLOOKUP(AN5978,Sifranti!BY:BZ,2,FALSE))=0,\"\",VLOOKUP(AN5978,Sifranti!BY:BZ,2,FALSE)))","v":""},{"$f":"IF(C5978=\"\",\"\",VLOOKUP(C5978,Sifranti!P:R,2,FALSE))","v":""},"","",{"$f":"IF(C5978=\"\",\"\",VLOOKUP(C5978,Sifranti!P:R,3,FALSE))","v":""},{"$f":"IF(N5978=\"\",\"\",VLOOKUP(N5978,Sifranti!D:F,2,FALSE))","v":""},{"$f":"IF(AK5978=\"\",\"\",VLOOKUP(AK5978,Sifranti!V:Y,2,FALSE))","v":""},{"$f":"IF(AK5978=\"\",\"\",IF(VLOOKUP(AK5978,Sifranti!V:Y,3,FALSE)=\"\",\"\",VLOOKUP(AK5978,Sifranti!V:Y,3,FALSE)))","v":""},{"$f":"IF(AK5978=\"\",\"\",VLOOKUP(AK5978,Sifranti!V:Y,4,FALSE))","v":""}]
[{"$f":"IF(B5979=\"\",\"\",VLOOKUP(B5979,Sifranti!K:L,2,FALSE))","v":""},null,null,null,null,null,null,null,null,"",{"$f":"IF(L5979=\"\",\"\",VLOOKUP(L5979,Sifranti!A:B,2,FALSE))","v":""},null,{"$f":"IF(N5979=\"\",\"\",VLOOKUP(N5979,Sifranti!D:F,3,FALSE))","v":""},null,{"$f":"IF(P5979=\"\",\"\",VLOOKUP(P5979,Sifranti!H:I,2,FALSE))","v":""},null,null,null,null,null,null,null,null,null,null,null,null,null,null,null,null,null,null,null,null,null,null,null,null,null,{"$f":"IF(AN5979=\"\",\"\",IF(LEN(VLOOKUP(AN5979,Sifranti!BY:BZ,2,FALSE))=0,\"\",VLOOKUP(AN5979,Sifranti!BY:BZ,2,FALSE)))","v":""},{"$f":"IF(C5979=\"\",\"\",VLOOKUP(C5979,Sifranti!P:R,2,FALSE))","v":""},"","",{"$f":"IF(C5979=\"\",\"\",VLOOKUP(C5979,Sifranti!P:R,3,FALSE))","v":""},{"$f":"IF(N5979=\"\",\"\",VLOOKUP(N5979,Sifranti!D:F,2,FALSE))","v":""},{"$f":"IF(AK5979=\"\",\"\",VLOOKUP(AK5979,Sifranti!V:Y,2,FALSE))","v":""},{"$f":"IF(AK5979=\"\",\"\",IF(VLOOKUP(AK5979,Sifranti!V:Y,3,FALSE)=\"\",\"\",VLOOKUP(AK5979,Sifranti!V:Y,3,FALSE)))","v":""},{"$f":"IF(AK5979=\"\",\"\",VLOOKUP(AK5979,Sifranti!V:Y,4,FALSE))","v":""}]
[{"$f":"IF(B5980=\"\",\"\",VLOOKUP(B5980,Sifranti!K:L,2,FALSE))","v":""},null,null,null,null,null,null,null,null,"",{"$f":"IF(L5980=\"\",\"\",VLOOKUP(L5980,Sifranti!A:B,2,FALSE))","v":""},null,{"$f":"IF(N5980=\"\",\"\",VLOOKUP(N5980,Sifranti!D:F,3,FALSE))","v":""},null,{"$f":"IF(P5980=\"\",\"\",VLOOKUP(P5980,Sifranti!H:I,2,FALSE))","v":""},null,null,null,null,null,null,null,null,null,null,null,null,null,null,null,null,null,null,null,null,null,null,null,null,null,{"$f":"IF(AN5980=\"\",\"\",IF(LEN(VLOOKUP(AN5980,Sifranti!BY:BZ,2,FALSE))=0,\"\",VLOOKUP(AN5980,Sifranti!BY:BZ,2,FALSE)))","v":""},{"$f":"IF(C5980=\"\",\"\",VLOOKUP(C5980,Sifranti!P:R,2,FALSE))","v":""},"","",{"$f":"IF(C5980=\"\",\"\",VLOOKUP(C5980,Sifranti!P:R,3,FALSE))","v":""},{"$f":"IF(N5980=\"\",\"\",VLOOKUP(N5980,Sifranti!D:F,2,FALSE))","v":""},{"$f":"IF(AK5980=\"\",\"\",VLOOKUP(AK5980,Sifranti!V:Y,2,FALSE))","v":""},{"$f":"IF(AK5980=\"\",\"\",IF(VLOOKUP(AK5980,Sifranti!V:Y,3,FALSE)=\"\",\"\",VLOOKUP(AK5980,Sifranti!V:Y,3,FALSE)))","v":""},{"$f":"IF(AK5980=\"\",\"\",VLOOKUP(AK5980,Sifranti!V:Y,4,FALSE))","v":""}]
[{"$f":"IF(B5981=\"\",\"\",VLOOKUP(B5981,Sifranti!K:L,2,FALSE))","v":""},null,null,null,null,null,null,null,null,"",{"$f":"IF(L5981=\"\",\"\",VLOOKUP(L5981,Sifranti!A:B,2,FALSE))","v":""},null,{"$f":"IF(N5981=\"\",\"\",VLOOKUP(N5981,Sifranti!D:F,3,FALSE))","v":""},null,{"$f":"IF(P5981=\"\",\"\",VLOOKUP(P5981,Sifranti!H:I,2,FALSE))","v":""},null,null,null,null,null,null,null,null,null,null,null,null,null,null,null,null,null,null,null,null,null,null,null,null,null,{"$f":"IF(AN5981=\"\",\"\",IF(LEN(VLOOKUP(AN5981,Sifranti!BY:BZ,2,FALSE))=0,\"\",VLOOKUP(AN5981,Sifranti!BY:BZ,2,FALSE)))","v":""},{"$f":"IF(C5981=\"\",\"\",VLOOKUP(C5981,Sifranti!P:R,2,FALSE))","v":""},"","",{"$f":"IF(C5981=\"\",\"\",VLOOKUP(C5981,Sifranti!P:R,3,FALSE))","v":""},{"$f":"IF(N5981=\"\",\"\",VLOOKUP(N5981,Sifranti!D:F,2,FALSE))","v":""},{"$f":"IF(AK5981=\"\",\"\",VLOOKUP(AK5981,Sifranti!V:Y,2,FALSE))","v":""},{"$f":"IF(AK5981=\"\",\"\",IF(VLOOKUP(AK5981,Sifranti!V:Y,3,FALSE)=\"\",\"\",VLOOKUP(AK5981,Sifranti!V:Y,3,FALSE)))","v":""},{"$f":"IF(AK5981=\"\",\"\",VLOOKUP(AK5981,Sifranti!V:Y,4,FALSE))","v":""}]
[{"$f":"IF(B5982=\"\",\"\",VLOOKUP(B5982,Sifranti!K:L,2,FALSE))","v":""},null,null,null,null,null,null,null,null,"",{"$f":"IF(L5982=\"\",\"\",VLOOKUP(L5982,Sifranti!A:B,2,FALSE))","v":""},null,{"$f":"IF(N5982=\"\",\"\",VLOOKUP(N5982,Sifranti!D:F,3,FALSE))","v":""},null,{"$f":"IF(P5982=\"\",\"\",VLOOKUP(P5982,Sifranti!H:I,2,FALSE))","v":""},null,null,null,null,null,null,null,null,null,null,null,null,null,null,null,null,null,null,null,null,null,null,null,null,null,{"$f":"IF(AN5982=\"\",\"\",IF(LEN(VLOOKUP(AN5982,Sifranti!BY:BZ,2,FALSE))=0,\"\",VLOOKUP(AN5982,Sifranti!BY:BZ,2,FALSE)))","v":""},{"$f":"IF(C5982=\"\",\"\",VLOOKUP(C5982,Sifranti!P:R,2,FALSE))","v":""},"","",{"$f":"IF(C5982=\"\",\"\",VLOOKUP(C5982,Sifranti!P:R,3,FALSE))","v":""},{"$f":"IF(N5982=\"\",\"\",VLOOKUP(N5982,Sifranti!D:F,2,FALSE))","v":""},{"$f":"IF(AK5982=\"\",\"\",VLOOKUP(AK5982,Sifranti!V:Y,2,FALSE))","v":""},{"$f":"IF(AK5982=\"\",\"\",IF(VLOOKUP(AK5982,Sifranti!V:Y,3,FALSE)=\"\",\"\",VLOOKUP(AK5982,Sifranti!V:Y,3,FALSE)))","v":""},{"$f":"IF(AK5982=\"\",\"\",VLOOKUP(AK5982,Sifranti!V:Y,4,FALSE))","v":""}]
[{"$f":"IF(B5983=\"\",\"\",VLOOKUP(B5983,Sifranti!K:L,2,FALSE))","v":""},null,null,null,null,null,null,null,null,"",{"$f":"IF(L5983=\"\",\"\",VLOOKUP(L5983,Sifranti!A:B,2,FALSE))","v":""},null,{"$f":"IF(N5983=\"\",\"\",VLOOKUP(N5983,Sifranti!D:F,3,FALSE))","v":""},null,{"$f":"IF(P5983=\"\",\"\",VLOOKUP(P5983,Sifranti!H:I,2,FALSE))","v":""},null,null,null,null,null,null,null,null,null,null,null,null,null,null,null,null,null,null,null,null,null,null,null,null,null,{"$f":"IF(AN5983=\"\",\"\",IF(LEN(VLOOKUP(AN5983,Sifranti!BY:BZ,2,FALSE))=0,\"\",VLOOKUP(AN5983,Sifranti!BY:BZ,2,FALSE)))","v":""},{"$f":"IF(C5983=\"\",\"\",VLOOKUP(C5983,Sifranti!P:R,2,FALSE))","v":""},"","",{"$f":"IF(C5983=\"\",\"\",VLOOKUP(C5983,Sifranti!P:R,3,FALSE))","v":""},{"$f":"IF(N5983=\"\",\"\",VLOOKUP(N5983,Sifranti!D:F,2,FALSE))","v":""},{"$f":"IF(AK5983=\"\",\"\",VLOOKUP(AK5983,Sifranti!V:Y,2,FALSE))","v":""},{"$f":"IF(AK5983=\"\",\"\",IF(VLOOKUP(AK5983,Sifranti!V:Y,3,FALSE)=\"\",\"\",VLOOKUP(AK5983,Sifranti!V:Y,3,FALSE)))","v":""},{"$f":"IF(AK5983=\"\",\"\",VLOOKUP(AK5983,Sifranti!V:Y,4,FALSE))","v":""}]
[{"$f":"IF(B5984=\"\",\"\",VLOOKUP(B5984,Sifranti!K:L,2,FALSE))","v":""},null,null,null,null,null,null,null,null,"",{"$f":"IF(L5984=\"\",\"\",VLOOKUP(L5984,Sifranti!A:B,2,FALSE))","v":""},null,{"$f":"IF(N5984=\"\",\"\",VLOOKUP(N5984,Sifranti!D:F,3,FALSE))","v":""},null,{"$f":"IF(P5984=\"\",\"\",VLOOKUP(P5984,Sifranti!H:I,2,FALSE))","v":""},null,null,null,null,null,null,null,null,null,null,null,null,null,null,null,null,null,null,null,null,null,null,null,null,null,{"$f":"IF(AN5984=\"\",\"\",IF(LEN(VLOOKUP(AN5984,Sifranti!BY:BZ,2,FALSE))=0,\"\",VLOOKUP(AN5984,Sifranti!BY:BZ,2,FALSE)))","v":""},{"$f":"IF(C5984=\"\",\"\",VLOOKUP(C5984,Sifranti!P:R,2,FALSE))","v":""},"","",{"$f":"IF(C5984=\"\",\"\",VLOOKUP(C5984,Sifranti!P:R,3,FALSE))","v":""},{"$f":"IF(N5984=\"\",\"\",VLOOKUP(N5984,Sifranti!D:F,2,FALSE))","v":""},{"$f":"IF(AK5984=\"\",\"\",VLOOKUP(AK5984,Sifranti!V:Y,2,FALSE))","v":""},{"$f":"IF(AK5984=\"\",\"\",IF(VLOOKUP(AK5984,Sifranti!V:Y,3,FALSE)=\"\",\"\",VLOOKUP(AK5984,Sifranti!V:Y,3,FALSE)))","v":""},{"$f":"IF(AK5984=\"\",\"\",VLOOKUP(AK5984,Sifranti!V:Y,4,FALSE))","v":""}]
[{"$f":"IF(B5985=\"\",\"\",VLOOKUP(B5985,Sifranti!K:L,2,FALSE))","v":""},null,null,null,null,null,null,null,null,"",{"$f":"IF(L5985=\"\",\"\",VLOOKUP(L5985,Sifranti!A:B,2,FALSE))","v":""},null,{"$f":"IF(N5985=\"\",\"\",VLOOKUP(N5985,Sifranti!D:F,3,FALSE))","v":""},null,{"$f":"IF(P5985=\"\",\"\",VLOOKUP(P5985,Sifranti!H:I,2,FALSE))","v":""},null,null,null,null,null,null,null,null,null,null,null,null,null,null,null,null,null,null,null,null,null,null,null,null,null,{"$f":"IF(AN5985=\"\",\"\",IF(LEN(VLOOKUP(AN5985,Sifranti!BY:BZ,2,FALSE))=0,\"\",VLOOKUP(AN5985,Sifranti!BY:BZ,2,FALSE)))","v":""},{"$f":"IF(C5985=\"\",\"\",VLOOKUP(C5985,Sifranti!P:R,2,FALSE))","v":""},"","",{"$f":"IF(C5985=\"\",\"\",VLOOKUP(C5985,Sifranti!P:R,3,FALSE))","v":""},{"$f":"IF(N5985=\"\",\"\",VLOOKUP(N5985,Sifranti!D:F,2,FALSE))","v":""},{"$f":"IF(AK5985=\"\",\"\",VLOOKUP(AK5985,Sifranti!V:Y,2,FALSE))","v":""},{"$f":"IF(AK5985=\"\",\"\",IF(VLOOKUP(AK5985,Sifranti!V:Y,3,FALSE)=\"\",\"\",VLOOKUP(AK5985,Sifranti!V:Y,3,FALSE)))","v":""},{"$f":"IF(AK5985=\"\",\"\",VLOOKUP(AK5985,Sifranti!V:Y,4,FALSE))","v":""}]
[{"$f":"IF(B5986=\"\",\"\",VLOOKUP(B5986,Sifranti!K:L,2,FALSE))","v":""},null,null,null,null,null,null,null,null,"",{"$f":"IF(L5986=\"\",\"\",VLOOKUP(L5986,Sifranti!A:B,2,FALSE))","v":""},null,{"$f":"IF(N5986=\"\",\"\",VLOOKUP(N5986,Sifranti!D:F,3,FALSE))","v":""},null,{"$f":"IF(P5986=\"\",\"\",VLOOKUP(P5986,Sifranti!H:I,2,FALSE))","v":""},null,null,null,null,null,null,null,null,null,null,null,null,null,null,null,null,null,null,null,null,null,null,null,null,null,{"$f":"IF(AN5986=\"\",\"\",IF(LEN(VLOOKUP(AN5986,Sifranti!BY:BZ,2,FALSE))=0,\"\",VLOOKUP(AN5986,Sifranti!BY:BZ,2,FALSE)))","v":""},{"$f":"IF(C5986=\"\",\"\",VLOOKUP(C5986,Sifranti!P:R,2,FALSE))","v":""},"","",{"$f":"IF(C5986=\"\",\"\",VLOOKUP(C5986,Sifranti!P:R,3,FALSE))","v":""},{"$f":"IF(N5986=\"\",\"\",VLOOKUP(N5986,Sifranti!D:F,2,FALSE))","v":""},{"$f":"IF(AK5986=\"\",\"\",VLOOKUP(AK5986,Sifranti!V:Y,2,FALSE))","v":""},{"$f":"IF(AK5986=\"\",\"\",IF(VLOOKUP(AK5986,Sifranti!V:Y,3,FALSE)=\"\",\"\",VLOOKUP(AK5986,Sifranti!V:Y,3,FALSE)))","v":""},{"$f":"IF(AK5986=\"\",\"\",VLOOKUP(AK5986,Sifranti!V:Y,4,FALSE))","v":""}]
[{"$f":"IF(B5987=\"\",\"\",VLOOKUP(B5987,Sifranti!K:L,2,FALSE))","v":""},null,null,null,null,null,null,null,null,"",{"$f":"IF(L5987=\"\",\"\",VLOOKUP(L5987,Sifranti!A:B,2,FALSE))","v":""},null,{"$f":"IF(N5987=\"\",\"\",VLOOKUP(N5987,Sifranti!D:F,3,FALSE))","v":""},null,{"$f":"IF(P5987=\"\",\"\",VLOOKUP(P5987,Sifranti!H:I,2,FALSE))","v":""},null,null,null,null,null,null,null,null,null,null,null,null,null,null,null,null,null,null,null,null,null,null,null,null,null,{"$f":"IF(AN5987=\"\",\"\",IF(LEN(VLOOKUP(AN5987,Sifranti!BY:BZ,2,FALSE))=0,\"\",VLOOKUP(AN5987,Sifranti!BY:BZ,2,FALSE)))","v":""},{"$f":"IF(C5987=\"\",\"\",VLOOKUP(C5987,Sifranti!P:R,2,FALSE))","v":""},"","",{"$f":"IF(C5987=\"\",\"\",VLOOKUP(C5987,Sifranti!P:R,3,FALSE))","v":""},{"$f":"IF(N5987=\"\",\"\",VLOOKUP(N5987,Sifranti!D:F,2,FALSE))","v":""},{"$f":"IF(AK5987=\"\",\"\",VLOOKUP(AK5987,Sifranti!V:Y,2,FALSE))","v":""},{"$f":"IF(AK5987=\"\",\"\",IF(VLOOKUP(AK5987,Sifranti!V:Y,3,FALSE)=\"\",\"\",VLOOKUP(AK5987,Sifranti!V:Y,3,FALSE)))","v":""},{"$f":"IF(AK5987=\"\",\"\",VLOOKUP(AK5987,Sifranti!V:Y,4,FALSE))","v":""}]
[{"$f":"IF(B5988=\"\",\"\",VLOOKUP(B5988,Sifranti!K:L,2,FALSE))","v":""},null,null,null,null,null,null,null,null,"",{"$f":"IF(L5988=\"\",\"\",VLOOKUP(L5988,Sifranti!A:B,2,FALSE))","v":""},null,{"$f":"IF(N5988=\"\",\"\",VLOOKUP(N5988,Sifranti!D:F,3,FALSE))","v":""},null,{"$f":"IF(P5988=\"\",\"\",VLOOKUP(P5988,Sifranti!H:I,2,FALSE))","v":""},null,null,null,null,null,null,null,null,null,null,null,null,null,null,null,null,null,null,null,null,null,null,null,null,null,{"$f":"IF(AN5988=\"\",\"\",IF(LEN(VLOOKUP(AN5988,Sifranti!BY:BZ,2,FALSE))=0,\"\",VLOOKUP(AN5988,Sifranti!BY:BZ,2,FALSE)))","v":""},{"$f":"IF(C5988=\"\",\"\",VLOOKUP(C5988,Sifranti!P:R,2,FALSE))","v":""},"","",{"$f":"IF(C5988=\"\",\"\",VLOOKUP(C5988,Sifranti!P:R,3,FALSE))","v":""},{"$f":"IF(N5988=\"\",\"\",VLOOKUP(N5988,Sifranti!D:F,2,FALSE))","v":""},{"$f":"IF(AK5988=\"\",\"\",VLOOKUP(AK5988,Sifranti!V:Y,2,FALSE))","v":""},{"$f":"IF(AK5988=\"\",\"\",IF(VLOOKUP(AK5988,Sifranti!V:Y,3,FALSE)=\"\",\"\",VLOOKUP(AK5988,Sifranti!V:Y,3,FALSE)))","v":""},{"$f":"IF(AK5988=\"\",\"\",VLOOKUP(AK5988,Sifranti!V:Y,4,FALSE))","v":""}]
[{"$f":"IF(B5989=\"\",\"\",VLOOKUP(B5989,Sifranti!K:L,2,FALSE))","v":""},null,null,null,null,null,null,null,null,"",{"$f":"IF(L5989=\"\",\"\",VLOOKUP(L5989,Sifranti!A:B,2,FALSE))","v":""},null,{"$f":"IF(N5989=\"\",\"\",VLOOKUP(N5989,Sifranti!D:F,3,FALSE))","v":""},null,{"$f":"IF(P5989=\"\",\"\",VLOOKUP(P5989,Sifranti!H:I,2,FALSE))","v":""},null,null,null,null,null,null,null,null,null,null,null,null,null,null,null,null,null,null,null,null,null,null,null,null,null,{"$f":"IF(AN5989=\"\",\"\",IF(LEN(VLOOKUP(AN5989,Sifranti!BY:BZ,2,FALSE))=0,\"\",VLOOKUP(AN5989,Sifranti!BY:BZ,2,FALSE)))","v":""},{"$f":"IF(C5989=\"\",\"\",VLOOKUP(C5989,Sifranti!P:R,2,FALSE))","v":""},"","",{"$f":"IF(C5989=\"\",\"\",VLOOKUP(C5989,Sifranti!P:R,3,FALSE))","v":""},{"$f":"IF(N5989=\"\",\"\",VLOOKUP(N5989,Sifranti!D:F,2,FALSE))","v":""},{"$f":"IF(AK5989=\"\",\"\",VLOOKUP(AK5989,Sifranti!V:Y,2,FALSE))","v":""},{"$f":"IF(AK5989=\"\",\"\",IF(VLOOKUP(AK5989,Sifranti!V:Y,3,FALSE)=\"\",\"\",VLOOKUP(AK5989,Sifranti!V:Y,3,FALSE)))","v":""},{"$f":"IF(AK5989=\"\",\"\",VLOOKUP(AK5989,Sifranti!V:Y,4,FALSE))","v":""}]
[{"$f":"IF(B5990=\"\",\"\",VLOOKUP(B5990,Sifranti!K:L,2,FALSE))","v":""},null,null,null,null,null,null,null,null,"",{"$f":"IF(L5990=\"\",\"\",VLOOKUP(L5990,Sifranti!A:B,2,FALSE))","v":""},null,{"$f":"IF(N5990=\"\",\"\",VLOOKUP(N5990,Sifranti!D:F,3,FALSE))","v":""},null,{"$f":"IF(P5990=\"\",\"\",VLOOKUP(P5990,Sifranti!H:I,2,FALSE))","v":""},null,null,null,null,null,null,null,null,null,null,null,null,null,null,null,null,null,null,null,null,null,null,null,null,null,{"$f":"IF(AN5990=\"\",\"\",IF(LEN(VLOOKUP(AN5990,Sifranti!BY:BZ,2,FALSE))=0,\"\",VLOOKUP(AN5990,Sifranti!BY:BZ,2,FALSE)))","v":""},{"$f":"IF(C5990=\"\",\"\",VLOOKUP(C5990,Sifranti!P:R,2,FALSE))","v":""},"","",{"$f":"IF(C5990=\"\",\"\",VLOOKUP(C5990,Sifranti!P:R,3,FALSE))","v":""},{"$f":"IF(N5990=\"\",\"\",VLOOKUP(N5990,Sifranti!D:F,2,FALSE))","v":""},{"$f":"IF(AK5990=\"\",\"\",VLOOKUP(AK5990,Sifranti!V:Y,2,FALSE))","v":""},{"$f":"IF(AK5990=\"\",\"\",IF(VLOOKUP(AK5990,Sifranti!V:Y,3,FALSE)=\"\",\"\",VLOOKUP(AK5990,Sifranti!V:Y,3,FALSE)))","v":""},{"$f":"IF(AK5990=\"\",\"\",VLOOKUP(AK5990,Sifranti!V:Y,4,FALSE))","v":""}]
[{"$f":"IF(B5991=\"\",\"\",VLOOKUP(B5991,Sifranti!K:L,2,FALSE))","v":""},null,null,null,null,null,null,null,null,"",{"$f":"IF(L5991=\"\",\"\",VLOOKUP(L5991,Sifranti!A:B,2,FALSE))","v":""},null,{"$f":"IF(N5991=\"\",\"\",VLOOKUP(N5991,Sifranti!D:F,3,FALSE))","v":""},null,{"$f":"IF(P5991=\"\",\"\",VLOOKUP(P5991,Sifranti!H:I,2,FALSE))","v":""},null,null,null,null,null,null,null,null,null,null,null,null,null,null,null,null,null,null,null,null,null,null,null,null,null,{"$f":"IF(AN5991=\"\",\"\",IF(LEN(VLOOKUP(AN5991,Sifranti!BY:BZ,2,FALSE))=0,\"\",VLOOKUP(AN5991,Sifranti!BY:BZ,2,FALSE)))","v":""},{"$f":"IF(C5991=\"\",\"\",VLOOKUP(C5991,Sifranti!P:R,2,FALSE))","v":""},"","",{"$f":"IF(C5991=\"\",\"\",VLOOKUP(C5991,Sifranti!P:R,3,FALSE))","v":""},{"$f":"IF(N5991=\"\",\"\",VLOOKUP(N5991,Sifranti!D:F,2,FALSE))","v":""},{"$f":"IF(AK5991=\"\",\"\",VLOOKUP(AK5991,Sifranti!V:Y,2,FALSE))","v":""},{"$f":"IF(AK5991=\"\",\"\",IF(VLOOKUP(AK5991,Sifranti!V:Y,3,FALSE)=\"\",\"\",VLOOKUP(AK5991,Sifranti!V:Y,3,FALSE)))","v":""},{"$f":"IF(AK5991=\"\",\"\",VLOOKUP(AK5991,Sifranti!V:Y,4,FALSE))","v":""}]
[{"$f":"IF(B5992=\"\",\"\",VLOOKUP(B5992,Sifranti!K:L,2,FALSE))","v":""},null,null,null,null,null,null,null,null,"",{"$f":"IF(L5992=\"\",\"\",VLOOKUP(L5992,Sifranti!A:B,2,FALSE))","v":""},null,{"$f":"IF(N5992=\"\",\"\",VLOOKUP(N5992,Sifranti!D:F,3,FALSE))","v":""},null,{"$f":"IF(P5992=\"\",\"\",VLOOKUP(P5992,Sifranti!H:I,2,FALSE))","v":""},null,null,null,null,null,null,null,null,null,null,null,null,null,null,null,null,null,null,null,null,null,null,null,null,null,{"$f":"IF(AN5992=\"\",\"\",IF(LEN(VLOOKUP(AN5992,Sifranti!BY:BZ,2,FALSE))=0,\"\",VLOOKUP(AN5992,Sifranti!BY:BZ,2,FALSE)))","v":""},{"$f":"IF(C5992=\"\",\"\",VLOOKUP(C5992,Sifranti!P:R,2,FALSE))","v":""},"","",{"$f":"IF(C5992=\"\",\"\",VLOOKUP(C5992,Sifranti!P:R,3,FALSE))","v":""},{"$f":"IF(N5992=\"\",\"\",VLOOKUP(N5992,Sifranti!D:F,2,FALSE))","v":""},{"$f":"IF(AK5992=\"\",\"\",VLOOKUP(AK5992,Sifranti!V:Y,2,FALSE))","v":""},{"$f":"IF(AK5992=\"\",\"\",IF(VLOOKUP(AK5992,Sifranti!V:Y,3,FALSE)=\"\",\"\",VLOOKUP(AK5992,Sifranti!V:Y,3,FALSE)))","v":""},{"$f":"IF(AK5992=\"\",\"\",VLOOKUP(AK5992,Sifranti!V:Y,4,FALSE))","v":""}]
[{"$f":"IF(B5993=\"\",\"\",VLOOKUP(B5993,Sifranti!K:L,2,FALSE))","v":""},null,null,null,null,null,null,null,null,"",{"$f":"IF(L5993=\"\",\"\",VLOOKUP(L5993,Sifranti!A:B,2,FALSE))","v":""},null,{"$f":"IF(N5993=\"\",\"\",VLOOKUP(N5993,Sifranti!D:F,3,FALSE))","v":""},null,{"$f":"IF(P5993=\"\",\"\",VLOOKUP(P5993,Sifranti!H:I,2,FALSE))","v":""},null,null,null,null,null,null,null,null,null,null,null,null,null,null,null,null,null,null,null,null,null,null,null,null,null,{"$f":"IF(AN5993=\"\",\"\",IF(LEN(VLOOKUP(AN5993,Sifranti!BY:BZ,2,FALSE))=0,\"\",VLOOKUP(AN5993,Sifranti!BY:BZ,2,FALSE)))","v":""},{"$f":"IF(C5993=\"\",\"\",VLOOKUP(C5993,Sifranti!P:R,2,FALSE))","v":""},"","",{"$f":"IF(C5993=\"\",\"\",VLOOKUP(C5993,Sifranti!P:R,3,FALSE))","v":""},{"$f":"IF(N5993=\"\",\"\",VLOOKUP(N5993,Sifranti!D:F,2,FALSE))","v":""},{"$f":"IF(AK5993=\"\",\"\",VLOOKUP(AK5993,Sifranti!V:Y,2,FALSE))","v":""},{"$f":"IF(AK5993=\"\",\"\",IF(VLOOKUP(AK5993,Sifranti!V:Y,3,FALSE)=\"\",\"\",VLOOKUP(AK5993,Sifranti!V:Y,3,FALSE)))","v":""},{"$f":"IF(AK5993=\"\",\"\",VLOOKUP(AK5993,Sifranti!V:Y,4,FALSE))","v":""}]
[{"$f":"IF(B5994=\"\",\"\",VLOOKUP(B5994,Sifranti!K:L,2,FALSE))","v":""},null,null,null,null,null,null,null,null,"",{"$f":"IF(L5994=\"\",\"\",VLOOKUP(L5994,Sifranti!A:B,2,FALSE))","v":""},null,{"$f":"IF(N5994=\"\",\"\",VLOOKUP(N5994,Sifranti!D:F,3,FALSE))","v":""},null,{"$f":"IF(P5994=\"\",\"\",VLOOKUP(P5994,Sifranti!H:I,2,FALSE))","v":""},null,null,null,null,null,null,null,null,null,null,null,null,null,null,null,null,null,null,null,null,null,null,null,null,null,{"$f":"IF(AN5994=\"\",\"\",IF(LEN(VLOOKUP(AN5994,Sifranti!BY:BZ,2,FALSE))=0,\"\",VLOOKUP(AN5994,Sifranti!BY:BZ,2,FALSE)))","v":""},{"$f":"IF(C5994=\"\",\"\",VLOOKUP(C5994,Sifranti!P:R,2,FALSE))","v":""},"","",{"$f":"IF(C5994=\"\",\"\",VLOOKUP(C5994,Sifranti!P:R,3,FALSE))","v":""},{"$f":"IF(N5994=\"\",\"\",VLOOKUP(N5994,Sifranti!D:F,2,FALSE))","v":""},{"$f":"IF(AK5994=\"\",\"\",VLOOKUP(AK5994,Sifranti!V:Y,2,FALSE))","v":""},{"$f":"IF(AK5994=\"\",\"\",IF(VLOOKUP(AK5994,Sifranti!V:Y,3,FALSE)=\"\",\"\",VLOOKUP(AK5994,Sifranti!V:Y,3,FALSE)))","v":""},{"$f":"IF(AK5994=\"\",\"\",VLOOKUP(AK5994,Sifranti!V:Y,4,FALSE))","v":""}]
[{"$f":"IF(B5995=\"\",\"\",VLOOKUP(B5995,Sifranti!K:L,2,FALSE))","v":""},null,null,null,null,null,null,null,null,"",{"$f":"IF(L5995=\"\",\"\",VLOOKUP(L5995,Sifranti!A:B,2,FALSE))","v":""},null,{"$f":"IF(N5995=\"\",\"\",VLOOKUP(N5995,Sifranti!D:F,3,FALSE))","v":""},null,{"$f":"IF(P5995=\"\",\"\",VLOOKUP(P5995,Sifranti!H:I,2,FALSE))","v":""},null,null,null,null,null,null,null,null,null,null,null,null,null,null,null,null,null,null,null,null,null,null,null,null,null,{"$f":"IF(AN5995=\"\",\"\",IF(LEN(VLOOKUP(AN5995,Sifranti!BY:BZ,2,FALSE))=0,\"\",VLOOKUP(AN5995,Sifranti!BY:BZ,2,FALSE)))","v":""},{"$f":"IF(C5995=\"\",\"\",VLOOKUP(C5995,Sifranti!P:R,2,FALSE))","v":""},"","",{"$f":"IF(C5995=\"\",\"\",VLOOKUP(C5995,Sifranti!P:R,3,FALSE))","v":""},{"$f":"IF(N5995=\"\",\"\",VLOOKUP(N5995,Sifranti!D:F,2,FALSE))","v":""},{"$f":"IF(AK5995=\"\",\"\",VLOOKUP(AK5995,Sifranti!V:Y,2,FALSE))","v":""},{"$f":"IF(AK5995=\"\",\"\",IF(VLOOKUP(AK5995,Sifranti!V:Y,3,FALSE)=\"\",\"\",VLOOKUP(AK5995,Sifranti!V:Y,3,FALSE)))","v":""},{"$f":"IF(AK5995=\"\",\"\",VLOOKUP(AK5995,Sifranti!V:Y,4,FALSE))","v":""}]
[{"$f":"IF(B5996=\"\",\"\",VLOOKUP(B5996,Sifranti!K:L,2,FALSE))","v":""},null,null,null,null,null,null,null,null,"",{"$f":"IF(L5996=\"\",\"\",VLOOKUP(L5996,Sifranti!A:B,2,FALSE))","v":""},null,{"$f":"IF(N5996=\"\",\"\",VLOOKUP(N5996,Sifranti!D:F,3,FALSE))","v":""},null,{"$f":"IF(P5996=\"\",\"\",VLOOKUP(P5996,Sifranti!H:I,2,FALSE))","v":""},null,null,null,null,null,null,null,null,null,null,null,null,null,null,null,null,null,null,null,null,null,null,null,null,null,{"$f":"IF(AN5996=\"\",\"\",IF(LEN(VLOOKUP(AN5996,Sifranti!BY:BZ,2,FALSE))=0,\"\",VLOOKUP(AN5996,Sifranti!BY:BZ,2,FALSE)))","v":""},{"$f":"IF(C5996=\"\",\"\",VLOOKUP(C5996,Sifranti!P:R,2,FALSE))","v":""},"","",{"$f":"IF(C5996=\"\",\"\",VLOOKUP(C5996,Sifranti!P:R,3,FALSE))","v":""},{"$f":"IF(N5996=\"\",\"\",VLOOKUP(N5996,Sifranti!D:F,2,FALSE))","v":""},{"$f":"IF(AK5996=\"\",\"\",VLOOKUP(AK5996,Sifranti!V:Y,2,FALSE))","v":""},{"$f":"IF(AK5996=\"\",\"\",IF(VLOOKUP(AK5996,Sifranti!V:Y,3,FALSE)=\"\",\"\",VLOOKUP(AK5996,Sifranti!V:Y,3,FALSE)))","v":""},{"$f":"IF(AK5996=\"\",\"\",VLOOKUP(AK5996,Sifranti!V:Y,4,FALSE))","v":""}]
[{"$f":"IF(B5997=\"\",\"\",VLOOKUP(B5997,Sifranti!K:L,2,FALSE))","v":""},null,null,null,null,null,null,null,null,"",{"$f":"IF(L5997=\"\",\"\",VLOOKUP(L5997,Sifranti!A:B,2,FALSE))","v":""},null,{"$f":"IF(N5997=\"\",\"\",VLOOKUP(N5997,Sifranti!D:F,3,FALSE))","v":""},null,{"$f":"IF(P5997=\"\",\"\",VLOOKUP(P5997,Sifranti!H:I,2,FALSE))","v":""},null,null,null,null,null,null,null,null,null,null,null,null,null,null,null,null,null,null,null,null,null,null,null,null,null,{"$f":"IF(AN5997=\"\",\"\",IF(LEN(VLOOKUP(AN5997,Sifranti!BY:BZ,2,FALSE))=0,\"\",VLOOKUP(AN5997,Sifranti!BY:BZ,2,FALSE)))","v":""},{"$f":"IF(C5997=\"\",\"\",VLOOKUP(C5997,Sifranti!P:R,2,FALSE))","v":""},"","",{"$f":"IF(C5997=\"\",\"\",VLOOKUP(C5997,Sifranti!P:R,3,FALSE))","v":""},{"$f":"IF(N5997=\"\",\"\",VLOOKUP(N5997,Sifranti!D:F,2,FALSE))","v":""},{"$f":"IF(AK5997=\"\",\"\",VLOOKUP(AK5997,Sifranti!V:Y,2,FALSE))","v":""},{"$f":"IF(AK5997=\"\",\"\",IF(VLOOKUP(AK5997,Sifranti!V:Y,3,FALSE)=\"\",\"\",VLOOKUP(AK5997,Sifranti!V:Y,3,FALSE)))","v":""},{"$f":"IF(AK5997=\"\",\"\",VLOOKUP(AK5997,Sifranti!V:Y,4,FALSE))","v":""}]
[{"$f":"IF(B5998=\"\",\"\",VLOOKUP(B5998,Sifranti!K:L,2,FALSE))","v":""},null,null,null,null,null,null,null,null,"",{"$f":"IF(L5998=\"\",\"\",VLOOKUP(L5998,Sifranti!A:B,2,FALSE))","v":""},null,{"$f":"IF(N5998=\"\",\"\",VLOOKUP(N5998,Sifranti!D:F,3,FALSE))","v":""},null,{"$f":"IF(P5998=\"\",\"\",VLOOKUP(P5998,Sifranti!H:I,2,FALSE))","v":""},null,null,null,null,null,null,null,null,null,null,null,null,null,null,null,null,null,null,null,null,null,null,null,null,null,{"$f":"IF(AN5998=\"\",\"\",IF(LEN(VLOOKUP(AN5998,Sifranti!BY:BZ,2,FALSE))=0,\"\",VLOOKUP(AN5998,Sifranti!BY:BZ,2,FALSE)))","v":""},{"$f":"IF(C5998=\"\",\"\",VLOOKUP(C5998,Sifranti!P:R,2,FALSE))","v":""},"","",{"$f":"IF(C5998=\"\",\"\",VLOOKUP(C5998,Sifranti!P:R,3,FALSE))","v":""},{"$f":"IF(N5998=\"\",\"\",VLOOKUP(N5998,Sifranti!D:F,2,FALSE))","v":""},{"$f":"IF(AK5998=\"\",\"\",VLOOKUP(AK5998,Sifranti!V:Y,2,FALSE))","v":""},{"$f":"IF(AK5998=\"\",\"\",IF(VLOOKUP(AK5998,Sifranti!V:Y,3,FALSE)=\"\",\"\",VLOOKUP(AK5998,Sifranti!V:Y,3,FALSE)))","v":""},{"$f":"IF(AK5998=\"\",\"\",VLOOKUP(AK5998,Sifranti!V:Y,4,FALSE))","v":""}]
[{"$f":"IF(B5999=\"\",\"\",VLOOKUP(B5999,Sifranti!K:L,2,FALSE))","v":""},null,null,null,null,null,null,null,null,"",{"$f":"IF(L5999=\"\",\"\",VLOOKUP(L5999,Sifranti!A:B,2,FALSE))","v":""},null,{"$f":"IF(N5999=\"\",\"\",VLOOKUP(N5999,Sifranti!D:F,3,FALSE))","v":""},null,{"$f":"IF(P5999=\"\",\"\",VLOOKUP(P5999,Sifranti!H:I,2,FALSE))","v":""},null,null,null,null,null,null,null,null,null,null,null,null,null,null,null,null,null,null,null,null,null,null,null,null,null,{"$f":"IF(AN5999=\"\",\"\",IF(LEN(VLOOKUP(AN5999,Sifranti!BY:BZ,2,FALSE))=0,\"\",VLOOKUP(AN5999,Sifranti!BY:BZ,2,FALSE)))","v":""},{"$f":"IF(C5999=\"\",\"\",VLOOKUP(C5999,Sifranti!P:R,2,FALSE))","v":""},"","",{"$f":"IF(C5999=\"\",\"\",VLOOKUP(C5999,Sifranti!P:R,3,FALSE))","v":""},{"$f":"IF(N5999=\"\",\"\",VLOOKUP(N5999,Sifranti!D:F,2,FALSE))","v":""},{"$f":"IF(AK5999=\"\",\"\",VLOOKUP(AK5999,Sifranti!V:Y,2,FALSE))","v":""},{"$f":"IF(AK5999=\"\",\"\",IF(VLOOKUP(AK5999,Sifranti!V:Y,3,FALSE)=\"\",\"\",VLOOKUP(AK5999,Sifranti!V:Y,3,FALSE)))","v":""},{"$f":"IF(AK5999=\"\",\"\",VLOOKUP(AK5999,Sifranti!V:Y,4,FALSE))","v":""}]
[{"$f":"IF(B6000=\"\",\"\",VLOOKUP(B6000,Sifranti!K:L,2,FALSE))","v":""},null,null,null,null,null,null,null,null,"",{"$f":"IF(L6000=\"\",\"\",VLOOKUP(L6000,Sifranti!A:B,2,FALSE))","v":""},null,{"$f":"IF(N6000=\"\",\"\",VLOOKUP(N6000,Sifranti!D:F,3,FALSE))","v":""},null,{"$f":"IF(P6000=\"\",\"\",VLOOKUP(P6000,Sifranti!H:I,2,FALSE))","v":""},null,null,null,null,null,null,null,null,null,null,null,null,null,null,null,null,null,null,null,null,null,null,null,null,null,{"$f":"IF(AN6000=\"\",\"\",IF(LEN(VLOOKUP(AN6000,Sifranti!BY:BZ,2,FALSE))=0,\"\",VLOOKUP(AN6000,Sifranti!BY:BZ,2,FALSE)))","v":""},{"$f":"IF(C6000=\"\",\"\",VLOOKUP(C6000,Sifranti!P:R,2,FALSE))","v":""},"","",{"$f":"IF(C6000=\"\",\"\",VLOOKUP(C6000,Sifranti!P:R,3,FALSE))","v":""},{"$f":"IF(N6000=\"\",\"\",VLOOKUP(N6000,Sifranti!D:F,2,FALSE))","v":""},{"$f":"IF(AK6000=\"\",\"\",VLOOKUP(AK6000,Sifranti!V:Y,2,FALSE))","v":""},{"$f":"IF(AK6000=\"\",\"\",IF(VLOOKUP(AK6000,Sifranti!V:Y,3,FALSE)=\"\",\"\",VLOOKUP(AK6000,Sifranti!V:Y,3,FALSE)))","v":""},{"$f":"IF(AK6000=\"\",\"\",VLOOKUP(AK6000,Sifranti!V:Y,4,FALSE))","v":""}]

{"sheet":"Sifranti","index":2,"n_rows":649,"n_cols":87,"rows_kept":649,"cut":false,"hidden":true,"merged":[]}
["Instrument","Instrument ID","v12.10.2022 (MF obrazec 15.4.2022)","Namen","Kategorija","Namen ID",null,"Investicija","Investicija 0/1",null,"Dajalec","Dajalec CODE",null,"Če je Datum odobritve večji ali enak temu datumu, potem mora biti Znesek odobritve večji od 0. Drugače vnos ni obvezen.",null,"Slovenska št. priglasitve","Naziv priglasitve","Kategorija",null,"Zaključeno",null,"Kratko ime javnega razpisa / ukrepa","Javni razpis / ukrep","Št. objave v Ur. l. RS","Datum objave \n(v Ur. l. RS)",null,"Vrsta financiranja",null,"Vir financiranja",null,"Finančno obdobje","Dodatna regionalna opredeljitev ==>","Ime občine","Regija","Upravne enote - SKTE 4 (58) in občine - SKTE 5 (212) ==>","Šifra občine","Ime občine","Šifra UE","Ime UE",null,"Statistične regije",null,"Kohezijski regiji",null,"Status javnega razpisa / ukrepa:","Kohezijski regiji (2), statistične regije (12) in občine Republike Slovenije (212) ==>","Šifra občine","Ime občine","Šifra kohezijske regije, nacionalna","Šifra kohezijske regije, Eurostat","Ime kohezijske regije","Šifra statistične regije, nacionalna","Šifra statistične regije, Eurostat","Ime statistične regije","Prednostna območja dodeljevanja spodbud, pomembnih za skladni regionalni razvoj ==>","Statistične regije","Seznam skupine regij",null,"Status vloge",null,"Dejavnost SKD 2008","Dejavnost SKD 2008 - podrazred","Dejavnost SKD 2008 - razred","Dejavnost SKD 2008 - skupina","Dejavnost SKD 2008 - oddelek","Dejavnost SKD 2008 - področje",null,"Velikost podjetja","Šifra za velikost","Velikost po ZGD","Velikost po Priporočilo Komisije 2003/361/ES","SEZNAM POŠTNIH ŠTEVILK IN POŠT ZA NASLAVLJANJE ==>","Poštna številka","Naziv pošte","Veliki uporabniki",null,"Sklad","Sklad ID",null,"Oblika pomoči",null,"EU velikost podjetja glede na št. zaposlenih",null,"Občina v PRS","Naziv občine v upravno-teritorialni razdelitvi","PRORAČUN ==>","Neposredni učinek"]
["Dotacije",1,{"$f":"A2","v":"Dotacije"},"RRI: Temeljne raziskave","Raziskave in razvoj ter inovacije",2111,{"$f":"D2","v":"RRI: Temeljne raziskave"},"Ne",0,{"$f":"H2","v":"Ne"},"MGRT (MINISTRSTVO ZA GOSPODARSKI RAZVOJ IN TEHNOLOGIJO)",2399245000,{"$f":"K2","v":"MGRT (MINISTRSTVO ZA GOSPODARSKI RAZVOJ IN TEHNOLOGIJO)"},40544,null,"BE02-2399245-2022","Spodbude za začetne investicije – pomoč za naložbe za MSP","Mala in srednje velika podjetja",null,"Ne",null,"ZPGVCEP","Zakon o pomoči gospodarstvu zaradi visokih povišanj cen električne energije in zemeljskega plina"," 117/2022","2022-09-09",null,"lastniško financiranje",null,"SI",null,"ne sofinancira",null,"Apače"," /",null,"001","Ajdovščina","01","AJDOVŠČINA",null,"Pomurska",null,"Zahodna Slovenija",null,"v pripravi",null,"195","Apače",1,"SI03","Vzhodna Slovenija","01","SI031","Pomurska",null,"Pomurska","A",null,"ODOBRENA",null,"01.110","A01.110 Pridelovanje žit (razen riža), stročnic in oljnic","A01.11 Pridelovanje žit (razen riža), stročnic in oljnic","A01.1 Pridelovanje netrajnih rastlin","A01 Kmetijska proizvodnja in lov ter z njima povezane storitve","A KMETIJSTVO IN LOV, GOZDARSTVO, RIBIŠTVO",null,"mikro podjetja",1,"mikro","mikro",null,8341,"Adlešiči",null,null,"ne sofinancira",null,null,"drzavna_pomoc",null,"mikro (0)",null,"Dobrovnik","Dobrovnik/Dobronak",null,"C0437 Delovanje slovenske nacionalne kontaktne točke za večnacionalne družbe v okviru OECD (NKT)"]
["Odpis posojila - stečaj",5,{"$f":"A3","v":"Odpis posojila - stečaj"},"RRI: Industrijske raziskave","Raziskave in razvoj ter inovacije",2112,{"$f":"D3","v":"RRI: Industrijske raziskave"},"Da",1,{"$f":"H3","v":"Da"},"SLOVENSKI PODJETNIŠKI SKLAD (JAVNI SKLAD REPUBLIKE SLOVENIJE ZA PODJETNIŠTVO)",5523362000,{"$f":"K3","v":"SLOVENSKI PODJETNIŠKI SKLAD (JAVNI SKLAD REPUBLIKE SLOVENIJE ZA PODJETNIŠTVO)"},null,null,"BE01-2399245-2022","Spodbude za začetne investicije – regionalna pomoč","Regionalne pomoči",null,"Da",null,"STKTP NOO 2022-2025","Javni razpis \"Podpora zagonskim, mikro, malim in srednjim podjetjem pri strateški trajnostni in krožni transformaciji poslovanja v letih 2022–2025\"","106/2022","2022-08-05",null,"povratni viri financiranja",null,"SI+EU",null,"Sklad za regionalni razvoj 2021–2027",null,"Beltinci"," /",null,"136","Vipava","01","AJDOVŠČINA",null,"Podravska",null,"Vzhodna Slovenija",null,"odprt",null,"002","Beltinci",1,"SI03","Vzhodna Slovenija","01","SI031","Pomurska",null,"Podravska","A",null,"ZAVRNJENA: NEODOBRENA",null,"01.120","A01.120 Pridelovanje riža","A01.12 Pridelovanje riža","A01.1 Pridelovanje netrajnih rastlin","A01 Kmetijska proizvodnja in lov ter z njima povezane storitve","A KMETIJSTVO IN LOV, GOZDARSTVO, RIBIŠTVO",null,"mala podjetja",2,"majhno","malo",null,5270,"Ajdovščina",null,null,"Sklad za regionalni razvoj",1,null,"de_minimis_pomoc",null,"mikro (1-9)",null,"Hodoš","Hodoš/Hodos",null,"C4262 Zagotavljanje novih investicij na osnovi dodeljenih finančnih spodbud"]
["Odpis posojila - prisilna poravnava",6,"Odpis posojila - prisilna poravnava","RRI: Študije o tehnični izvedljivosti","Raziskave in razvoj ter inovacije",2114,"RRI: Študije o tehnični izvedljivosti",null,null,null,"SPIRIT Slovenija, javna agencija (JAVNA AGENCIJA REPUBLIKE SLOVENIJE ZA SPODBUJANJE PODJETNIŠTVA, INTERNACIONALIZACIJE, TUJIH INVESTICIJ IN TEHNOLOGIJE)",6283519000,"SPIRIT Slovenija, javna agencija (JAVNA AGENCIJA REPUBLIKE SLOVENIJE ZA SPODBUJANJE PODJETNIŠTVA, INTERNACIONALIZACIJE, TUJIH INVESTICIJ IN TEHNOLOGIJE)",null,null,"0001-2399245-2022","COVID-19: Digitalna preobrazba gospodarstva (RRF) - ukrep po 3.13 Začasnega okvira","Odpravljanje resne motnje v gospodarstvu",null,null,null,"Vavčer - 15 - digitalni marketing/2","Javni poziv VAV-15, Vavčer za digitalni marketing/2","67/2022","2022-05-13",null,"subvencije podjetjem",null,"revolving",null,"Socialni sklad 2021–2027",null,"Cankova"," /",null,"009","Brežice","02","BREŽICE",null,"Koroška",null,null,null,"zaprt",null,"152","Cankova",1,"SI03","Vzhodna Slovenija","01","SI031","Pomurska",null,"Koroška","B",null,"ZAVRNJENA: NEUSTREZNA",null,"01.130","A01.130 Pridelovanje zelenjadnic in melon, korenovk in gomoljnic","A01.13 Pridelovanje zelenjadnic in melon, korenovk in gomoljnic","A01.1 Pridelovanje netrajnih rastlin","A01 Kmetijska proizvodnja in lov ter z njima povezane storitve","A KMETIJSTVO IN LOV, GOZDARSTVO, RIBIŠTVO",null,"srednje velika podjetja",3,"srednje","srednje veliko",null,6280,"Ankaran/Ancarano",null,null,"Evropski socialni sklad",2,null,"ni državna ali de minimis pomoč",null,"majhno (10-49)",null,"Lendava","Lendava/Lendva",null,"C6190 Povečanje števila visokotehnoloških in inovativnih podjetij"]
["Odpis posojila",8,"Odpis posojila","RRI: Eksperimentalni razvoj","Raziskave in razvoj ter inovacije",2116,"RRI: Eksperimentalni razvoj",null,null,null,"SID banka, d.d., Ljubljana (SID - Slovenska izvozna in razvojna banka, d.d., Ljubljana)",5665493000,"SID banka, d.d., Ljubljana (SID - Slovenska izvozna in razvojna banka, d.d., Ljubljana)",null,null,"0002-2399245-2020","COVID-19 Program finančnih spodbud - PKP3","Odpravljanje resne motnje v gospodarstvu",null,null,null,"REVAVčer - 17 - kibernetska varnost/2","REACT EU - Javni poziv za Vavčer za kibernetsko varnost/2","56/2022","2022-04-22",null,"subvencije subjektom podpornega okolja",null,"lastna sredstva izvajalske institucije",null,"Načrt za okrevanje in odpornost (NOO)",null,"Črenšovci"," /",null,"011","Celje","03","CELJE",null,"Savinjska",null,null,null,"zaprt (se še sofinancira)",null,"015","Črenšovci",1,"SI03","Vzhodna Slovenija","01","SI031","Pomurska",null,"Savinjska","B",null,"ZAVRŽENA: NEPOPOLNA",null,"01.140","A01.140 Pridelovanje sladkornega trsa","A01.14 Pridelovanje sladkornega trsa","A01.1 Pridelovanje netrajnih rastlin","A01 Kmetijska proizvodnja in lov ter z njima povezane storitve","A KMETIJSTVO IN LOV, GOZDARSTVO, RIBIŠTVO",null,"velika podjetja",4,"veliko","veliko",null,9253,"Apače",null,null,"Evropski kohezijski sklad",3,null,null,null,"srednje (50-249)",null,"Hoče-Slivnica","Hoče - Slivnica",null,"C6258 Nova delovna mesta"]
["Subvencioniranje obrestne mere",10,"Subvencioniranje obrestne mere","RRI: Pomoč za stroške pravic industrijske lastnine za MSP","Raziskave in razvoj ter inovacije",2117,"RRI: Pomoč za stroške pravic industrijske lastnine za MSP",null,null,null,"MINISTRSTVO ZA DELO, DRUŽINO IN SOCIALNE ZADEVE",5022860000,"MINISTRSTVO ZA DELO, DRUŽINO IN SOCIALNE ZADEVE",null,null,"BE01-5665493-2019","Naložbe lastniškega in navideznega lastniškega kapitala za MSP","Tvegani kapital",null,null,null,"Ženske 2022","Javni razpis \"Natečaj za podelitev finančnih spodbud za najboljši poslovni model in njegovo predstavitev podjetnic začetnic 2022\"","56/2022","2022-04-22",null,"subvencije + povratni viri financiranja",null,null,null,"Sklad za regionalni razvoj 2014-2020",null,"Dobrovnik/Dobronak"," /",null,"155","Dobrna","03","CELJE",null,"Zasavska",null,null,null,"zaključen",null,"156","Dobrovnik/Dobronak",1,"SI03","Vzhodna Slovenija","01","SI031","Pomurska",null,"Zasavska","A",null,"ZAVRŽENA: NEPRAVOČASNA",null,"01.150","A01.150 Pridelovanje tobaka","A01.15 Pridelovanje tobaka","A01.1 Pridelovanje netrajnih rastlin","A01 Kmetijska proizvodnja in lov ter z njima povezane storitve","A KMETIJSTVO IN LOV, GOZDARSTVO, RIBIŠTVO",null,"MSP",null,null,null,null,8253,"Artiče",null,null,"Norveški finančni mehanizem",4,null,null,null,"veliko (250+)",null,"Miklavž","Miklavž na Dravskem polju",null,"C6425 Učinkovito delovanje agencije SPIRIT"]
["Temeljni R&D",11,"Temeljni R&D","RRI: Pomoč za mlada inovativna podjetja","Raziskave in razvoj ter inovacije",2118,"RRI: Pomoč za mlada inovativna podjetja",null,null,null,"MINISTRSTVO ZA FINANCE",5028256000,"MINISTRSTVO ZA FINANCE",null,null,"M003-5665493-2018","Protokol o oblikovanju pogojev za pridobitev ugodnih kreditov iz virov Evropskih strukturnih in investicijskih skladov skladno z Uredbo Komisije EU št. 1407/2013","de minimis",null,null,null,"MLADI 2022/2023","Javni poziv osnovnim in srednjim šolam za dodelitev spodbud namenjenih izvajanju aktivnosti za spodbujanje ustvarjalnosti, podjetnosti in inovativnosti med mladimi v letih 2022/2023","52/2022","2022-04-15",null,null,null,null,null,"Socialni sklad 2014-2020",null,"Gornja Radgona"," /",null,"127","Štore","03","CELJE",null,"Posavska",null,null,null,"preklican",null,"029","Gornja Radgona",1,"SI03","Vzhodna Slovenija","01","SI031","Pomurska",null,"Posavska","A",null,"V OCENJEVANJU",null,"01.160","A01.160 Pridelovanje rastlin za vlakna","A01.16 Pridelovanje rastlin za vlakna","A01.1 Pridelovanje netrajnih rastlin","A01 Kmetijska proizvodnja in lov ter z njima povezane storitve","A KMETIJSTVO IN LOV, GOZDARSTVO, RIBIŠTVO",null,"vsa podjetja",null,null,null,null,4275,"Begunje na Gorenjskem",null,null,"Švicarski sklad",5,null,null,null,null,null,"Rače-Fram","Rače - Fram",null,"C6643 Razvojno sodelovanje in mednarodna pomoč"]
["Zamiki pri odplačevanju davkov",20,"Zamiki pri odplačevanju davkov","RRI: Pomoč za inovacije za MSP","Raziskave in razvoj ter inovacije",2119,"RRI: Pomoč za inovacije za MSP",null,null,null,"MINISTRSTVO ZA IZOBRAŽEVANJE, ZNANOST IN ŠPORT",2399300000,"MINISTRSTVO ZA IZOBRAŽEVANJE, ZNANOST IN ŠPORT",null,null,"BE02-2399245-2018","Splošni program za odpravo posledic škode po naravnih nesrečah v gospodarstvu","Naravne nesreče",null,null,null,"DEMO PILOTI NOO 2022","Javni razpis za okrevanje in odpornost s pilotno-demonstracijskimi projekti 2022","52/2022","2022-04-15",null,null,null,null,null,"Sklad za regionalni razvoj 2007-2013",null,"Gornji Petrovci"," /",null,"139","Vojnik","03","CELJE",null,"Jugovzhodna Slovenija",null,null,null,null,null,"031","Gornji Petrovci",1,"SI03","Vzhodna Slovenija","01","SI031","Pomurska",null,"Jugovzhodna Slovenija","B",null,"ODSTOP",null,"01.190","A01.190 Pridelovanje cvetja in drugih enoletnih rastlin","A01.19 Pridelovanje cvetja in drugih enoletnih rastlin","A01.1 Pridelovanje netrajnih rastlin","A01 Kmetijska proizvodnja in lov ter z njima povezane storitve","A KMETIJSTVO IN LOV, GOZDARSTVO, RIBIŠTVO",null,null,null,null,null,null,1382,"Begunje pri Cerknici",null,null,"Pobude za zaposlovanje mladih",6,null,null,null,null,null,"Mokronog-Trebelno","Mokronog - Trebelno",null,"C6941 Instrumenti za rast in razvoj"]
["Davčne dopustitve, izjeme in olajšave",25,"Davčne dopustitve, izjeme in olajšave","RRI: Pomoč za naložbe v raziskovalne infrastrukture","Raziskave in razvoj ter inovacije",3100,"RRI: Pomoč za naložbe v raziskovalne infrastrukture",null,null,null,"MINISTRSTVO ZA KULTURO",2399342000,"MINISTRSTVO ZA KULTURO",null,null,"BE01-2399245-2018","Spodbude za začetne investicije - regionalna pomoč","Regionalne pomoči",null,null,null,"P1+ 2022","Javni razpis za garancije Sklada za bančne kredite s subvencijo obrestne mere (P1 plus 2022)","52/2022","2022-04-15",null,null,null,null,null,"Socialni sklad 2007-2013",null,"Grad"," /",null,"150","Bloke","04","CERKNICA",null,"Osrednjeslovenska",null,null,null,null,null,"158","Grad",1,"SI03","Vzhodna Slovenija","01","SI031","Pomurska",null,"Gorenjska","C",null,null,null,"01.210","A01.210 Vinogradništvo","A01.21 Vinogradništvo","A01.2 Gojenje trajnih nasadov","A01 Kmetijska proizvodnja in lov ter z njima povezane storitve","A KMETIJSTVO IN LOV, GOZDARSTVO, RIBIŠTVO",null,null,null,null,null,null,9231,"Beltinci",null,null,"Sklad za okrevanje in odpornost",7,null,null,null,null,null,"Dobrova-Polhov Gradec","Dobrova - Polhov Gradec",null,"C6942 Podjetniško in inovativno okolje ter promocija"]
["Znižanje prispevkov za socialno varnost",28,"Znižanje prispevkov za socialno varnost","RRI: Pomoč za posojanje visokokvalificiranega osebja","Raziskave in razvoj ter inovacije",3101,"RRI: Pomoč za posojanje visokokvalificiranega osebja",null,null,null,"MINISTRSTVO ZA PRAVOSODJE",2399237000,"MINISTRSTVO ZA PRAVOSODJE",null,null,"M001-5665493-2016","Posebni pogoji financiranja poslovanja in kapitalskega utrjevanja MSP","de minimis",null,null,null,"P1 COVID 2022","Javni razpis P1 COVID 2022 za garancije Sklada za bančne kredite s subvencijo obrestne mere","49/2022","2022-04-08",null,null,null,null,null,"Sklad za regionalni razvoj 2004-2006",null,"Hodoš/Hodos"," /",null,"013","Cerknica","04","CERKNICA",null,"Gorenjska",null,null,null,null,null,"161","Hodoš/Hodos",1,"SI03","Vzhodna Slovenija","01","SI031","Pomurska",null,"Osrednjeslovenska","D",null,null,null,"01.220","A01.220 Gojenje tropskega in subtropskega sadja","A01.22 Gojenje tropskega in subtropskega sadja","A01.2 Gojenje trajnih nasadov","A01 Kmetijska proizvodnja in lov ter z njima povezane storitve","A KMETIJSTVO IN LOV, GOZDARSTVO, RIBIŠTVO",null,null,null,null,null,null,2234,"Benedikt",null,null,"Evropski kmetijski sklad za razvoj podeželja",8,null,null,null,null,null,"Log-Dragomer","Log - Dragomer",null,"C6945 Raziskave, razvoj in inovacije"]
["Kapitalske naložbe",40,"Kapitalske naložbe","RRI: Pomoč za procesne in organizacijske inovacije v storitvah","Raziskave in razvoj ter inovacije",3102,"RRI: Pomoč za procesne in organizacijske inovacije v storitvah",null,null,null,"MINISTRSTVO ZA JAVNO UPRAVO",2482762000,"MINISTRSTVO ZA JAVNO UPRAVO",null,null,"BE01-5665493-2016","Posebni pogoji financiranja naložb in kapitalskega utrjevanja MSP - regionalna pomoč","Regionalne pomoči",null,null,null,"REVAVčer - 16 - digitalni marketing za soc. podjetja","REACT EU - Javni poziv za Vavčer za digitalni marketing za socialna podjetja","47/2022","2022-04-01",null,null,null,null,null,"Socialni sklad 2004-2006",null,"Kobilje"," /",null,"065","Loška dolina","04","CERKNICA",null,"Primorsko-notranjska",null,null,null,null,null,"047","Kobilje",1,"SI03","Vzhodna Slovenija","01","SI031","Pomurska",null,"Primorsko-notranjska","B",null,null,null,"01.230","A01.230 Gojenje citrusov","A01.23 Gojenje citrusov","A01.2 Gojenje trajnih nasadov","A01 Kmetijska proizvodnja in lov ter z njima povezane storitve","A KMETIJSTVO IN LOV, GOZDARSTVO, RIBIŠTVO",null,null,null,null,null,null,2345,"Bistrica ob Dravi",null,null,null,null,null,null,null,null,null,"Gorenja vas-Poljane","Gorenja vas - Poljane",null,"C6955 Slovenski podjetniški sklad (SPS) - kupnine"]
["Konverzija dolga v lastniški delež",43,"Konverzija dolga v lastniški delež","RRI: Pomoč za inovacijske grozde","Raziskave in razvoj ter inovacije",3103,"RRI: Pomoč za inovacijske grozde",null,null,null,"MINISTRSTVO ZA NOTRANJE ZADEVE",5030200000,"MINISTRSTVO ZA NOTRANJE ZADEVE",null,null,"BE01-2399245-2016","Dostop do finančnih sredstev za MSP","Tvegani kapital",null,null,null,"INVEST 2022 - NOO","Javni razpis za spodbujanje velikih investicij za večjo produktivnost in konkurenčnost v Republiki Sloveniji","38/2022","2022-03-18",null,null,null,null,null,"Norveški sklad",null,"Križevci"," /",null,"017","Črnomelj","05","ČRNOMELJ",null,"Goriška",null,null,null,null,null,"166","Križevci",1,"SI03","Vzhodna Slovenija","01","SI031","Pomurska",null,"Goriška","C",null,null,null,"01.240","A01.240 Gojenje pečkatega in koščičastega sadja","A01.24 Gojenje pečkatega in koščičastega sadja","A01.2 Gojenje trajnih nasadov","A01 Kmetijska proizvodnja in lov ter z njima povezane storitve","A KMETIJSTVO IN LOV, GOZDARSTVO, RIBIŠTVO",null,null,null,null,null,null,3256,"Bistrica ob Sotli",null,null,null,null,null,null,null,null,null,"Miren-Kostanjevica","Miren - Kostanjevica",null,"C6983 Povečan delež inovacijsko aktivnih podjetij "]
["Udeležba na dobičku podjetja",48,"Udeležba na dobičku podjetja","RRI: Pomoč za raziskave in razvoj v kmetijskem sektorju","Raziskave in razvoj ter inovacije",3104,"RRI: Pomoč za raziskave in razvoj v kmetijskem sektorju",null,null,null,"MINISTRSTVO ZA OBRAMBO",5268923000,"MINISTRSTVO ZA OBRAMBO",null,null,"0001-2399245-2016","Reševanje in prestrukturiranje gospodarskih družb in zadrug v težavah - SME","Mala in srednje velika podjetja",null,null,null,"DIGIT NOO 2022","Javni razpis \"Digitalna preobrazba gospodarstva\"","38/2022","2022-03-18",null,null,null,null,null,"Švicarski sklad",null,"Kuzma"," /",null,"109","Semič","05","ČRNOMELJ",null,"Obalno-kraška",null,null,null,null,null,"056","Kuzma",1,"SI03","Vzhodna Slovenija","01","SI031","Pomurska",null,"Obalno-kraška","D",null,null,null,"01.250","A01.250 Gojenje drugih sadnih dreves in grmovnic","A01.25 Gojenje drugih sadnih dreves in grmovnic","A01.2 Gojenje trajnih nasadov","A01 Kmetijska proizvodnja in lov ter z njima povezane storitve","A KMETIJSTVO IN LOV, GOZDARSTVO, RIBIŠTVO",null,null,null,null,null,null,8259,"Bizeljsko",null,null,null,null,null,null,null,null,null,"Renče-Vogrsko","Renče - Vogrsko",null,"C7006 Spodbujanje nastajanja in delovanja podjetij, predvsem start-up podjetij"]
["Ugodna posojila",50,"Ugodna posojila","RRI: Pomoč za raziskave in razvoj v sektorju ribištva in akvakulture","Raziskave in razvoj ter inovacije",3105,"RRI: Pomoč za raziskave in razvoj v sektorju ribištva in akvakulture",null,null,null,"MINISTRSTVO ZA KMETIJSTVO, GOZDARSTVO IN PREHRANO",2399253000,"MINISTRSTVO ZA KMETIJSTVO, GOZDARSTVO IN PREHRANO",null,null,"M005-5523362-2015","Garancija Sklada za bančne kredite s subvencijo obrestne mere P1 2015","de minimis",null,null,null,"EUREKA 2022","Javni razpis za dodeljevanje spodbud v okviru iniciative EUREKA 2022","29/2022","2022-03-04",null,null,null,null,null,null,null,"Lendava/Lendva"," /",null,"023","Domžale","06","DOMŽALE",null,null,null,null,null,null,null,"059","Lendava/Lendva",1,"SI03","Vzhodna Slovenija","01","SI031","Pomurska",null,null,null,null,null,null,"01.260","A01.260 Pridelovanje oljnih sadežev","A01.26 Pridelovanje oljnih sadežev","A01.2 Gojenje trajnih nasadov","A01 Kmetijska proizvodnja in lov ter z njima povezane storitve","A KMETIJSTVO IN LOV, GOZDARSTVO, RIBIŠTVO",null,null,null,null,null,null,1223,"Blagovica",null,null,null,null,null,null,null,null,null,"Šempeter-Vrtojba","Šempeter - Vrtojba",null,"C7009 Povečanje dodane vrednosti MSP"]
["Posojila podjetjem v težavah",51,"Posojila podjetjem v težavah","MSP: Pomoč za alternativne platforme za trgovanje, specializirane za MSP","Mala in srednje velika podjetja",2140,"MSP: Pomoč za alternativne platforme za trgovanje, specializirane za MSP",null,null,null,"MINISTRSTVO ZA OKOLJE IN PROSTOR",2482789000,"MINISTRSTVO ZA OKOLJE IN PROSTOR",null,null,"M003-5523362-2015","Subvencije za zagon inovativnih podjetij P2B 2015","de minimis",null,null,null,"P2 2022","Javni razpis za spodbude za zagon inovativnih podjetij v letu 2022 (P2 2022)","29/2022","2022-03-04",null,null,null,null,null,null,null,"Ljutomer"," /",null,"068","Lukovica","06","DOMŽALE",null,null,null,null,null,null,null,"063","Ljutomer",1,"SI03","Vzhodna Slovenija","01","SI031","Pomurska",null,null,null,null,null,null,"01.270","A01.270 Gojenje rastlin za izdelavo napitkov","A01.27 Gojenje rastlin za izdelavo napitkov","A01.2 Gojenje trajnih nasadov","A01 Kmetijska proizvodnja in lov ter z njima povezane storitve","A KMETIJSTVO IN LOV, GOZDARSTVO, RIBIŠTVO",null,null,null,null,null,null,8283,"Blanca",null,null,null,null,null,null,null,null,null,"Ankaran","Ankaran/Ancarano",null,"C7010 Povečevanje mednarodne konkurenčnosti MSP"]
["Odlog plačila davkov",52,"Odlog plačila davkov","MSP: Pomoč za naložbe in zaposlovanje","Mala in srednje velika podjetja",2141,"MSP: Pomoč za naložbe in zaposlovanje",null,null,null,"MINISTRSTVO ZA OKOLJE IN PROSTOR, DIREKCIJA RS ZA VODE",2516152000,"MINISTRSTVO ZA OKOLJE IN PROSTOR, DIREKCIJA RS ZA VODE",null,null,"M002-5523362-2015","Subvencije za zagon inovativnih podjetij P2A 2015","de minimis",null,null,null,"Eurostars 3 2022","Javni razpis Eurostars 3, v okviru iniciative EUREKA za leto 2022","26/2022","2022-02-25",null,null,null,null,null,null,null,"Moravske Toplice"," /",null,"072","Mengeš","06","DOMŽALE",null,null,null,null,null,null,null,"078","Moravske Toplice",1,"SI03","Vzhodna Slovenija","01","SI031","Pomurska",null,null,null,null,null,null,"01.280","A01.280 Gojenje začimbnih, aromatskih in zdravilnih rastlin","A01.28 Gojenje začimbnih, aromatskih in zdravilnih rastlin","A01.2 Gojenje trajnih nasadov","A01 Kmetijska proizvodnja in lov ter z njima povezane storitve","A KMETIJSTVO IN LOV, GOZDARSTVO, RIBIŠTVO",null,null,null,null,null,null,4260,"Bled",null,null,null,null,null,null,null,null,null,"Hrpelje-Kozina","Hrpelje - Kozina",null,"C7096 Večja internacionalizacija podjetij"]
["Vračljivi predujmi",53,"Vračljivi predujmi","MSP: Pomoč za svetovanje korist MSP","Mala in srednje velika podjetja",2143,"MSP: Pomoč za svetovanje korist MSP",null,null,null,"MINISTRSTVO ZA INFRASTRUKTURO",2399270000,"MINISTRSTVO ZA INFRASTRUKTURO",null,null,"M001-5523362-2015","Mikrokrediti za mikro in mala podjetja","de minimis",null,null,null,"RRI NOO 2022","Javni razpis Spodbude za raziskovalno razvojne projekte NOO","20/2022","2022-02-18",null,null,null,null,null,null,null,"Murska Sobota"," /",null,"077","Moravče","06","DOMŽALE",null,null,null,null,null,null,null,"080","Murska Sobota",1,"SI03","Vzhodna Slovenija","01","SI031","Pomurska",null,null,null,null,null,null,"01.290","A01.290 Gojenje drugih trajnih nasadov","A01.29 Gojenje drugih trajnih nasadov","A01.2 Gojenje trajnih nasadov","A01 Kmetijska proizvodnja in lov ter z njima povezane storitve","A KMETIJSTVO IN LOV, GOZDARSTVO, RIBIŠTVO",null,null,null,null,null,null,4273,"Blejska Dobrava",null,null,null,null,null,null,null,null,null,"Izola","Izola/Isola",null,"C7171 Vesoljske tehnologije"]
["Garancije",70,"Garancije","MSP: Pomoč za MSP za udeležbo na sejmih","Mala in srednje velika podjetja",2145,"MSP: Pomoč za MSP za udeležbo na sejmih",null,null,null,"MINISTRSTVO ZA ZDRAVJE",5030544000,"MINISTRSTVO ZA ZDRAVJE",null,null,"M001-2399245-2015","Program izvajanja finančnih spodbud MGRT - de minimis","de minimis",null,null,null,"SPK 2022","Javni razpis za sofinanciranje izvajanja dejavnosti slovenskih poslovnih klubov v tujini v letu 2022 (JR-SPK 2022)","17/2022","2022-02-11",null,null,null,null,null,null,null,"Odranci"," /",null,"186","Trzin","06","DOMŽALE",null,null,null,null,null,null,null,"086","Odranci",1,"SI03","Vzhodna Slovenija","01","SI031","Pomurska",null,null,null,null,null,null,"01.300","A01.300 Razmnoževanje rastlin","A01.30 Razmnoževanje rastlin","A01.3 Razmnoževanje rastlin","A01 Kmetijska proizvodnja in lov ter z njima povezane storitve","A KMETIJSTVO IN LOV, GOZDARSTVO, RIBIŠTVO",null,null,null,null,null,null,9265,"Bodonci",null,null,null,null,null,null,null,null,null,"Koper","Koper/Capodistria",null,"C7487 Zagotoviti delovanje in izvajanje programov Centra Noordung"]
["Plačila zapadlih garancij",75,"Plačila zapadlih garancij","MSP: Ustanovitev novega malega podjetja - podjetnice","Mala in srednje velika podjetja",2146,"MSP: Ustanovitev novega malega podjetja - podjetnice",null,null,null,"MINISTRSTVO ZA ZUNANJE ZADEVE",5186722000,"MINISTRSTVO ZA ZUNANJE ZADEVE",null,null,"BE03-2399245-2015","Program izvajanja finančnih spodbud MGRT - MSP","Mala in srednje velika podjetja",null,null,null,"REVAVčer - 8 - digitalni marketing","REACT EU - Javni poziv za Vavčer za digitalni marketing ","15/2022","2022-02-04",null,null,null,null,null,null,null,"Puconci"," /",null,"025","Dravograd","07","DRAVOGRAD",null,null,null,null,null,null,null,"097","Puconci",1,"SI03","Vzhodna Slovenija","01","SI031","Pomurska",null,null,null,null,null,null,"01.410","A01.410 Prireja mleka","A01.41 Prireja mleka","A01.4 Živinoreja","A01 Kmetijska proizvodnja in lov ter z njima povezane storitve","A KMETIJSTVO IN LOV, GOZDARSTVO, RIBIŠTVO",null,null,null,null,null,null,9222,"Bogojina",null,null,null,null,null,null,null,null,null,"Piran","Piran/Pirano",null,"C7803 Zagotavljanje novih investicij na osnovi dodeljenih finančnih spodbud"]
["Nerazporejeno",99,"Nerazporejeno","MSP: Pomoč za stroške sodelovanja MSP, ki sodeljujejo v okviru projektov EU teritorialnega sodelovanja","Mala in srednje velika podjetja",2147,"MSP: Pomoč za stroške sodelovanja MSP, ki sodeljujejo v okviru projektov EU teritorialnega sodelovanja",null,null,null,"AGENCIJA REPUBLIKE SLOVENIJE ZA KMETIJSKE TRGE IN RAZVOJ PODEŽELJA",2178982000,"AGENCIJA REPUBLIKE SLOVENIJE ZA KMETIJSKE TRGE IN RAZVOJ PODEŽELJA",null,null,"BE02-2399245-2015","Program izvajanja finančnih spodbud MGRT - usposabljanje","Usposabljanje",null,null,null,"P7C-2 2021 COVID19","Javni razpis za kredite za blažitev posledic epidemije COVID 19 na gospodarstvo (P7C-2 2021 COVID19)","209/2021","2021-12-31",null,null,null,null,null,null,null,"Radenci"," /",null,"029","Gornja Radgona","08","GORNJA RADGONA",null,null,null,null,null,null,null,"100","Radenci",1,"SI03","Vzhodna Slovenija","01","SI031","Pomurska",null,null,null,null,null,null,"01.420","A01.420 Druga govedoreja","A01.42 Druga govedoreja","A01.4 Živinoreja","A01 Kmetijska proizvodnja in lov ter z njima povezane storitve","A KMETIJSTVO IN LOV, GOZDARSTVO, RIBIŠTVO",null,null,null,null,null,null,4263,"Bohinjska Bela",null,null,null,null,null,null,null,null,null,"Sveta Trojica v Slovenskih goricah","Sveta Trojica v Slov. goricah",null,"C8066 Podjetniško in inovativno okolje ter promocija"]
[null,null,null,"MSP: Dostop do finančnih sredstev za MSP za financiranje tveganja","Mala in srednje velika podjetja",2148,"MSP: Dostop do finančnih sredstev za MSP za financiranje tveganja",null,null,null,"SLUŽBA VLADE RS ZA RAZVOJ IN EVROPSKO KOHEZIJSKO POLITIKO",2482550000,"SLUŽBA VLADE RS ZA RAZVOJ IN EVROPSKO KOHEZIJSKO POLITIKO",null,null,"BE01-5523362-2015","Semenski kapital lastniški vstop za rast inovativnih podjetij","Mala in srednje velika podjetja",null,null,null,"SISP 2022","Javno povabilo k udeležbi v programu: Slovensko-izraelski start-up pospeševalnik 2022",null,"2021-12-15",null,null,null,null,null,null,null,"Razkrižje"," /",null,"100","Radenci","08","GORNJA RADGONA",null,null,null,null,null,null,null,"176","Razkrižje",1,"SI03","Vzhodna Slovenija","01","SI031","Pomurska",null,null,null,null,null,null,"01.430","A01.430 Konjereja","A01.43 Konjereja","A01.4 Živinoreja","A01 Kmetijska proizvodnja in lov ter z njima povezane storitve","A KMETIJSTVO IN LOV, GOZDARSTVO, RIBIŠTVO",null,null,null,null,null,null,4264,"Bohinjska Bistrica",null,null,null,null,null,null,null,null,null,"Dobrovnik - Dobronak","Dobrovnik/Dobronak",null,"C8109 C8109"]
[null,null,null,"MSP: Dostop do finančnih sredstev za MSP za novoustanovljena podjetja","Mala in srednje velika podjetja",2149,"MSP: Dostop do finančnih sredstev za MSP za novoustanovljena podjetja",null,null,null,"SLUŽBA VLADE RS ZA DIGITALNO PREOBRAZBO",2516411000,"SLUŽBA VLADE RS ZA DIGITALNO PREOBRAZBO",null,null,"BE01-2399245-2015","Program izvajanja finančnih spodbud MGRT - RRI","Raziskave in razvoj ter inovacije",null,null,null,"REVAVčer - 1 - certifikati","REACT EU - Javni poziv za Vavčer za pridobitev certifikatov","163/2021","2021-10-15",null,null,null,null,null,null,null,"Rogašovci"," /",null,"116","Sveti Jurij ob Ščavnici","08","GORNJA RADGONA",null,null,null,null,null,null,null,"105","Rogašovci",1,"SI03","Vzhodna Slovenija","01","SI031","Pomurska",null,null,null,null,null,null,"01.440","A01.440 Reja kamel","A01.44 Reja kamel","A01.4 Živinoreja","A01 Kmetijska proizvodnja in lov ter z njima povezane storitve","A KMETIJSTVO IN LOV, GOZDARSTVO, RIBIŠTVO",null,null,null,null,null,null,4265,"Bohinjsko jezero",null,null,null,null,null,null,null,null,null,"Hodoš - Hodos","Hodoš/Hodos"]
[null,null,null,"MSP: Dostop do finančnih sredstev za MSP za stroške poizvedb","Mala in srednje velika podjetja",2150,"MSP: Dostop do finančnih sredstev za MSP za stroške poizvedb",null,null,null,"FINANČNA UPRAVA RS",2482711000,"FINANČNA UPRAVA RS",null,null,"M003-5523362-2014","Subvencije za zagon inovativnih podjetij 2014","de minimis",null,null,null,"REVAVčer - 7 - digitalne kompetence","REACT EU - Javni poziv za Vavčer za dvig digitalnih kompetenc","162/2021","2021-10-08",null,null,null,null,null,null,null,"Sveti Jurij ob Ščavnici"," /",null,"195","Apače","08","GORNJA RADGONA",null,null,null,null,null,null,null,"116","Sveti Jurij ob Ščavnici",1,"SI03","Vzhodna Slovenija","01","SI031","Pomurska",null,null,null,null,null,null,"01.450","A01.450 Reja drobnice","A01.45 Reja drobnice","A01.4 Živinoreja","A01 Kmetijska proizvodnja in lov ter z njima povezane storitve","A KMETIJSTVO IN LOV, GOZDARSTVO, RIBIŠTVO",null,null,null,null,null,null,1353,"Borovnica",null,null,null,null,null,null,null,null,null,"Lendava - Lendva","Lendava/Lendva"]
[null,null,null,"Tvegani kapital","Tvegani kapital",8001,"Tvegani kapital",null,null,null,"URAD VLADE REPUBLIKE SLOVENIJE ZA KOMUNICIRANJE",5186757000,"URAD VLADE REPUBLIKE SLOVENIJE ZA KOMUNICIRANJE",null,null,"M002-5523362-2014","Garancija Sklada za bančne kredite s subvencijo obrestne mere","de minimis",null,null,null,"REVAVčer - 3 - tržne raziskave tujih trgov","REACT EU - Javni poziv za Vavčer za tržne raziskave tujih trgov","162/2021","2021-10-08",null,null,null,null,null,null,null,"Šalovci"," /",null,"020","Dobrepolje","09","GROSUPLJE",null,null,null,null,null,null,null,"033","Šalovci",1,"SI03","Vzhodna Slovenija","01","SI031","Pomurska",null,null,null,null,null,null,"01.460","A01.460 Prašičereja","A01.46 Prašičereja","A01.4 Živinoreja","A01 Kmetijska proizvodnja in lov ter z njima povezane storitve","A KMETIJSTVO IN LOV, GOZDARSTVO, RIBIŠTVO",null,null,null,null,null,null,8294,"Boštanj",null,null,null,null,null,null,null,null,null,"Ankaran - Ancarano","Ankaran/Ancarano"]
[null,null,null,"Regionalne: Naložbe in ustvarjanje delovnih mest zaradi naložb","Regionalne pomoči",2211,"Regionalne: Naložbe in ustvarjanje delovnih mest zaradi naložb",null,null,null,"Univerza v Ljubljani",5085063000,"Univerza v Ljubljani",null,null,"M001-5523362-2014","Semenski kapital za zagon inovativnih podjetij","de minimis",null,null,null,"REVAVčer - 10 - kibernetska varnost","REACT EU - Javni poziv za Vavčer za kibernetsko varnost","159/2021","2021-10-01",null,null,null,null,null,null,null,"Tišina"," /",null,"032","Grosuplje","09","GROSUPLJE",null,null,null,null,null,null,null,"010","Tišina",1,"SI03","Vzhodna Slovenija","01","SI031","Pomurska",null,null,null,null,null,null,"01.470","A01.470 Reja perutnine","A01.47 Reja perutnine","A01.4 Živinoreja","A01 Kmetijska proizvodnja in lov ter z njima povezane storitve","A KMETIJSTVO IN LOV, GOZDARSTVO, RIBIŠTVO",null,null,null,null,null,null,5230,"Bovec",null,null,null,null,null,null,null,null,null,"Izola - Isola","Izola/Isola"]
[null,null,null,"Regionalne: Novoustanovljena mala podjetja","Regionalne pomoči",2214,"Regionalne: Novoustanovljena mala podjetja",null,null,null,"ZDRAVSTVENI DOM VELENJE",5820456000,"ZDRAVSTVENI DOM VELENJE",null,null,"BE03-5665493-2014","Posebni pogoji financiranja inovacijske dejavnosti malih in srednje velikih podjetij","Raziskave in razvoj ter inovacije",null,null,null,"REVAVčer - 9 - digitalne strategije","REACT EU - Javni poziv za Vavčer za pripravo digitalne strategije","159/2021","2021-10-01",null,null,null,null,null,null,null,"Turnišče"," /",null,"039","Ivančna Gorica","09","GROSUPLJE",null,null,null,null,null,null,null,"132","Turnišče",1,"SI03","Vzhodna Slovenija","01","SI031","Pomurska",null,null,null,null,null,null,"01.490","A01.490 Reja drugih živali","A01.49 Reja drugih živali","A01.4 Živinoreja","A01 Kmetijska proizvodnja in lov ter z njima povezane storitve","A KMETIJSTVO IN LOV, GOZDARSTVO, RIBIŠTVO",null,null,null,null,null,null,5295,"Branik",null,null,null,null,null,null,null,null,null,"Koper - Capodistria","Koper/Capodistria"]
[null,null,null,"Regionalne: Pomoč za tekoče poslovanje","Regionalne pomoči",2215,"Regionalne: Pomoč za tekoče poslovanje",null,null,null,"Fundacija za izboljšanje zaposlitvenih možnosti VZHOD.SI, ustanova",4107055000,"Fundacija za izboljšanje zaposlitvenih možnosti VZHOD.SI, ustanova",null,null,"BE02-2399245-2014","Regionalna shema državnih pomoči","Regionalne pomoči",null,null,null,"JP VIP 2021","Javni poziv \"Varovanje inovacijskega potenciala\"",null,"2021-09-30",null,null,null,null,null,null,null,"Velika Polana"," /",null,"034","Hrastnik","10","HRASTNIK",null,null,null,null,null,null,null,"187","Velika Polana",1,"SI03","Vzhodna Slovenija","01","SI031","Pomurska",null,null,null,null,null,null,"01.500","A01.500 Mešano kmetijstvo","A01.50 Mešano kmetijstvo","A01.5 Mešano kmetijstvo","A01 Kmetijska proizvodnja in lov ter z njima povezane storitve","A KMETIJSTVO IN LOV, GOZDARSTVO, RIBIŠTVO",null,null,null,null,null,null,3314,"Braslovče",null,null,null,null,null,null,null,null,null,"Piran - Pirano","Piran/Pirano"]
[null,null,null,"Regionalne: Investicije v predelavo in trženje kmetijskih proizvodov","Regionalne pomoči",2216,"Regionalne: Investicije v predelavo in trženje kmetijskih proizvodov",null,null,null,"MUZEJ ZA ARHITEKTURO IN OBLIKOVANJE, Javni zavod",5052106000,"MUZEJ ZA ARHITEKTURO IN OBLIKOVANJE, Javni zavod",null,null,"BE01-5523362-2014","Semenski kapital lastniški vstop za rast inovativnih podjetij","Mala in srednje velika podjetja",null,null,null,"REVAVčer - 14 - prototipiranje","REACT EU - Javni poziv za Vavčer za prototipiranje","153/2021","2021-09-24",null,null,null,null,null,null,null,"Veržej"," /",null,"014","Cerkno","11","IDRIJA",null,null,null,null,null,null,null,"188","Veržej",1,"SI03","Vzhodna Slovenija","01","SI031","Pomurska",null,null,null,null,null,null,"01.610","A01.610 Storitve za rastlinsko pridelavo","A01.61 Storitve za rastlinsko pridelavo","A01.6 Storitve za kmetijsko proizvodnjo, priprava pridelkov","A01 Kmetijska proizvodnja in lov ter z njima povezane storitve","A KMETIJSTVO IN LOV, GOZDARSTVO, RIBIŠTVO",null,null,null,null,null,null,5223,"Breginj",null,null,null,null,null,null,null,null,null,"Sveti Jurij","Sveti Jurij ob Ščavnici"]
[null,null,null,"Regionalne: Pomoč za razvoj mestnih območij","Regionalne pomoči",2217,"Regionalne: Pomoč za razvoj mestnih območij",null,null,null,"POKRAJINSKI ARHIV V NOVI GORICI",5052203000,"POKRAJINSKI ARHIV V NOVI GORICI",null,null,"BE01-2399245-2014","Finančne spodbude za tuje neposredne investicije regionalna pomoč","Regionalne pomoči",null,null,null,"REVAVčer - 12 - poslovna odličnost v MSP","REACT EU - Javni poziv za Vavčer za uvajanje poslovne odličnosti po modelu EFQM v mikro, mala in srednje velika podjetja","153/2021","2021-09-24",null,null,null,null,null,null,null,"Benedikt"," /",null,"036","Idrija","11","IDRIJA",null,null,null,null,null,null,null,"148","Benedikt",1,"SI03","Vzhodna Slovenija","02","SI032","Podravska",null,null,null,null,null,null,"01.620","A01.620 Storitve za živinorejo, razen veterinarskih","A01.62 Storitve za živinorejo, razen veterinarskih","A01.6 Storitve za kmetijsko proizvodnjo, priprava pridelkov","A01 Kmetijska proizvodnja in lov ter z njima povezane storitve","A KMETIJSTVO IN LOV, GOZDARSTVO, RIBIŠTVO",null,null,null,null,null,null,8280,"Brestanica",null,null,null,null,null,null,null,null,null,"Sveti Jurij v Slovenskih goricah","Sveti Jurij v Slov. goricah"]
[null,null,null,"Naravne nesreče: Pomoč za odpravo škode, ki jo povzročijo nekatere naravne nesreče","Naravne nesreče",1004,"Naravne nesreče: Pomoč za odpravo škode, ki jo povzročijo nekatere naravne nesreče",null,null,null,"Javni zavod Ljubljanski grad",3887359000,"Javni zavod Ljubljanski grad",null,null,"0002-2399245-2014","Pomoč za prestrukturiranje za družbo Polzela d.d.","Prestrukturiranje",null,null,null,"REVAVčer - 11 - statusno preoblikovanje družb","REACT EU - Javni poziv za Vavčer za statusno preoblikovanje družb","153/2021","2021-09-24",null,null,null,null,null,null,null,"Cerkvenjak"," /",null,"038","Ilirska Bistrica","12","ILIRSKA BISTRICA",null,null,null,null,null,null,null,"153","Cerkvenjak",1,"SI03","Vzhodna Slovenija","02","SI032","Podravska",null,null,null,null,null,null,"01.630","A01.630 Priprava pridelkov","A01.63 Priprava pridelkov","A01.6 Storitve za kmetijsko proizvodnjo, priprava pridelkov","A01 Kmetijska proizvodnja in lov ter z njima povezane storitve","A KMETIJSTVO IN LOV, GOZDARSTVO, RIBIŠTVO",null,null,null,null,null,null,2354,"Bresternica"]
[null,null,null,"COVID19 škoda","Odpravljanje resne motnje v gospodarstvu",8006,"COVID19 škoda",null,null,null,"Javni zavod Triglavski narodni park",5163846000,"Javni zavod Triglavski narodni park",null,null,"0001-2399245-2014","Pomoč za reševanje za družbo Polzela d.d.","Pomoči za reševanje",null,null,null,"REVAVčer - 2 - patenti, modeli, znamke","REACT EU - Javni poziv za Vavčer za patente, modele, znamke","153/2021","2021-09-24",null,null,null,null,null,null,null,"Cirkulane","Ptujsko-ormoška regija",null,"040","Izola/Isola","13","IZOLA/ISOLA",null,null,null,null,null,null,null,"196","Cirkulane",1,"SI03","Vzhodna Slovenija","02","SI032","Podravska",null,null,null,null,null,null,"01.640","A01.640 Obdelava semen","A01.64 Obdelava semen","A01.6 Storitve za kmetijsko proizvodnjo, priprava pridelkov","A01 Kmetijska proizvodnja in lov ter z njima povezane storitve","A KMETIJSTVO IN LOV, GOZDARSTVO, RIBIŠTVO",null,null,null,null,null,null,4243,"Brezje"]
[null,null,null,"COVID19 3.1. Pomoč v obliki neposrednih nepovratnih sredstev, vračljivih predplačil ali davčnih ugodnosti","Odpravljanje resne motnje v gospodarstvu",8066,"COVID19 3.1. Pomoč v obliki neposrednih nepovratnih sredstev, vračljivih predplačil ali davčnih ugodnosti",null,null,null,"Butan plin d.d. Ljubljana",5094933000,"Butan plin d.d. Ljubljana",null,null,"M001-5665493-2013","Posebni pogoji financiranja poslovanja malih in srednje velikih podjetij","de minimis",null,null,null,"REVAVčer - 15 - vrednotenje okoljskih vplivov (LCA)","REACT-EU - Javni poziv za \"Vavčer za celostno vrednotenje okoljskih vplivov (LCA)\"","149/2021","2021-09-17",null,null,null,null,null,null,null,"Destrnik","Ptujsko-ormoška regija",null,"041","Jesenice","14","JESENICE",null,null,null,null,null,null,null,"018","Destrnik",1,"SI03","Vzhodna Slovenija","02","SI032","Podravska",null,null,null,null,null,null,"01.700","A01.700 Lovstvo","A01.70 Lovstvo","A01.7 Lovstvo","A01 Kmetijska proizvodnja in lov ter z njima povezane storitve","A KMETIJSTVO IN LOV, GOZDARSTVO, RIBIŠTVO",null,null,null,null,null,null,1351,"Brezovica pri Ljubljani"]
[null,null,null,"COVID19 3.2. Pomoč v obliki poroštev za posojila","Odpravljanje resne motnje v gospodarstvu",8067,"COVID19 3.2. Pomoč v obliki poroštev za posojila",null,null,null,"Javno podjetje Energetika Ljubljana d.o.o.",5226406000,"Javno podjetje Energetika Ljubljana d.o.o.",null,null,"M001-2399245-2013","Javni razpis v podporo nacionalnemu sistemu inovacij za leto 2013 in 2014","de minimis",null,null,null,"REVAVčer - 5 - gospodarske delegacije v tujini","REACT EU - Javni poziv za \"Vavčer za udeležbo v gospodarskih delegacijah v tujino\"","149/2021","2021-09-17",null,null,null,null,null,null,null,"Dornava","Ptujsko-ormoška regija",null,"053","Kranjska Gora","14","JESENICE",null,null,null,null,null,null,null,"024","Dornava",1,"SI03","Vzhodna Slovenija","02","SI032","Podravska",null,null,null,null,null,null,"02.100","A02.100 Gojenje gozdov in druge gozdarske dejavnosti","A02.10 Gojenje gozdov in druge gozdarske dejavnosti","A02.1 Gojenje gozdov in druge gozdarske dejavnosti","A02 Gozdarstvo","A KMETIJSTVO IN LOV, GOZDARSTVO, RIBIŠTVO",null,null,null,null,null,null,8250,"Brežice"]
[null,null,null,"COVID19 3.3. Pomoč v obliki subvencioniranih obrestnih mer za posojila","Odpravljanje resne motnje v gospodarstvu",8068,"COVID19 3.3. Pomoč v obliki subvencioniranih obrestnih mer za posojila",null,null,null,"GEN-I, trgovanje in prodaja električne energije d.o.o.",1587714000,"GEN-I, trgovanje in prodaja električne energije d.o.o.",null,null,"BE01-2399245-2012","Program za spodbujanje tehnološkega razvoja in inovacij v letu 2013","Raziskave in razvoj ter inovacije",null,null,null,"REVAVčer - 4 - mednarodni forumi","REACT EU - Javni poziv za \"Vavčer za udeležbe na mednarodnih forumih\"","149/2021","2021-09-17",null,null,null,null,null,null,null,"Duplek"," /",null,"192","Žirovnica","14","JESENICE",null,null,null,null,null,null,null,"026","Duplek",1,"SI03","Vzhodna Slovenija","02","SI032","Podravska",null,null,null,null,null,null,"02.200","A02.200 Sečnja","A02.20 Sečnja","A02.2 Sečnja","A02 Gozdarstvo","A KMETIJSTVO IN LOV, GOZDARSTVO, RIBIŠTVO",null,null,null,null,null,null,4210,"Brnik - Aerodrom"]
[null,null,null,"COVID19 3.4. Pomoč v obliki jamstev in posojil, usmerjenih prek kreditnih ali drugih finančnih institucij","Odpravljanje resne motnje v gospodarstvu",8069,"COVID19 3.4. Pomoč v obliki jamstev in posojil, usmerjenih prek kreditnih ali drugih finančnih institucij",null,null,null,"Geoplin d.o.o.",5025869000,"Geoplin d.o.o.",null,null,"0001-2399245-2012","Splošni program za odpravo posledic škode po naravnih nesrečah v gospodarstvu","Naravne nesreče",null,null,null,"REVAVčer - 13 - prenos lastništva","REACT EU - Javni poziv za Vavčer za prenos lastništva","145/2021","2021-09-10",null,null,null,null,null,null,null,"Gorišnica","Ptujsko-ormoška regija",null,"043","Kamnik","15","KAMNIK",null,null,null,null,null,null,null,"028","Gorišnica",1,"SI03","Vzhodna Slovenija","02","SI032","Podravska",null,null,null,null,null,null,"02.300","A02.300 Nabiranje gozdnih dobrin, razen lesa","A02.30 Nabiranje gozdnih dobrin, razen lesa","A02.3 Nabiranje gozdnih dobrin, razen lesa","A02 Gozdarstvo","A KMETIJSTVO IN LOV, GOZDARSTVO, RIBIŠTVO",null,null,null,null,null,null,8321,"Brusnice"]
[null,null,null,"COVID19 3.5. Kratkoročno zavarovanje izvoznih kreditov","Odpravljanje resne motnje v gospodarstvu",8070,"COVID19 3.5. Kratkoročno zavarovanje izvoznih kreditov",null,null,null,"E3, energetika, ekologija, ekonomija, d.o.o.",2010593000,"E3, energetika, ekologija, ekonomija, d.o.o.",null,null,"BE01-5665493-2011","Razvojno - spodbujevalni program SID banke za financiranje tehnološko - razvojnih projektov 2011 - 2013","Raziskave in razvoj",null,null,null,"P4D React EU 2021","Javni razpis za spodbude za digitalno transformacijo MSP (P4D ReactEU)","97/2021","2021-06-18",null,null,null,null,null,null,null,"Hajdina","Ptujsko-ormoška regija",null,"164","Komenda","15","KAMNIK",null,null,null,null,null,null,null,"159","Hajdina",1,"SI03","Vzhodna Slovenija","02","SI032","Podravska",null,null,null,null,null,null,"02.400","A02.400 Storitve za gozdarstvo","A02.40 Storitve za gozdarstvo","A02.4 Storitve za gozdarstvo","A02 Gozdarstvo","A KMETIJSTVO IN LOV, GOZDARSTVO, RIBIŠTVO",null,null,null,null,null,null,3255,"Buče"]
[null,null,null,"COVID19 3.6. Pomoč za raziskave in razvoj na področju COVID19","Odpravljanje resne motnje v gospodarstvu",8071,"COVID19 3.6. Pomoč za raziskave in razvoj na področju COVID19",null,null,null,"Elektro energija d.o.o.",3974316000,"Elektro energija d.o.o.",null,null,"0003-5715334-2011","Splošni program za odpravo posledic škode po naravnih nesrečah v gospodarstvu","Športna in večnamenska rekr. Infrastruktura",null,null,null,"DIH - MSP DSS PSEU 2021","Javni poziv mikro, malim in srednje velikim podjetjem za sodelovanje na predstavitvenem delu Digitalnega središča slovenije – Tehnologija za ljudi v času predsedovanja Slovenije Svetu Evropske unije",null,"2021-05-24",null,null,null,null,null,null,null,"Hoče - Slivnica"," /",null,"048","Kočevje","16","KOČEVJE",null,null,null,null,null,null,null,"160","Hoče - Slivnica",1,"SI03","Vzhodna Slovenija","02","SI032","Podravska",null,null,null,null,null,null,"03.110","A03.110 Morsko ribištvo","A03.11 Morsko ribištvo","A03.1 Ribištvo","A03 Ribištvo in gojenje vodnih organizmov","A KMETIJSTVO IN LOV, GOZDARSTVO, RIBIŠTVO",null,null,null,null,null,null,8276,"Bučka"]
[null,null,null,"COVID19 3.7. Pomoč za naložbe v infrastrukture za preskušanje in prenos v proizvodnjo","Odpravljanje resne motnje v gospodarstvu",8072,"COVID19 3.7. Pomoč za naložbe v infrastrukture za preskušanje in prenos v proizvodnjo",null,null,null,"Petrol, Slovenska energetska družba, d.d. Ljubljana",5025796000,"Petrol, Slovenska energetska družba, d.d. Ljubljana",null,null,"0003-5715334-2010","Odprava posledic škode letalskih prevoznikov in letališč zaradi potresnih aktivnosti na Islandiji in posledično vulkanskega pepela v aprilu 2010","Naravne nesreče",null,null,null,"P7C 2021 COVID19","Javni razpis za kredite za blažitev posledic epidemije COVID-19 (P7C 2021 COVID19)","53/2021","2021-04-09",null,null,null,null,null,null,null,"Juršinci","Ptujsko-ormoška regija",null,"165","Kostel","16","KOČEVJE",null,null,null,null,null,null,null,"042","Juršinci",1,"SI03","Vzhodna Slovenija","02","SI032","Podravska",null,null,null,null,null,null,"03.120","A03.120 Sladkovodno ribištvo","A03.12 Sladkovodno ribištvo","A03.1 Ribištvo","A03 Ribištvo in gojenje vodnih organizmov","A KMETIJSTVO IN LOV, GOZDARSTVO, RIBIŠTVO",null,null,null,null,null,null,9261,"Cankova"]
[null,null,null,"COVID19 3.8. Pomoč za naložbe za proizvodnjo izdelkov v zvezi s COVID19","Odpravljanje resne motnje v gospodarstvu",8073,"COVID19 3.8. Pomoč za naložbe za proizvodnjo izdelkov v zvezi s COVID19",null,null,null,"Elektro Maribor Energija plus d.o.o.",3991008000,"Elektro Maribor Energija plus d.o.o.",null,null,"0002-5715334-2010","Pomoč za odpravo posledic škode po poplavah septembra 2010","Naravne nesreče",null,null,null,"P1+ 2021","Javni razpis za garancije Sklada za bančne kredite s subvencijo obrestne mere (P1 plus 2021)","51/2021","2021-04-02",null,null,null,null,null,null,null,"Kidričevo","Ptujsko-ormoška regija",null,"088","Osilnica","16","KOČEVJE",null,null,null,null,null,null,null,"045","Kidričevo",1,"SI03","Vzhodna Slovenija","02","SI032","Podravska",null,null,null,null,null,null,"03.210","A03.210 Gojenje morskih organizmov","A03.21 Gojenje morskih organizmov","A03.2 Gojenje vodnih organizmov","A03 Ribištvo in gojenje vodnih organizmov","A KMETIJSTVO IN LOV, GOZDARSTVO, RIBIŠTVO",null,null,null,null,null,null,3000,"Celje"]
[null,null,null,"COVID19 3.9. Pomoč v obliki odlogov plačila davkov in/ali prispevkov za socialno varnost","Odpravljanje resne motnje v gospodarstvu",8074,"COVID19 3.9. Pomoč v obliki odlogov plačila davkov in/ali prispevkov za socialno varnost",null,null,null,"Elektro Celje energija d.o.o.",6064892000,"Elektro Celje energija d.o.o.",null,null,"BE01-5715334-2009","Pomoč v obliki rizičnega kapitala","Tvegani kapital",null,null,null,"ITM 2021","Javno povabilo k udeležbi v mednarodnem izobraževalnem programu \"Vodenje izvoznega poslovanja\" - International Trade Management (ITM) 2021",null,"2021-03-16",null,null,null,null,null,null,null,"Kungota"," /",null,"050","Koper/Capodistria","17","KOPER",null,null,null,null,null,null,null,"055","Kungota",1,"SI03","Vzhodna Slovenija","02","SI032","Podravska",null,null,null,null,null,null,"03.220","A03.220 Gojenje sladkovodnih organizmov","A03.22 Gojenje sladkovodnih organizmov","A03.2 Gojenje vodnih organizmov","A03 Ribištvo in gojenje vodnih organizmov","A KMETIJSTVO IN LOV, GOZDARSTVO, RIBIŠTVO",null,null,null,null,null,null,3001,"Celje - poštni predali"]
[null,null,null,"COVID19 3.10. Pomoč v obliki plačnih subvencij za zaposlene za preprečevanje odpuščanja med izbruhom COVID19","Odpravljanje resne motnje v gospodarstvu",8075,"COVID19 3.10. Pomoč v obliki plačnih subvencij za zaposlene za preprečevanje odpuščanja med izbruhom COVID19",null,null,null,"BSC, poslovno podporni center, d.o.o., Kranj",5891019000,"BSC, poslovno podporni center, d.o.o., Kranj",null,null,"0001-5715334-2009","Ukrep omejene vrednosti za dokončanje razvojno investicijskih projektov ter spodbujanje prezaposlitev in samozaposlovanja v letih 2009 in 2010","Odpravljanje resne motnje v gospodarstvu",null,null,null,"SPK 2021","Javni razpis za sofinanciranje izvajanja dejavnosti slovenskih poslovnih klubov v tujini v letu 2021 (JR SPK 2021)","31/2021","2021-03-05",null,null,null,null,null,null,null,"Lenart"," /",null,"213","Ankaran/Ancarano","17","KOPER",null,null,null,null,null,null,null,"058","Lenart",1,"SI03","Vzhodna Slovenija","02","SI032","Podravska",null,null,null,null,null,null,"05.100","B05.100 Pridobivanje črnega premoga","B05.10 Pridobivanje črnega premoga","B05.1 Pridobivanje črnega premoga","B05 Pridobivanje premoga","B RUDARSTVO",null,null,null,null,null,null,4207,"Cerklje na Gorenjskem"]
[null,null,null,"Kmetijstvo COVID19 3.1. Pomoč v obliki neposrednih nepovratnih sredstev, vračljivih predplačil ali davčnih ugodnosti","Odpravljanje resne motnje v gospodarstvu",8076,"Kmetijstvo COVID19 3.1. Pomoč v obliki neposrednih nepovratnih sredstev, vračljivih predplačil ali davčnih ugodnosti",null,null,null,"D.S.U., družba za svetovanje in upravljanje, d.o.o.",1646877000,"D.S.U., družba za svetovanje in upravljanje, d.o.o.",null,null,"M002-5715334-2007","Program ukrepov za spodbujanje podjetništva in konkurenčnosti za obdobje 2007-2013, de minimis","de minimis",null,null,null,"EUREKA 2021","Javni razpis za dodeljevanje spodbud v okviru iniciative EUREKA 2021","31/2021","2021-03-05",null,null,null,null,null,null,null,"Lovrenc na Pohorju"," /",null,"012","Cerklje na Gorenjskem","18","KRANJ",null,null,null,null,null,null,null,"167","Lovrenc na Pohorju",1,"SI03","Vzhodna Slovenija","02","SI032","Podravska",null,null,null,null,null,null,"05.200","B05.200 Pridobivanje rjavega premoga in lignita","B05.20 Pridobivanje rjavega premoga in lignita","B05.2 Pridobivanje rjavega premoga in lignita","B05 Pridobivanje premoga","B RUDARSTVO",null,null,null,null,null,null,8263,"Cerklje ob Krki"]
[null,null,null,"Ribištvo COVID19 3.1. Pomoč v obliki neposrednih nepovratnih sredstev, vračljivih predplačil ali davčnih ugodnosti","Odpravljanje resne motnje v gospodarstvu",8077,"Ribištvo COVID19 3.1. Pomoč v obliki neposrednih nepovratnih sredstev, vračljivih predplačil ali davčnih ugodnosti",null,null,null,"Eko sklad, Slovenski okoljski javni sklad",5854067000,"Eko sklad, Slovenski okoljski javni sklad",null,null,"BE05-5715334-2007","Program ukrepov za spodbujanje podjetništva in konkurenčnosti za obdobje 2007-2013, regionalna pomoč","Regionalne pomoči",null,null,null,"P2 2021","Javni razpis za spodbude za zagon inovativnih podjetij v letu 2021 (P2 2021)","21/2021","2021-02-12",null,null,null,null,null,null,null,"Majšperk","Ptujsko-ormoška regija",null,"163","Jezersko","18","KRANJ",null,null,null,null,null,null,null,"069","Majšperk",1,"SI03","Vzhodna Slovenija","02","SI032","Podravska",null,null,null,null,null,null,"06.100","B06.100 Pridobivanje surove nafte","B06.10 Pridobivanje surove nafte","B06.1 Pridobivanje surove nafte","B06 Pridobivanje surove nafte in zemeljskega plina","B RUDARSTVO",null,null,null,null,null,null,1380,"Cerknica"]
[null,null,null,"De minimis COVID19","Odpravljanje resne motnje v gospodarstvu",8078,"De minimis COVID19",null,null,null,"EKONOMSKI INSTITUT MARIBOR ekonomske raziskave in podjetništvo d.o.o.",5221412000,"EKONOMSKI INSTITUT MARIBOR ekonomske raziskave in podjetništvo d.o.o.",null,null,"BE02-5715334-2007","Program ukrepov za spodbujanje podjetništva in konkurenčnosti za obdobje 2007-2013, mala in srednjevelika podjetja","Mala in srednje velika podjetja",null,null,null,"PRSPO 2021","Javni razpis za podelitev priznanja Republike Slovenije za poslovno odličnost za leto 2021","13/2021","2021-01-29",null,null,null,null,null,null,null,"Makole"," /",null,"052","Kranj","18","KRANJ",null,null,null,null,null,null,null,"198","Makole",1,"SI03","Vzhodna Slovenija","02","SI032","Podravska",null,null,null,null,null,null,"06.200","B06.200 Pridobivanje zemeljskega plina","B06.20 Pridobivanje zemeljskega plina","B06.2 Pridobivanje zemeljskega plina","B06 Pridobivanje surove nafte in zemeljskega plina","B RUDARSTVO",null,null,null,null,null,null,5282,"Cerkno"]
[null,null,null,"COVID19 3.11. Ukrepi dokapitalizacije","Odpravljanje resne motnje v gospodarstvu",8079,"COVID19 3.11. Ukrepi dokapitalizacije",null,null,null,"Slovenski filmski center, javna agencija Republike Slovenije",5860725000,"Slovenski filmski center, javna agencija Republike Slovenije",null,null,"BE01-5715334-2007","Program ukrepov za spodbujanje podjetništva in konkurenčnosti za obdobje 2007-2013, usposabljanje","Usposabljanje",null,null,null,"Vajeništvo 2021/2022","Srednje poklicno izobraževanje v vajeniški obliki v letu 2021/2022",null,"2021-01-19",null,null,null,null,null,null,null,"Maribor","Maribor",null,"082","Naklo","18","KRANJ",null,null,null,null,null,null,null,"070","Maribor",1,"SI03","Vzhodna Slovenija","02","SI032","Podravska",null,null,null,null,null,null,"07.100","B07.100 Pridobivanje železove rude","B07.10 Pridobivanje železove rude","B07.1 Pridobivanje železove rude","B07 Pridobivanje rud","B RUDARSTVO",null,null,null,null,null,null,2236,"Cerkvenjak"]
[null,null,null,"COVID19 3.12. Pomoč v obliki podpore za nekrite fiksne stroške","Odpravljanje resne motnje v gospodarstvu",8080,"COVID19 3.12. Pomoč v obliki podpore za nekrite fiksne stroške",null,null,null,"Slovenska turistična organizacija",6889859000,"Slovenska turistična organizacija",null,null,"0001-2045419-2006","Program za spodbujanje tehnološkega razvoja ter informacijske družbe za obdobje 2007-2012","Raziskave in razvoj ter inovacije",null,null,null,"PSI 2021/2022","Poklicno in strokovno izobraževanje v letu 2021/2022",null,"2021-01-19",null,null,null,null,null,null,null,"Markovci","Ptujsko-ormoška regija",null,"095","Preddvor","18","KRANJ",null,null,null,null,null,null,null,"168","Markovci",1,"SI03","Vzhodna Slovenija","02","SI032","Podravska",null,null,null,null,null,null,"07.210","B07.210 Pridobivanje uranove in torijeve rude","B07.21 Pridobivanje uranove in torijeve rude","B07.2 Pridobivanje rud neželeznih kovin","B07 Pridobivanje rud","B RUDARSTVO",null,null,null,null,null,null,2215,"Ceršak"]
[null,null,null,"COVID19 3.13. Podpora naložbam za trajnostno okrevanje","Odpravljanje resne motnje v gospodarstvu",8081,"COVID19 3.13. Podpora naložbam za trajnostno okrevanje",null,null,null,"Javna agencija za knjigo RS",3367622000,"Javna agencija za knjigo RS",null,null,"0004-5715334-2003","Pomoči za reševanje in prestrukturiranje gospodarskih družb v težavah","Pomoči za reševanje",null,null,null,"EUROSTARS 2021","Javni razpis Eurostars, v okviru iniciative EUREKA za leto 2021","6/2021","2021-01-15",null,null,null,null,null,null,null,"Miklavž na Dravskem polju"," /",null,"117","Šenčur","18","KRANJ",null,null,null,null,null,null,null,"169","Miklavž na Dravskem polju",1,"SI03","Vzhodna Slovenija","02","SI032","Podravska",null,null,null,null,null,null,"07.290","B07.290 Pridobivanje rud drugih neželeznih kovin","B07.29 Pridobivanje rud drugih neželeznih kovin","B07.2 Pridobivanje rud neželeznih kovin","B07 Pridobivanje rud","B RUDARSTVO",null,null,null,null,null,null,2326,"Cirkovce"]
[null,null,null,"Finančna kriza","Odpravljanje resne motnje v gospodarstvu",8003,"Finančna kriza",null,null,null,"JAVNA AGENCIJA ZA RAZISKOVALNO DEJAVNOST RS",1937286000,"JAVNA AGENCIJA ZA RAZISKOVALNO DEJAVNOST RS",null,null,"0003-1227106-2000","Dodeljevanje državnih pomoči za področje malega gospodarstva","Mala in srednje velika podjetja",null,null,null,"Ženske 2021","Natečaj za podelitev finančnih spodbud za najboljši poslovni model in njegovo predstavitev podjetnic začetnic 2021","6/2021","2021-01-15",null,null,null,null,null,null,null,"Oplotnica"," /",null,"054","Krško","19","KRŠKO",null,null,null,null,null,null,null,"171","Oplotnica",1,"SI03","Vzhodna Slovenija","02","SI032","Podravska",null,null,null,null,null,null,"08.110","B08.110 Pridobivanje kamna","B08.11 Pridobivanje kamna","B08.1 Pridobivanje kamna, peska in gline","B08 Pridobivanje rudnin in kamnin","B RUDARSTVO",null,null,null,null,null,null,2282,"Cirkulane"]
[null,null,null,"Športna infr.: Pomoč za športno in večnamensko rekr. infrastrukturo","Športna in večnamenska rekr. infrastruktura",1005,"Športna infr.: Pomoč za športno in večnamensko rekr. infrastrukturo",null,null,null,"JAVNA AGENCIJA ZA TEHNOLOŠKI RAZVOJ RS",2019850000,"JAVNA AGENCIJA ZA TEHNOLOŠKI RAZVOJ RS",null,null,"ni priglašena",null,null,null,null,null,"Maske 1-4 2021","Javni poziv samozaposlenim in mikro podjetjem z 1 do 4 zaposlenimi za brezplačno dodelitev zaščitnih mask v letu 2021",null,"2021-01-11",null,null,null,null,null,null,null,"Ormož","Ptujsko-ormoška regija",null,"197","Kostanjevica na Krki","19","KRŠKO",null,null,null,null,null,null,null,"087","Ormož",1,"SI03","Vzhodna Slovenija","02","SI032","Podravska",null,null,null,null,null,null,"08.120","B08.120 Pridobivanje gramoza, peska, gline","B08.12 Pridobivanje gramoza, peska, gline","B08.1 Pridobivanje kamna, peska in gline","B08 Pridobivanje rudnin in kamnin","B RUDARSTVO",null,null,null,null,null,null,5273,"Col"]
[null,null,null,"Lokalna infr.: Pomoč za naložbe v lokalno infrastrukturo","Lokalna infrastruktura",1006,"Lokalna infr.: Pomoč za naložbe v lokalno infrastrukturo",null,null,null,"JAVNA AGENCIJA ZA ŽELEZNIŠKI PROMET RS",1834452000,"JAVNA AGENCIJA ZA ŽELEZNIŠKI PROMET RS",null,null,"ni državna ali de minimis pomoč"," "," ",null,null,null,"Maske 1-4 2020","Javni poziv samozaposlenim in mikro podjetjem z 1 do 4 zaposlenimi za brezplačno dodelitev zaščitnih mask",null,"2020-11-04",null,null,null,null,null,null,null,"Pesnica"," /",null,"057","Laško","20","LAŠKO",null,null,null,null,null,null,null,"089","Pesnica",1,"SI03","Vzhodna Slovenija","02","SI032","Podravska",null,null,null,null,null,null,"08.910","B08.910 Pridobivanje mineralov za kemikalije in gnojila","B08.91 Pridobivanje mineralov za kemikalije in gnojila","B08.9 Pridobivanje drugih rudnin in kamnin","B08 Pridobivanje rudnin in kamnin","B RUDARSTVO",null,null,null,null,null,null,8251,"Čatež ob Savi"]
[null,null,null,"De minimis Varstvo okolja","Varstvo okolja",1008,"De minimis Varstvo okolja",null,null,null,"SKLAD KMETIJSKIH ZEMLJIŠČ IN GOZDOV REPUBLIKE SLOVENIJE",5729963000,"SKLAD KMETIJSKIH ZEMLJIŠČ IN GOZDOV REPUBLIKE SLOVENIJE",null,null,null,null,null,null,null,null,"RRI 2020 - COVID19","Javni razpis »Razvojno - raziskovalni projekti za odpravo posledic COVID-19«","134/2020","2020-10-02",null,null,null,null,null,null,null,"Podlehnik","Ptujsko-ormoška regija",null,"099","Radeče","20","LAŠKO",null,null,null,null,null,null,null,"172","Podlehnik",1,"SI03","Vzhodna Slovenija","02","SI032","Podravska",null,null,null,null,null,null,"08.920","B08.920 Pridobivanje šote","B08.92 Pridobivanje šote","B08.9 Pridobivanje drugih rudnin in kamnin","B08 Pridobivanje rudnin in kamnin","B RUDARSTVO",null,null,null,null,null,null,1413,"Čemšenik"]
[null,null,null,"Varstvo okolja: Pomoč za naložbe v ukrepe za energetsko učinkovitost","Varstvo okolja",2100,"Varstvo okolja: Pomoč za naložbe v ukrepe za energetsko učinkovitost",null,null,null,"JAVNI SKLAD MALEGA GOSPODARSTVA GORIŠKE",5628849000,"JAVNI SKLAD MALEGA GOSPODARSTVA GORIŠKE",null,null,null,null,null,null,null,null,"P4D-C19","Javni razpis za spodbude za digitalno transformacijo MSP (P4D-C19)","110/2020","2020-08-14",null,null,null,null,null,null,null,"Poljčane"," /",null,"148","Benedikt","21","LENART",null,null,null,null,null,null,null,"200","Poljčane",1,"SI03","Vzhodna Slovenija","02","SI032","Podravska",null,null,null,null,null,null,"08.930","B08.930 Pridobivanje soli","B08.93 Pridobivanje soli","B08.9 Pridobivanje drugih rudnin in kamnin","B08 Pridobivanje rudnin in kamnin","B RUDARSTVO",null,null,null,null,null,null,5253,"Čepovan"]
[null,null,null,"Varstvo okolja: Pomoč za naložbe v projekte energetske učinkovitosti v stavbah","Varstvo okolja",2101,"Varstvo okolja: Pomoč za naložbe v projekte energetske učinkovitosti v stavbah",null,null,null,"JAVNI ŠTIPENDIJSKI, RAZVOJNI, INVALIDSKI IN PREŽIVNINSKI SKLAD RS",1198459000,"JAVNI ŠTIPENDIJSKI, RAZVOJNI, INVALIDSKI IN PREŽIVNINSKI SKLAD RS",null,null,null,null,null,null,null,null,"P7C 2020 COVID","Javni razpis za kredite za blažitev posledic epidemije SARS-CoV-2 na gospodarstvo (P7C 2020 COVID)","107/2020","2020-07-31",null,null,null,null,null,null,null,"Ptuj","Ptujsko-ormoška regija",null,"153","Cerkvenjak","21","LENART",null,null,null,null,null,null,null,"096","Ptuj",1,"SI03","Vzhodna Slovenija","02","SI032","Podravska",null,null,null,null,null,null,"08.990","B08.990 Drugo pridobivanje rudnin in kamnin","B08.99 Drugo pridobivanje rudnin in kamnin","B08.9 Pridobivanje drugih rudnin in kamnin","B08 Pridobivanje rudnin in kamnin","B RUDARSTVO",null,null,null,null,null,null,9232,"Črenšovci"]
[null,null,null,"Varstvo okolja: Pomoč za naložbe v soproizvodnjo z visokim izkoristkom","Varstvo okolja",2102,"Varstvo okolja: Pomoč za naložbe v soproizvodnjo z visokim izkoristkom",null,null,null,"JAVNI SKLAD REPUBLIKE SLOVENIJE ZA REGIONALNI RAZVOJ IN RAZVOJ PODEŽELJA",5940117000,"JAVNI SKLAD REPUBLIKE SLOVENIJE ZA REGIONALNI RAZVOJ IN RAZVOJ PODEŽELJA",null,null,null,null,null,null,null,null,"TT2020-COVID19","Javni poziv za sofinanciranje stroškov digitalizacije prodajnih poti ter predstavitvenih in trženjskih gradiv za promocijo na tujih trgih",null,"2020-07-28",null,null,null,null,null,null,null,"Rače - Fram"," /",null,"058","Lenart","21","LENART",null,null,null,null,null,null,null,"098","Rače - Fram",1,"SI03","Vzhodna Slovenija","02","SI032","Podravska",null,null,null,null,null,null,"09.100","B09.100 Storitve za pridobivanje nafte in zemeljskega plina","B09.10 Storitve za pridobivanje nafte in zemeljskega plina","B09.1 Storitve za pridobivanje nafte in zemeljskega plina","B09 Storitve za rudarstvo","B RUDARSTVO",null,null,null,null,null,null,2393,"Črna na Koroškem"]
[null,null,null,"Varstvo okolja: Pomoč za naložbe za spodbujanje energije iz obnovljivih virov","Varstvo okolja",2103,"Varstvo okolja: Pomoč za naložbe za spodbujanje energije iz obnovljivih virov",null,null,null,"JAVNI STANOVANJSKI SKLAD MESTNE OBČINE LJUBLJANA",1719572000,"JAVNI STANOVANJSKI SKLAD MESTNE OBČINE LJUBLJANA",null,null,null,null,null,null,null,null,"COVID19 - zaščitna oprema","Javni poziv COVID19 za nakup zaščitne opreme","93/2020","2020-07-03",null,null,null,null,null,null,null,"Ruše"," /",null,"181","Sveta Ana","21","LENART",null,null,null,null,null,null,null,"108","Ruše",1,"SI03","Vzhodna Slovenija","02","SI032","Podravska",null,null,null,null,null,null,"09.900","B09.900 Storitve za drugo rudarjenje","B09.90 Storitve za drugo rudarjenje","B09.9 Storitve za drugo rudarjenje","B09 Storitve za rudarstvo","B RUDARSTVO",null,null,null,null,null,null,6275,"Črni Kal"]
[null,null,null,"Varstvo okolja: Pomoč za tekoče poslovanje za spodbujanje energije iz obn.virov v obratih manjšega obsega","Varstvo okolja",2104,"Varstvo okolja: Pomoč za tekoče poslovanje za spodbujanje energije iz obn.virov v obratih manjšega obsega",null,null,null,"JP Komunala Radgona, d.o.o.",2117975000,"JP Komunala Radgona, d.o.o.",null,null,null,null,null,null,null,null,"UPI 2020","Javni poziv osnovnim in srednjim šolam za dodelitev spodbud namenjenih izvajanju aktivnosti za spodbujanje ustvarjalnosti, podjetnosti in inovativnosti med mladimi v letih 2020/2021 (JP MLADI 2020/2021)","69/2020","2020-05-15",null,null,null,null,null,null,null,"Selnica ob Dravi"," /",null,"204","Sveta Trojica v Slov. goricah","21","LENART",null,null,null,null,null,null,null,"178","Selnica ob Dravi",1,"SI03","Vzhodna Slovenija","02","SI032","Podravska",null,null,null,null,null,null,"10.110","C10.110 Proizvodnja mesa, razen perutninskega","C10.11 Proizvodnja mesa, razen perutninskega","C10.1 Proizvodnja mesa in mesnih izdelkov","C10 Proizvodnja živil","C PREDELOVALNE DEJAVNOSTI",null,null,null,null,null,null,5274,"Črni Vrh nad Idrijo"]
[null,null,null,"Varstvo okolja: Pomoč za naložbe v energetsko učinkovito daljinsko ogrevanje in hlajenje","Varstvo okolja",2105,"Varstvo okolja: Pomoč za naložbe v energetsko učinkovito daljinsko ogrevanje in hlajenje",null,null,null,"JP Prlekija, d.o.o.",3637905000,"JP Prlekija, d.o.o.",null,null,null,null,null,null,null,null,"P1+ 2020","Javni razpis za garancije Sklada za bančne kredite s subvencijo obrestne mere (P1 plus 2020)","31/2020","2020-03-20",null,null,null,null,null,null,null,"Slovenska Bistrica"," /",null,"210","Sveti Jurij v Slov. goricah","21","LENART",null,null,null,null,null,null,null,"113","Slovenska Bistrica",1,"SI03","Vzhodna Slovenija","02","SI032","Podravska",null,null,null,null,null,null,"10.120","C10.120 Proizvodnja perutninskega mesa","C10.12 Proizvodnja perutninskega mesa","C10.1 Proizvodnja mesa in mesnih izdelkov","C10 Proizvodnja živil","C PREDELOVALNE DEJAVNOSTI",null,null,null,null,null,null,5262,"Črniče"]
[null,null,null,"Varstvo okolja: Pomoč za naložbe v recikliranje in ponovno uporabo odpadkov","Varstvo okolja",2106,"Varstvo okolja: Pomoč za naložbe v recikliranje in ponovno uporabo odpadkov",null,null,null,"JP VO-KA Ljubljana, d.o.o.",5046688000,"JP VO-KA Ljubljana, d.o.o.",null,null,null,null,null,null,null,null,"SPK 2020","Javni razpis za sofinanciranje izvajanja dejavnosti slovenskih poslovnih klubov v tujini v letu 2020","21/2020","2020-03-11",null,null,null,null,null,null,null,"Središče ob Dravi","Ptujsko-ormoška regija",null,"015","Črenšovci","22","LENDAVA",null,null,null,null,null,null,null,"202","Središče ob Dravi",1,"SI03","Vzhodna Slovenija","02","SI032","Podravska",null,null,null,null,null,null,"10.130","C10.130 Proizvodnja mesnih izdelkov","C10.13 Proizvodnja mesnih izdelkov","C10.1 Proizvodnja mesa in mesnih izdelkov","C10 Proizvodnja živil","C PREDELOVALNE DEJAVNOSTI",null,null,null,null,null,null,8340,"Črnomelj"]
[null,null,null,"Varstvo okolja, Pomoč za naložbe v energetsko infrastrukturo","Varstvo okolja",2107,"Varstvo okolja, Pomoč za naložbe v energetsko infrastrukturo",null,null,null,"JP KOMUNALA ČRNOMELJ d.o.o.",5062403000,"JP KOMUNALA ČRNOMELJ d.o.o.",null,null,null,null,null,null,null,null,"Ženske 2020","Natečaj za podelitev finančnih spodbud za najboljši poslovni model in njegovo predstavitev podjetnic začetnic 2020","12/2020","2020-02-28",null,null,null,null,null,null,null,"Starše"," /",null,"156","Dobrovnik/Dobronak","22","LENDAVA",null,null,null,null,null,null,null,"115","Starše",1,"SI03","Vzhodna Slovenija","02","SI032","Podravska",null,null,null,null,null,null,"10.200","C10.200 Predelava in konzerviranje rib, rakov in mehkužcev","C10.20 Predelava in konzerviranje rib, rakov in mehkužcev","C10.2 Predelava in konzerviranje rib, rakov in mehkužcev","C10 Proizvodnja živil","C PREDELOVALNE DEJAVNOSTI",null,null,null,null,null,null,6271,"Dekani"]
[null,null,null,"Varstvo okolja: Pomoč za okoljske študije","Varstvo okolja",2108,"Varstvo okolja: Pomoč za okoljske študije",null,null,null,"JKP Žalec, d.o.o.",5068134000,"JKP Žalec, d.o.o.",null,null,null,null,null,null,null,null,"EUROSTARS 2020","Javni razpis za podporo malim in srednje velikim podjetjem, ki izvajajo raziskave in razvoj - program Eurostars, v okviru iniciative EUREKA (EUROSTARS 2020)","12/2020","2020-02-28",null,null,null,null,null,null,null,"Sveta Ana"," /",null,"047","Kobilje","22","LENDAVA",null,null,null,null,null,null,null,"181","Sveta Ana",1,"SI03","Vzhodna Slovenija","02","SI032","Podravska",null,null,null,null,null,null,"10.310","C10.310 Predelava in konzerviranje krompirja","C10.31 Predelava in konzerviranje krompirja","C10.3 Predelava in konzerviranje sadja in zelenjave","C10 Proizvodnja živil","C PREDELOVALNE DEJAVNOSTI",null,null,null,null,null,null,5210,"Deskle"]
[null,null,null,"Varstvo okolja: Pomoč za naložbe za čimprejšnjo prilagoditev na prihodnje standarde Unije","Varstvo okolja",2120,"Varstvo okolja: Pomoč za naložbe za čimprejšnjo prilagoditev na prihodnje standarde Unije",null,null,null,"MARIBORSKI VODOVOD, d.d.",5067880000,"MARIBORSKI VODOVOD, d.d.",null,null,null,null,null,null,null,null,"P2 2020","Javni razpis za spodbude za zagon inovativnih podjetij v letu 2020 (P2 2020)","10/2020","2020-02-21",null,null,null,null,null,null,null,"Sveta Trojica v Slov. goricah"," /",null,"059","Lendava/Lendva","22","LENDAVA",null,null,null,null,null,null,null,"204","Sveta Trojica v Slov. goricah",1,"SI03","Vzhodna Slovenija","02","SI032","Podravska",null,null,null,null,null,null,"10.320","C10.320 Proizvodnja sadnih in zelenjavnih sokov","C10.32 Proizvodnja sadnih in zelenjavnih sokov","C10.3 Predelava in konzerviranje sadja in zelenjave","C10 Proizvodnja živil","C PREDELOVALNE DEJAVNOSTI",null,null,null,null,null,null,2253,"Destrnik"]
[null,null,null,"Varstvo okolja: Okoljske študije","Varstvo okolja",2122,"Varstvo okolja: Okoljske študije",null,null,null,"KOMUNALA SLOVENSKA BISTRICA, d.o.o.",5073162000,"KOMUNALA SLOVENSKA BISTRICA, d.o.o.",null,null,null,null,null,null,null,null,"PRSPO 2020","Javni razpis za podelitev Priznanja Republike Slovenije za poslovno odličnost za leto 2020","7/2020","2020-01-31",null,null,null,null,null,null,null,"Sveti Andraž v Slov. goricah","Ptujsko-ormoška regija",null,"086","Odranci","22","LENDAVA",null,null,null,null,null,null,null,"182","Sveti Andraž v Slov. goricah",1,"SI03","Vzhodna Slovenija","02","SI032","Podravska",null,null,null,null,null,null,"10.390","C10.390 Druga predelava in konzerviranje sadja in zelenjave","C10.39 Druga predelava in konzerviranje sadja in zelenjave","C10.3 Predelava in konzerviranje sadja in zelenjave","C10 Proizvodnja živil","C PREDELOVALNE DEJAVNOSTI",null,null,null,null,null,null,6215,"Divača"]
[null,null,null,"Varstvo okolja: Sofinanciranje svetovalnih storitev na področju UVE in rabe OVE","Varstvo okolja",2124,"Varstvo okolja: Sofinanciranje svetovalnih storitev na področju UVE in rabe OVE",null,null,null,"KOMUNALA PTUJ, d.d.",5321387000,"KOMUNALA PTUJ, d.d.",null,null,null,null,null,null,null,null,"Vavčer - prototipiranje","Javni poziv VAV-14, Vavčer za prototipiranje","7/2020","2020-01-31",null,null,null,null,null,null,null,"Sveti Jurij v Slov. goricah"," /",null,"132","Turnišče","22","LENDAVA",null,null,null,null,null,null,null,"210","Sveti Jurij v Slov. goricah",1,"SI03","Vzhodna Slovenija","02","SI032","Podravska",null,null,null,null,null,null,"10.410","C10.410 Proizvodnja olja in maščob","C10.41 Proizvodnja olja in maščob","C10.4 Proizvodnja rastlinskih in živalskih olj in maščob","C10 Proizvodnja živil","C PREDELOVALNE DEJAVNOSTI",null,null,null,null,null,null,1233,"Dob"]
[null,null,null,"Varstvo okolja: Investicija v predčasno prilagoditev novim okoljevarstvenim standardom ES","Varstvo okolja",2125,"Varstvo okolja: Investicija v predčasno prilagoditev novim okoljevarstvenim standardom ES",null,null,null,"SIM Radenci, d.o.o.",5378214000,"SIM Radenci, d.o.o.",null,null,null,null,null,null,null,null,"ITM 2020","Javno povabilo k udeležbi v mednarodnem izobraževalnem programu \"Vodenje izvoznega poslovanja\" - International Trade Management (ITM) 2020",null,"2020-01-29",null,null,null,null,null,null,null,"Sveti Tomaž","Ptujsko-ormoška regija",null,"187","Velika Polana","22","LENDAVA",null,null,null,null,null,null,null,"205","Sveti Tomaž",1,"SI03","Vzhodna Slovenija","02","SI032","Podravska",null,null,null,null,null,null,"10.420","C10.420 Proizvodnja margarine in podobnih jedilnih maščob","C10.42 Proizvodnja margarine in podobnih jedilnih maščob","C10.4 Proizvodnja rastlinskih in živalskih olj in maščob","C10 Proizvodnja živil","C PREDELOVALNE DEJAVNOSTI",null,null,null,null,null,null,3224,"Dobje pri Planini"]
[null,null,null,"Varstvo okolja: Pomoč za naložbe, ki podjetjem omogočajo preseganje standardov Unije za varstvo okolje oz. povišanje ravni varstva okolja v odsotnosti standardov Unije","Varstvo okolja",2126,"Varstvo okolja: Pomoč za naložbe, ki podjetjem omogočajo preseganje standardov Unije za varstvo okolje oz. povišanje ravni varstva okolja v odsotnosti standardov Unije",null,null,null,"KOMUNALNO PODJETJE VELENJE, d.o.o.",5222109000,"KOMUNALNO PODJETJE VELENJE, d.o.o.",null,null,null,null,null,null,null,null,"Vajeništvo 2020/2021","Srednje poklicno izobraževanje v vajeniški obliki v letu 2020/2021",null,"2020-01-20",null,null,null,null,null,null,null,"Šentilj"," /",null,"060","Litija","23","LITIJA",null,null,null,null,null,null,null,"118","Šentilj",1,"SI03","Vzhodna Slovenija","02","SI032","Podravska",null,null,null,null,null,null,"10.510","C10.510 Mlekarstvo in sirarstvo","C10.51 Mlekarstvo in sirarstvo","C10.5 Predelava mleka","C10 Proizvodnja živil","C PREDELOVALNE DEJAVNOSTI",null,null,null,null,null,null,8257,"Dobova"]
[null,null,null,"Varstvo okolja: Investicije za ravnanje z odpadki","Varstvo okolja",2127,"Varstvo okolja: Investicije za ravnanje z odpadki",null,null,null,"KOMUNALA SLOVENJ GRADEC, d.o.o.",5072107000,"KOMUNALA SLOVENJ GRADEC, d.o.o.",null,null,null,null,null,null,null,null,"PSI 2020/2021","Poklicno in strokovno izobraževanje v letu 2020/2021",null,"2020-01-20",null,null,null,null,null,null,null,"Trnovska vas","Ptujsko-ormoška regija",null,"194","Šmartno pri Litiji","23","LITIJA",null,null,null,null,null,null,null,"185","Trnovska vas",1,"SI03","Vzhodna Slovenija","02","SI032","Podravska",null,null,null,null,null,null,"10.520","C10.520 Proizvodnja sladoleda","C10.52 Proizvodnja sladoleda","C10.5 Predelava mleka","C10 Proizvodnja živil","C PREDELOVALNE DEJAVNOSTI",null,null,null,null,null,null,1423,"Dobovec"]
[null,null,null,"Varstvo okolja: Investicije v rabo obnovljivih virov energije","Varstvo okolja",2128,{"$f":"D67","v":"Varstvo okolja: Investicije v rabo obnovljivih virov energije"},null,null,null,"VODOVOD - KANALIZACIJA, d.o.o.",5914540000,{"$f":"K67","v":"VODOVOD - KANALIZACIJA, d.o.o."},null,null,null,null,null,null,null,null,"Vavčer - prenos lastništva","Javni poziv VAV-13, Vavčer za prenos lastništva","69/2019","2019-11-22",null,null,null,null,null,null,null,"Videm","Ptujsko-ormoška regija",null,"008","Brezovica","24","LJUBLJANA",null,null,null,null,null,null,null,"135","Videm",1,"SI03","Vzhodna Slovenija","02","SI032","Podravska",null,null,null,null,null,null,"10.610","C10.610 Mlinarstvo","C10.61 Mlinarstvo","C10.6 Mlinarstvo, proizvodnja škroba in škrobnih izdelkov","C10 Proizvodnja živil","C PREDELOVALNE DEJAVNOSTI",null,null,null,null,null,null,5263,"Dobravlje"]
[null,null,null,"Varstvo okolja: Pomoč za naložbe v sanacijo onesnaženih območij","Varstvo okolja",2129,"Varstvo okolja: Pomoč za naložbe v sanacijo onesnaženih območij",null,null,null,"RIŽANSKI VODOVOD KOPER d.o.o. - s.r.l.",5067782000,"RIŽANSKI VODOVOD KOPER d.o.o. - s.r.l.",null,null,null,null,null,null,null,null,"P4D 2019 -2023","Javni razpis P4D 2019 -2023 - Spodbude za digitalno transformacijo MSP","62/2019","2019-10-18",null,null,null,null,null,null,null,"Zavrč","Ptujsko-ormoška regija",null,"021","Dobrova - Polhov Gradec","24","LJUBLJANA",null,null,null,null,null,null,null,"143","Zavrč",1,"SI03","Vzhodna Slovenija","02","SI032","Podravska",null,null,null,null,null,null,"10.620","C10.620 Proizvodnja škroba in škrobnih izdelkov","C10.62 Proizvodnja škroba in škrobnih izdelkov","C10.6 Mlinarstvo, proizvodnja škroba in škrobnih izdelkov","C10 Proizvodnja živil","C PREDELOVALNE DEJAVNOSTI",null,null,null,null,null,null,3204,"Dobrna"]
[null,null,null,"Varstvo okolja: Preselitev podjetij","Varstvo okolja",2130,"Varstvo okolja: Preselitev podjetij",null,null,null,"MARIBORSKA RAZVOJNA AGENCIJA",5778336000,"MARIBORSKA RAZVOJNA AGENCIJA",null,null,null,null,null,null,null,null,"Vavčer - poslovna odličnost v MSP","Javni poziv VAV-12, Vavčer za uvajanje poslovne odličnosti po modelu EFQM v mala in srednje velika podjetja","61/2019","2019-10-11",null,null,null,null,null,null,null,"Žetale","Ptujsko-ormoška regija",null,"022","Dol pri Ljubljani","24","LJUBLJANA",null,null,null,null,null,null,null,"191","Žetale",1,"SI03","Vzhodna Slovenija","02","SI032","Podravska",null,null,null,null,null,null,"10.710","C10.710 Proizvodnja kruha, svežega peciva in slaščic","C10.71 Proizvodnja kruha, svežega peciva in slaščic","C10.7 Proizvodnja pekarskih izdelkov in testenin","C10 Proizvodnja živil","C PREDELOVALNE DEJAVNOSTI",null,null,null,null,null,null,8211,"Dobrnič"]
[null,null,null,"Varstvo okolja: Investicija v varčevanje z energijo","Varstvo okolja",2181,"Varstvo okolja: Investicija v varčevanje z energijo",null,null,null,"RRA Zeleni kras, d.o.o.",1550225000,"RRA Zeleni kras, d.o.o.",null,null,null,null,null,null,null,null,"Poslovna odličnost v velikih podjetjih 2019-2023","Javni poziv za uvajanje poslovne odličnosti po modelu EFQM v velika podjetja","61/2019","2019-10-11",null,null,null,null,null,null,null,"Črna na Koroškem"," /",null,"162","Horjul","24","LJUBLJANA",null,null,null,null,null,null,null,"016","Črna na Koroškem",1,"SI03","Vzhodna Slovenija","03","SI033","Koroška",null,null,null,null,null,null,"10.720","C10.720 Proizvodnja prepečenca in piškotov, proizvodnja trajnega peciva in slaščic","C10.72 Proizvodnja prepečenca in piškotov, proizvodnja trajnega peciva in slaščic","C10.7 Proizvodnja pekarskih izdelkov in testenin","C10 Proizvodnja živil","C PREDELOVALNE DEJAVNOSTI",null,null,null,null,null,null,1356,"Dobrova"]
[null,null,null,"Varstvo okolja: Znižanje okoljskih davkov","Varstvo okolja",3120,"Varstvo okolja: Znižanje okoljskih davkov",null,null,null,"PARK ŠKOCJANSKE JAME, Javni zavod",1121715000,"PARK ŠKOCJANSKE JAME, Javni zavod",null,null,null,null,null,null,null,null,"Procesne izboljšave 2019 - 2020","Javni razpis za spodbujanje procesnih izboljšav podjetij v letih 2019 in 2020 (Procesne izboljšave 2019 - 2020) »PRIZ 19-20«","60/2017","2019-09-06",null,null,null,null,null,null,null,"Dravograd"," /",null,"037","Ig","24","LJUBLJANA",null,null,null,null,null,null,null,"025","Dravograd",1,"SI03","Vzhodna Slovenija","03","SI033","Koroška",null,null,null,null,null,null,"10.730","C10.730 Proizvodnja testenin","C10.73 Proizvodnja testenin","C10.7 Proizvodnja pekarskih izdelkov in testenin","C10 Proizvodnja živil","C PREDELOVALNE DEJAVNOSTI",null,null,null,null,null,null,9223,"Dobrovnik/Dobronak"]
[null,null,null,"Varstvo okolja: Trgovanje z dovoljenji","Varstvo okolja",3121,"Varstvo okolja: Trgovanje z dovoljenji",null,null,null,"RAZVOJNA AGENCIJA SAVINJSKE REGIJE d.o.o.",3755550000,"RAZVOJNA AGENCIJA SAVINJSKE REGIJE d.o.o.",null,null,null,null,null,null,null,null,"EUREKA 2019","Javni razpis za dodeljevanje spodbud v okviru iniciative EUREKA 2019","50/2019","2019-08-09",null,null,null,null,null,null,null,"Mežica"," /",null,"061","Ljubljana","24","LJUBLJANA",null,null,null,null,null,null,null,"074","Mežica",1,"SI03","Vzhodna Slovenija","03","SI033","Koroška",null,null,null,null,null,null,"10.810","C10.810 Proizvodnja sladkorja","C10.81 Proizvodnja sladkorja","C10.8 Proizvodnja drugih prehrambenih izdelkov","C10 Proizvodnja živil","C PREDELOVALNE DEJAVNOSTI",null,null,null,null,null,null,5212,"Dobrovo v Brdih"]
[null,null,null,"Varstvo okolja: Pomoč za nakup transportnih vozil, ki presegajo standarde skupnosti za varstvo okolja","Varstvo okolja",3122,"Varstvo okolja: Pomoč za nakup transportnih vozil, ki presegajo standarde skupnosti za varstvo okolja",null,null,null,"RAZVOJNI CENTER NOVO MESTO, Svetovanje in razvoj, d.o.o.",1227319000,"RAZVOJNI CENTER NOVO MESTO, Svetovanje in razvoj, d.o.o.",null,null,null,null,null,null,null,null,"SIO 2020-2022","Javni razpis za izvedbo podpornih storitev subjektov inovativnega okolja v Republiki Sloveniji 2020-2022 (SIO 2020-2022)","48/2019","2019-08-02",null,null,null,null,null,null,null,"Mislinja"," /",null,"071","Medvode","24","LJUBLJANA",null,null,null,null,null,null,null,"076","Mislinja",1,"SI03","Vzhodna Slovenija","03","SI033","Koroška",null,null,null,null,null,null,"10.820","C10.820 Proizvodnja kakava, čokolade in sladkornih izdelkov","C10.82 Proizvodnja kakava, čokolade in sladkornih izdelkov","C10.8 Proizvodnja drugih prehrambenih izdelkov","C10 Proizvodnja živil","C PREDELOVALNE DEJAVNOSTI",null,null,null,null,null,null,1431,"Dol pri Hrastniku"]
[null,null,null,"Varstvo okolja: Pomoč za tekoče poslovanje (varčevanje z energijo)","Varstvo okolja",3123,"Varstvo okolja: Pomoč za tekoče poslovanje (varčevanje z energijo)",null,null,null,"REGIONALNA RAZVOJNA AGENCIJA MURA d.o.o.",5956935000,"REGIONALNA RAZVOJNA AGENCIJA MURA d.o.o.",null,null,null,null,null,null,null,null,"Poplave 6., 7. in 10.2018","Program odprave posledic škode v gospodarstvu v Sloveniji po poplavah v letu 2018 (junij, julij, oktober)","Sklep vlade 84400-4/2019/3","2019-07-18",null,null,null,null,null,null,null,"Muta"," /",null,"123","Škofljica","24","LJUBLJANA",null,null,null,null,null,null,null,"081","Muta",1,"SI03","Vzhodna Slovenija","03","SI033","Koroška",null,null,null,null,null,null,"10.830","C10.830 Predelava čaja in kave","C10.83 Predelava čaja in kave","C10.8 Proizvodnja drugih prehrambenih izdelkov","C10 Proizvodnja živil","C PREDELOVALNE DEJAVNOSTI",null,null,null,null,null,null,1262,"Dol pri Ljubljani"]
[null,null,null,"Varstvo okolja: Pomoč za tekoče poslovanje (soproizvodnja)","Varstvo okolja",3124,"Varstvo okolja: Pomoč za tekoče poslovanje (soproizvodnja)",null,null,null,"REGIONALNA RAZVOJNA AGENCIJA POSAVJE",1338811000,"REGIONALNA RAZVOJNA AGENCIJA POSAVJE",null,null,null,null,null,null,null,null,"Partnerstva na tujih trgih 2020-2022","Javni razpis »Spodbujanje partnerstev za učinkovitejši nastop na tujih trgih 2020 - 2022«","44/2019","2019-07-05",null,null,null,null,null,null,null,"Podvelka"," /",null,"134","Velike Lašče","24","LJUBLJANA",null,null,null,null,null,null,null,"093","Podvelka",1,"SI03","Vzhodna Slovenija","03","SI033","Koroška",null,null,null,null,null,null,"10.840","C10.840 Proizvodnja začimb, dišav in drugih dodatkov","C10.84 Proizvodnja začimb, dišav in drugih dodatkov","C10.8 Proizvodnja drugih prehrambenih izdelkov","C10 Proizvodnja živil","C PREDELOVALNE DEJAVNOSTI",null,null,null,null,null,null,1273,"Dole pri Litiji"]
[null,null,null,"Varstvo okolja: Pomoč za tekoče poslovanje (obnovljivi viri energije)","Varstvo okolja",3125,"Varstvo okolja: Pomoč za tekoče poslovanje (obnovljivi viri energije)",null,null,null,"Regionalna razvojna agencija Zasavje",7032927000,"Regionalna razvojna agencija Zasavje",null,null,null,null,null,null,null,null,"UPI 2019","Javni poziv šolam za dodelitev podpore namenjene aktivnostim za spodbujanje ustvarjalnosti, podjetnosti in inovativnosti","39/2019","2019-06-21",null,null,null,null,null,null,null,"Prevalje"," /",null,"138","Vodice","24","LJUBLJANA",null,null,null,null,null,null,null,"175","Prevalje",1,"SI03","Vzhodna Slovenija","03","SI033","Koroška",null,null,null,null,null,null,"10.850","C10.850 Proizvodnja pripravljenih jedi in obrokov","C10.85 Proizvodnja pripravljenih jedi in obrokov","C10.8 Proizvodnja drugih prehrambenih izdelkov","C10 Proizvodnja živil","C PREDELOVALNE DEJAVNOSTI",null,null,null,null,null,null,1331,"Dolenja vas"]
[null,null,null,"Energetika: Pomoči v energetiki","Energetika",7851,"Energetika: Pomoči v energetiki",null,null,null,"REGIONALNI CENTER ZA RAZVOJ d.o.o.",5980968000,"REGIONALNI CENTER ZA RAZVOJ d.o.o.",null,null,null,null,null,null,null,null,"TST - GVV 2019-2022","Javni razpis »Spodbujanje trajnostne poslovne strateške transformacije in razvoj novih poslovnih modelov v slovenskih podjetjih za lažje vključevanje v globalne verige vrednosti«","39/2019","2019-06-21",null,null,null,null,null,null,null,"Radlje ob Dravi"," /",null,"166","Križevci","29","LJUTOMER",null,null,null,null,null,null,null,"101","Radlje ob Dravi",1,"SI03","Vzhodna Slovenija","03","SI033","Koroška",null,null,null,null,null,null,"10.860","C10.860 Proizvodnja homogeniziranih in dietetičnih živil","C10.86 Proizvodnja homogeniziranih in dietetičnih živil","C10.8 Proizvodnja drugih prehrambenih izdelkov","C10 Proizvodnja živil","C PREDELOVALNE DEJAVNOSTI",null,null,null,null,null,null,8350,"Dolenjske Toplice"]
[null,null,null,"Zaposlovanje: De minimis Odpiranje novih delovnih mest v majhnih in srednje velikih podjetjih","Zaposlovanje",2151,"Zaposlovanje: De minimis Odpiranje novih delovnih mest v majhnih in srednje velikih podjetjih",null,null,null,"REGIONALNI RAZVOJNI CENTER KOPER CENTRO REGIONALE DI SVILUPPO CAPODISTRIA",5868696000,"REGIONALNI RAZVOJNI CENTER KOPER CENTRO REGIONALE DI SVILUPPO CAPODISTRIA",null,null,null,null,null,null,null,null,"Ženske 2019","Natečaj za podelitev finančnih spodbud za najboljši poslovni model in njegovo predstavitev podjetnic začetnic 2019","36/2019","2019-06-07",null,null,null,null,null,null,null,"Ravne na Koroškem"," /",null,"063","Ljutomer","29","LJUTOMER",null,null,null,null,null,null,null,"103","Ravne na Koroškem",1,"SI03","Vzhodna Slovenija","03","SI033","Koroška",null,null,null,null,null,null,"10.890","C10.890 Proizvodnja drugih prehrambenih izdelkov, drugje nerazvrščenih","C10.89 Proizvodnja drugih prehrambenih izdelkov, drugje nerazvrščenih","C10.8 Proizvodnja drugih prehrambenih izdelkov","C10 Proizvodnja živil","C PREDELOVALNE DEJAVNOSTI",null,null,null,null,null,null,1230,"Domžale"]
[null,null,null,"Zaposlovanje: De minimis Pomoči za ohranjanje delovnih mest","Zaposlovanje",2152,"Zaposlovanje: De minimis Pomoči za ohranjanje delovnih mest",null,null,null,"RRA Regionalna razvojna agencija Celje, d.o.o.",5949823000,"RRA Regionalna razvojna agencija Celje, d.o.o.",null,null,null,null,null,null,null,null,"Showroomi 2019-2023","Javni razpis »Krepitev trženja blagovnih znamk na tujih trgih prek showroomov v tujini«","35/2019","2019-05-31",null,null,null,null,null,null,null,"Ribnica na Pohorju"," /",null,"176","Razkrižje","29","LJUTOMER",null,null,null,null,null,null,null,"177","Ribnica na Pohorju",1,"SI03","Vzhodna Slovenija","03","SI033","Koroška",null,null,null,null,null,null,"10.910","C10.910 Proizvodnja krmil","C10.91 Proizvodnja krmil","C10.9 Proizvodnja krmil in hrane za hišne živali","C10 Proizvodnja živil","C PREDELOVALNE DEJAVNOSTI",null,null,null,null,null,null,2252,"Dornava"]
[null,null,null,"Zaposlovanje: Pomoč za zaposlovanje prikrajšanih delavcev v obliki subvencij plač","Zaposlovanje",2153,"Zaposlovanje: Pomoč za zaposlovanje prikrajšanih delavcev v obliki subvencij plač",null,null,null,"ZAVOD ZA REGIONALNI RAZVOJ MADŽARSKE NARODNOSTI LENDAVA",7198337000,"ZAVOD ZA REGIONALNI RAZVOJ MADŽARSKE NARODNOSTI LENDAVA",null,null,null,null,null,null,null,null,"Vavčer - statusno preoblikovanje družb","Javni poziv VAV-11, Vavčer za statusno preoblikovanje družb","32/2019","2019-05-17",null,null,null,null,null,null,null,"Slovenj Gradec"," /",null,"188","Veržej","29","LJUTOMER",null,null,null,null,null,null,null,"112","Slovenj Gradec",1,"SI03","Vzhodna Slovenija","03","SI033","Koroška",null,null,null,null,null,null,"10.920","C10.920 Proizvodnja hrane za hišne živali","C10.92 Proizvodnja hrane za hišne živali","C10.9 Proizvodnja krmil in hrane za hišne živali","C10 Proizvodnja živil","C PREDELOVALNE DEJAVNOSTI",null,null,null,null,null,null,5294,"Dornberk"]
[null,null,null,"Zaposlovanje: De minimis Odpiranje novih delovnih mest v podjetjih na območjih, ki izpolnjujejo pogoje za regionalno pomoč","Zaposlovanje",2154,"Zaposlovanje: De minimis Odpiranje novih delovnih mest v podjetjih na območjih, ki izpolnjujejo pogoje za regionalno pomoč",null,null,null,"SKLAD REPUBLIKE SLOVENIJE ZA VZPODBUJANJE ZAPOSLOVANJA INVALIDOV, javni finančni sklad",2009544000,"SKLAD REPUBLIKE SLOVENIJE ZA VZPODBUJANJE ZAPOSLOVANJA INVALIDOV, javni finančni sklad",null,null,null,null,null,null,null,null,"Vavčer - kibernetska varnost","Javni poziv VAV-10, Vavčer za kibernetsko varnost ","24/2019","2019-04-12",null,null,null,null,null,null,null,"Vuzenica"," /",null,"064","Logatec","30","LOGATEC",null,null,null,null,null,null,null,"141","Vuzenica",1,"SI03","Vzhodna Slovenija","03","SI033","Koroška",null,null,null,null,null,null,"11.010","C11.010 Proizvodnja žganih pijač","C11.01 Proizvodnja žganih pijač","C11.0 Proizvodnja pijač","C11 Proizvodnja pijač","C PREDELOVALNE DEJAVNOSTI",null,null,null,null,null,null,1319,"Draga"]
[null,null,null,"Zaposlovanje: Pomoč za zaposlovanje invalidnih delavcev v obliki subvencij plač","Zaposlovanje",2156,"Zaposlovanje: Pomoč za zaposlovanje invalidnih delavcev v obliki subvencij plač",null,null,null,"STANOVANJSKI SKLAD REPUBLIKE SLOVENIJE, javni sklad",5539153000,"STANOVANJSKI SKLAD REPUBLIKE SLOVENIJE, javni sklad",null,null,null,null,null,null,null,null,"P7-2 2019","Javni razpis za mikrokredite (P7-2 2019)","22/2019","2019-04-05",null,null,null,null,null,null,null,"Bistrica ob Sotli"," /",null,"073","Metlika","34","METLIKA",null,null,null,null,null,null,null,"151","Braslovče",1,"SI03","Vzhodna Slovenija","04","SI034","Savinjska",null,null,null,null,null,null,"11.020","C11.020 Proizvodnja vina iz grozdja","C11.02 Proizvodnja vina iz grozdja","C11.0 Proizvodnja pijač","C11 Proizvodnja pijač","C PREDELOVALNE DEJAVNOSTI",null,null,null,null,null,null,8343,"Dragatuš"]
[null,null,null,"Zaposlovanje: Pomoč za nadomestilo dodatnih stroškov zaradi zaposlovanja invalidnih delavcev","Zaposlovanje",2157,"Zaposlovanje: Pomoč za nadomestilo dodatnih stroškov zaradi zaposlovanja invalidnih delavcev",null,null,null,"ZAVOD REPUBLIKE SLOVENIJE ZA ZAPOSLOVANJE",5300410000,"ZAVOD REPUBLIKE SLOVENIJE ZA ZAPOSLOVANJE",null,null,null,null,null,null,null,null,"Vavčer - digitalne strategije","Javni poziv VAV-9, Vavčer za pripravo digitalne strategije ","22/2019","2019-04-05",null,null,null,null,null,null,null,"Braslovče"," /",null,"030","Gornji Grad","35","MOZIRJE",null,null,null,null,null,null,null,"011","Celje",1,"SI03","Vzhodna Slovenija","04","SI034","Savinjska",null,null,null,null,null,null,"11.030","C11.030 Proizvodnja sadnih vin in podobnih fermentiranih pijač","C11.03 Proizvodnja sadnih vin in podobnih fermentiranih pijač","C11.0 Proizvodnja pijač","C11 Proizvodnja pijač","C PREDELOVALNE DEJAVNOSTI",null,null,null,null,null,null,3222,"Dramlje"]
[null,null,null,"Zaposlovanje: De minimis, ohranitev zaposlitve","Zaposlovanje",2158,"Zaposlovanje: De minimis, ohranitev zaposlitve",null,null,null,"ZAVOD ZA POKOJNINSKO IN INVALIDSKO ZAVAROVANJE SLOVENIJE",5156700000,"ZAVOD ZA POKOJNINSKO IN INVALIDSKO ZAVAROVANJE SLOVENIJE",null,null,null,null,null,null,null,null,"Vavčer - digitalni marketing","Javni poziv VAV-8, Vavčer za digitalni marketing ","22/2019","2019-04-05",null,null,null,null,null,null,null,"Celje"," /",null,"062","Ljubno","35","MOZIRJE",null,null,null,null,null,null,null,"154","Dobje",1,"SI03","Vzhodna Slovenija","04","SI034","Savinjska",null,null,null,null,null,null,"11.040","C11.040 Proizvodnja aromatiziranih vin iz grozdja","C11.04 Proizvodnja aromatiziranih vin iz grozdja","C11.0 Proizvodnja pijač","C11 Proizvodnja pijač","C PREDELOVALNE DEJAVNOSTI",null,null,null,null,null,null,2370,"Dravograd"]
[null,null,null,"Zaposlovanje: Pomoč za nadomestilo stroškov pomoči za prikrajšane delavce","Zaposlovanje",2159,"Zaposlovanje: Pomoč za nadomestilo stroškov pomoči za prikrajšane delavce",null,null,null,"ZAVOD ZA ZDRAVSTVENO ZAVAROVANJE SLOVENIJE",5554195000,"ZAVOD ZA ZDRAVSTVENO ZAVAROVANJE SLOVENIJE",null,null,null,null,null,null,null,null,"Vavčer - digitalne kompetence","Javni poziv VAV-7, Vavčer za dvig digitalnih kompetenc","22/2019","2019-04-05",null,null,null,null,null,null,null,"Dobje"," /",null,"067","Luče","35","MOZIRJE",null,null,null,null,null,null,null,"155","Dobrna",1,"SI03","Vzhodna Slovenija","04","SI034","Savinjska",null,null,null,null,null,null,"11.050","C11.050 Proizvodnja piva","C11.05 Proizvodnja piva","C11.0 Proizvodnja pijač","C11 Proizvodnja pijač","C PREDELOVALNE DEJAVNOSTI",null,null,null,null,null,null,4203,"Duplje"]
[null,null,null,"Usposabljanje: Pomoč za posebno usposabljanje","Usposabljanje",2161,"Usposabljanje: Pomoč za posebno usposabljanje",null,null,null,"ZAVOD REPUBLIKE SLOVENIJE ZA ŠOLSTVO",5911338000,"ZAVOD REPUBLIKE SLOVENIJE ZA ŠOLSTVO",null,null,null,null,null,null,null,null,"P1+ 2019","Javni razpis za garancije Sklada za bančne kredite s subvencijo obrestne mere (P1 plus 2019)","16/2019","2019-03-15",null,null,null,null,null,null,null,"Dobrna"," /",null,"079","Mozirje","35","MOZIRJE",null,null,null,null,null,null,null,"030","Gornji Grad",1,"SI03","Vzhodna Slovenija","04","SI034","Savinjska",null,null,null,null,null,null,"11.060","C11.060 Proizvodnja slada","C11.06 Proizvodnja slada","C11.0 Proizvodnja pijač","C11 Proizvodnja pijač","C PREDELOVALNE DEJAVNOSTI",null,null,null,null,null,null,6221,"Dutovlje"]
[null,null,null,"Usposabljanje: Pomoč za splošno usposabljanje","Usposabljanje",2162,"Usposabljanje: Pomoč za splošno usposabljanje",null,null,null,"KAD, Kapitalska družba invalidskega in pokojninskega zavarovanja d.d.",5986010000,"KAD, Kapitalska družba invalidskega in pokojninskega zavarovanja d.d.",null,null,null,null,null,null,null,null,"P2 2019","Javni razpis za spodbude za zagon inovativnih podjetij v letu 2019 (P2 2019)","14/2019","2019-03-08",null,null,null,null,null,null,null,"Gornji Grad","SAŠA",null,"083","Nazarje","35","MOZIRJE",null,null,null,null,null,null,null,"051","Kozje",1,"SI03","Vzhodna Slovenija","04","SI034","Savinjska",null,null,null,null,null,null,"11.070","C11.070 Proizvodnja brezalkoholnih pijač, mineralnih in drugih stekleničenih vod","C11.07 Proizvodnja brezalkoholnih pijač, mineralnih in drugih stekleničenih vod","C11.0 Proizvodnja pijač","C11 Proizvodnja pijač","C PREDELOVALNE DEJAVNOSTI",null,null,null,null,null,null,8361,"Dvor"]
[null,null,null,"Usposabljanje: Pomoč za usposabljanje","Usposabljanje",2163,"Usposabljanje: Pomoč za usposabljanje",null,null,null,"LOKALNA TURISTIČNA ORGANIZACIJA BOVEC",1563297000,"LOKALNA TURISTIČNA ORGANIZACIJA BOVEC",null,null,null,null,null,null,null,null,"Vavčer - sejmi v tujini","Javni poziv VAV-6, Vavčer za skupinske predstavitve slovenskega gospodarstva na sejmih v tujini","11/2019","2019-02-22",null,null,null,null,null,null,null,"Kozje"," /",null,"180","Solčava","35","MOZIRJE",null,null,null,null,null,null,null,"057","Laško",1,"SI03","Vzhodna Slovenija","04","SI034","Savinjska",null,null,null,null,null,null,"12.000","C12.000 Proizvodnja tobačnih izdelkov","C12.00 Proizvodnja tobačnih izdelkov","C12.0 Proizvodnja tobačnih izdelkov","C12 Proizvodnja tobačnih izdelkov","C PREDELOVALNE DEJAVNOSTI",null,null,null,null,null,null,2343,"Fala"]
[null,null,null,"Kultura: Vzpodbujanje kulture","Kultura",2190,"Kultura: Vzpodbujanje kulture",null,null,null,"MESTNA OBČINA CELJE, CELJE",5880360000,"MESTNA OBČINA CELJE, CELJE",null,null,null,null,null,null,null,null,"Vavčer - gospodarske delegacije v tujini","Javni poziv VAV-5, Vavčer za udeležbo v gospodarskih delegacijah v tujino","11/2019","2019-02-22",null,null,null,null,null,null,null,"Laško"," /",null,"209","Rečica ob Savinji","35","MOZIRJE",null,null,null,null,null,null,null,"062","Ljubno",1,"SI03","Vzhodna Slovenija","04","SI034","Savinjska",null,null,null,null,null,null,"13.100","C13.100 Priprava in predenje tekstilnih vlaken","C13.10 Priprava in predenje tekstilnih vlaken","C13.1 Priprava in predenje tekstilnih vlaken","C13 Proizvodnja tekstilij","C PREDELOVALNE DEJAVNOSTI",null,null,null,null,null,null,9208,"Fokovci"]
[null,null,null,"Kultura: Avdiovizualni sektor pomoč za avdiovizualna dela","Kultura",7841,"Kultura: Avdiovizualni sektor pomoč za avdiovizualna dela",null,null,null,"MESTNA OBČINA KOPER",5874424000,"MESTNA OBČINA KOPER",null,null,null,null,null,null,null,null,"Vavčer - mednarodni forumi","Javni poziv VAV-4, Vavčer za udeležbe na mednarodnih forumih","11/2019","2019-02-22",null,null,null,null,null,null,null,"Ljubno","SAŠA",null,"002","Beltinci","36","MURSKA SOBOTA",null,null,null,null,null,null,null,"067","Luče",1,"SI03","Vzhodna Slovenija","04","SI034","Savinjska",null,null,null,null,null,null,"13.200","C13.200 Tkanje tekstilij","C13.20 Tkanje tekstilij","C13.2 Tkanje tekstilij","C13 Proizvodnja tekstilij","C PREDELOVALNE DEJAVNOSTI",null,null,null,null,null,null,2313,"Fram"]
[null,null,null,"Kultura, Pomoč za kulturo in ohranjanje kulturne dediščine","Kultura",7842,"Kultura, Pomoč za kulturo in ohranjanje kulturne dediščine",null,null,null,"MESTNA OBČINA KOPER KRAJEVNA SKUPNOST SVETI ANTON",5030161000,"MESTNA OBČINA KOPER KRAJEVNA SKUPNOST SVETI ANTON",null,null,null,null,null,null,null,null,"Vavčer - TRTT","Javni poziv VAV-3, Vavčer za tržne raziskave tujih trgov","11/2019","2019-02-22",null,null,null,null,null,null,null,"Luče","SAŠA",null,"152","Cankova","36","MURSKA SOBOTA",null,null,null,null,null,null,null,"079","Mozirje",1,"SI03","Vzhodna Slovenija","04","SI034","Savinjska",null,null,null,null,null,null,"13.300","C13.300 Dodelava tekstilij","C13.30 Dodelava tekstilij","C13.3 Dodelava tekstilij","C13 Proizvodnja tekstilij","C PREDELOVALNE DEJAVNOSTI",null,null,null,null,null,null,3213,"Frankolovo"]
[null,null,null,"IMV: Industrija motornih vozil","Industrija motornih vozil",2320,"IMV: Industrija motornih vozil",null,null,null,"MESTNA OBČINA KRANJ",5874653000,"MESTNA OBČINA KRANJ",null,null,null,null,null,null,null,null,"PRSPO 2019","Javni razpis za podelitev priznanja Republike Slovenije za poslovno odličnost za leto 2019","11/2019","2019-02-22",null,null,null,null,null,null,null,"Mozirje","SAŠA",null,"031","Gornji Petrovci","36","MURSKA SOBOTA",null,null,null,null,null,null,null,"083","Nazarje",1,"SI03","Vzhodna Slovenija","04","SI034","Savinjska",null,null,null,null,null,null,"13.910","C13.910 Proizvodnja pletenih in kvačkanih materialov","C13.91 Proizvodnja pletenih in kvačkanih materialov","C13.9 Proizvodnja drugih tekstilij","C13 Proizvodnja tekstilij","C PREDELOVALNE DEJAVNOSTI",null,null,null,null,null,null,1274,"Gabrovka"]
[null,null,null,"IMV: Pomoči za reševanje in prestrukturiranje","Industrija motornih vozil",2321,"IMV: Pomoči za reševanje in prestrukturiranje",null,null,null,"MESTNA OBČINA LJUBLJANA",5874025000,"MESTNA OBČINA LJUBLJANA",null,null,null,null,null,null,null,null,"SPK 2019","Javni razpis za sofinanciranje izvajanja dejavnosti slovenskih poslovnih klubov v tujini v letu 2019","11/2019","2019-02-22",null,null,null,null,null,null,null,"Nazarje","SAŠA",null,"158","Grad","36","MURSKA SOBOTA",null,null,null,null,null,null,null,"092","Podčetrtek",1,"SI03","Vzhodna Slovenija","04","SI034","Savinjska",null,null,null,null,null,null,"13.920","C13.920 Proizvodnja končnih tekstilnih izdelkov, razen oblačil","C13.92 Proizvodnja končnih tekstilnih izdelkov, razen oblačil","C13.9 Proizvodnja drugih tekstilij","C13 Proizvodnja tekstilij","C PREDELOVALNE DEJAVNOSTI",null,null,null,null,null,null,8254,"Globoko"]
[null,null,null,"Jeklarstvo","Jeklarstvo",2341,"Jeklarstvo",null,null,null,"MESTNA OBČINA MARIBOR",5883369000,"MESTNA OBČINA MARIBOR",null,null,null,null,null,null,null,null,"EUROSTARS 2019","Javni razpis za podporo malim in srednje velikim podjetjem, ki izvajajo raziskave in razvoj - program Eurostars, v okviru iniciative EUREKA (EUROSTARS 2019)","7/2019","2019-02-01",null,null,null,null,null,null,null,"Podčetrtek"," /",null,"161","Hodoš/Hodos","36","MURSKA SOBOTA",null,null,null,null,null,null,null,"173","Polzela",1,"SI03","Vzhodna Slovenija","04","SI034","Savinjska",null,null,null,null,null,null,"13.930","C13.930 Proizvodnja preprog","C13.93 Proizvodnja preprog","C13.9 Proizvodnja drugih tekstilij","C13 Proizvodnja tekstilij","C PREDELOVALNE DEJAVNOSTI",null,null,null,null,null,null,5275,"Godovič"]
[null,null,null,"Reševanje: Pomoči za reševanje finančnih problemov","Pomoči za reševanje",2131,"Reševanje: Pomoči za reševanje finančnih problemov",null,null,null,"MESTNA OBČINA MURSKA SOBOTA",5883172000,"MESTNA OBČINA MURSKA SOBOTA",null,null,null,null,null,null,null,null,"ITM 2019","Javno povabilo k udeležbi v mednarodnem izobraževalnem programu Vodenje izvoznega poslovanja - International Trade Management (ITM) 2019",null,"2019-01-28",null,null,null,null,null,null,null,"Polzela"," /",null,"056","Kuzma","36","MURSKA SOBOTA",null,null,null,null,null,null,null,"174","Prebold",1,"SI03","Vzhodna Slovenija","04","SI034","Savinjska",null,null,null,null,null,null,"13.940","C13.940 Proizvodnja vrvi, vrvic in mrež","C13.94 Proizvodnja vrvi, vrvic in mrež","C13.9 Proizvodnja drugih tekstilij","C13 Proizvodnja tekstilij","C PREDELOVALNE DEJAVNOSTI",null,null,null,null,null,null,4204,"Golnik"]
[null,null,null,"Prestrukturiranje: Pomoči za prestrukturiranje","Prestrukturiranje",2132,"Prestrukturiranje: Pomoči za prestrukturiranje",null,null,null,"MESTNA OBČINA NOVA GORICA",5881773000,"MESTNA OBČINA NOVA GORICA",null,null,null,null,null,null,null,null,"Vavčer - intelektualna lastnina","Javni poziv VAV-2, Vavčer za patente, modele, znamke","5/2019","2019-01-25",null,null,null,null,null,null,null,"Prebold"," /",null,"078","Moravske Toplice","36","MURSKA SOBOTA",null,null,null,null,null,null,null,"209","Rečica ob Savinji",1,"SI03","Vzhodna Slovenija","04","SI034","Savinjska",null,null,null,null,null,null,"13.950","C13.950 Proizvodnja netkanih tekstilij in izdelkov iz njih, razen oblačil","C13.95 Proizvodnja netkanih tekstilij in izdelkov iz njih, razen oblačil","C13.9 Proizvodnja drugih tekstilij","C13 Proizvodnja tekstilij","C PREDELOVALNE DEJAVNOSTI",null,null,null,null,null,null,3303,"Gomilsko"]
[null,null,null,"Premogovništvo: Pomoči za redno poslovanje","Premogovništvo",3411,"Premogovništvo: Pomoči za redno poslovanje",null,null,null,"MESTNA OBČINA NOVO MESTO",5883288000,"MESTNA OBČINA NOVO MESTO",null,null,null,null,null,null,null,null,"Vavčer - certifikati kakovosti","Javni poziv VAV-1, Vavčer za certifikate kakovosti","5/2019","2019-01-25",null,null,null,null,null,null,null,"Radeče"," /",null,"080","Murska Sobota","36","MURSKA SOBOTA",null,null,null,null,null,null,null,"106","Rogaška Slatina",1,"SI03","Vzhodna Slovenija","04","SI034","Savinjska",null,null,null,null,null,null,"13.960","C13.960 Proizvodnja tehničnega in industrijskega tekstila","C13.96 Proizvodnja tehničnega in industrijskega tekstila","C13.9 Proizvodnja drugih tekstilij","C13 Proizvodnja tekstilij","C PREDELOVALNE DEJAVNOSTI",null,null,null,null,null,null,4224,"Gorenja vas"]
[null,null,null,"Premogovništvo: Pomoči za dezinvestiranje (zapiranje)","Premogovništvo",3412,"Premogovništvo: Pomoči za dezinvestiranje (zapiranje)",null,null,null,"MESTNA OBČINA PTUJ",5883598000,"MESTNA OBČINA PTUJ",null,null,null,null,null,null,null,null,"Vajeništvo 2019/2020","Srednje poklicno izobraževanje v vajeniški obliki v letu 2019/2020",null,"2019-01-21",null,null,null,null,null,null,null,"Rečica ob Savinji","SAŠA",null,"097","Puconci","36","MURSKA SOBOTA",null,null,null,null,null,null,null,"107","Rogatec",1,"SI03","Vzhodna Slovenija","04","SI034","Savinjska",null,null,null,null,null,null,"13.990","C13.990 Proizvodnja drugje nerazvrščenih tekstilij","C13.99 Proizvodnja drugje nerazvrščenih tekstilij","C13.9 Proizvodnja drugih tekstilij","C13 Proizvodnja tekstilij","C PREDELOVALNE DEJAVNOSTI",null,null,null,null,null,null,3263,"Gorica pri Slivnici"]
[null,null,null,"Premogovništvo: Pomoči za pokrivanje izjemnih stroškov","Premogovništvo",3413,"Premogovništvo: Pomoči za pokrivanje izjemnih stroškov",null,null,null,"MESTNA OBČINA SLOVENJ GRADEC",5883903000,"MESTNA OBČINA SLOVENJ GRADEC",null,null,null,null,null,null,null,null,"PSI 2019/2020","Poklicno in strokovno izobraževanje v letu 2019/2020",null,"2019-01-21",null,null,null,null,null,null,null,"Rogaška Slatina"," /",null,"105","Rogašovci","36","MURSKA SOBOTA",null,null,null,null,null,null,null,"114","Slovenske Konjice",1,"SI03","Vzhodna Slovenija","04","SI034","Savinjska",null,null,null,null,null,null,"14.110","C14.110 Proizvodnja usnjenih oblačil","C14.11 Proizvodnja usnjenih oblačil","C14.1 Proizvodnja oblačil, razen krznenih","C14 Proizvodnja oblačil","C PREDELOVALNE DEJAVNOSTI",null,null,null,null,null,null,2272,"Gorišnica"]
[null,null,null,"Transport (K): Kritje dodatnih finančnih bremen","Transport (kopenski)",4511,"Transport (K): Kritje dodatnih finančnih bremen",null,null,null,"MESTNA OBČINA VELENJE",5884268000,"MESTNA OBČINA VELENJE",null,null,null,null,null,null,null,null,"P7 2019","Javni razpis za mikrokredite (P7 2019)","84/2018","2018-12-28",null,null,null,null,null,null,null,"Rogatec"," /",null,"033","Šalovci","36","MURSKA SOBOTA",null,null,null,null,null,null,null,"180","Solčava",1,"SI03","Vzhodna Slovenija","04","SI034","Savinjska",null,null,null,null,null,null,"14.120","C14.120 Proizvodnja delovnih oblačil","C14.12 Proizvodnja delovnih oblačil","C14.1 Proizvodnja oblačil, razen krznenih","C14 Proizvodnja oblačil","C PREDELOVALNE DEJAVNOSTI",null,null,null,null,null,null,9250,"Gornja Radgona"]
[null,null,null,"Transport (K): Pospeševanje raziskav in razvoja bolj ekonomičnih transportnih sistemov in tehnologij","Transport (kopenski)",4512,"Transport (K): Pospeševanje raziskav in razvoja bolj ekonomičnih transportnih sistemov in tehnologij",null,null,null,"OBČINA AJDOVŠČINA",5879914000,"OBČINA AJDOVŠČINA",null,null,null,null,null,null,null,null,"Sejmi 2019-2022","Javni razpis za sofinanciranje individualnih nastopov podjetij na mednarodnih sejmih v tujini v letih 2019-2022","72/2018","2018-11-16",null,null,null,null,null,null,null,"Slovenske Konjice"," /",null,"010","Tišina","36","MURSKA SOBOTA",null,null,null,null,null,null,null,"120","Šentjur",1,"SI03","Vzhodna Slovenija","04","SI034","Savinjska",null,null,null,null,null,null,"14.130","C14.130 Proizvodnja drugih vrhnjih oblačil","C14.13 Proizvodnja drugih vrhnjih oblačil","C14.1 Proizvodnja oblačil, razen krznenih","C14 Proizvodnja oblačil","C PREDELOVALNE DEJAVNOSTI",null,null,null,null,null,null,3342,"Gornji Grad"]
[null,null,null,"Transport (K): Dezinvestiranje (zapiranje)","Transport (kopenski)",4513,"Transport (K): Dezinvestiranje (zapiranje)",null,null,null,"OBČINA APAČE",2215632000,"OBČINA APAČE",null,null,null,null,null,null,null,null,"Vsebinska podpora 2018-2023","Vsebinska podpora prejemnikom sredstev (MSP) v obdobju 2018–2023",null,"2018-11-06",null,null,null,null,null,null,null,"Solčava","SAŠA",null,"007","Brda","37","NOVA GORICA",null,null,null,null,null,null,null,"124","Šmarje pri Jelšah",1,"SI03","Vzhodna Slovenija","04","SI034","Savinjska",null,null,null,null,null,null,"14.140","C14.140 Proizvodnja spodnjega perila","C14.14 Proizvodnja spodnjega perila","C14.1 Proizvodnja oblačil, razen krznenih","C14 Proizvodnja oblačil","C PREDELOVALNE DEJAVNOSTI",null,null,null,null,null,null,4282,"Gozd Martuljek"]
[null,null,null,"Transport (k): Razvoj kombiniranega transporta","Transport (kopenski)",4514,"Transport (k): Razvoj kombiniranega transporta",null,null,null,"OBČINA BELTINCI",5883016000,"OBČINA BELTINCI",null,null,null,null,null,null,null,null,"DIGITALIZACIJA 2019-2023","Javni razpis za izvedbo storitev za spodbujanje digitalizacije MSP v Republiki Sloveniji v letih od 2019 do 2023 »DIGITALIZACIJA 2019-2023« ","65/2018","2018-10-05",null,null,null,null,null,null,null,"Šentjur"," /",null,"044","Kanal","37","NOVA GORICA",null,null,null,null,null,null,null,"125","Šmartno ob Paki",1,"SI03","Vzhodna Slovenija","04","SI034","Savinjska",null,null,null,null,null,null,"14.190","C14.190 Proizvodnja drugih oblačil, pokrival ter dodatkov","C14.19 Proizvodnja drugih oblačil, pokrival ter dodatkov","C14.1 Proizvodnja oblačil, razen krznenih","C14 Proizvodnja oblačil","C PREDELOVALNE DEJAVNOSTI",null,null,null,null,null,null,6272,"Gračišče"]
[null,null,null,"Transport (K): Nadomestitev stroškov infrastrukture v podjetjih, ki opravljajo posebno obliko transporta, ki ga drugim podjetjem ni treba nositi","Transport (kopenski)",4515,"Transport (K): Nadomestitev stroškov infrastrukture v podjetjih, ki opravljajo posebno obliko transporta, ki ga drugim podjetjem ni treba nositi",null,null,null,"OBČINA BENEDIKT",1332139000,"OBČINA BENEDIKT",null,null,null,null,null,null,null,null,"E-POSLOVANJE 2019-2022","Javni razpis za vzpostavitev ali nadgradnjo elektronskega poslovanja v MSP v obdobju 2019-2022","59/2018","2018-09-07",null,null,null,null,null,null,null,"Šmarje pri Jelšah"," /",null,"075","Miren - Kostanjevica","37","NOVA GORICA",null,null,null,null,null,null,null,"126","Šoštanj",1,"SI03","Vzhodna Slovenija","04","SI034","Savinjska",null,null,null,null,null,null,"14.200","C14.200 Proizvodnja krznenih izdelkov","C14.20 Proizvodnja krznenih izdelkov","C14.2 Proizvodnja krznenih izdelkov","C14 Proizvodnja oblačil","C PREDELOVALNE DEJAVNOSTI",null,null,null,null,null,null,9264,"Grad"]
[null,null,null,"Transport (K): Kompenzacija stroška infrastrukture v podjetjih, ki opravljajo posebno obliko transporta","Transport (kopenski)",4516,"Transport (K): Kompenzacija stroška infrastrukture v podjetjih, ki opravljajo posebno obliko transporta",null,null,null,"OBČINA BISTRICA OB SOTLI",1357450000,"OBČINA BISTRICA OB SOTLI",null,null,null,null,null,null,null,null,"JPPOSODL 2018/19","Javni poziv za sofinanciranje sistematičnega razvoja poslovne odličnosti podjetij v letih 2018 in 2019",null,"2018-08-21",null,null,null,null,null,null,null,"Šmartno ob Paki","SAŠA",null,"084","Nova Gorica","37","NOVA GORICA",null,null,null,null,null,null,null,"127","Štore",1,"SI03","Vzhodna Slovenija","04","SI034","Savinjska",null,null,null,null,null,null,"14.310","C14.310 Proizvodnja nogavic","C14.31 Proizvodnja nogavic","C14.3 Proizvodnja pletenih in kvačkanih oblačil","C14 Proizvodnja oblačil","C PREDELOVALNE DEJAVNOSTI",null,null,null,null,null,null,8332,"Gradac"]
[null,null,null,"Transport (K): Reorganizacija finančnega poslovanja javnih železnic","Transport (kopenski)",4517,"Transport (K): Reorganizacija finančnega poslovanja javnih železnic",null,null,null,"OBČINA BLED",5883539000,"OBČINA BLED",null,null,null,null,null,null,null,null,"DEMO PILOTI II 2018","Javni razpis »DEMO PILOTI II 2018«","55/2018","2018-08-13",null,null,null,null,null,null,null,"Šoštanj","SAŠA",null,"183","Šempeter - Vrtojba","37","NOVA GORICA",null,null,null,null,null,null,null,"184","Tabor",1,"SI03","Vzhodna Slovenija","04","SI034","Savinjska",null,null,null,null,null,null,"14.390","C14.390 Proizvodnja drugih pletenih in kvačkanih oblačil","C14.39 Proizvodnja drugih pletenih in kvačkanih oblačil","C14.3 Proizvodnja pletenih in kvačkanih oblačil","C14 Proizvodnja oblačil","C PREDELOVALNE DEJAVNOSTI",null,null,null,null,null,null,1384,"Grahovo"]
[null,null,null,"Transport (K): Opravljanje odvečnih zmogljivosti, ki povzročajo resne strukturne probleme","Transport (kopenski)",4518,"Transport (K): Opravljanje odvečnih zmogljivosti, ki povzročajo resne strukturne probleme",null,null,null,"OBČINA BLOKE",1358456000,"OBČINA BLOKE",null,null,null,null,null,null,null,null,"TR, MF in certifikati 2018","Javni poziv za sofinanciranje tržnih raziskav, mednarodnih forumov in certifikatov v letu 2018",null,"2018-08-09",null,null,null,null,null,null,null,"Štore"," /",null,"201","Renče - Vogrsko","37","NOVA GORICA",null,null,null,null,null,null,null,"133","Velenje",1,"SI03","Vzhodna Slovenija","04","SI034","Savinjska",null,null,null,null,null,null,"15.110","C15.110 Strojenje in dodelava usnja in krzna","C15.11 Strojenje in dodelava usnja in krzna","C15.1 Strojenje in dodelava usnja in krzna, proizvodnja potovalne galanterije in sedlarskih izdelkov","C15 Proizvodnja usnja, usnjenih in sorodnih izdelkov","C PREDELOVALNE DEJAVNOSTI",null,null,null,null,null,null,5242,"Grahovo ob Bači"]
[null,null,null,"Transport (M): Morski promet","Transport (morski promet)",4530,"Transport (M): Morski promet",null,null,null,"OBČINA BOHINJ",5883415000,"OBČINA BOHINJ",null,null,null,null,null,null,null,null,"SPK 2018","Javni razpis za sofinanciranje izvajanja dejavnosti slovenskih poslovnih klubov v tujini v letu 2018","37/2018","2018-06-01",null,null,null,null,null,null,null,"Tabor"," /",null,"157","Dolenjske Toplice","38","NOVO MESTO",null,null,null,null,null,null,null,"137","Vitanje",1,"SI03","Vzhodna Slovenija","04","SI034","Savinjska",null,null,null,null,null,null,"15.120","C15.120 Proizvodnja potovalne galanterije, sedlarskih in jermenarskih izdelkov","C15.12 Proizvodnja potovalne galanterije, sedlarskih in jermenarskih izdelkov","C15.1 Strojenje in dodelava usnja in krzna, proizvodnja potovalne galanterije in sedlarskih izdelkov","C15 Proizvodnja usnja, usnjenih in sorodnih izdelkov","C PREDELOVALNE DEJAVNOSTI",null,null,null,null,null,null,5251,"Grgar"]
[null,null,null,"Transport (M): Pomoči rednemu poslovanju","Transport (morski promet)",4531,"Transport (M): Pomoči rednemu poslovanju",null,null,null,"OBČINA BOROVNICA",5883393000,"OBČINA BOROVNICA",null,null,null,null,null,null,null,null,"EUREKA 2018","Javni razpis za dodeljevanje spodbud v okviru iniciative EUREKA 2018","35/2018","2018-05-25",null,null,null,null,null,null,null,"Velenje","SAŠA",null,"170","Mirna Peč","38","NOVO MESTO",null,null,null,null,null,null,null,"139","Vojnik",1,"SI03","Vzhodna Slovenija","04","SI034","Savinjska",null,null,null,null,null,null,"15.200","C15.200 Proizvodnja obutve","C15.20 Proizvodnja obutve","C15.2 Proizvodnja obutve","C15 Proizvodnja usnja, usnjenih in sorodnih izdelkov","C PREDELOVALNE DEJAVNOSTI",null,null,null,null,null,null,3302,"Griže"]
[null,null,null,"Transport (M): Investicije","Transport (morski promet)",4532,"Transport (M): Investicije",null,null,null,"OBČINA BOVEC",5881498000,"OBČINA BOVEC",null,null,null,null,null,null,null,null,"Ženske 2018","Organizacija in izvedba »Programa podjetniškega usposabljanja brezposelnih žensk s terciarno izobrazbo v letu 2018«",null,"2018-04-26",null,null,null,null,null,null,null,"Vitanje"," /",null,"085","Novo mesto","38","NOVO MESTO",null,null,null,null,null,null,null,"189","Vransko",1,"SI03","Vzhodna Slovenija","04","SI034","Savinjska",null,null,null,null,null,null,"16.100","C16.100 Žaganje, skobljanje in impregniranje lesa","C16.10 Žaganje, skobljanje in impregniranje lesa","C16.1 Žaganje, skobljanje in impregniranje lesa","C16 Obdelava in predelava lesa, proizvodnja izdelkov iz lesa, plute, slame in protja, razen pohištva","C PREDELOVALNE DEJAVNOSTI",null,null,null,null,null,null,3231,"Grobelno"]
[null,null,null,"Transport (M): Zmanjšanje stroškov zaposlenih","Transport (morski promet)",4533,"Transport (M): Zmanjšanje stroškov zaposlenih",null,null,null,"OBČINA BRASLOVČE",1357557000,"OBČINA BRASLOVČE",null,null,null,null,null,null,null,null,"P2 2018","Javni razpis za zagon inovativnih podjetij v letu 2018 (P2 2018)","19/2018","2018-03-23",null,null,null,null,null,null,null,"Vojnik"," /",null,"119","Šentjernej","38","NOVO MESTO",null,null,null,null,null,null,null,"144","Zreče",1,"SI03","Vzhodna Slovenija","04","SI034","Savinjska",null,null,null,null,null,null,"16.210","C16.210 Proizvodnja furnirja in plošč na osnovi lesa","C16.21 Proizvodnja furnirja in plošč na osnovi lesa","C16.2 Proizvodnja lesenih, plutovinastih, pletarskih izdelkov","C16 Obdelava in predelava lesa, proizvodnja izdelkov iz lesa, plute, slame in protja, razen pohištva","C PREDELOVALNE DEJAVNOSTI",null,null,null,null,null,null,1290,"Grosuplje"]
[null,null,null,"Transport (M): Usposabljanje mornarjev","Transport (morski promet)",4544,"Transport (M): Usposabljanje mornarjev",null,null,null,"OBČINA BRDA",5881781000,"OBČINA BRDA",null,null,null,null,null,null,null,null,"Partnerstva na tujih trgih 2018-2019","Javni razpis za spodbujanje partnerstev za učinkovitejši nastop na tujih trgih 2018-2019","14/2018","2018-03-02",null,null,null,null,null,null,null,"Vransko"," /",null,"121","Škocjan","38","NOVO MESTO",null,null,null,null,null,null,null,"190","Žalec",1,"SI03","Vzhodna Slovenija","04","SI034","Savinjska",null,null,null,null,null,null,"16.220","C16.220 Proizvodnja sestavljenega parketa","C16.22 Proizvodnja sestavljenega parketa","C16.2 Proizvodnja lesenih, plutovinastih, pletarskih izdelkov","C16 Obdelava in predelava lesa, proizvodnja izdelkov iz lesa, plute, slame in protja, razen pohištva","C PREDELOVALNE DEJAVNOSTI",null,null,null,null,null,null,2288,"Hajdina"]
[null,null,null,"Transport (M): Pomoči za oddih posadk na ladjah","Transport (morski promet)",4545,"Transport (M): Pomoči za oddih posadk na ladjah",null,null,null,"OBČINA BREZOVICA",5874971000,"OBČINA BREZOVICA",null,null,null,null,null,null,null,null,"ZSInv - 20. člen","Zakon o spodbujanju investicij (ZSInv) - 20. člen","13/2018","2018-02-28",null,null,null,null,null,null,null,"Zreče"," /",null,"193","Žužemberk","38","NOVO MESTO",null,null,null,null,null,null,null,"034","Hrastnik",1,"SI03","Vzhodna Slovenija","05","SI035","Zasavska",null,null,null,null,null,null,"16.230","C16.230 Stavbno mizarstvo in tesarstvo","C16.23 Stavbno mizarstvo in tesarstvo","C16.2 Proizvodnja lesenih, plutovinastih, pletarskih izdelkov","C16 Obdelava in predelava lesa, proizvodnja izdelkov iz lesa, plute, slame in protja, razen pohištva","C PREDELOVALNE DEJAVNOSTI",null,null,null,null,null,null,8362,"Hinje"]
[null,null,null,"Transport (Z): Zračni promet","Transport (zračni promet)",4550,"Transport (Z): Zračni promet",null,null,null,"OBČINA BREŽICE",5880173000,"OBČINA BREŽICE",null,null,null,null,null,null,null,null,"ZSInv - 15. člen","Zakon o spodbujanju investicij (ZSInv) - 15. člen","13/2018","2018-02-28",null,null,null,null,null,null,null,"Žalec"," /",null,"203","Straža","38","NOVO MESTO",null,null,null,null,null,null,null,"060","Litija",1,"SI03","Vzhodna Slovenija","05","SI035","Zasavska",null,null,null,null,null,null,"16.240","C16.240 Proizvodnja lesene embalaže","C16.24 Proizvodnja lesene embalaže","C16.2 Proizvodnja lesenih, plutovinastih, pletarskih izdelkov","C16 Obdelava in predelava lesa, proizvodnja izdelkov iz lesa, plute, slame in protja, razen pohištva","C PREDELOVALNE DEJAVNOSTI",null,null,null,null,null,null,2311,"Hoče"]
[null,null,null,"Transport (Z): Pomoči rednemu poslovanju","Transport (zračni promet)",4551,"Transport (Z): Pomoči rednemu poslovanju",null,null,null,"OBČINA CANKOVA",1365789000,"OBČINA CANKOVA",null,null,null,null,null,null,null,null,"ITM 2018","Javno povabilo k udeležbi v mednarodnem izobraževalnem programu Vodenje izvoznega poslovanja - International Trade Management (ITM) 2018",null,"2018-02-27",null,null,null,null,null,null,null,"Hrastnik"," /",null,"206","Šmarješke Toplice","38","NOVO MESTO",null,null,null,null,null,null,null,"129","Trbovlje",1,"SI03","Vzhodna Slovenija","05","SI035","Zasavska",null,null,null,null,null,null,"16.290","C16.290 Proizvodnja drugih izdelkov iz lesa, plute, slame in protja","C16.29 Proizvodnja drugih izdelkov iz lesa, plute, slame in protja","C16.2 Proizvodnja lesenih, plutovinastih, pletarskih izdelkov","C16 Obdelava in predelava lesa, proizvodnja izdelkov iz lesa, plute, slame in protja, razen pohištva","C PREDELOVALNE DEJAVNOSTI",null,null,null,null,null,null,9205,"Hodoš/Hodos"]
[null,null,null,"Transport (Z): Regionalne pomoči","Transport (zračni promet)",4552,"Transport (Z): Regionalne pomoči",null,null,null,"OBČINA CERKLJE NA GORENJSKEM",5874670000,"OBČINA CERKLJE NA GORENJSKEM",null,null,null,null,null,null,null,null,"EUROSTARS 2018","Javni razpis za podporo malim in srednje velikim podjetjem, ki izvajajo raziskave in razvoj - program Eurostars, v okviru iniciative EUREKA (EUROSTARS 2018)","11/2018","2018-02-23",null,null,null,null,null,null,null,"Trbovlje"," /",null,"087","Ormož","39","ORMOŽ",null,null,null,null,null,null,null,"142","Zagorje ob Savi",1,"SI03","Vzhodna Slovenija","05","SI035","Zasavska",null,null,null,null,null,null,"17.110","C17.110 Proizvodnja vlaknin","C17.11 Proizvodnja vlaknin","C17.1 Proizvodnja vlaknin, papirja in kartona","C17 Proizvodnja papirja in izdelkov iz papirja","C PREDELOVALNE DEJAVNOSTI",null,null,null,null,null,null,1354,"Horjul"]
[null,null,null,"Transport (Z): Pomoči za prestrukturiranje","Transport (zračni promet)",4553,"Transport (Z): Pomoči za prestrukturiranje",null,null,null,"OBČINA CERKNICA",5880157000,"OBČINA CERKNICA",null,null,null,null,null,null,null,null,"P1+ 2018","Javni razpis za garancije Sklada za bančne kredite s subvencijo obrestne mere (P1 plus 2018)","9/2018","2018-02-16",null,null,null,null,null,null,null,"Zagorje ob Savi"," /",null,"202","Središče ob Dravi","39","ORMOŽ",null,null,null,null,null,null,null,"149","Bistrica ob Sotli",1,"SI03","Vzhodna Slovenija","06","SI036","Posavska",null,null,null,null,null,null,"17.120","C17.120 Proizvodnja papirja in kartona","C17.12 Proizvodnja papirja in kartona","C17.1 Proizvodnja vlaknin, papirja in kartona","C17 Proizvodnja papirja in izdelkov iz papirja","C PREDELOVALNE DEJAVNOSTI",null,null,null,null,null,null,1372,"Hotedršica"]
[null,null,null,"Kmetijstvo: Pomoč za naložbe v zvezi s predelavo kmetijskih proizvodov v nekmetijske proizvode ali proizvodnjo bombaža","Kmetijstvo",5612,"Kmetijstvo: Pomoč za naložbe v zvezi s predelavo kmetijskih proizvodov v nekmetijske proizvode ali proizvodnjo bombaža",null,null,null,"OBČINA CERKNO",5880076000,"OBČINA CERKNO",null,null,null,null,null,null,null,null,"SIO 2018-2019","Javni razpis za izvedbo podpornih storitev subjektov inovativnega okolja v Republiki Sloveniji v letih od 2018 do 2019 »SIO 2018-2019«","6/2018","2018-02-02",null,null,null,null,null,null,null,"Brežice"," /",null,"205","Sveti Tomaž","39","ORMOŽ",null,null,null,null,null,null,null,"009","Brežice",1,"SI03","Vzhodna Slovenija","06","SI036","Posavska",null,null,null,null,null,null,"17.210","C17.210 Proizvodnja valovitega papirja in kartona ter papirne in kartonske embalaže","C17.21 Proizvodnja valovitega papirja in kartona ter papirne in kartonske embalaže","C17.2 Proizvodnja izdelkov iz papirja in kartona","C17 Proizvodnja papirja in izdelkov iz papirja","C PREDELOVALNE DEJAVNOSTI",null,null,null,null,null,null,1430,"Hrastnik"]
[null,null,null,"Kmetijstvo: Pomoč za storitve svetovanja MSP na podeželju","Kmetijstvo",5613,"Kmetijstvo: Pomoč za storitve svetovanja MSP na podeželju",null,null,null,"OBČINA CERKVENJAK",1332066000,"OBČINA CERKVENJAK",null,null,null,null,null,null,null,null,"SPOT REGIJE 2018-2022 - za 3 regije","Javni razpis za financiranje izvajanja celovitih podpornih storitev za potencialne podjetnike in podjetja v okviru Slovenskih poslovnih točk za obdobje od 2018 do 2022 – SPOT REGIJE 2018-2022 - za statistično regijo Jugovzhodna Slovenija, Osrednjeslovenska in Primorsko - notranjska","6/2018","2018-02-02",null,null,null,null,null,null,null,"Kostanjevica na Krki"," /",null,"090","Piran/Pirano","40","PIRAN",null,null,null,null,null,null,null,"197","Kostanjevica na Krki",1,"SI03","Vzhodna Slovenija","06","SI036","Posavska",null,null,null,null,null,null,"17.220","C17.220 Proizvodnja gospodinjskih, higienskih in toaletnih potrebščin iz papirja","C17.22 Proizvodnja gospodinjskih, higienskih in toaletnih potrebščin iz papirja","C17.2 Proizvodnja izdelkov iz papirja in kartona","C17 Proizvodnja papirja in izdelkov iz papirja","C PREDELOVALNE DEJAVNOSTI",null,null,null,null,null,null,6225,"Hruševje"]
[null,null,null,"Kmetijstvo: Pomoč za dejavnosti prenosa znanja in informiranja v korist MSP na podeželju","Kmetijstvo",5614,"Kmetijstvo: Pomoč za dejavnosti prenosa znanja in informiranja v korist MSP na podeželju",null,null,null,"OBČINA CIRKULANE",2242770000,"OBČINA CIRKULANE",null,null,null,null,null,null,null,null,"Vajeništvo 2018/2019","Srednje poklicno izobraževanje v vajeniški obliki v letu 2018/2019",null,"2018-01-22",null,null,null,null,null,null,null,"Krško"," /",null,"091","Pivka","41","POSTOJNA",null,null,null,null,null,null,null,"054","Krško",1,"SI03","Vzhodna Slovenija","06","SI036","Posavska",null,null,null,null,null,null,"17.230","C17.230 Proizvodnja pisarniških potrebščin iz papirja","C17.23 Proizvodnja pisarniških potrebščin iz papirja","C17.2 Proizvodnja izdelkov iz papirja in kartona","C17 Proizvodnja papirja in izdelkov iz papirja","C PREDELOVALNE DEJAVNOSTI",null,null,null,null,null,null,4276,"Hrušica"]
[null,null,null,"Kmetijstvo: Pomoč za novo sodelovanje aktivnih kmetov v shemah kakovosti za bombaž ali živila","Kmetijstvo",5615,"Kmetijstvo: Pomoč za novo sodelovanje aktivnih kmetov v shemah kakovosti za bombaž ali živila",null,null,null,"OBČINA ČRNA NA KOROŠKEM",5883679000,"OBČINA ČRNA NA KOROŠKEM",null,null,null,null,null,null,null,null,"PSI 2018/2019","Poklicno in strokovno izobraževanje v letu 2018/2019",null,"2018-01-22",null,null,null,null,null,null,null,"Sevnica"," /",null,"094","Postojna","41","POSTOJNA",null,null,null,null,null,null,null,"099","Radeče",1,"SI03","Vzhodna Slovenija","06","SI036","Posavska",null,null,null,null,null,null,"17.240","C17.240 Proizvodnja tapet","C17.24 Proizvodnja tapet","C17.2 Proizvodnja izdelkov iz papirja in kartona","C17 Proizvodnja papirja in izdelkov iz papirja","C PREDELOVALNE DEJAVNOSTI",null,null,null,null,null,null,5280,"Idrija"]
[null,null,null,"Kmetijstvo: Pomoč za dejavnosti informiranja in promocijske dejavnosti v zvezi z bombažem in živili, ki jih zajemajo sheme kakovosti","Kmetijstvo",5616,"Kmetijstvo: Pomoč za dejavnosti informiranja in promocijske dejavnosti v zvezi z bombažem in živili, ki jih zajemajo sheme kakovosti",null,null,null,"OBČINA ČRNOMELJ",5880254000,"OBČINA ČRNOMELJ",null,null,null,null,null,null,null,null,"Sejmi 2018","Javni razpis za sofinanciranje individualnih nastopov podjetij na mednarodnih sejmih v tujini - 2018","66/2017","2017-11-24",null,null,null,null,null,null,null,"Črnomelj","Bela krajina",null,"018","Destrnik","42","PTUJ",null,null,null,null,null,null,null,"110","Sevnica",1,"SI03","Vzhodna Slovenija","06","SI036","Posavska",null,null,null,null,null,null,"17.290","C17.290 Proizvodnja drugih izdelkov iz papirja in kartona","C17.29 Proizvodnja drugih izdelkov iz papirja in kartona","C17.2 Proizvodnja izdelkov iz papirja in kartona","C17 Proizvodnja papirja in izdelkov iz papirja","C PREDELOVALNE DEJAVNOSTI",null,null,null,null,null,null,1292,"Ig"]
[null,null,null,"Kmetijstvo: Pomoč za raziskave in razvoj v gozdarskem sektorju","Kmetijstvo",5617,"Kmetijstvo: Pomoč za raziskave in razvoj v gozdarskem sektorju",null,null,null,"OBČINA DESTRNIK",5882966000,"OBČINA DESTRNIK",null,null,null,null,null,null,null,null,"Procesne izboljšave 2017-2018","Javni razpis za spodbujanje procesnih izboljšav podjetij v letu 2017 - 2018","60/2017","2017-10-27",null,null,null,null,null,null,null,"Dolenjske Toplice","Dolenjska","Pokolpje","024","Dornava","42","PTUJ",null,null,null,null,null,null,null,"017","Črnomelj",1,"SI03","Vzhodna Slovenija","07","SI037","Jugovzhodna Slovenija",null,null,null,null,null,null,"18.110","C18.110 Tiskanje časopisov","C18.11 Tiskanje časopisov","C18.1 Tiskarstvo in z njim povezane storitve","C18 Tiskarstvo in razmnoževanje posnetih nosilcev zapisa","C PREDELOVALNE DEJAVNOSTI",null,null,null,null,null,null,6250,"Ilirska Bistrica"]
[null,null,null,"Kmetijstvo: Pomoč za pogozdovanje in ustvarjanje gozdnega območja","Kmetijstvo",5618,"Kmetijstvo: Pomoč za pogozdovanje in ustvarjanje gozdnega območja",null,null,null,"OBČINA DIVAČA",5882974000,"OBČINA DIVAČA",null,null,null,null,null,null,null,null,"Vsebinska podpora 2017","Vsebinska podpora prejemnikom sredstev (MSP) v začetnih fazah življenjskega cikla 2017-2018",null,"2017-10-05",null,null,null,null,null,null,null,"Kočevje","Pokolpje"," ","028","Gorišnica","42","PTUJ",null,null,null,null,null,null,null,"157","Dolenjske Toplice",1,"SI03","Vzhodna Slovenija","07","SI037","Jugovzhodna Slovenija",null,null,null,null,null,null,"18.120","C18.120 Drugo tiskanje","C18.12 Drugo tiskanje","C18.1 Tiskarstvo in z njim povezane storitve","C18 Tiskarstvo in razmnoževanje posnetih nosilcev zapisa","C PREDELOVALNE DEJAVNOSTI",null,null,null,null,null,null,6251,"Ilirska Bistrica-Trnovo"]
[null,null,null,"Kmetijstvo: Pomoč za kmetijsko gozdarske sisteme","Kmetijstvo",5619,"Kmetijstvo: Pomoč za kmetijsko gozdarske sisteme",null,null,null,"OBČINA DOBJE",1357409000,"OBČINA DOBJE",null,null,null,null,null,null,null,null,"SPOT REGIJE 2018-2022","Javni razpis za financiranje izvajanja celovitih podpornih storitev za potencialne podjetnike in podjetja v okviru Slovenskih poslovnih točk za obdobje od 2018 do 2022 – SPOT REGIJE 2018-2022","54/2017","2017-09-29",null,null,null,null,null,null,null,"Kostel","Pokolpje","Kočevsko","159","Hajdina","42","PTUJ",null,null,null,null,null,null,null,"048","Kočevje",1,"SI03","Vzhodna Slovenija","07","SI037","Jugovzhodna Slovenija",null,null,null,null,null,null,"18.130","C18.130 Priprava za tisk in objavo","C18.13 Priprava za tisk in objavo","C18.1 Tiskarstvo in z njim povezane storitve","C18 Tiskarstvo in razmnoževanje posnetih nosilcev zapisa","C PREDELOVALNE DEJAVNOSTI",null,null,null,null,null,null,1295,"Ivančna Gorica"]
[null,null,null,"Kmetijstvo: Pomoč za preprečevanje in odpravo škode v gozdovih zaradi gozdnih požarov, naravnih nesreč, slabih vremenskih razmer, škodljivih organizmov na rastlinah in katastrofalnih dogodkov","Kmetijstvo",5620,"Kmetijstvo: Pomoč za preprečevanje in odpravo škode v gozdovih zaradi gozdnih požarov, naravnih nesreč, slabih vremenskih razmer, škodljivih organizmov na rastlinah in katastrofalnih dogodkov",null,null,null,"OBČINA DOBREPOLJE",5886252000,"OBČINA DOBREPOLJE",null,null,null,null,null,null,null,null,"E-poslovanje 2017-2018","Javni razpis za vzpostavitev ali nadgradnjo elektronskega poslovanja v MSP v obdobju 2017-2018 »E-POSLOVANJE 2017-2018«","47/2017","2017-09-01",null,null,null,null,null,null,null,"Loški Potok","Pokolpje"," ","042","Juršinci","42","PTUJ",null,null,null,null,null,null,null,"165","Kostel",1,"SI03","Vzhodna Slovenija","07","SI037","Jugovzhodna Slovenija",null,null,null,null,null,null,"18.140","C18.140 Knjigoveštvo in sorodne dejavnosti","C18.14 Knjigoveštvo in sorodne dejavnosti","C18.1 Tiskarstvo in z njim povezane storitve","C18 Tiskarstvo in razmnoževanje posnetih nosilcev zapisa","C PREDELOVALNE DEJAVNOSTI",null,null,null,null,null,null,2259,"Ivanjkovci"]
[null,null,null,"Kmetijstvo: Pomoč za naložbe za povečanje odpornosti in okoljske vrednosti gozdnih ekosistemov","Kmetijstvo",5621,"Kmetijstvo: Pomoč za naložbe za povečanje odpornosti in okoljske vrednosti gozdnih ekosistemov",null,null,null,"OBČINA DOBRNA",1358570000,"OBČINA DOBRNA",null,null,null,null,null,null,null,null,"SME 2017 - faza 2","Javni razpis \"Dopolnjevanje SME instrumenta - faza 2\"","42/2017","2017-08-04",null,null,null,null,null,null,null,"Metlika","Bela krajina"," ","045","Kidričevo","42","PTUJ",null,null,null,null,null,null,null,"066","Loški Potok",1,"SI03","Vzhodna Slovenija","07","SI037","Jugovzhodna Slovenija",null,null,null,null,null,null,"18.200","C18.200 Razmnoževanje posnetih nosilcev zapisa","C18.20 Razmnoževanje posnetih nosilcev zapisa","C18.2 Razmnoževanje posnetih nosilcev zapisa","C18 Tiskarstvo in razmnoževanje posnetih nosilcev zapisa","C PREDELOVALNE DEJAVNOSTI",null,null,null,null,null,null,1411,"Izlake"]
[null,null,null,"Kmetijstvo: Investicije v predelavo in trženje kmetijskih pridelkov","Kmetijstvo",5622,"Kmetijstvo: Investicije v predelavo in trženje kmetijskih pridelkov",null,null,null,"OBČINA DOBROVA-POLHOV GRADEC",5874998000,"OBČINA DOBROVA-POLHOV GRADEC",null,null,null,null,null,null,null,null,"RRI 2","Javni razpis za »Spodbude za raziskovalno razvojne projekte 2«","32/2017","2017-06-30",null,null,null,null,null,null,null,"Mirna Peč","Dolenjska","Pokolpje","069","Majšperk","42","PTUJ",null,null,null,null,null,null,null,"073","Metlika",1,"SI03","Vzhodna Slovenija","07","SI037","Jugovzhodna Slovenija",null,null,null,null,null,null,"19.100","C19.100 Proizvodnja koksa","C19.10 Proizvodnja koksa","C19.1 Proizvodnja koksa","C19 Proizvodnja koksa in naftnih derivatov","C PREDELOVALNE DEJAVNOSTI",null,null,null,null,null,null,6310,"Izola/Isola"]
[null,null,null,"Kmetijstvo: Pomoči za zatiranje rastlinskih bolezni","Kmetijstvo",5623,"Kmetijstvo: Pomoči za zatiranje rastlinskih bolezni",null,null,null,"OBČINA DOBROVNIK DOBRONAK KOZSEG",1332198000,"OBČINA DOBROVNIK DOBRONAK KOZSEG",null,null,null,null,null,null,null,null,"EUREKA 2017","Javni razpis za dodeljevanje spodbud v okviru iniciative EUREKA 2017","32/2017","2017-06-30",null,null,null,null,null,null,null,"Mokronog - Trebelno","Dolenjska"," ","168","Markovci","42","PTUJ",null,null,null,null,null,null,null,"212","Mirna",1,"SI03","Vzhodna Slovenija","07","SI037","Jugovzhodna Slovenija",null,null,null,null,null,null,"19.200","C19.200 Proizvodnja naftnih derivatov","C19.20 Proizvodnja naftnih derivatov","C19.2 Proizvodnja naftnih derivatov","C19 Proizvodnja koksa in naftnih derivatov","C PREDELOVALNE DEJAVNOSTI",null,null,null,null,null,null,2222,"Jakobski Dol"]
[null,null,null,"Kmetijstvo: Pomoči za zatiranje živinskih bolezni","Kmetijstvo",5624,"Kmetijstvo: Pomoči za zatiranje živinskih bolezni",null,null,null,"OBČINA DOL PRI LJUBLJANI",5874173000,"OBČINA DOL PRI LJUBLJANI",null,null,null,null,null,null,null,null,"Sejmi 2017","Javni razpis »Sofinanciranje individualnih nastopov podjetij na mednarodnih sejmih v tujini v letu 2017«","24/2017","2017-05-12",null,null,null,null,null,null,null,"Mirna","Dolenjska"," ","172","Podlehnik","42","PTUJ",null,null,null,null,null,null,null,"170","Mirna Peč",1,"SI03","Vzhodna Slovenija","07","SI037","Jugovzhodna Slovenija",null,null,null,null,null,null,"20.110","C20.110 Proizvodnja tehničnih plinov","C20.11 Proizvodnja tehničnih plinov","C20.1 Proizvodnja osnovnih kemikalij, gnojil in dušikovih spojin, plastičnih mas in sintetičnega kavčuka v primarni obliki","C20 Proizvodnja kemikalij, kemičnih izdelkov","C PREDELOVALNE DEJAVNOSTI",null,null,null,null,null,null,2221,"Jarenina"]
[null,null,null,"Kmetijstvo: Gozdarstvo","Kmetijstvo",5625,{"$f":"D131","v":"Kmetijstvo: Gozdarstvo"},null,null,null,"OBČINA DOLENJSKE TOPLICE",1365720000,{"$f":"K131","v":"OBČINA DOLENJSKE TOPLICE"},null,null,null,null,null,null,null,null,"Sejmi 5/2017","Javni razpis »Sofinanciranje individualnih nastopov podjetij na mednarodnih sejmih v tujini v obdobju med 1.1.2017 in 31.5.2017«","23/2017","2017-05-05",null,null,null,null,null,null,null,"Novo mesto","Dolenjska"," ","096","Ptuj","42","PTUJ",null,null,null,null,null,null,null,"199","Mokronog - Trebelno",1,"SI03","Vzhodna Slovenija","07","SI037","Jugovzhodna Slovenija",null,null,null,null,null,null,"20.120","C20.120 Proizvodnja barvil in pigmentov","C20.12 Proizvodnja barvil in pigmentov","C20.1 Proizvodnja osnovnih kemikalij, gnojil in dušikovih spojin, plastičnih mas in sintetičnega kavčuka v primarni obliki","C20 Proizvodnja kemikalij, kemičnih izdelkov","C PREDELOVALNE DEJAVNOSTI",null,null,null,null,null,null,6254,"Jelšane"]
[null,null,null,"Kmetijstvo: Razvoj podeželja","Kmetijstvo",5626,"Kmetijstvo: Razvoj podeželja",null,null,null,"OBČINA DOMŽALE",5880513000,"OBČINA DOMŽALE",null,null,null,null,null,null,null,null,"KCDM 2.0","Javni razpis za sofinanciranje delovanja kompetenčnih centrov za razvoj kadrov in vpeljavo novih poslovnih procesov s področja dizajn managementa – KCDM 2.0 za obdobje 2017-2019","18/2017","2017-04-14",null,null,null,null,null,null,null,"Osilnica","Pokolpje"," ","182","Sveti Andraž v Slov. goricah","42","PTUJ",null,null,null,null,null,null,null,"085","Novo mesto",1,"SI03","Vzhodna Slovenija","07","SI037","Jugovzhodna Slovenija",null,null,null,null,null,null,"20.130","C20.130 Proizvodnja drugih anorganskih osnovnih kemikalij","C20.13 Proizvodnja drugih anorganskih osnovnih kemikalij","C20.1 Proizvodnja osnovnih kemikalij, gnojil in dušikovih spojin, plastičnih mas in sintetičnega kavčuka v primarni obliki","C20 Proizvodnja kemikalij, kemičnih izdelkov","C PREDELOVALNE DEJAVNOSTI",null,null,null,null,null,null,4270,"Jesenice"]
[null,null,null,"Kmetijstvo: Kmetijska in živinska predelava","Kmetijstvo",5627,"Kmetijstvo: Kmetijska in živinska predelava",null,null,null,"OBČINA DORNAVA",5884039000,"OBČINA DORNAVA",null,null,null,null,null,null,null,null,"SPK 2017","Javni razpis za sofinanciranje izvajanja dejavnosti slovenskih poslovnih klubov v tujini v letu 2017","18/2017","2017-04-14",null,null,null,null,null,null,null,"Ribnica","Ribnica",null,"185","Trnovska vas","42","PTUJ",null,null,null,null,null,null,null,"088","Osilnica",1,"SI03","Vzhodna Slovenija","07","SI037","Jugovzhodna Slovenija",null,null,null,null,null,null,"20.140","C20.140 Proizvodnja drugih organskih osnovnih kemikalij","C20.14 Proizvodnja drugih organskih osnovnih kemikalij","C20.1 Proizvodnja osnovnih kemikalij, gnojil in dušikovih spojin, plastičnih mas in sintetičnega kavčuka v primarni obliki","C20 Proizvodnja kemikalij, kemičnih izdelkov","C PREDELOVALNE DEJAVNOSTI",null,null,null,null,null,null,8261,"Jesenice na Dolenjskem"]
[null,null,null,"Kmetijstvo: Druge pomoči v kmetijstvu","Kmetijstvo",5628,"Kmetijstvo: Druge pomoči v kmetijstvu",null,null,null,"OBČINA DRAVOGRAD",5880351000,"OBČINA DRAVOGRAD",null,null,null,null,null,null,null,null,"P2 2017","Javni razpis za zagon inovativnih podjetij v letu 2017 (P2 2017)","14/2017","2017-03-24",null,null,null,null,null,null,null,"Semič","Bela krajina","Pokolpje","135","Videm","42","PTUJ",null,null,null,null,null,null,null,"104","Ribnica",1,"SI03","Vzhodna Slovenija","07","SI037","Jugovzhodna Slovenija",null,null,null,null,null,null,"20.150","C20.150 Proizvodnja gnojil in dušikovih spojin","C20.15 Proizvodnja gnojil in dušikovih spojin","C20.1 Proizvodnja osnovnih kemikalij, gnojil in dušikovih spojin, plastičnih mas in sintetičnega kavčuka v primarni obliki","C20 Proizvodnja kemikalij, kemičnih izdelkov","C PREDELOVALNE DEJAVNOSTI",null,null,null,null,null,null,3273,"Jurklošter"]
[null,null,null,"Kmetijstvo: Investicije v kmetijska gospodarstva","Kmetijstvo",5629,"Kmetijstvo: Investicije v kmetijska gospodarstva",null,null,null,"OBČINA DUPLEK",5883300000,"OBČINA DUPLEK",null,null,null,null,null,null,null,null,"SK200 2017","Javni razpis za semenski kapital - lastnšiki vstop za rast inovativnih podjetij v višini 200.000 EUR (SK200 2017)","13/2017","2017-03-17",null,null,null,null,null,null,null,"Sodražica"," /",null,"143","Zavrč","42","PTUJ",null,null,null,null,null,null,null,"109","Semič",1,"SI03","Vzhodna Slovenija","07","SI037","Jugovzhodna Slovenija",null,null,null,null,null,null,"20.160","C20.160 Proizvodnja plastičnih mas v primarni obliki","C20.16 Proizvodnja plastičnih mas v primarni obliki","C20.1 Proizvodnja osnovnih kemikalij, gnojil in dušikovih spojin, plastičnih mas in sintetičnega kavčuka v primarni obliki","C20 Proizvodnja kemikalij, kemičnih izdelkov","C PREDELOVALNE DEJAVNOSTI",null,null,null,null,null,null,2223,"Jurovski Dol"]
[null,null,null,"Kmetijstvo: Pomoči za varstvo okolja","Kmetijstvo",5630,"Kmetijstvo: Pomoči za varstvo okolja",null,null,null,"OBČINA GORENJA VAS-POLJANE",5883261000,"OBČINA GORENJA VAS-POLJANE",null,null,null,null,null,null,null,null,"SK75 2017","Javni razpis za semenski kapital - konvertibilno posojilo za zagon podjetij v višini 75.000 EUR (SK75 2017)","13/2017","2017-03-17",null,null,null,null,null,null,null,"Straža","Dolenjska",null,"191","Žetale","42","PTUJ",null,null,null,null,null,null,null,"179","Sodražica",1,"SI03","Vzhodna Slovenija","07","SI037","Jugovzhodna Slovenija",null,null,null,null,null,null,"20.170","C20.170 Proizvodnja sintetičnega kavčuka v primarni obliki","C20.17 Proizvodnja sintetičnega kavčuka v primarni obliki","C20.1 Proizvodnja osnovnih kemikalij, gnojil in dušikovih spojin, plastičnih mas in sintetičnega kavčuka v primarni obliki","C20 Proizvodnja kemikalij, kemičnih izdelkov","C PREDELOVALNE DEJAVNOSTI",null,null,null,null,null,null,2256,"Juršinci"]
[null,null,null,"Kmetijstvo: Pomoč za raziskave in razvoj","Kmetijstvo",5631,"Kmetijstvo: Pomoč za raziskave in razvoj",null,null,null,"OBČINA GORIŠNICA",5883962000,"OBČINA GORIŠNICA",null,null,null,null,null,null,null,null,"Certifikati 2017","Javni razpis za sofinanciranje stroškov pridobitve certifikatov po mednarodnih standardih v letu 2017","12/2017","2017-03-10",null,null,null,null,null,null,null,"Šentjernej","Dolenjska",null,"196","Cirkulane","42","PTUJ",null,null,null,null,null,null,null,"203","Straža",1,"SI03","Vzhodna Slovenija","07","SI037","Jugovzhodna Slovenija",null,null,null,null,null,null,"20.200","C20.200 Proizvodnja razkužil, pesticidov in drugih agrokemičnih izdelkov","C20.20 Proizvodnja razkužil, pesticidov in drugih agrokemičnih izdelkov","C20.2 Proizvodnja razkužil, pesticidov in drugih agrokemičnih izdelkov","C20 Proizvodnja kemikalij, kemičnih izdelkov","C PREDELOVALNE DEJAVNOSTI",null,null,null,null,null,null,5214,"Kal nad Kanalom"]
[null,null,null,"Kmetijstvo: Pomoč za reševanje in prestrukturiranje","Kmetijstvo",5632,"Kmetijstvo: Pomoč za reševanje in prestrukturiranje",null,null,null,"OBČINA GORJE",2209721000,"OBČINA GORJE",null,null,null,null,null,null,null,null,"MPD 2017","Javni razpis za sofinanciranje aktivne udeležbe podjetij na mednarodnih poslovnih dogodkih v tujini v letu 2017","10/2017","2017-02-27",null,null,null,null,null,null,null,"Šentrupert","Dolenjska",null,"081","Muta","43","RADLJE OB DRAVI",null,null,null,null,null,null,null,"119","Šentjernej",1,"SI03","Vzhodna Slovenija","07","SI037","Jugovzhodna Slovenija",null,null,null,null,null,null,"20.300","C20.300 Proizvodnja barv, lakov in podobnih premazov, tiskarskih barv in kitov","C20.30 Proizvodnja barv, lakov in podobnih premazov, tiskarskih barv in kitov","C20.3 Proizvodnja barv, lakov in podobnih premazov, tiskarskih barv in kitov","C20 Proizvodnja kemikalij, kemičnih izdelkov","C PREDELOVALNE DEJAVNOSTI",null,null,null,null,null,null,3233,"Kalobje"]
[null,null,null,"Kmetijstvo: Pomoč mladim kmetom","Kmetijstvo",5633,"Kmetijstvo: Pomoč mladim kmetom",null,null,null,"OBČINA GORNJA RADGONA",5880289000,"OBČINA GORNJA RADGONA",null,null,null,null,null,null,null,null,"EUROSTARS 2017","Javni razpis za podporo malim in srednje velikim podjetjem, ki izvajajo raziskave in razvoj - program Eurostars, v okviru iniciative EUREKA v letu 2017","9/2017","2017-02-24",null,null,null,null,null,null,null,"Škocjan","Dolenjska",null,"093","Podvelka","43","RADLJE OB DRAVI",null,null,null,null,null,null,null,"211","Šentrupert",1,"SI03","Vzhodna Slovenija","07","SI037","Jugovzhodna Slovenija",null,null,null,null,null,null,"20.410","C20.410 Proizvodnja mil in pralnih sredstev, čistilnih in polirnih sredstev","C20.41 Proizvodnja mil in pralnih sredstev, čistilnih in polirnih sredstev","C20.4 Proizvodnja mil in pralnih sredstev, čistilnih in polirnih sredstev, parfumov in toaletnih sredstev","C20 Proizvodnja kemikalij, kemičnih izdelkov","C PREDELOVALNE DEJAVNOSTI",null,null,null,null,null,null,4246,"Kamna Gorica"]
[null,null,null,"Kmetijstvo: Pomoči za predčasno upokojevanje","Kmetijstvo",5634,"Kmetijstvo: Pomoči za predčasno upokojevanje",null,null,null,"OBČINA GORNJI GRAD",5883776000,"OBČINA GORNJI GRAD",null,null,null,null,null,null,null,null,"P1+ 2017","Javni razpis za garancije Sklada za bančne kredite s subvencijo obrestne mere (P1 plus 2017)","8/2017","2017-02-17",null,null,null,null,null,null,null,"Šmarješke Toplice","Dolenjska",null,"101","Radlje ob Dravi","43","RADLJE OB DRAVI",null,null,null,null,null,null,null,"121","Škocjan",1,"SI03","Vzhodna Slovenija","07","SI037","Jugovzhodna Slovenija",null,null,null,null,null,null,"20.420","C20.420 Proizvodnja parfumov in toaletnih sredstev","C20.42 Proizvodnja parfumov in toaletnih sredstev","C20.4 Proizvodnja mil in pralnih sredstev, čistilnih in polirnih sredstev, parfumov in toaletnih sredstev","C20 Proizvodnja kemikalij, kemičnih izdelkov","C PREDELOVALNE DEJAVNOSTI",null,null,null,null,null,null,2351,"Kamnica"]
[null,null,null,"Kmetijstvo: Pomoči za območja z omejenimi možnostmi za kmetijsko dejavnost","Kmetijstvo",5635,"Kmetijstvo: Pomoči za območja z omejenimi možnostmi za kmetijsko dejavnost",null,null,null,"OBČINA GORNJI PETROVCI",5883075000,"OBČINA GORNJI PETROVCI",null,null,null,null,null,null,null,null,"ITM 2017","Javno povabilo k udeležbi v izobraževalnem programu »Vodenje izvoznega poslovanja« - International Trade Management (ITM) 2017",null,"2017-02-16",null,null,null,null,null,null,null,"Trebnje","Dolenjska",null,"177","Ribnica na Pohorju","43","RADLJE OB DRAVI",null,null,null,null,null,null,null,"206","Šmarješke Toplice",1,"SI03","Vzhodna Slovenija","07","SI037","Jugovzhodna Slovenija",null,null,null,null,null,null,"20.510","C20.510 Proizvodnja razstreliv","C20.51 Proizvodnja razstreliv","C20.5 Proizvodnja razstreliv, lepil, eteričnih olj in drugih kemičnih izdelkov","C20 Proizvodnja kemikalij, kemičnih izdelkov","C PREDELOVALNE DEJAVNOSTI",null,null,null,null,null,null,1241,"Kamnik"]
[null,null,null,"Kmetijstvo: Pomoči za organizacije proizvajalcev (združenja)","Kmetijstvo",5636,"Kmetijstvo: Pomoči za organizacije proizvajalcev (združenja)",null,null,null,"OBČINA GRAD",1365673000,"OBČINA GRAD",null,null,null,null,null,null,null,null,"Ženske 2017","Usposabljanje podjetnic začetnic v letu 2017",null,"2017-02-01",null,null,null,null,null,null,null,"Žužemberk","Dolenjska",null,"141","Vuzenica","43","RADLJE OB DRAVI",null,null,null,null,null,null,null,"130","Trebnje",1,"SI03","Vzhodna Slovenija","07","SI037","Jugovzhodna Slovenija",null,null,null,null,null,null,"20.520","C20.520 Proizvodnja sredstev za lepljenje","C20.52 Proizvodnja sredstev za lepljenje","C20.5 Proizvodnja razstreliv, lepil, eteričnih olj in drugih kemičnih izdelkov","C20 Proizvodnja kemikalij, kemičnih izdelkov","C PREDELOVALNE DEJAVNOSTI",null,null,null,null,null,null,5213,"Kanal"]
[null,null,null,"Kmetijstvo: Nadomestilo škode, ki so jo povzročile naravne nesreče ali izredni dogodki","Kmetijstvo",5637,"Kmetijstvo: Nadomestilo škode, ki so jo povzročile naravne nesreče ali izredni dogodki",null,null,null,"OBČINA GROSUPLJE",5880734000,"OBČINA GROSUPLJE",null,null,null,null,null,null,null,null,"P7 2017","Javni razpis za mikrokredite za mikro in mala podjetja (P7 2017)","3/2017","2017-01-20",null,null,null,null,null,null,null,"Bloke"," /",null,"003","Bled","44","RADOVLJICA",null,null,null,null,null,null,null,"193","Žužemberk",1,"SI03","Vzhodna Slovenija","07","SI037","Jugovzhodna Slovenija",null,null,null,null,null,null,"20.530","C20.530 Proizvodnja eteričnih olj","C20.53 Proizvodnja eteričnih olj","C20.5 Proizvodnja razstreliv, lepil, eteričnih olj in drugih kemičnih izdelkov","C20 Proizvodnja kemikalij, kemičnih izdelkov","C PREDELOVALNE DEJAVNOSTI",null,null,null,null,null,null,8258,"Kapele"]
[null,null,null,"Kmetijstvo: Pomoči za vzpodbujanje proizvodnje in trženja kvalitetnih kmetijskih proizvodov","Kmetijstvo",5638,"Kmetijstvo: Pomoči za vzpodbujanje proizvodnje in trženja kvalitetnih kmetijskih proizvodov",null,null,null,"OBČINA HAJDINA",1357441000,"OBČINA HAJDINA",null,null,null,null,null,null,null,null,"Vajeništvo 2017/2018","Srednje poklicno izobraževanje v vajeniški obliki v letu 2017/2018",null,"2017-01-23",null,null,null,null,null,null,null,"Cerknica"," /",null,"004","Bohinj","44","RADOVLJICA",null,null,null,null,null,null,null,"150","Bloke",1,"SI03","Vzhodna Slovenija","10","SI038","Primorsko-notranjska",null,null,null,null,null,null,"20.590","C20.590 Proizvodnja drugih kemičnih izdelkov","C20.59 Proizvodnja drugih kemičnih izdelkov","C20.5 Proizvodnja razstreliv, lepil, eteričnih olj in drugih kemičnih izdelkov","C20 Proizvodnja kemikalij, kemičnih izdelkov","C PREDELOVALNE DEJAVNOSTI",null,null,null,null,null,null,2362,"Kapla"]
[null,null,null,"Kmetijstvo: Pomoči za tehnično podporo v kmetijskem sektorju","Kmetijstvo",5639,"Kmetijstvo: Pomoči za tehnično podporo v kmetijskem sektorju",null,null,null,"OBČINA HOČE - SLIVNICA",1365568000,"OBČINA HOČE - SLIVNICA",null,null,null,null,null,null,null,null,"PSI 2017/2018","Poklicno in strokovno izobraževanje v letu 2017/2018",null,"2017-01-23",null,null,null,null,null,null,null,"Ilirska Bistrica"," /",null,"102","Radovljica","44","RADOVLJICA",null,null,null,null,null,null,null,"013","Cerknica",1,"SI03","Vzhodna Slovenija","10","SI038","Primorsko-notranjska",null,null,null,null,null,null,"20.600","C20.600 Proizvodnja umetnih vlaken","C20.60 Proizvodnja umetnih vlaken","C20.6 Proizvodnja umetnih vlaken","C20 Proizvodnja kemikalij, kemičnih izdelkov","C PREDELOVALNE DEJAVNOSTI",null,null,null,null,null,null,2325,"Kidričevo"]
[null,null,null,"Kmetijstvo: Pomoči za podpora živinskemu sektorju (genetska podpora)","Kmetijstvo",5640,"Kmetijstvo: Pomoči za podpora živinskemu sektorju (genetska podpora)",null,null,null,"OBČINA HODOŠ",1357344000,"OBČINA HODOŠ",null,null,null,null,null,null,null,null,"KKIPP 2016","Javni razpis »KREPITEV KOMPETENC IN INOVACIJSKIH POTENCIALOV PODJETIJ«","88/2016","2016-12-30",null,null,null,null,null,null,null,"Loška dolina"," /",null,"207","Gorje","44","RADOVLJICA",null,null,null,null,null,null,null,"038","Ilirska Bistrica",1,"SI03","Vzhodna Slovenija","10","SI038","Primorsko-notranjska",null,null,null,null,null,null,"21.100","C21.100 Proizvodnja farmacevtskih surovin","C21.10 Proizvodnja farmacevtskih surovin","C21.1 Proizvodnja farmacevtskih surovin","C21 Proizvodnja farmacevtskih surovin in preparatov","C PREDELOVALNE DEJAVNOSTI",null,null,null,null,null,null,1412,"Kisovec"]
[null,null,null,"Kmetijstvo: Investicije v predelavo in trženje kmetijskih proizvodov","Kmetijstvo",5641,"Kmetijstvo: Investicije v predelavo in trženje kmetijskih proizvodov",null,null,null,"OBČINA HORJUL",1332180000,"OBČINA HORJUL",null,null,null,null,null,null,null,null,"SME 2016 - faza 1","Javni razpis »DOPOLNJEVANJE SME INSTRUMENTA - Faza 1«","79/2016","2016-12-09",null,null,null,null,null,null,null,"Pivka"," /",null,"016","Črna na Koroškem","45","RAVNE NA KOROŠKEM",null,null,null,null,null,null,null,"065","Loška dolina",1,"SI03","Vzhodna Slovenija","10","SI038","Primorsko-notranjska",null,null,null,null,null,null,"21.200","C21.200 Proizvodnja farmacevtskih preparatov","C21.20 Proizvodnja farmacevtskih preparatov","C21.2 Proizvodnja farmacevtskih preparatov","C21 Proizvodnja farmacevtskih surovin in preparatov","C PREDELOVALNE DEJAVNOSTI",null,null,null,null,null,null,6253,"Knežak"]
[null,null,null,"Kmetijstvo: Investicije za razvoj dopolnilnih dejavnosti na kmetiji","Kmetijstvo",5642,"Kmetijstvo: Investicije za razvoj dopolnilnih dejavnosti na kmetiji",null,null,null,"OBČINA HRASTNIK",5880181000,"OBČINA HRASTNIK",null,null,null,null,null,null,null,null,"PDP 2016","Javni razpis »Pilotni/demonstracijski projekti - I. sklop: Pretvorba, distribucija in upravljanje energije«","74/2016","2016-11-25",null,null,null,null,null,null,null,"Postojna"," /",null,"074","Mežica","45","RAVNE NA KOROŠKEM",null,null,null,null,null,null,null,"091","Pivka",1,"SI03","Vzhodna Slovenija","10","SI038","Primorsko-notranjska",null,null,null,null,null,null,"22.110","C22.110 Proizvodnja in obnavljanje gumijastih plaščev in zračnic za vozila","C22.11 Proizvodnja in obnavljanje gumijastih plaščev in zračnic za vozila","C22.1 Proizvodnja izdelkov iz gume","C22 Proizvodnja izdelkov iz gume in plastičnih mas","C PREDELOVALNE DEJAVNOSTI",null,null,null,null,null,null,5222,"Kobarid"]
[null,null,null,"Kmetijstvo: Pomoči za zatiranje rastlinskih in živalskih bolezni","Kmetijstvo",5643,"Kmetijstvo: Pomoči za zatiranje rastlinskih in živalskih bolezni",null,null,null,"OBČINA HRPELJE - KOZINA",5883032000,"OBČINA HRPELJE - KOZINA",null,null,null,null,null,null,null,null,"SIO 2016-2017","Javni razpis za izvedbo podpornih storitev subjektov inovativnega okolja »SIO 2016-2017«","67/2016","2016-10-28",null,null,null,null,null,null,null,"Borovnica"," /",null,"175","Prevalje","45","RAVNE NA KOROŠKEM",null,null,null,null,null,null,null,"094","Postojna",1,"SI03","Vzhodna Slovenija","10","SI038","Primorsko-notranjska",null,null,null,null,null,null,"22.190","C22.190 Proizvodnja drugih izdelkov iz gume","C22.19 Proizvodnja drugih izdelkov iz gume","C22.1 Proizvodnja izdelkov iz gume","C22 Proizvodnja izdelkov iz gume in plastičnih mas","C PREDELOVALNE DEJAVNOSTI",null,null,null,null,null,null,9227,"Kobilje"]
[null,null,null,"Kmetijstvo: Pomoči za zavarovalne police v primeru naravnih nesreč ali izrednih dogodkov","Kmetijstvo",5644,"Kmetijstvo: Pomoči za zavarovalne police v primeru naravnih nesreč ali izrednih dogodkov",null,null,null,"OBČINA IDRIJA",5880068000,"OBČINA IDRIJA",null,null,null,null,null,null,null,null,"SRIP 2016-2017","Javni razpis za izbor operacij \"Podpora strateškim razvojno inovacijskim partnerstvom (SRIP) na prioritetnih področjih pametne specializacije\"","64/2016","2016-10-14",null,null,null,null,null,null,null,"Brezovica"," /",null,"103","Ravne na Koroškem","45","RAVNE NA KOROŠKEM",null,null,null,null,null,null,null,"005","Borovnica",2,"SI04","Zahodna Slovenija","08","SI041","Osrednjeslovenska",null,null,null,null,null,null,"22.210","C22.210 Proizvodnja plošč, folij, cevi in profilov iz plastičnih mas","C22.21 Proizvodnja plošč, folij, cevi in profilov iz plastičnih mas","C22.2 Proizvodnja plastičnih izdelkov","C22 Proizvodnja izdelkov iz gume in plastičnih mas","C PREDELOVALNE DEJAVNOSTI",null,null,null,null,null,null,1330,"Kočevje"]
[null,null,null,"Kmetijstvo: Pomoči za reklamiranje in oglaševanje kmetijskih proizvodov","Kmetijstvo",5645,"Kmetijstvo: Pomoči za reklamiranje in oglaševanje kmetijskih proizvodov",null,null,null,"OBČINA IG",5874769000,"OBČINA IG",null,null,null,null,null,null,null,null,"Vsebinska podpora 2016","Javno naročilo \"Vsebinska podpora prejemnikom sredstev (MSP) v začetnih fazah življenjskega cikla\"",null,"2016-10-07",null,null,null,null,null,null,null,"Dobrepolje"," /",null,"104","Ribnica","46","RIBNICA",null,null,null,null,null,null,null,"008","Brezovica",2,"SI04","Zahodna Slovenija","08","SI041","Osrednjeslovenska",null,null,null,null,null,null,"22.220","C22.220 Proizvodnja embalaže iz plastičnih mas","C22.22 Proizvodnja embalaže iz plastičnih mas","C22.2 Proizvodnja plastičnih izdelkov","C22 Proizvodnja izdelkov iz gume in plastičnih mas","C PREDELOVALNE DEJAVNOSTI",null,null,null,null,null,null,1338,"Kočevska Reka"]
[null,null,null,"Kmetijstvo: Kratkoročna posojila","Kmetijstvo",5646,"Kmetijstvo: Kratkoročna posojila",null,null,null,"OBČINA ILIRSKA BISTRICA",5880416000,"OBČINA ILIRSKA BISTRICA",null,null,null,null,null,null,null,null,"Procesni vavčer 2016-2017","Javni razpis za spodbujanje procesnih izboljšav podjetij v letu 2016 in 2017","63/2016","2016-10-07",null,null,null,null,null,null,null,"Dobrova - Polhov Gradec"," /",null,"179","Sodražica","46","RIBNICA",null,null,null,null,null,null,null,"020","Dobrepolje",2,"SI04","Zahodna Slovenija","08","SI041","Osrednjeslovenska",null,null,null,null,null,null,"22.230","C22.230 Proizvodnja izdelkov iz plastičnih mas za gradbeništvo","C22.23 Proizvodnja izdelkov iz plastičnih mas za gradbeništvo","C22.2 Proizvodnja plastičnih izdelkov","C22 Proizvodnja izdelkov iz gume in plastičnih mas","C PREDELOVALNE DEJAVNOSTI",null,null,null,null,null,null,2276,"Kog"]
[null,null,null,"Kmetijstvo: Pomoči za ukrepe v gozdarstvu","Kmetijstvo",5647,"Kmetijstvo: Pomoči za ukrepe v gozdarstvu",null,null,null,"OBČINA IVANČNA GORICA",5886244000,"OBČINA IVANČNA GORICA",null,null,null,null,null,null,null,null,"Akademije TPM 2016","Javni poziv podjetjem za vključitev v Akademijo Vzpostavitev trajnostnih poslovnih modelov v praksi",null,"2016-08-10",null,null,null,null,null,null,null,"Dol pri Ljubljani"," /",null,"066","Loški potok","46","RIBNICA",null,null,null,null,null,null,null,"021","Dobrova - Polhov Gradec",2,"SI04","Zahodna Slovenija","08","SI041","Osrednjeslovenska",null,null,null,null,null,null,"22.290","C22.290 Proizvodnja drugih izdelkov iz plastičnih mas","C22.29 Proizvodnja drugih izdelkov iz plastičnih mas","C22.2 Proizvodnja plastičnih izdelkov","C22 Proizvodnja izdelkov iz gume in plastičnih mas","C PREDELOVALNE DEJAVNOSTI",null,null,null,null,null,null,5211,"Kojsko"]
[null,null,null,"Kmetijstvo: Pomoči za zaposlovanje","Kmetijstvo",5648,"Kmetijstvo: Pomoči za zaposlovanje",null,null,null,"OBČINA IZOLA",5874190000,"OBČINA IZOLA",null,null,null,null,null,null,null,null,"EUREKA 2016","Javni razpis za dodeljevanje spodbud v okviru iniciative Eureka za leto 2016","51/2016","2016-07-22",null,null,null,null,null,null,null,"Domžale"," /",null,"110","Sevnica","47","SEVNICA",null,null,null,null,null,null,null,"022","Dol pri Ljubljani",2,"SI04","Zahodna Slovenija","08","SI041","Osrednjeslovenska",null,null,null,null,null,null,"23.110","C23.110 Proizvodnja ravnega stekla","C23.11 Proizvodnja ravnega stekla","C23.1 Proizvodnja stekla in steklenih izdelkov","C23 Proizvodnja nekovinskih mineralnih izdelkov","C PREDELOVALNE DEJAVNOSTI",null,null,null,null,null,null,6223,"Komen"]
[null,null,null,"Kmetijstvo: Pomoč za arondacijo zemljišč ponovno delitev zemljišč","Kmetijstvo",5649,"Kmetijstvo: Pomoč za arondacijo zemljišč ponovno delitev zemljišč",null,null,null,"OBČINA JESENICE",5874335000,"OBČINA JESENICE",null,null,null,null,null,null,null,null,"TNI 16/17","Javni razpis za spodbujanje tujih neposrednih investicij v Republiki Sloveniji v letih 2016 in 2017 - prvi kapitalski vstopi (TNI 16/17)","47/2016","2016-07-01",null,null,null,null,null,null,null,"Grosuplje"," /",null,"019","Divača","48","SEŽANA",null,null,null,null,null,null,null,"023","Domžale",2,"SI04","Zahodna Slovenija","08","SI041","Osrednjeslovenska",null,null,null,null,null,null,"23.120","C23.120 Oblikovanje in obdelava ravnega stekla","C23.12 Oblikovanje in obdelava ravnega stekla","C23.1 Proizvodnja stekla in steklenih izdelkov","C23 Proizvodnja nekovinskih mineralnih izdelkov","C PREDELOVALNE DEJAVNOSTI",null,null,null,null,null,null,1218,"Komenda"]
[null,null,null,"Kmetijstvo: Finančna kriza v kmetijstvu","Kmetijstvo",5650,"Kmetijstvo: Finančna kriza v kmetijstvu",null,null,null,"OBČINA JEZERSKO",1332112000,"OBČINA JEZERSKO",null,null,null,null,null,null,null,null,"Tržne raziskave 2016/2017","Javni razpis za sofinanciranje tržnih raziskav na tujih trgih v letih 2016 in 2017","47/2016","2016-07-01",null,null,null,null,null,null,null,"Horjul"," /",null,"035","Hrpelje - Kozina","48","SEŽANA",null,null,null,null,null,null,null,"032","Grosuplje",2,"SI04","Zahodna Slovenija","08","SI041","Osrednjeslovenska",null,null,null,null,null,null,"23.130","C23.130 Proizvodnja votlega stekla","C23.13 Proizvodnja votlega stekla","C23.1 Proizvodnja stekla in steklenih izdelkov","C23 Proizvodnja nekovinskih mineralnih izdelkov","C PREDELOVALNE DEJAVNOSTI",null,null,null,null,null,null,6000,"Koper/Capodistria"]
[null,null,null,"Kmetijstvo: Pomoč za omejitve v zvezi z gozdnimi območji Natura 2000","Kmetijstvo",5651,"Kmetijstvo: Pomoč za omejitve v zvezi z gozdnimi območji Natura 2000",null,null,null,"OBČINA JURŠINCI",5883750000,"OBČINA JURŠINCI",null,null,null,null,null,null,null,null,"ZSRR-2 - 31. člen","Zakon o spodbujanju skladnega regionalnega razvoja (ZSRR-2) - 31. člen","46/2016","2016-06-30",null,null,null,null,null,null,null,"Ig"," /",null,"049","Komen","48","SEŽANA",null,null,null,null,null,null,null,"162","Horjul",2,"SI04","Zahodna Slovenija","08","SI041","Osrednjeslovenska",null,null,null,null,null,null,"23.140","C23.140 Proizvodnja steklenih vlaken","C23.14 Proizvodnja steklenih vlaken","C23.1 Proizvodnja stekla in steklenih izdelkov","C23 Proizvodnja nekovinskih mineralnih izdelkov","C PREDELOVALNE DEJAVNOSTI",null,null,null,null,null,null,6001,"Koper/Capodistria - poštni predali"]
[null,null,null,"Kmetijstvo: Pomoč za gozdarskookoljske in podnebne storitve ter ohranjanje gozdov","Kmetijstvo",5652,"Kmetijstvo: Pomoč za gozdarskookoljske in podnebne storitve ter ohranjanje gozdov",null,null,null,"OBČINA KAMNIK",5874483000,"OBČINA KAMNIK",null,null,null,null,null,null,null,null,"VEM 2016","Javni razpis za financiranje izvajanja celovitih podpornih storitev v okviru vstopnih točk VEM v letu 2016 -  \"VEM 2016\"","41/2016","2016-06-10",null,null,null,null,null,null,null,"Ivančna Gorica"," /",null,"111","Sežana","48","SEŽANA",null,null,null,null,null,null,null,"037","Ig",2,"SI04","Zahodna Slovenija","08","SI041","Osrednjeslovenska",null,null,null,null,null,null,"23.190","C23.190 Proizvodnja in oblikovanje drugih vrst stekla ter tehničnih steklenih izdelkov","C23.19 Proizvodnja in oblikovanje drugih vrst stekla ter tehničnih steklenih izdelkov","C23.1 Proizvodnja stekla in steklenih izdelkov","C23 Proizvodnja nekovinskih mineralnih izdelkov","C PREDELOVALNE DEJAVNOSTI",null,null,null,null,null,null,8282,"Koprivnica"]
[null,null,null,"Kmetijstvo: Pomoč za dejavnosti prenosa znanja in informiranja v gozdarskem sektorju","Kmetijstvo",5653,"Kmetijstvo: Pomoč za dejavnosti prenosa znanja in informiranja v gozdarskem sektorju",null,null,null,"OBČINA KANAL OB SOČI",5881820000,"OBČINA KANAL OB SOČI",null,null,null,null,null,null,null,null,"P2B 2016","Javni razpis za zagonska sredstva za novonastala inovativna podjetja (P2B 2016)","39/2016","2016-06-03",null,null,null,null,null,null,null,"Kamnik"," /",null,"076","Mislinja","49","SLOVENJ GRADEC",null,null,null,null,null,null,null,"039","Ivančna Gorica",2,"SI04","Zahodna Slovenija","08","SI041","Osrednjeslovenska",null,null,null,null,null,null,"23.200","C23.200 Proizvodnja ognjevzdržne keramike","C23.20 Proizvodnja ognjevzdržne keramike","C23.2 Proizvodnja ognjevzdržne keramike","C23 Proizvodnja nekovinskih mineralnih izdelkov","C PREDELOVALNE DEJAVNOSTI",null,null,null,null,null,null,5296,"Kostanjevica na Krasu"]
[null,null,null,"Kmetijstvo: Pomoč za storitve svetovanja v gozdarskem sektorju","Kmetijstvo",5654,"Kmetijstvo: Pomoč za storitve svetovanja v gozdarskem sektorju",null,null,null,"OBČINA KIDRIČEVO",5883709000,"OBČINA KIDRIČEVO",null,null,null,null,null,null,null,null,"P2 2016","Javni razpis za zagonska sredstva za novonastala inovativna podjetja (P2 2016)","38/2016","2016-05-27",null,null,null,null,null,null,null,"Komenda"," /",null,"112","Slovenj Gradec","49","SLOVENJ GRADEC",null,null,null,null,null,null,null,"043","Kamnik",2,"SI04","Zahodna Slovenija","08","SI041","Osrednjeslovenska",null,null,null,null,null,null,"23.310","C23.310 Proizvodnja keramičnih ploščic in oblog","C23.31 Proizvodnja keramičnih ploščic in oblog","C23.3 Proizvodnja neognjevzdržne gradbene keramike","C23 Proizvodnja nekovinskih mineralnih izdelkov","C PREDELOVALNE DEJAVNOSTI",null,null,null,null,null,null,8311,"Kostanjevica na Krki"]
[null,null,null,"Kmetijstvo: Pomoč za naložbe v infrastrukturo, povezano z razvojem, modernizacijo in prilagajanjem gozdarskega sektorja","Kmetijstvo",5655,"Kmetijstvo: Pomoč za naložbe v infrastrukturo, povezano z razvojem, modernizacijo in prilagajanjem gozdarskega sektorja",null,null,null,"OBČINA KOBARID",5881463000,"OBČINA KOBARID",null,null,null,null,null,null,null,null,"SK200 2016","Javni razpis za semenski kapital - lastnšiki vstop za rast inovativnih podjetij v višini 200.000 EUR (SK200 2016)","26/2016","2016-04-08",null,null,null,null,null,null,null,"Litija"," /",null,"171","Oplotnica","50","SLOVENSKA BISTRICA",null,null,null,null,null,null,null,"164","Komenda",2,"SI04","Zahodna Slovenija","08","SI041","Osrednjeslovenska",null,null,null,null,null,null,"23.320","C23.320 Proizvodnja strešnikov, opeke in drugih gradbenih izdelkov iz žgane gline","C23.32 Proizvodnja strešnikov, opeke in drugih gradbenih izdelkov iz žgane gline","C23.3 Proizvodnja neognjevzdržne gradbene keramike","C23 Proizvodnja nekovinskih mineralnih izdelkov","C PREDELOVALNE DEJAVNOSTI",null,null,null,null,null,null,1336,"Kostel"]
[null,null,null,"Kmetijstvo: Pomoč za naložbe v gozdarske tehnologije ter predelavo, mobilizacijo in trženje gozdarskih proizvodov","Kmetijstvo",5656,"Kmetijstvo: Pomoč za naložbe v gozdarske tehnologije ter predelavo, mobilizacijo in trženje gozdarskih proizvodov",null,null,null,"OBČINA KOČEVJE",5874238000,"OBČINA KOČEVJE",null,null,null,null,null,null,null,null,"SK75 2016","Javni razpis za semenski kapital - konvertibilno posojilo za zagon podjetij v višini 75.000 EUR (SK75 2016)","26/2016","2016-04-08",null,null,null,null,null,null,null,"Ljubljana"," /",null,"113","Slovenska Bistrica","50","SLOVENSKA BISTRICA",null,null,null,null,null,null,null,"061","Ljubljana",2,"SI04","Zahodna Slovenija","08","SI041","Osrednjeslovenska",null,null,null,null,null,null,"23.410","C23.410 Proizvodnja gospodinjske in okrasne keramike","C23.41 Proizvodnja gospodinjske in okrasne keramike","C23.4 Proizvodnja drugih izdelkov iz keramike in porcelana","C23 Proizvodnja nekovinskih mineralnih izdelkov","C PREDELOVALNE DEJAVNOSTI",null,null,null,null,null,null,6256,"Košana"]
[null,null,null,"Kmetijstvo: Pomoč za ohranjanje genskih virov v gozdarstvu","Kmetijstvo",5657,"Kmetijstvo: Pomoč za ohranjanje genskih virov v gozdarstvu",null,null,null,"OBČINA KOMEN",5883091000,"OBČINA KOMEN",null,null,null,null,null,null,null,null,"SID MSP7 - TPKU","Razvojno-spodbujevalni program SID banke za financiranje poslovanja in kapitalskega utrjevanja MSP",null,"2016-02-26",null,null,null,null,null,null,null,"Log - Dragomer"," /",null,"198","Makole","50","SLOVENSKA BISTRICA",null,null,null,null,null,null,null,"208","Log - Dragomer",2,"SI04","Zahodna Slovenija","08","SI041","Osrednjeslovenska",null,null,null,null,null,null,"23.420","C23.420 Proizvodnja sanitarne keramike","C23.42 Proizvodnja sanitarne keramike","C23.4 Proizvodnja drugih izdelkov iz keramike in porcelana","C23 Proizvodnja nekovinskih mineralnih izdelkov","C PREDELOVALNE DEJAVNOSTI",null,null,null,null,null,null,2394,"Kotlje"]
[null,null,null,"Kmetijstvo: Pomoč za komasacijo gozdnih zemljišč","Kmetijstvo",5658,"Kmetijstvo: Pomoč za komasacijo gozdnih zemljišč",null,null,null,"OBČINA KOMENDA",1332155000,"OBČINA KOMENDA",null,null,null,null,null,null,null,null,"SID MSP6 - NKU","Razvojno-spodbujevalni program SID banke za financiranje naložb in kapitalskega utrjevanja MSP",null,"2016-02-26",null,null,null,null,null,null,null,"Logatec"," /",null,"200","Poljčane","50","SLOVENSKA BISTRICA",null,null,null,null,null,null,null,"064","Logatec",2,"SI04","Zahodna Slovenija","08","SI041","Osrednjeslovenska",null,null,null,null,null,null,"23.430","C23.430 Proizvodnja izolatorjev in izolacijskih elementov iz keramike","C23.43 Proizvodnja izolatorjev in izolacijskih elementov iz keramike","C23.4 Proizvodnja drugih izdelkov iz keramike in porcelana","C23 Proizvodnja nekovinskih mineralnih izdelkov","C PREDELOVALNE DEJAVNOSTI",null,null,null,null,null,null,6240,"Kozina"]
[null,null,null,"Kmetijstvo; Pomoč za sodelovanje v gozdarskem sektorju, Kmetijske smernice","Kmetijstvo",5659,"Kmetijstvo; Pomoč za sodelovanje v gozdarskem sektorju, Kmetijske smernice",null,null,null,"OBČINA KOSTANJEVICA NA KRKI",2179903000,"OBČINA KOSTANJEVICA NA KRKI",null,null,null,null,null,null,null,null,"P1+ 2016","Javni razpis za garancije Sklada za bančne kredite s subvencijo obrestne mere (P1 plus 2016) ","9/2016","2016-02-12",null,null,null,null,null,null,null,"Lukovica"," /",null,"114","Slovenske Konjice","51","SLOVENSKE KONJICE",null,null,null,null,null,null,null,"068","Lukovica",2,"SI04","Zahodna Slovenija","08","SI041","Osrednjeslovenska",null,null,null,null,null,null,"23.440","C23.440 Proizvodnja druge tehnične keramike","C23.44 Proizvodnja druge tehnične keramike","C23.4 Proizvodnja drugih izdelkov iz keramike in porcelana","C23 Proizvodnja nekovinskih mineralnih izdelkov","C PREDELOVALNE DEJAVNOSTI",null,null,null,null,null,null,3260,"Kozje"]
[null,null,null,"Ribištvo: Pomoči rednemu poslovanju","Ribištvo",6711,"Ribištvo: Pomoči rednemu poslovanju",null,null,null,"OBČINA KOSTEL",1332210000,"OBČINA KOSTEL",null,null,null,null,null,null,null,null,"Ženske 2016","Usposabljanje podjetnic začetnic v letu 2016",null,"2016-02-01",null,null,null,null,null,null,null,"Medvode"," /",null,"137","Vitanje","51","SLOVENSKE KONJICE",null,null,null,null,null,null,null,"071","Medvode",2,"SI04","Zahodna Slovenija","08","SI041","Osrednjeslovenska",null,null,null,null,null,null,"23.490","C23.490 Proizvodnja drugih keramičnih izdelkov","C23.49 Proizvodnja drugih keramičnih izdelkov","C23.4 Proizvodnja drugih izdelkov iz keramike in porcelana","C23 Proizvodnja nekovinskih mineralnih izdelkov","C PREDELOVALNE DEJAVNOSTI",null,null,null,null,null,null,4000,"Kranj"]
[null,null,null,"Ribištvo: Splošne oblike pomoči (usposabljanje, svetovanje, raziskave in razvoj ter oglaševanje)","Ribištvo",6712,"Ribištvo: Splošne oblike pomoči (usposabljanje, svetovanje, raziskave in razvoj ter oglaševanje)",null,null,null,"OBČINA KOZJE",5884004000,"OBČINA KOZJE",null,null,null,null,null,null,null,null,"EUROSTARS 2016","Javni razpis za podporo malim in srednje velikim podjetjem, ki izvajajo raziskave in razvoj – program Eurostars, v okviru iniciative EUREKA","6/2016","2016-01-29",null,null,null,null,null,null,null,"Mengeš"," /",null,"144","Zreče","51","SLOVENSKE KONJICE",null,null,null,null,null,null,null,"072","Mengeš",2,"SI04","Zahodna Slovenija","08","SI041","Osrednjeslovenska",null,null,null,null,null,null,"23.510","C23.510 Proizvodnja cementa","C23.51 Proizvodnja cementa","C23.5 Proizvodnja cementa, apna, mavca","C23 Proizvodnja nekovinskih mineralnih izdelkov","C PREDELOVALNE DEJAVNOSTI",null,null,null,null,null,null,4001,"Kranj - poštni predali"]
[null,null,null,"Ribištvo: Pomoči za morski ribolov","Ribištvo",6713,"Ribištvo: Pomoči za morski ribolov",null,null,null,"OBČINA KRANJSKA GORA",5874327000,"OBČINA KRANJSKA GORA",null,null,null,null,null,null,null,null,"RRI 2016","Javni razpis za \"RRI v verigah in mrežah vrednosti\" (TRL 6-9)","6/2016","2016-01-29",null,null,null,null,null,null,null,"Moravče"," /",null,"154","Dobje","52","ŠENTJUR PRI CELJU",null,null,null,null,null,null,null,"077","Moravče",2,"SI04","Zahodna Slovenija","08","SI041","Osrednjeslovenska",null,null,null,null,null,null,"23.520","C23.520 Proizvodnja apna in mavca","C23.52 Proizvodnja apna in mavca","C23.5 Proizvodnja cementa, apna, mavca","C23 Proizvodnja nekovinskih mineralnih izdelkov","C PREDELOVALNE DEJAVNOSTI",null,null,null,null,null,null,4280,"Kranjska Gora"]
[null,null,null,"Ribištvo: Pomoči pri predelavi in trženju","Ribištvo",6714,"Ribištvo: Pomoči pri predelavi in trženju",null,null,null,"OBČINA KRIŽEVCI",1332147000,"OBČINA KRIŽEVCI",null,null,null,null,null,null,null,null,"P7 2016","Javni razpis za mikrokredite za mikro in mala podjetja (P7 2016)","6/2016","2016-01-29",null,null,null,null,null,null,null,"Škofljica"," /",null,"120","Šentjur","52","ŠENTJUR PRI CELJU",null,null,null,null,null,null,null,"123","Škofljica",2,"SI04","Zahodna Slovenija","08","SI041","Osrednjeslovenska",null,null,null,null,null,null,"23.610","C23.610 Proizvodnja betonskih izdelkov za gradbeništvo","C23.61 Proizvodnja betonskih izdelkov za gradbeništvo","C23.6 Proizvodnja izdelkov iz betona, cementa, mavca","C23 Proizvodnja nekovinskih mineralnih izdelkov","C PREDELOVALNE DEJAVNOSTI",null,null,null,null,null,null,1281,"Kresnice"]
[null,null,null,"Ribištvo: Pomoči za varstvo in razvoj ribjih virov in obalnih voda","Ribištvo",6715,"Ribištvo: Pomoči za varstvo in razvoj ribjih virov in obalnih voda",null,null,null,"OBČINA KRŠKO",5874572000,"OBČINA KRŠKO",null,null,null,null,null,null,null,null,"PSI 2016/2017","Poklicno in strokovno izobraževanje v letu 2016/2017",null,"2016-01-22",null,null,null,null,null,null,null,"Šmartno pri Litiji"," /",null,"027","Gorenja vas - Poljane","53","ŠKOFJA LOKA",null,null,null,null,null,null,null,"194","Šmartno pri Litiji",2,"SI04","Zahodna Slovenija","08","SI041","Osrednjeslovenska",null,null,null,null,null,null,"23.620","C23.620 Proizvodnja izdelkov iz mavca za gradbeništvo","C23.62 Proizvodnja izdelkov iz mavca za gradbeništvo","C23.6 Proizvodnja izdelkov iz betona, cementa, mavca","C23 Proizvodnja nekovinskih mineralnih izdelkov","C PREDELOVALNE DEJAVNOSTI",null,null,null,null,null,null,4294,"Križe"]
[null,null,null,"Ribištvo: Pomoči na področju veterine in zdravja","Ribištvo",6716,"Ribištvo: Pomoči na področju veterine in zdravja",null,null,null,"OBČINA KUNGOTA",5884144000,"OBČINA KUNGOTA",null,null,null,null,null,null,null,null,"Poplave 11.2014","Javni poziv za pomoč podjetjem, ki so utrpela škodo kot posledico poplav v novembru 2014","Sklep vlade 84400-6/2015/4","2015-07-29",null,null,null,null,null,null,null,"Trzin"," /",null,"122","Škofja Loka","53","ŠKOFJA LOKA",null,null,null,null,null,null,null,"186","Trzin",2,"SI04","Zahodna Slovenija","08","SI041","Osrednjeslovenska",null,null,null,null,null,null,"23.630","C23.630 Proizvodnja sveže betonske mešanice","C23.63 Proizvodnja sveže betonske mešanice","C23.6 Proizvodnja izdelkov iz betona, cementa, mavca","C23 Proizvodnja nekovinskih mineralnih izdelkov","C PREDELOVALNE DEJAVNOSTI",null,null,null,null,null,null,9206,"Križevci"]
[null,null,null,"Ribištvo: Zgodnje upokojevanje","Ribištvo",6717,"Ribištvo: Zgodnje upokojevanje",null,null,null,"OBČINA KUZMA",5883121000,"OBČINA KUZMA",null,null,null,null,null,null,null,null,"Poplave 10.2014","Javni poziv za pomoč podjetjem, ki so utrpela škodo kot posledico poplav v oktobru 2014","Sklep vlade 84400-5/2015/4 in 84400-5/2015/13","2015-07-29",null,null,null,null,null,null,null,"Velike Lašče"," /",null,"146","Železniki","53","ŠKOFJA LOKA",null,null,null,null,null,null,null,"134","Velike Lašče",2,"SI04","Zahodna Slovenija","08","SI041","Osrednjeslovenska",null,null,null,null,null,null,"23.640","C23.640 Proizvodnja malte","C23.64 Proizvodnja malte","C23.6 Proizvodnja izdelkov iz betona, cementa, mavca","C23 Proizvodnja nekovinskih mineralnih izdelkov","C PREDELOVALNE DEJAVNOSTI",null,null,null,null,null,null,9242,"Križevci pri Ljutomeru"]
[null,null,null,"Ribištvo: Pomoči za preusmeritev dejavnosti","Ribištvo",6718,"Ribištvo: Pomoči za preusmeritev dejavnosti",null,null,null,"OBČINA LAŠKO",5874505000,"OBČINA LAŠKO",null,null,null,null,null,null,null,null,"Poplave 9.2014","Javni poziv za pomoč podjetjem, ki so utrpela škodo kot posledico poplav v septembru 2014","Sklep vlade 84400-4/2015/4","2015-07-29",null,null,null,null,null,null,null,"Vodice"," /",null,"147","Žiri","53","ŠKOFJA LOKA",null,null,null,null,null,null,null,"138","Vodice",2,"SI04","Zahodna Slovenija","08","SI041","Osrednjeslovenska",null,null,null,null,null,null,"23.650","C23.650 Proizvodnja izdelkov iz vlaknatega cementa","C23.65 Proizvodnja izdelkov iz vlaknatega cementa","C23.6 Proizvodnja izdelkov iz betona, cementa, mavca","C23 Proizvodnja nekovinskih mineralnih izdelkov","C PREDELOVALNE DEJAVNOSTI",null,null,null,null,null,null,1301,"Krka"]
[null,null,null,"Ribištvo: Pomoč za reševanje in prestrukturiranje, ribištvo","Ribištvo",6719,"Ribištvo: Pomoč za reševanje in prestrukturiranje, ribištvo",null,null,null,"OBČINA LENART",5874254000,"OBČINA LENART",null,null,null,null,null,null,null,null,"CW 2015","Javni natečaj za podelitev denarne nagrade in priznanja najboljšim ponudnikom prostorov podjetniškega sodelovanja v Republiki Sloveniji »Najboljši prostor podjetniškega sodelovanja v Sloveniji 2015« (Slovenian Best Coworking Space Award 2015)","53/2015","2015-07-17",null,null,null,null,null,null,null,"Vrhnika"," /",null,"149","Bistrica ob Sotli","54","ŠMARJE PRI JELŠAH",null,null,null,null,null,null,null,"140","Vrhnika",2,"SI04","Zahodna Slovenija","08","SI041","Osrednjeslovenska",null,null,null,null,null,null,"23.690","C23.690 Proizvodnja drugih izdelkov iz betona, cementa, mavca","C23.69 Proizvodnja drugih izdelkov iz betona, cementa, mavca","C23.6 Proizvodnja izdelkov iz betona, cementa, mavca","C23 Proizvodnja nekovinskih mineralnih izdelkov","C PREDELOVALNE DEJAVNOSTI",null,null,null,null,null,null,8296,"Krmelj"]
[null,null,null,"Ribištvo: Razrez plovil, trajni prenos v tretjo državo, trajni prenos plovila za neribolovne namene","Ribištvo",6720,"Ribištvo: Razrez plovil, trajni prenos v tretjo državo, trajni prenos plovila za neribolovne namene",null,null,null,"OBČINA LENDAVA - LENDVA KÖZSEG",5874645000,"OBČINA LENDAVA - LENDVA KÖZSEG",null,null,null,null,null,null,null,null,"SID MSP4 - RRI","Razvojno-spodbujevalni program SID banke za financiranje raziskav, razvoja in inovacij MSP",null,"2015-05-06",null,null,null,null,null,null,null,"Bled"," /",null,"051","Kozje","54","ŠMARJE PRI JELŠAH",null,null,null,null,null,null,null,"003","Bled",2,"SI04","Zahodna Slovenija","09","SI042","Gorenjska",null,null,null,null,null,null,"23.700","C23.700 Obdelava naravnega kamna","C23.70 Obdelava naravnega kamna","C23.7 Obdelava naravnega kamna","C23 Proizvodnja nekovinskih mineralnih izdelkov","C PREDELOVALNE DEJAVNOSTI",null,null,null,null,null,null,4245,"Kropa"]
[null,null,null,"Ribištvo: Podpora projektom OAS","Ribištvo",6721,"Ribištvo: Podpora projektom OAS",null,null,null,"OBČINA LITIJA",5874246000,"OBČINA LITIJA",null,null,null,null,null,null,null,null,"UI 2015","Javni razpis za podporo izvajanju nalog univerzitetnih inkubatorjev v letu 2015 (JR UI)","21/2015","2015-03-27",null,null,null,null,null,null,null,"Bohinj"," /",null,"092","Podčetrtek","54","ŠMARJE PRI JELŠAH",null,null,null,null,null,null,null,"004","Bohinj",2,"SI04","Zahodna Slovenija","09","SI042","Gorenjska",null,null,null,null,null,null,"23.910","C23.910 Proizvodnja brusilnih sredstev","C23.91 Proizvodnja brusilnih sredstev","C23.9 Proizvodnja brusilnih sredstev in drugih nekovinskih mineralnih izdelkov","C23 Proizvodnja nekovinskih mineralnih izdelkov","C PREDELOVALNE DEJAVNOSTI",null,null,null,null,null,null,8262,"Krška vas"]
[null,null,null,"Bančništvo","Bančništvo",7811,"Bančništvo",null,null,null,"OBČINA LJUBNO",5883733000,"OBČINA LJUBNO",null,null,null,null,null,null,null,null,"VEM 2015","Javni razpis za financiranje izvajanja celovitih podpornih storitev v okviru vstopnih točk VEM na lokalnem nivoju v letu 2015 -  \"VEM 2015\"","21/2015","2015-03-27",null,null,null,null,null,null,null,"Cerklje na Gorenjskem"," /",null,"106","Rogaška Slatina","54","ŠMARJE PRI JELŠAH",null,null,null,null,null,null,null,"012","Cerklje na Gorenjskem",2,"SI04","Zahodna Slovenija","09","SI042","Gorenjska",null,null,null,null,null,null,"23.990","C23.990 Proizvodnja drugih nekovinskih mineralnih izdelkov","C23.99 Proizvodnja drugih nekovinskih mineralnih izdelkov","C23.9 Proizvodnja brusilnih sredstev in drugih nekovinskih mineralnih izdelkov","C23 Proizvodnja nekovinskih mineralnih izdelkov","C PREDELOVALNE DEJAVNOSTI",null,null,null,null,null,null,8270,"Krško"]
[null,null,null,"Zavarovalništvo","Zavarovalništvo",7821,"Zavarovalništvo",null,null,null,"OBČINA LJUTOMER",5874092000,"OBČINA LJUTOMER",null,null,null,null,null,null,null,null,"SID MSP3 - nz","Razvojno-spodbujevalni program SID banke za financiranje naložb in zaposlovanja MSP",null,"2015-03-23",null,null,null,null,null,null,null,"Gorenja vas - Poljane"," /",null,"107","Rogatec","54","ŠMARJE PRI JELŠAH",null,null,null,null,null,null,null,"027","Gorenja vas - Poljane",2,"SI04","Zahodna Slovenija","09","SI042","Gorenjska",null,null,null,null,null,null,"24.100","C24.100 Proizvodnja surovega železa, jekla, ferozlitin","C24.10 Proizvodnja surovega železa, jekla, ferozlitin","C24.1 Proizvodnja surovega železa, jekla, ferozlitin","C24 Proizvodnja kovin","C PREDELOVALNE DEJAVNOSTI",null,null,null,null,null,null,9263,"Kuzma"]
[null,null,null,"Pošta","Pošta",7831,"Pošta",null,null,null,"OBČINA LOGATEC",5874661000,"OBČINA LOGATEC",null,null,null,null,null,null,null,null,"ZSTNIIP - 7. b člen","Zakon o spodbujanju tujih neposrednih investicij in internacionalizacije podjetij (ZSTNIIP) - 7. b člen","17/2015","2015-03-13",null,null,null,null,null,null,null,"Gorje"," /",null,"124","Šmarje pri Jelšah","54","ŠMARJE PRI JELŠAH",null,null,null,null,null,null,null,"207","Gorje",2,"SI04","Zahodna Slovenija","09","SI042","Gorenjska",null,null,null,null,null,null,"24.200","C24.200 Proizvodnja jeklenih cevi, votlih profilov in fitingov","C24.20 Proizvodnja jeklenih cevi, votlih profilov in fitingov","C24.2 Proizvodnja jeklenih cevi, votlih profilov in fitingov","C24 Proizvodnja kovin","C PREDELOVALNE DEJAVNOSTI",null,null,null,null,null,null,2318,"Laporje"]
[null,null,null,"Pomoč za širokopasovno infrastrukturo","Razvoj širokopasovnega omrežja",8004,"Pomoč za širokopasovno infrastrukturo",null,null,null,"OBČINA LOŠKA DOLINA",5880165000,"OBČINA LOŠKA DOLINA",null,null,null,null,null,null,null,null,"P1 TIP 2015","Javni razpis za garancije Sklada za bančne kredite s subvencijo obrestne mere namenjene tehnološko inovativnim projektom (P1 TIP 2015)","17/2015","2015-03-13",null,null,null,null,null,null,null,"Jesenice"," /",null,"006","Bovec","55","TOLMIN",null,null,null,null,null,null,null,"041","Jesenice",2,"SI04","Zahodna Slovenija","09","SI042","Gorenjska",null,null,null,null,null,null,"24.310","C24.310 Hladno vlečenje profilov","C24.31 Hladno vlečenje profilov","C24.3 Druga primarna predelava železa in jekla","C24 Proizvodnja kovin","C PREDELOVALNE DEJAVNOSTI",null,null,null,null,null,null,3270,"Laško"]
[null,null,null,"Okolje ravnanje z odpadki in njihovo odlaganje","Storitve splošnega gospodarskega pomena",8025,"Okolje ravnanje z odpadki in njihovo odlaganje",null,null,null,"OBČINA LOŠKI POTOK",5883806000,"OBČINA LOŠKI POTOK",null,null,null,null,null,null,null,null,"P1 2015","Javni razpis za garancije Sklada za bančne kredite s subvencijo obrestne mere (P1 2015) ","17/2015","2015-03-13",null,null,null,null,null,null,null,"Jezersko"," /",null,"046","Kobarid","55","TOLMIN",null,null,null,null,null,null,null,"163","Jezersko",2,"SI04","Zahodna Slovenija","09","SI042","Gorenjska",null,null,null,null,null,null,"24.320","C24.320 Hladno valjanje traku","C24.32 Hladno valjanje traku","C24.3 Druga primarna predelava železa in jekla","C24 Proizvodnja kovin","C PREDELOVALNE DEJAVNOSTI",null,null,null,null,null,null,1219,"Laze v Tuhinju"]
[null,null,null,"Okolje odvajanje in čiščenje odpadnih voda","Storitve splošnega gospodarskega pomena",8027,"Okolje odvajanje in čiščenje odpadnih voda",null,null,null,"OBČINA LOVRENC NA POHORJU",1357883000,"OBČINA LOVRENC NA POHORJU",null,null,null,null,null,null,null,null,"P2B 2015","Javni razpis za spodbude za zagon inovativnih podjetij v letu 2015 (P2B 2015)","17/2015","2015-03-13",null,null,null,null,null,null,null,"Kranj"," /",null,"128","Tolmin","55","TOLMIN",null,null,null,null,null,null,null,"052","Kranj",2,"SI04","Zahodna Slovenija","09","SI042","Gorenjska",null,null,null,null,null,null,"24.330","C24.330 Hladno oblikovanje profilov in pregibanje","C24.33 Hladno oblikovanje profilov in pregibanje","C24.3 Druga primarna predelava železa in jekla","C24 Proizvodnja kovin","C PREDELOVALNE DEJAVNOSTI",null,null,null,null,null,null,2230,"Lenart v Slovenskih goricah"]
[null,null,null,"RRI: Predkonkurenčne razvojno raziskovalne aktivnosti","Raziskave in razvoj ter inovacije",2113,"RRI: Predkonkurenčne razvojno raziskovalne aktivnosti",null,null,null,"OBČINA LUČE",5883784000,"OBČINA LUČE",null,null,null,null,null,null,null,null,"P2A 2015","Javni razpis za spodbude za zagon inovativnih podjetij v letu 2015 (P2A 2015)","17/2015","2015-03-13",null,null,null,null,null,null,null,"Kranjska Gora"," /",null,"129","Trbovlje","56","TRBOVLJE",null,null,null,null,null,null,null,"053","Kranjska Gora",2,"SI04","Zahodna Slovenija","09","SI042","Gorenjska",null,null,null,null,null,null,"24.340","C24.340 Hladno vlečenje žice","C24.34 Hladno vlečenje žice","C24.3 Druga primarna predelava železa in jekla","C24 Proizvodnja kovin","C PREDELOVALNE DEJAVNOSTI",null,null,null,null,null,null,9220,"Lendava/Lendva"]
[null,null,null,"Regionalne: Odpiranje novih delovnih mest","Regionalne pomoči",2212,"Regionalne: Odpiranje novih delovnih mest",null,null,null,"OBČINA LUKOVICA",5880491000,"OBČINA LUKOVICA",null,null,null,null,null,null,null,null,"SK200 2015","Javni razpis za semenski kapital - lastnšiki vstop za rast inovativnih podjetij v višini 200.000 EUR (SK200 2015)","12/2015","2015-02-27",null,null,null,null,null,null,null,"Naklo"," /",null,"212","Mirna","57","TREBNJE",null,null,null,null,null,null,null,"082","Naklo",2,"SI04","Zahodna Slovenija","09","SI042","Gorenjska",null,null,null,null,null,null,"24.410","C24.410 Proizvodnja plemenitih kovin","C24.41 Proizvodnja plemenitih kovin","C24.4 Proizvodnja plemenitih in drugih neželeznih kovin","C24 Proizvodnja kovin","C PREDELOVALNE DEJAVNOSTI",null,null,null,null,null,null,4248,"Lesce"]
[null,null,null,"Regionalne: Začetne (materialne in nematerialne) investicije","Regionalne pomoči",2221,"Regionalne: Začetne (materialne in nematerialne) investicije",null,null,null,"OBČINA MAJŠPERK",5883644000,"OBČINA MAJŠPERK",null,null,null,null,null,null,null,null,"SK75 2015","Javni razpis za semenski kapital - konvertibilno posojilo za zagon podjetij v višini 75.000 EUR (SK75 2015)","12/2015","2015-02-27",null,null,null,null,null,null,null,"Preddvor"," /",null,"199","Mokronog - Trebelno","57","TREBNJE",null,null,null,null,null,null,null,"095","Preddvor",2,"SI04","Zahodna Slovenija","09","SI042","Gorenjska",null,null,null,null,null,null,"24.420","C24.420 Proizvodnja aluminija","C24.42 Proizvodnja aluminija","C24.4 Proizvodnja plemenitih in drugih neželeznih kovin","C24 Proizvodnja kovin","C PREDELOVALNE DEJAVNOSTI",null,null,null,null,null,null,3261,"Lesično"]
[null,null,null,null,null,null,null,null,null,null,"OBČINA MAKOLE",2242753000,"OBČINA MAKOLE",null,null,null,null,null,null,null,null,"P7 2015","Javni razpis za mikrokredite za mikro in mala podjetja (P7 2015)","6/2015","2015-01-30",null,null,null,null,null,null,null,"Radovljica"," /",null,"211","Šentrupert","57","TREBNJE",null,null,null,null,null,null,null,"102","Radovljica",2,"SI04","Zahodna Slovenija","09","SI042","Gorenjska",null,null,null,null,null,null,"24.430","C24.430 Proizvodnja svinca, cinka in kositra","C24.43 Proizvodnja svinca, cinka in kositra","C24.4 Proizvodnja plemenitih in drugih neželeznih kovin","C24 Proizvodnja kovin","C PREDELOVALNE DEJAVNOSTI",null,null,null,null,null,null,8273,"Leskovec pri Krškem"]
[null,null,null,null,null,null,null,null,null,null,"OBČINA MARKOVCI",1357492000,"OBČINA MARKOVCI",null,null,null,null,null,null,null,null,"PSI 2015/2016","Poklicno in strokovno izobraževanje v letu 2015/2016",null,"2015-01-23",null,null,null,null,null,null,null,"Šenčur"," /",null,"130","Trebnje","57","TREBNJE",null,null,null,null,null,null,null,"117","Šenčur",2,"SI04","Zahodna Slovenija","09","SI042","Gorenjska",null,null,null,null,null,null,"24.440","C24.440 Proizvodnja bakra","C24.44 Proizvodnja bakra","C24.4 Proizvodnja plemenitih in drugih neželeznih kovin","C24 Proizvodnja kovin","C PREDELOVALNE DEJAVNOSTI",null,null,null,null,null,null,2372,"Libeliče"]
[null,null,null,null,null,null,null,null,null,null,"OBČINA MEDVODE",5874564000,"OBČINA MEDVODE",null,null,null,null,null,null,null,null,"P2B 2014","Javni razpis za subvencije za zagon inovativnih podjetij v letu 2014 (P2B 2014)","69/2014","2014-09-26",null,null,null,null,null,null,null,"Škofja Loka"," /",null,"131","Tržič","58","TRŽIČ",null,null,null,null,null,null,null,"122","Škofja Loka",2,"SI04","Zahodna Slovenija","09","SI042","Gorenjska",null,null,null,null,null,null,"24.450","C24.450 Proizvodnja drugih neželeznih kovin","C24.45 Proizvodnja drugih neželeznih kovin","C24.4 Proizvodnja plemenitih in drugih neželeznih kovin","C24 Proizvodnja kovin","C PREDELOVALNE DEJAVNOSTI",null,null,null,null,null,null,2341,"Limbuš"]
[null,null,null,null,null,null,null,null,null,null,"OBČINA MENGEŠ",5880483000,"OBČINA MENGEŠ",null,null,null,null,null,null,null,null,"EUREKA 2014","Javni razpis za dodeljevanje spodbud v okviru iniciative EUREKA za leto 2014","63/2014","2014-08-22",null,null,null,null,null,null,null,"Tržič"," /",null,"125","Šmartno ob Paki","59","VELENJE",null,null,null,null,null,null,null,"131","Tržič",2,"SI04","Zahodna Slovenija","09","SI042","Gorenjska",null,null,null,null,null,null,"24.460","C24.460 Proizvodnja jedrskega goriva","C24.46 Proizvodnja jedrskega goriva","C24.4 Proizvodnja plemenitih in drugih neželeznih kovin","C24 Proizvodnja kovin","C PREDELOVALNE DEJAVNOSTI",null,null,null,null,null,null,1270,"Litija"]
[null,null,null,null,null,null,null,null,null,null,"OBČINA METLIKA",5881374000,"OBČINA METLIKA",null,null,null,null,null,null,null,null,"EUROSTARS 2014","Javni razpis za podporo malim in srednje velikim podjetjem, ki izvajajo raziskave in razvoj - program EUROSTARS, v okviru iniciative EUREKA v letu 2014","62/2014","2014-08-14",null,null,null,null,null,null,null,"Železniki"," /",null,"126","Šoštanj","59","VELENJE",null,null,null,null,null,null,null,"146","Železniki",2,"SI04","Zahodna Slovenija","09","SI042","Gorenjska",null,null,null,null,null,null,"24.510","C24.510 Litje železa","C24.51 Litje železa","C24.5 Livarstvo","C24 Proizvodnja kovin","C PREDELOVALNE DEJAVNOSTI",null,null,null,null,null,null,3202,"Ljubečna"]
[null,null,null,null,null,null,null,null,null,null,"OBČINA MEŽICA",5883610000,"OBČINA MEŽICA",null,null,null,null,null,null,null,null,"SK200 2014","Javni razpis za semenski kapital - lastniški vstop za rast inovativnih podjetij v višini 200.000 EUR (SK200 2014)","59/2014","2014-08-01",null,null,null,null,null,null,null,"Žiri"," /",null,"133","Velenje","59","VELENJE",null,null,null,null,null,null,null,"147","Žiri",2,"SI04","Zahodna Slovenija","09","SI042","Gorenjska",null,null,null,null,null,null,"24.520","C24.520 Litje jekla","C24.52 Litje jekla","C24.5 Livarstvo","C24 Proizvodnja kovin","C PREDELOVALNE DEJAVNOSTI",null,null,null,null,null,null,1000,"Ljubljana"]
[null,null,null,null,null,null,null,null,null,null,"OBČINA MIKLAVŽ NA DRAVSKEM POLJU",1365614000,"OBČINA MIKLAVŽ NA DRAVSKEM POLJU",null,null,null,null,null,null,null,null,"SK50 2014","Javni razpis za semenski kapital - konvertibilno posojilo za zagon inovativnih podjetij v višini 50.000 EUR (SK50 2014) ","45/2014","2014-06-20",null,null,null,null,null,null,null,"Žirovnica"," /",null,"005","Borovnica","60","VRHNIKA",null,null,null,null,null,null,null,"192","Žirovnica",2,"SI04","Zahodna Slovenija","09","SI042","Gorenjska",null,null,null,null,null,null,"24.530","C24.530 Litje lahkih kovin","C24.53 Litje lahkih kovin","C24.5 Livarstvo","C24 Proizvodnja kovin","C PREDELOVALNE DEJAVNOSTI",null,null,null,null,null,null,1001,"Ljubljana - poštni predali"]
[null,null,null,null,null,null,null,null,null,null,"OBČINA MIREN - KOSTANJEVICA",5881838000,"OBČINA MIREN - KOSTANJEVICA",null,null,null,null,null,null,null,null,"P1B TIP 2014","Javni razpis za garancije Sklada za bančne kredite s subvencijo obrestne mere (P1B TIP 2014)","38/2014","2014-05-30",null,null,null,null,null,null,null,"Ajdovščina"," /",null,"140","Vrhnika","60","VRHNIKA",null,null,null,null,null,null,null,"001","Ajdovščina",2,"SI04","Zahodna Slovenija","11","SI043","Goriška",null,null,null,null,null,null,"24.540","C24.540 Litje drugih neželeznih kovin","C24.54 Litje drugih neželeznih kovin","C24.5 Livarstvo","C24 Proizvodnja kovin","C PREDELOVALNE DEJAVNOSTI",null,null,null,null,null,null,1231,"Ljubljana - Črnuče"]
[null,null,null,null,null,null,null,null,null,null,"OBČINA MIRNA",2399164000,"OBČINA MIRNA",null,null,null,null,null,null,null,null,"P1B 2014","Javni razpis za garancije Sklada za bančne kredite s subvencijo obrestne mere (P1B 2014)","38/2014","2014-05-30",null,null,null,null,null,null,null,"Bovec"," /",null,"208","Log - Dragomer","60","VRHNIKA",null,null,null,null,null,null,null,"006","Bovec",2,"SI04","Zahodna Slovenija","11","SI043","Goriška",null,null,null,null,null,null,"25.110","C25.110 Proizvodnja kovinskih konstrukcij in njihovih delov","C25.11 Proizvodnja kovinskih konstrukcij in njihovih delov","C25.1 Proizvodnja gradbenih kovinskih izdelkov","C25 Proizvodnja kovinskih izdelkov, razen strojev in naprav","C PREDELOVALNE DEJAVNOSTI",null,null,null,null,null,null,1261,"Ljubljana - Dobrunje"]
[null,null,null,null,null,null,null,null,null,null,"OBČINA MIRNA PEČ",1357816000,{"$f":"K195","v":"OBČINA MIRNA PEČ"},null,null,null,null,null,null,null,null,"P1 TIP 2014","Javni razpis za garancije Sklada za bančne kredite s subvencijo obrestne mere namenjene tehnološko inovativnim projektom (P1 TIP 2014)","21/2014","2014-03-28",null,null,null,null,null,null,null,"Brda"," /",null,"142","Zagorje ob Savi","61","ZAGORJE OB SAVI",null,null,null,null,null,null,null,"007","Brda",2,"SI04","Zahodna Slovenija","11","SI043","Goriška",null,null,null,null,null,null,"25.120","C25.120 Proizvodnja kovinskega stavbnega pohištva","C25.12 Proizvodnja kovinskega stavbnega pohištva","C25.1 Proizvodnja gradbenih kovinskih izdelkov","C25 Proizvodnja kovinskih izdelkov, razen strojev in naprav","C PREDELOVALNE DEJAVNOSTI",null,null,null,null,null,null,1260,"Ljubljana - Polje"]
[null,null,null,null,null,null,null,null,null,null,"OBČINA MISLINJA",5883954000,"OBČINA MISLINJA",null,null,null,null,null,null,null,null,"P1 2014","Javni razpis za garancije Sklada za bančne kredite s subvencijo obrestne mere (P1 2014)","21/2014","2014-03-28",null,null,null,null,null,null,null,"Cerkno"," /",null,"151","Braslovče","62","ŽALEC",null,null,null,null,null,null,null,"014","Cerkno",2,"SI04","Zahodna Slovenija","11","SI043","Goriška",null,null,null,null,null,null,"25.210","C25.210 Proizvodnja radiatorjev in kotlov za centralno ogrevanje","C25.21 Proizvodnja radiatorjev in kotlov za centralno ogrevanje","C25.2 Proizvodnja kotlov za centralno ogrevanje, kovinskih rezervoarjev in cistern","C25 Proizvodnja kovinskih izdelkov, razen strojev in naprav","C PREDELOVALNE DEJAVNOSTI",null,null,null,null,null,null,1210,"Ljubljana - Šentvid"]
[null,null,null,null,null,null,null,null,null,null,"OBČINA MOKRONOG - TREBELNO",2241170000,"OBČINA MOKRONOG - TREBELNO",null,null,null,null,null,null,null,null,"P2A 2014","Javni razpis za subvencije za zagon inovativnih podjetij v letu 2014 (P2A 2014)","17/2014","2014-03-07",null,null,null,null,null,null,null,"Idrija"," /",null,"173","Polzela","62","ŽALEC",null,null,null,null,null,null,null,"036","Idrija",2,"SI04","Zahodna Slovenija","11","SI043","Goriška",null,null,null,null,null,null,"25.290","C25.290 Proizvodnja drugih kovinskih rezervoarjev in cistern","C25.29 Proizvodnja drugih kovinskih rezervoarjev in cistern","C25.2 Proizvodnja kotlov za centralno ogrevanje, kovinskih rezervoarjev in cistern","C25 Proizvodnja kovinskih izdelkov, razen strojev in naprav","C PREDELOVALNE DEJAVNOSTI",null,null,null,null,null,null,1211,"Ljubljana - Šmartno"]
[null,null,null,null,null,null,null,null,null,null,"OBČINA MORAVČE",5880505000,"OBČINA MORAVČE",null,null,null,null,null,null,null,null,"P7 2014","Javni razpis za mikrokredite za mikro in mala podjetja (P7 2014)","1/2014","2014-01-03",null,null,null,null,null,null,null,"Kanal"," /",null,"174","Prebold","62","ŽALEC",null,null,null,null,null,null,null,"044","Kanal",2,"SI04","Zahodna Slovenija","11","SI043","Goriška",null,null,null,null,null,null,"25.300","C25.300 Proizvodnja parnih kotlov, razen kotlov za centralno ogrevanje","C25.30 Proizvodnja parnih kotlov, razen kotlov za centralno ogrevanje","C25.3 Proizvodnja parnih kotlov, razen kotlov za centralno ogrevanje","C25 Proizvodnja kovinskih izdelkov, razen strojev in naprav","C PREDELOVALNE DEJAVNOSTI",null,null,null,null,null,null,3333,"Ljubno ob Savinji"]
[null,null,null,null,null,null,null,null,null,null,"OBČINA MORAVSKE TOPLICE",5883164000,"OBČINA MORAVSKE TOPLICE",null,null,null,null,null,null,null,null,"RNP 2013","Javno povabilo podjetjem za oddajo prijav in sodelovanje v »PROGRAMU ZA SPODBUJANJE RAZVOJA NOVIH PRODUKTOV V LETIH OD 2013 DO 2015 - RNP 2013«","88/2013","2013-10-25",null,null,null,null,null,null,null,"Kobarid"," /",null,"184","Tabor","62","ŽALEC",null,null,null,null,null,null,null,"046","Kobarid",2,"SI04","Zahodna Slovenija","11","SI043","Goriška",null,null,null,null,null,null,"25.400","C25.400 Proizvodnja orožja in streliva","C25.40 Proizvodnja orožja in streliva","C25.4 Proizvodnja orožja in streliva","C25 Proizvodnja kovinskih izdelkov, razen strojev in naprav","C PREDELOVALNE DEJAVNOSTI",null,null,null,null,null,null,9240,"Ljutomer"]
[null,null,null,null,null,null,null,null,null,null,"OBČINA MOZIRJE",5883849000,"OBČINA MOZIRJE",null,null,null,null,null,null,null,null,"P1 TIP 2013","Javni razpis za garancije Sklada za bančne kredite s subvencijo obrestne mere namenjene tehnološko inovativnim projektom (P1 TIP 2013)","83/2013","2013-10-11",null,null,null,null,null,null,null,"Miren - Kostanjevica"," /",null,"189","Vransko","62","ŽALEC",null,null,null,null,null,null,null,"075","Miren - Kostanjevica",2,"SI04","Zahodna Slovenija","11","SI043","Goriška",null,null,null,null,null,null,"25.500","C25.500 Kovanje, stiskanje, vtiskovanje in valjanje kovin, prašna metalurgija","C25.50 Kovanje, stiskanje, vtiskovanje in valjanje kovin, prašna metalurgija","C25.5 Kovanje, stiskanje, vtiskovanje in valjanje kovin, prašna metalurgija","C25 Proizvodnja kovinskih izdelkov, razen strojev in naprav","C PREDELOVALNE DEJAVNOSTI",null,null,null,null,null,null,3215,"Loče"]
[null,null,null,null,null,null,null,null,null,null,"OBČINA MUTA",5881706000,"OBČINA MUTA",null,null,null,null,null,null,null,null,"SID MSP2 - tp","Razvojno-spodbujevalni program SID banke za financiranje poslovanja MSP","79/2013","2013-09-27",null,null,null,null,null,null,null,"Nova Gorica"," /",null,"190","Žalec","62","ŽALEC",null,null,null,null,null,null,null,"084","Nova Gorica",2,"SI04","Zahodna Slovenija","11","SI043","Goriška",null,null,null,null,null,null,"25.611","C25.611 Prekrivanje kovin s kovino","C25.61 Površinska obdelava in prekrivanje kovin","C25.6 Površinska obdelava in prekrivanje kovin, mehanska obdelava kovin","C25 Proizvodnja kovinskih izdelkov, razen strojev in naprav","C PREDELOVALNE DEJAVNOSTI",null,null,null,null,null,null,5231,"Log pod Mangartom"]
[null,null,null,null,null,null,null,null,null,null,"OBČINA NAKLO",5874688000,"OBČINA NAKLO",null,null,null,null,null,null,null,null,"SID MSP1 - tp mikro","Razvojno-spodbujevalni program SID banke za mikrofinanciranje poslovanja MSP","79/2013","2013-09-27",null,null,null,null,null,null,null,"Renče - Vogrsko"," /",null,"026","Duplek","64","MARIBOR",null,null,null,null,null,null,null,"201","Renče - Vogrsko",2,"SI04","Zahodna Slovenija","11","SI043","Goriška",null,null,null,null,null,null,"25.619","C25.619 Druga površinska in toplotna obdelava kovin","C25.61 Površinska obdelava in prekrivanje kovin","C25.6 Površinska obdelava in prekrivanje kovin, mehanska obdelava kovin","C25 Proizvodnja kovinskih izdelkov, razen strojev in naprav","C PREDELOVALNE DEJAVNOSTI",null,null,null,null,null,null,1358,"Log pri Brezovici"]
[null,null,null,null,null,null,null,null,null,null,"OBČINA NAZARJE",5883822000,"OBČINA NAZARJE",null,null,null,null,null,null,null,null,"KROP 2013","Javni razpis za krepitev razvojnih oddelkov v podjetjih 2013 (KROP 2013)","76/2013","2013-09-13",null,null,null,null,null,null,null,"Šempeter - Vrtojba"," /",null,"160","Hoče - Slivnica","64","MARIBOR",null,null,null,null,null,null,null,"183","Šempeter - Vrtojba",2,"SI04","Zahodna Slovenija","11","SI043","Goriška",null,null,null,null,null,null,"25.620","C25.620 Mehanska obdelava kovin","C25.62 Mehanska obdelava kovin","C25.6 Površinska obdelava in prekrivanje kovin, mehanska obdelava kovin","C25 Proizvodnja kovinskih izdelkov, razen strojev in naprav","C PREDELOVALNE DEJAVNOSTI",null,null,null,null,null,null,1370,"Logatec"]
[null,null,null,null,null,null,null,null,null,null,"OBČINA ODRANCI",5874718000,"OBČINA ODRANCI",null,null,null,null,null,null,null,null,"P2B 2013","Javni razpis za subvencije za zagon inovativnih podjetij v letu 2013 (P2B 2013)","57/2013","2013-07-05",null,null,null,null,null,null,null,"Tolmin"," /",null,"070","Maribor","64","MARIBOR",null,null,null,null,null,null,null,"128","Tolmin",2,"SI04","Zahodna Slovenija","11","SI043","Goriška",null,null,null,null,null,null,"25.710","C25.710 Proizvodnja rezil in jedilnega pribora","C25.71 Proizvodnja rezil in jedilnega pribora","C25.7 Proizvodnja jedilnega pribora, ključavnic, okovja, orodja","C25 Proizvodnja kovinskih izdelkov, razen strojev in naprav","C PREDELOVALNE DEJAVNOSTI",null,null,null,null,null,null,1371,"Logatec"]
[null,null,null,null,null,null,null,null,null,null,"OBČINA OPLOTNICA",1357506000,"OBČINA OPLOTNICA",null,null,null,null,null,null,null,null,"RRPO 2013","Javni razpis za spodbujanje raziskovalno-razvojnih projektov na problemskih območjih z visoko brezposelnostjo v letih od 2013 do 2015 - RRPO 2013","55/2013","2013-06-28",null,null,null,null,null,null,null,"Vipava"," /",null,"169","Miklavž na Dravskem polju","64","MARIBOR",null,null,null,null,null,null,null,"136","Vipava",2,"SI04","Zahodna Slovenija","11","SI043","Goriška",null,null,null,null,null,null,"25.720","C25.720 Proizvodnja ključavnic, okovja","C25.72 Proizvodnja ključavnic, okovja","C25.7 Proizvodnja jedilnega pribora, ključavnic, okovja, orodja","C25 Proizvodnja kovinskih izdelkov, razen strojev in naprav","C PREDELOVALNE DEJAVNOSTI",null,null,null,null,null,null,1434,"Loka pri Zidanem Mostu"]
[null,null,null,null,null,null,null,null,null,null,"OBČINA ORMOŽ",5883687000,"OBČINA ORMOŽ",null,null,null,null,null,null,null,null,"P4 2013-2014","Javni razpis za sofinanciranje nove tehnološke opreme v letih 2013-2014 (P4 2013-2014)","52/2013","2013-06-21",null,null,null,null,null,null,null,"Divača"," /",null,"098","Rače - Fram","64","MARIBOR",null,null,null,null,null,null,null,"213","Ankaran/Ancarano",2,"SI04","Zahodna Slovenija","12","SI044","Obalno-kraška",null,null,null,null,null,null,"25.731","C25.731 Proizvodnja ročnega orodja","C25.73 Proizvodnja orodja","C25.7 Proizvodnja jedilnega pribora, ključavnic, okovja, orodja","C25 Proizvodnja kovinskih izdelkov, razen strojev in naprav","C PREDELOVALNE DEJAVNOSTI",null,null,null,null,null,null,3223,"Loka pri Žusmu"]
[null,null,null,null,null,null,null,null,null,null,"OBČINA OSILNICA",5874220000,"OBČINA OSILNICA",null,null,null,null,null,null,null,null,"POPLAVE 11.2012 - II. faza","Javni poziv za pomoč podjetjem, ki so utrpela škodo kot posledico poplav v novembru 2012 (II. Faza)","Sklep vlade 84400-4/2013/7","2013-04-29",null,null,null,null,null,null,null,"Hrpelje - Kozina"," /",null,"115","Starše","64","MARIBOR",null,null,null,null,null,null,null,"019","Divača",2,"SI04","Zahodna Slovenija","12","SI044","Obalno-kraška",null,null,null,null,null,null,"25.732","C25.732 Proizvodnja orodja za stroje","C25.73 Proizvodnja orodja","C25.7 Proizvodnja jedilnega pribora, ključavnic, okovja, orodja","C25 Proizvodnja kovinskih izdelkov, razen strojev in naprav","C PREDELOVALNE DEJAVNOSTI",null,null,null,null,null,null,6219,"Lokev"]
[null,null,null,null,null,null,null,null,null,null,"OBČINA PESNICA",5884098000,"OBČINA PESNICA",null,null,null,null,null,null,null,null,"EUREKA 2013","Javni razpis za dodeljevanje spodbud v okviru iniciative EUREKA za leto 2013 (EUREKA 2013)","22/2013","2013-03-15",null,null,null,null,null,null,null,"Izola/Isola"," /",null,"055","Kungota","65","PESNICA",null,null,null,null,null,null,null,"035","Hrpelje - Kozina",2,"SI04","Zahodna Slovenija","12","SI044","Obalno-kraška",null,null,null,null,null,null,"25.910","C25.910 Proizvodnja jeklenih bobnov, sodov in podobnih posod","C25.91 Proizvodnja jeklenih bobnov, sodov in podobnih posod","C25.9 Proizvodnja drugih kovinskih izdelkov","C25 Proizvodnja kovinskih izdelkov, razen strojev in naprav","C PREDELOVALNE DEJAVNOSTI",null,null,null,null,null,null,1318,"Loški Potok"]
[null,null,null,null,null,null,null,null,null,null,"OBČINA PIRAN",5883873000,"OBČINA PIRAN",null,null,null,null,null,null,null,null,"EUROSTARS 2013","Javni razpis za podporo malim in srednje velikim podjetjem, ki izvajajo raziskave in razvoj - program EUROSTARS, v okviru iniciative EUREKA v letu 2013","22/2013","2013-03-15",null,null,null,null,null,null,null,"Komen"," /",null,"089","Pesnica","65","PESNICA",null,null,null,null,null,null,null,"040","Izola/Isola",2,"SI04","Zahodna Slovenija","12","SI044","Obalno-kraška",null,null,null,null,null,null,"25.920","C25.920 Proizvodnja lahke kovinske embalaže","C25.92 Proizvodnja lahke kovinske embalaže","C25.9 Proizvodnja drugih kovinskih izdelkov","C25 Proizvodnja kovinskih izdelkov, razen strojev in naprav","C PREDELOVALNE DEJAVNOSTI",null,null,null,null,null,null,2324,"Lovrenc na Dravskem polju"]
[null,null,null,null,null,null,null,null,null,null,"OBČINA PIVKA",5883563000,"OBČINA PIVKA",null,null,null,null,null,null,null,null,"P1 2013","Javni razpis za garancije Sklada za bančne kredite s subvencijo obrestne mere (P1 2013)","22/2013","2013-03-15",null,null,null,null,null,null,null,"Koper/Capodistria"," /",null,"118","Šentilj","65","PESNICA",null,null,null,null,null,null,null,"049","Komen",2,"SI04","Zahodna Slovenija","12","SI044","Obalno-kraška",null,null,null,null,null,null,"25.930","C25.930 Proizvodnja izdelkov iz žice, verig in vzmeti","C25.93 Proizvodnja izdelkov iz žice, verig in vzmeti","C25.9 Proizvodnja drugih kovinskih izdelkov","C25 Proizvodnja kovinskih izdelkov, razen strojev in naprav","C PREDELOVALNE DEJAVNOSTI",null,null,null,null,null,null,2344,"Lovrenc na Pohorju"]
[null,null,null,null,null,null,null,null,null,null,"OBČINA PODČETRTEK",5883997000,"OBČINA PODČETRTEK",null,null,null,null,null,null,null,null,"P2A 2013","Javni razpis za subvencije za zagon inovativnih podjetij v letu 2013 (P2A 2013)","22/2013","2013-03-15",null,null,null,null,null,null,null,"Piran/Pirano"," /",null,"167","Lovrenc na Pohorju","68","RUŠE",null,null,null,null,null,null,null,"050","Koper/Capodistria",2,"SI04","Zahodna Slovenija","12","SI044","Obalno-kraška",null,null,null,null,null,null,"25.940","C25.940 Proizvodnja vijačnega materiala, vezi","C25.94 Proizvodnja vijačnega materiala, vezi","C25.9 Proizvodnja drugih kovinskih izdelkov","C25 Proizvodnja kovinskih izdelkov, razen strojev in naprav","C PREDELOVALNE DEJAVNOSTI",null,null,null,null,null,null,3334,"Luče"]
[null,null,null,null,null,null,null,null,null,null,"OBČINA PODLEHNIK",1358278000,"OBČINA PODLEHNIK",null,null,null,null,null,null,null,null,"P2C 2013","Javni razpis za subvencije za zagon inovativnih podjetij v letu 2013 (P2C 2013)","20/2013","2013-03-08",null,null,null,null,null,null,null,"Sežana"," /",null,"108","Ruše","68","RUŠE",null,null,null,null,null,null,null,"090","Piran/Pirano",2,"SI04","Zahodna Slovenija","12","SI044","Obalno-kraška",null,null,null,null,null,null,"25.990","C25.990 Proizvodnja drugje nerazvrščenih kovinskih izdelkov","C25.99 Proizvodnja drugje nerazvrščenih kovinskih izdelkov","C25.9 Proizvodnja drugih kovinskih izdelkov","C25 Proizvodnja kovinskih izdelkov, razen strojev in naprav","C PREDELOVALNE DEJAVNOSTI",null,null,null,null,null,null,1225,"Lukovica"]
[null,null,null,null,null,null,null,null,null,null,"OBČINA POLJČANE",2242745000,"OBČINA POLJČANE",null,null,null,null,null,null,null,null,"EUROSTARS 2012","Javni razpis za podporo malim in srednje velikim podjetjem, ki izvajajo raziskave in razvoj – program EUROSTARS, v okviru iniciative EUREKA za leto 2012","10/2013","2013-02-01",null,null,null,null,null,null,null,"Ankaran/Ancarano"," /",null,"178","Selnica ob Dravi","68","RUŠE",null,null,null,null,null,null,null,"111","Sežana",2,"SI04","Zahodna Slovenija","12","SI044","Obalno-kraška",null,null,null,null,null,null,"26.110","C26.110 Proizvodnja elektronskih komponent","C26.11 Proizvodnja elektronskih komponent","C26.1 Proizvodnja elektronskih komponent in plošč","C26 Proizvodnja računalnikov, elektronskih in optičnih izdelkov","C PREDELOVALNE DEJAVNOSTI",null,null,null,null,null,null,9202,"Mačkovci"]
[null,null,null,null,null,null,null,null,null,null,"OBČINA POLZELA",1357603000,"OBČINA POLZELA",null,null,null,null,null,null,null,null,"SMER+ 2013","Javni razpis za spodbujanje tehnološko razvojnih projektov v letih 2013 in 2014 – SMER+","10/2013","2013-02-01",null,null,null,null,null,null,null,"neznana"," /",null,null,null,null,null,null,null,null,null,null,null,null,null,null,null,null,null,null,null,null,null,null,null,null,null,null,"26.120","C26.120 Proizvodnja elektronskih plošč","C26.12 Proizvodnja elektronskih plošč","C26.1 Proizvodnja elektronskih komponent in plošč","C26 Proizvodnja računalnikov, elektronskih in optičnih izdelkov","C PREDELOVALNE DEJAVNOSTI",null,null,null,null,null,null,2322,"Majšperk"]
[null,null,null,null,null,null,null,null,null,null,"OBČINA POSTOJNA",5883512000,"OBČINA POSTOJNA",null,null,null,null,null,null,null,null,"INO 2013-2014","Javni razpis v podporo nacionalnemu sistemu inovacij za leto 2013 in 2014 (vključno s tehnološkimi parki in inkubatorji) (INO 2013-2014)","10/2013","2013-02-01",null,null,null,null,null,null,null,null,null,null,null,null,null,null,null,null,null,null,null,null,null,null,null,null,null,null,null,null,null,null,null,null,null,null,null,"26.200","C26.200 Proizvodnja računalnikov in perifernih naprav","C26.20 Proizvodnja računalnikov in perifernih naprav","C26.2 Proizvodnja računalnikov in perifernih naprav","C26 Proizvodnja računalnikov, elektronskih in optičnih izdelkov","C PREDELOVALNE DEJAVNOSTI",null,null,null,null,null,null,2321,"Makole"]
[null,null,null,null,null,null,null,null,null,null,"OBČINA PREBOLD",1357654000,"OBČINA PREBOLD",null,null,null,null,null,null,null,null,"VEM 2013","Javni razpis za financiranje izvajanja celovitih podpornih storitev v okviru vstopnih točk VEM na lokalnem nivoju v letu 2013 (VEM 2013)","10/2013","2013-02-01",null,null,null,null,null,null,null,null,null,null,null,null,null,null,null,null,null,null,null,null,null,null,null,null,null,null,null,null,null,null,null,null,null,null,null,"26.300","C26.300 Proizvodnja komunikacijskih naprav","C26.30 Proizvodnja komunikacijskih naprav","C26.3 Proizvodnja komunikacijskih naprav","C26 Proizvodnja računalnikov, elektronskih in optičnih izdelkov","C PREDELOVALNE DEJAVNOSTI",null,null,null,null,null,null,9243,"Mala Nedelja"]
[null,null,null,null,null,null,null,null,null,null,"OBČINA PREDDVOR",5874599000,"OBČINA PREDDVOR",null,null,null,null,null,null,null,null,"TTO 2013-2014","Javni razpis za sofinanciranje konzorcija, ki izvaja dejavnosti prenosa tehnologij v javnih raziskovalnih organizacijah v Republiki Sloveniji v letih 2013 in 2014 (TTO 2013-2014)","10/2013","2013-02-01",null,null,null,null,null,null,null,null,null,null,null,null,null,null,null,null,null,null,null,null,null,null,null,null,null,null,null,null,null,null,null,null,null,null,null,"26.400","C26.400 Proizvodnja elektronskih naprav za široko rabo","C26.40 Proizvodnja elektronskih naprav za široko rabo","C26.4 Proizvodnja elektronskih naprav za široko rabo","C26 Proizvodnja računalnikov, elektronskih in optičnih izdelkov","C PREDELOVALNE DEJAVNOSTI",null,null,null,null,null,null,2229,"Malečnik"]
[null,null,null,null,null,null,null,null,null,null,"OBČINA PREVALJE",1357719000,"OBČINA PREVALJE",null,null,null,null,null,null,null,null,"UI 2013-2014","Javni razpis za financiranje izvajanja nalog univerzitetnih inkubatorjev v letih 2013 in 2014","10/2013","2013-02-01",null,null,null,null,null,null,null,null,null,null,null,null,null,null,null,null,null,null,null,null,null,null,null,null,null,null,null,null,null,null,null,null,null,null,null,"26.510","C26.510 Proizvodnja merilnih, preizkuševalnih in navigacijskih instrumentov in naprav","C26.51 Proizvodnja merilnih, preizkuševalnih in navigacijskih instrumentov in naprav","C26.5 Proizvodnja merilnih, preizkuševalnih, navigacijskih instrumentov in naprav, proizvodnja ur","C26 Proizvodnja računalnikov, elektronskih in optičnih izdelkov","C PREDELOVALNE DEJAVNOSTI",null,null,null,null,null,null,6273,"Marezige"]
[null,null,null,null,null,null,null,null,null,null,"OBČINA PUCONCI",5883237000,"OBČINA PUCONCI",null,null,null,null,null,null,null,null,"P7 2012","Javni razpis za mikrokredite za mikro in mala podjetja (P7 2012)","101/2012","2012-12-21",null,null,null,null,null,null,null,null,null,null,null,null,null,null,null,null,null,null,null,null,null,null,null,null,null,null,null,null,null,null,null,null,null,null,null,"26.520","C26.520 Proizvodnja ur","C26.52 Proizvodnja ur","C26.5 Proizvodnja merilnih, preizkuševalnih, navigacijskih instrumentov in naprav, proizvodnja ur","C26 Proizvodnja računalnikov, elektronskih in optičnih izdelkov","C PREDELOVALNE DEJAVNOSTI",null,null,null,null,null,null,2000,"Maribor"]
[null,null,null,null,null,null,null,null,null,null,"OBČINA RAČE-FRAM",5883253000,"OBČINA RAČE-FRAM",null,null,null,null,null,null,null,null,"Poplave 11.2012","Javni poziv za pomoč podjetjem, ki so utrpela škodo kot posledico poplav v novembru 2012","87/2012","2012-11-16",null,null,null,null,null,null,null,null,null,null,null,null,null,null,null,null,null,null,null,null,null,null,null,null,null,null,null,null,null,null,null,null,null,null,null,"26.600","C26.600 Proizvodnja sevalnih, elektromedicinskih in elektroterapevtskih naprav","C26.60 Proizvodnja sevalnih, elektromedicinskih in elektroterapevtskih naprav","C26.6 Proizvodnja sevalnih, elektromedicinskih in elektroterapevtskih naprav","C26 Proizvodnja računalnikov, elektronskih in optičnih izdelkov","C PREDELOVALNE DEJAVNOSTI",null,null,null,null,null,null,2001,"Maribor - poštni predali"]
[null,null,null,null,null,null,null,null,null,null,"OBČINA RADEČE",5874491000,"OBČINA RADEČE",null,null,null,null,null,null,null,null,"KROP 2012","Javni razpis za krepitev razvojnih oddelkov v podjetjih 2012 (KROP 2012)","57/2012","2012-07-27",null,null,null,null,null,null,null,null,null,null,null,null,null,null,null,null,null,null,null,null,null,null,null,null,null,null,null,null,null,null,null,null,null,null,null,"26.700","C26.700 Proizvodnja optičnih instrumentov in fotografske opreme","C26.70 Proizvodnja optičnih instrumentov in fotografske opreme","C26.7 Proizvodnja optičnih instrumentov in fotografske opreme","C26 Proizvodnja računalnikov, elektronskih in optičnih izdelkov","C PREDELOVALNE DEJAVNOSTI",null,null,null,null,null,null,2206,"Marjeta na Dravskem polju"]
[null,null,null,null,null,null,null,null,null,null,"OBČINA RADENCI",5880297000,"OBČINA RADENCI",null,null,null,null,null,null,null,null,"TI 2012","Javni razpis za pridobitev sredstev evropskega sklada za regionalni razvoj – ESRR za sofinanciranje tehnoloških investicij, ki so v neposredni navezavi na rezultate razvojno-raziskovalnih aktivnosti \"TI 2012\"","57/2012","2012-07-27",null,null,null,null,null,null,null,null,null,null,null,null,null,null,null,null,null,null,null,null,null,null,null,null,null,null,null,null,null,null,null,null,null,null,null,"26.800","C26.800 Proizvodnja magnetnih in optičnih nosilcev zapisa","C26.80 Proizvodnja magnetnih in optičnih nosilcev zapisa","C26.8 Proizvodnja magnetnih in optičnih nosilcev zapisa","C26 Proizvodnja računalnikov, elektronskih in optičnih izdelkov","C PREDELOVALNE DEJAVNOSTI",null,null,null,null,null,null,2281,"Markovci"]
[null,null,null,null,null,null,null,null,null,null,"OBČINA RADLJE OB DRAVI",5881811000,"OBČINA RADLJE OB DRAVI",null,null,null,null,null,null,null,null,"P2B 2012","Javni razpis za subvencije za zagon inovativnih podjetij v letu 2012 (P2B 2012)","53/2012","2012-07-13",null,null,null,null,null,null,null,null,null,null,null,null,null,null,null,null,null,null,null,null,null,null,null,null,null,null,null,null,null,null,null,null,null,null,null,"27.110","C27.110 Proizvodnja elektromotorjev, generatorjev in transformatorjev","C27.11 Proizvodnja elektromotorjev, generatorjev in transformatorjev","C27.1 Proizvodnja elektromotorjev, generatorjev, transformatorjev ter naprav za distribucijo in krmiljenje elektrike","C27 Proizvodnja električnih naprav","C PREDELOVALNE DEJAVNOSTI",null,null,null,null,null,null,9221,"Martjanci"]
[null,null,null,null,null,null,null,null,null,null,"OBČINA RADOVLJICA",5883466000,"OBČINA RADOVLJICA",null,null,null,null,null,null,null,null,"P1 TIP 2012","Javni razpis za garancije Sklada za bančne kredite s subvencijo obrestne mere namenjene tehnološko inovativnim projektom (P1 TIP 2012)","43/2012","2012-06-08",null,null,null,null,null,null,null,null,null,null,null,null,null,null,null,null,null,null,null,null,null,null,null,null,null,null,null,null,null,null,null,null,null,null,null,"27.120","C27.120 Proizvodnja naprav za distribucijo in krmiljenje elektrike","C27.12 Proizvodnja naprav za distribucijo in krmiljenje elektrike","C27.1 Proizvodnja elektromotorjev, generatorjev, transformatorjev ter naprav za distribucijo in krmiljenje elektrike","C27 Proizvodnja električnih naprav","C PREDELOVALNE DEJAVNOSTI",null,null,null,null,null,null,6242,"Materija"]
[null,null,null,null,null,null,null,null,null,null,"OBČINA RAVNE NA KOROŠKEM",5883628000,"OBČINA RAVNE NA KOROŠKEM",null,null,null,null,null,null,null,null,"ARTEMIS 5","Javni razpis za zbiranje predlogov v okviru delovnega programa Artemis Joint Undertaking (ARTEMIS 5)",null,"2012-04-19",null,null,null,null,null,null,null,null,null,null,null,null,null,null,null,null,null,null,null,null,null,null,null,null,null,null,null,null,null,null,null,null,null,null,null,"27.200","C27.200 Proizvodnja baterij in akumulatorjev","C27.20 Proizvodnja baterij in akumulatorjev","C27.2 Proizvodnja baterij in akumulatorjev","C27 Proizvodnja električnih naprav","C PREDELOVALNE DEJAVNOSTI",null,null,null,null,null,null,4211,"Mavčiče"]
[null,null,null,null,null,null,null,null,null,null,"OBČINA RAZKRIŽJE",1332163000,"OBČINA RAZKRIŽJE",null,null,null,null,null,null,null,null,"P2A 2012","Javni razpis za subvencije za zagon inovativnih podjetij v letu 2012 (P2A 2012)","27/2012","2012-04-13",null,null,null,null,null,null,null,null,null,null,null,null,null,null,null,null,null,null,null,null,null,null,null,null,null,null,null,null,null,null,null,null,null,null,null,"27.310","C27.310 Proizvodnja kablov iz optičnih vlaken","C27.31 Proizvodnja kablov iz optičnih vlaken","C27.3 Proizvodnja oplaščenih vodnikov in naprav za ožičenje","C27 Proizvodnja električnih naprav","C PREDELOVALNE DEJAVNOSTI",null,null,null,null,null,null,1215,"Medvode"]
[null,null,null,null,null,null,null,null,null,null,"OBČINA REČICA OB SAVINJI",2255987000,"OBČINA REČICA OB SAVINJI",null,null,null,null,null,null,null,null,"P1 2012","Javni razpis za garancije Sklada za bančne kredite s subvencijo obrestne mere (P1 2012)","26/2012","2012-04-06",null,null,null,null,null,null,null,null,null,null,null,null,null,null,null,null,null,null,null,null,null,null,null,null,null,null,null,null,null,null,null,null,null,null,null,"27.320","C27.320 Proizvodnja drugih električnih kablov in žic","C27.32 Proizvodnja drugih električnih kablov in žic","C27.3 Proizvodnja oplaščenih vodnikov in naprav za ožičenje","C27 Proizvodnja električnih naprav","C PREDELOVALNE DEJAVNOSTI",null,null,null,null,null,null,1234,"Mengeš"]
[null,null,null,null,null,null,null,null,null,null,"OBČINA RENČE - VOGRSKO",2203553000,"OBČINA RENČE - VOGRSKO",null,null,null,null,null,null,null,null,"SID TRP 2011-2013","Javni razpis za financiranje tehnološko-razvojnih projektov 2011-2013 (kreditne linije SID banke)",null,"2011-11-21",null,null,null,null,null,null,null,null,null,null,null,null,null,null,null,null,null,null,null,null,null,null,null,null,null,null,null,null,null,null,null,null,null,null,null,"27.330","C27.330 Proizvodnja vtičnic, stikal in drugih naprav za ožičenje","C27.33 Proizvodnja vtičnic, stikal in drugih naprav za ožičenje","C27.3 Proizvodnja oplaščenih vodnikov in naprav za ožičenje","C27 Proizvodnja električnih naprav","C PREDELOVALNE DEJAVNOSTI",null,null,null,null,null,null,8330,"Metlika"]
[null,null,null,null,null,null,null,null,null,null,"OBČINA RIBNICA",5883865000,"OBČINA RIBNICA",null,null,null,null,null,null,null,null,"P1B 2011","Javni razpis za garancije Sklada za bančne kredite s subvencijo obrestne mere (P1B 2011)","79/2011","2011-10-07",null,null,null,null,null,null,null,null,null,null,null,null,null,null,null,null,null,null,null,null,null,null,null,null,null,null,null,null,null,null,null,null,null,null,null,"27.400","C27.400 Proizvodnja naprav in opreme za razsvetljavo","C27.40 Proizvodnja naprav in opreme za razsvetljavo","C27.4 Proizvodnja naprav in opreme za razsvetljavo","C27 Proizvodnja električnih naprav","C PREDELOVALNE DEJAVNOSTI",null,null,null,null,null,null,2392,"Mežica"]
[null,null,null,null,null,null,null,null,null,null,"OBČINA RIBNICA NA POHORJU",1358324000,"OBČINA RIBNICA NA POHORJU",null,null,null,null,null,null,null,null,"Procesni vavčer 2011/2012","Javni razpis »Procesni vavčer 2011/2012«","65/2011","2011-08-19",null,null,null,null,null,null,null,null,null,null,null,null,null,null,null,null,null,null,null,null,null,null,null,null,null,null,null,null,null,null,null,null,null,null,null,"27.510","C27.510 Proizvodnja električnih gospodinjskih naprav","C27.51 Proizvodnja električnih gospodinjskih naprav","C27.5 Proizvodnja gospodinjskih naprav","C27 Proizvodnja električnih naprav","C PREDELOVALNE DEJAVNOSTI",null,null,null,null,null,null,2204,"Miklavž na Dravskem polju"]
[null,null,null,null,null,null,null,null,null,null,"OBČINA ROGAŠKA SLATINA",5883946000,"OBČINA ROGAŠKA SLATINA",null,null,null,null,null,null,null,null,"Vulkanski pepel 4.2010","Obvestilo upravičencem za oddajo vlog za povrnitev škode na podlagi »Programa odprave posledic škode letalskih prevoznikov in letališč zaradi potresnih aktivnosti na Islandiji in posledično vulkanskega pepela v aprilu 2010«",null,"2011-08-09",null,null,null,null,null,null,null,null,null,null,null,null,null,null,null,null,null,null,null,null,null,null,null,null,null,null,null,null,null,null,null,null,null,null,null,"27.520","C27.520 Proizvodnja neelektričnih gospodinjskih naprav","C27.52 Proizvodnja neelektričnih gospodinjskih naprav","C27.5 Proizvodnja gospodinjskih naprav","C27 Proizvodnja električnih naprav","C PREDELOVALNE DEJAVNOSTI",null,null,null,null,null,null,2275,"Miklavž pri Ormožu"]
[null,null,null,null,null,null,null,null,null,null,"OBČINA ROGAŠOVCI",5883245000,"OBČINA ROGAŠOVCI",null,null,null,null,null,null,null,null,"KROP 2011","Javni razpis za krepitev razvojnih oddelkov v podjetjih 2011 (KROP 2011)","43/2011","2011-06-03",null,null,null,null,null,null,null,null,null,null,null,null,null,null,null,null,null,null,null,null,null,null,null,null,null,null,null,null,null,null,null,null,null,null,null,"27.900","C27.900 Proizvodnja drugih električnih naprav","C27.90 Proizvodnja drugih električnih naprav","C27.9 Proizvodnja drugih električnih naprav","C27 Proizvodnja električnih naprav","C PREDELOVALNE DEJAVNOSTI",null,null,null,null,null,null,5291,"Miren"]
[null,null,null,null,null,null,null,null,null,null,"OBČINA ROGATEC",5883938000,"OBČINA ROGATEC",null,null,null,null,null,null,null,null,"P1 TIP 2011","Javni razpis za garancije Sklada za bančne kredite s subvencijo obrestne mere namenjene tehnološko inovativnim projektom (P1 TIP 2011)","24/2011","2011-04-01",null,null,null,null,null,null,null,null,null,null,null,null,null,null,null,null,null,null,null,null,null,null,null,null,null,null,null,null,null,null,null,null,null,null,null,"28.110","C28.110 Proizvodnja motorjev in turbin, razen za letala in motorna vozila","C28.11 Proizvodnja motorjev in turbin, razen za letala in motorna vozila","C28.1 Proizvodnja strojev za splošne namene","C28 Proizvodnja drugih strojev in naprav","C PREDELOVALNE DEJAVNOSTI",null,null,null,null,null,null,8233,"Mirna"]
[null,null,null,null,null,null,null,null,null,null,"OBČINA RUŠE",5883571000,"OBČINA RUŠE",null,null,null,null,null,null,null,null,"Mentorski vavčer 2011","Javni razpis \"Mentorski vavčer 2011\"","22/2011","2011-03-25",null,null,null,null,null,null,null,null,null,null,null,null,null,null,null,null,null,null,null,null,null,null,null,null,null,null,null,null,null,null,null,null,null,null,null,"28.120","C28.120 Proizvodnja naprav za fluidno tehniko","C28.12 Proizvodnja naprav za fluidno tehniko","C28.1 Proizvodnja strojev za splošne namene","C28 Proizvodnja drugih strojev in naprav","C PREDELOVALNE DEJAVNOSTI",null,null,null,null,null,null,8216,"Mirna Peč"]
[null,null,null,null,null,null,null,null,null,null,"OBČINA SELNICA OB DRAVI",1357930000,"OBČINA SELNICA OB DRAVI",null,null,null,null,null,null,null,null,"P1 2011","Javni razpis za garancije Sklada za bančne kredite s subvencijo obrestne mere (P1 2011)","22/2011","2011-03-25",null,null,null,null,null,null,null,null,null,null,null,null,null,null,null,null,null,null,null,null,null,null,null,null,null,null,null,null,null,null,null,null,null,null,null,"28.130","C28.130 Proizvodnja črpalk in kompresorjev","C28.13 Proizvodnja črpalk in kompresorjev","C28.1 Proizvodnja strojev za splošne namene","C28 Proizvodnja drugih strojev in naprav","C PREDELOVALNE DEJAVNOSTI",null,null,null,null,null,null,2382,"Mislinja"]
[null,null,null,null,null,null,null,null,null,null,"OBČINA SEMIČ",5880262000,"OBČINA SEMIČ",null,null,null,null,null,null,null,null,"P2 2011","Javni razpis za sofinanciranje zagona podjetij v subjektih inovativnega okolja v letu 2011 (P2 2011)","10/2011","2011-02-18",null,null,null,null,null,null,null,null,null,null,null,null,null,null,null,null,null,null,null,null,null,null,null,null,null,null,null,null,null,null,null,null,null,null,null,"28.140","C28.140 Proizvodnja pip in ventilov","C28.14 Proizvodnja pip in ventilov","C28.1 Proizvodnja strojev za splošne namene","C28 Proizvodnja drugih strojev in naprav","C PREDELOVALNE DEJAVNOSTI",null,null,null,null,null,null,4281,"Mojstrana"]
[null,null,null,null,null,null,null,null,null,null,"OBČINA SEVNICA",5883008000,"OBČINA SEVNICA",null,null,null,null,null,null,null,null,"Inovacijski vavčer 2011","Javni razpis \"inovacijski vavčer\" 2011","7/2011","2011-02-04",null,null,null,null,null,null,null,null,null,null,null,null,null,null,null,null,null,null,null,null,null,null,null,null,null,null,null,null,null,null,null,null,null,null,null,"28.150","C28.150 Proizvodnja ležajev, zobnikov in elementov za mehanski prenos energije","C28.15 Proizvodnja ležajev, zobnikov in elementov za mehanski prenos energije","C28.1 Proizvodnja strojev za splošne namene","C28 Proizvodnja drugih strojev in naprav","C PREDELOVALNE DEJAVNOSTI",null,null,null,null,null,null,8230,"Mokronog"]
[null,null,null,null,null,null,null,null,null,null,"OBČINA SEŽANA",5884047000,"OBČINA SEŽANA",null,null,null,null,null,null,null,null,"EUROSTARS 2011","Javni razpis za podporo malim in srednje velikim podjetjem, ki izvajajo raziskave in razvoj – program EUROSTARS, v okviru iniciative EUREKA za leto 2011","1/2011 ","2011-01-07",null,null,null,null,null,null,null,null,null,null,null,null,null,null,null,null,null,null,null,null,null,null,null,null,null,null,null,null,null,null,null,null,null,null,null,"28.210","C28.210 Proizvodnja peči in gorilnikov","C28.21 Proizvodnja peči in gorilnikov","C28.2 Proizvodnja drugih naprav za splošne namene","C28 Proizvodnja drugih strojev in naprav","C PREDELOVALNE DEJAVNOSTI",null,null,null,null,null,null,1251,"Moravče"]
[null,null,null,null,null,null,null,null,null,null,"OBČINA SLOVENSKA BISTRICA",5884250000,"OBČINA SLOVENSKA BISTRICA",null,null,null,null,null,null,null,null,"EUREKA 2011","Javni razpis za dodeljevanje spodbud v okviru iniciative EUREKA za leto 2011","1/2011 ","2011-01-07",null,null,null,null,null,null,null,null,null,null,null,null,null,null,null,null,null,null,null,null,null,null,null,null,null,null,null,null,null,null,null,null,null,null,null,"28.220","C28.220 Proizvodnja dvigalnih in transportnih naprav","C28.22 Proizvodnja dvigalnih in transportnih naprav","C28.2 Proizvodnja drugih naprav za splošne namene","C28 Proizvodnja drugih strojev in naprav","C PREDELOVALNE DEJAVNOSTI",null,null,null,null,null,null,9226,"Moravske Toplice"]
[null,null,null,null,null,null,null,null,null,null,"OBČINA SLOVENSKE KONJICE",5883814000,"OBČINA SLOVENSKE KONJICE",null,null,null,null,null,null,null,null,"Poplave 9.2010 - II. faza","Obvestilo upravičencem za oddajo vlog za povrnitev škode na podlagi »Programa odprave posledic škode v gospodarstvu po poplavah v Sloveniji med 16. in 20. septembrom 2010« (II. faza)",null,"2011-01-01",null,null,null,null,null,null,null,null,null,null,null,null,null,null,null,null,null,null,null,null,null,null,null,null,null,null,null,null,null,null,null,null,null,null,null,"28.230","C28.230 Proizvodnja pisarniških strojev in naprav (razen računalnikov in perifernih naprav)","C28.23 Proizvodnja pisarniških strojev in naprav (razen računalnikov in perifernih naprav)","C28.2 Proizvodnja drugih naprav za splošne namene","C28 Proizvodnja drugih strojev in naprav","C PREDELOVALNE DEJAVNOSTI",null,null,null,null,null,null,5216,"Most na Soči"]
[null,null,null,null,null,null,null,null,null,null,"OBČINA SODRAŽICA",1358154000,"OBČINA SODRAŽICA",null,null,null,null,null,null,null,null,"PSI 2011/2012","Poklicno in strokovno izobraževanje v letu 2011/2012",null,"2011-01-01",null,null,null,null,null,null,null,null,null,null,null,null,null,null,null,null,null,null,null,null,null,null,null,null,null,null,null,null,null,null,null,null,null,null,null,"28.240","C28.240 Proizvodnja ročnih strojev in naprav","C28.24 Proizvodnja ročnih strojev in naprav","C28.2 Proizvodnja drugih naprav za splošne namene","C28 Proizvodnja drugih strojev in naprav","C PREDELOVALNE DEJAVNOSTI",null,null,null,null,null,null,1221,"Motnik"]
[null,null,null,null,null,null,null,null,null,null,"OBČINA SOLČAVA",1365851000,"OBČINA SOLČAVA",null,null,null,null,null,null,null,null,"Poplave 9.2010","Javni poziv za pomoč podjetjem, ki so utrpela škodo kot posledico poplav septembra 2010","78/2010","2010-10-08",null,null,null,null,null,null,null,null,null,null,null,null,null,null,null,null,null,null,null,null,null,null,null,null,null,null,null,null,null,null,null,null,null,null,null,"28.250","C28.250 Proizvodnja hladilnih in prezračevalnih naprav, razen za gospodinjstva","C28.25 Proizvodnja hladilnih in prezračevalnih naprav, razen za gospodinjstva","C28.2 Proizvodnja drugih naprav za splošne namene","C28 Proizvodnja drugih strojev in naprav","C PREDELOVALNE DEJAVNOSTI",null,null,null,null,null,null,3330,"Mozirje"]
[null,null,null,null,null,null,null,null,null,null,"OBČINA SREDIŠČE OB DRAVI",2242788000,"OBČINA SREDIŠČE OB DRAVI",null,null,null,null,null,null,null,null,"P1B 2010","Javni razpis za garancije Sklada za bančne kredite s subvencijo obrestne mere (P1B 2010)","75/2010","2010-09-24",null,null,null,null,null,null,null,null,null,null,null,null,null,null,null,null,null,null,null,null,null,null,null,null,null,null,null,null,null,null,null,null,null,null,null,"28.290","C28.290 Proizvodnja drugih strojev in naprav za splošne namene","C28.29 Proizvodnja drugih strojev in naprav za splošne namene","C28.2 Proizvodnja drugih naprav za splošne namene","C28 Proizvodnja drugih strojev in naprav","C PREDELOVALNE DEJAVNOSTI",null,null,null,null,null,null,9000,"Murska Sobota"]
[null,null,null,null,null,null,null,null,null,null,"OBČINA STARŠE",5883199000,"OBČINA STARŠE",null,null,null,null,null,null,null,null,"MR 2010","Javni razpis \"Mladi raziskovalci iz gospodarstva - generacija 2010\"","75/2010","2010-09-24",null,null,null,null,null,null,null,null,null,null,null,null,null,null,null,null,null,null,null,null,null,null,null,null,null,null,null,null,null,null,null,null,null,null,null,"28.300","C28.300 Proizvodnja kmetijskih in gozdarskih strojev","C28.30 Proizvodnja kmetijskih in gozdarskih strojev","C28.3 Proizvodnja kmetijskih in gozdarskih strojev","C28 Proizvodnja drugih strojev in naprav","C PREDELOVALNE DEJAVNOSTI",null,null,null,null,null,null,9001,"Murska Sobota - poštni predali"]
[null,null,null,null,null,null,null,null,null,null,"OBČINA STRAŽA",2241145000,"OBČINA STRAŽA",null,null,null,null,null,null,null,null,"RCSG","Javni razpis za pridobitev sredstev Evropskega sklada za regionalni razvoj - ESRR: \"Razvojni centri slovenskega gospodarstva\"","62/2010","2010-07-30",null,null,null,null,null,null,null,null,null,null,null,null,null,null,null,null,null,null,null,null,null,null,null,null,null,null,null,null,null,null,null,null,null,null,null,"28.410","C28.410 Proizvodnja strojev za oblikovanje in obdelavo kovin","C28.41 Proizvodnja strojev za oblikovanje in obdelavo kovin","C28.4 Proizvodnja obdelovalnih strojev","C28 Proizvodnja drugih strojev in naprav","C PREDELOVALNE DEJAVNOSTI",null,null,null,null,null,null,2366,"Muta"]
[null,null,null,null,null,null,null,null,null,null,"OBČINA SVETA ANA",1332074000,"OBČINA SVETA ANA",null,null,null,null,null,null,null,null,"VALOR 2010","Javni razpis za spodbujanje procesa prenosa znanja - VALOR 2010","42/2010","2010-05-28",null,null,null,null,null,null,null,null,null,null,null,null,null,null,null,null,null,null,null,null,null,null,null,null,null,null,null,null,null,null,null,null,null,null,null,"28.490","C28.490 Proizvodnja drugih obdelovalnih strojev","C28.49 Proizvodnja drugih obdelovalnih strojev","C28.4 Proizvodnja obdelovalnih strojev","C28 Proizvodnja drugih strojev in naprav","C PREDELOVALNE DEJAVNOSTI",null,null,null,null,null,null,4202,"Naklo"]
[null,null,null,null,null,null,null,null,null,null,"OBČINA SVETA TROJICA V SLOVENSKIH GORICAH",2242796000,"OBČINA SVETA TROJICA V SLOVENSKIH GORICAH",null,null,null,null,null,null,null,null,"Vavčerski sistem usposabljanja 2010","Javni razpis »Usposabljanje zaposlenih v podjetjih« 2010","34/2010","2010-04-30",null,null,null,null,null,null,null,null,null,null,null,null,null,null,null,null,null,null,null,null,null,null,null,null,null,null,null,null,null,null,null,null,null,null,null,"28.910","C28.910 Proizvodnja metalurških strojev","C28.91 Proizvodnja metalurških strojev","C28.9 Proizvodnja drugih strojev za posebne namene","C28 Proizvodnja drugih strojev in naprav","C PREDELOVALNE DEJAVNOSTI",null,null,null,null,null,null,3331,"Nazarje"]
[null,null,null,null,null,null,null,null,null,null,"OBČINA SVETI ANDRAŽ V SLOVENSKIH GORICAH",1358103000,"OBČINA SVETI ANDRAŽ V SLOVENSKIH GORICAH",null,null,null,null,null,null,null,null,"EraSME 7","7. javni razpis za mednarodne raziskovalno-razvojne projekte za mala in srednje velika podjetja - EraSME","33/2010 ","2010-04-23",null,null,null,null,null,null,null,null,null,null,null,null,null,null,null,null,null,null,null,null,null,null,null,null,null,null,null,null,null,null,null,null,null,null,null,"28.920","C28.920 Proizvodnja rudarskih in gradbenih strojev","C28.92 Proizvodnja rudarskih in gradbenih strojev","C28.9 Proizvodnja drugih strojev za posebne namene","C28 Proizvodnja drugih strojev in naprav","C PREDELOVALNE DEJAVNOSTI",null,null,null,null,null,null,1357,"Notranje Gorice"]
[null,null,null,null,null,null,null,null,null,null,"OBČINA SVETI JURIJ OB ŠČAVNICI",5880319000,"OBČINA SVETI JURIJ OB ŠČAVNICI",null,null,null,null,null,null,null,null,"SIO 2010-2011","Javni razpis za dodelitev sredstev za izvajanje nalog subjektov inovativnega okolja v letih 2010 in 2011","27/2010","2010-04-02",null,null,null,null,null,null,null,null,null,null,null,null,null,null,null,null,null,null,null,null,null,null,null,null,null,null,null,null,null,null,null,null,null,null,null,"28.930","C28.930 Proizvodnja strojev za živilsko in tobačno industrijo","C28.93 Proizvodnja strojev za živilsko in tobačno industrijo","C28.9 Proizvodnja drugih strojev za posebne namene","C28 Proizvodnja drugih strojev in naprav","C PREDELOVALNE DEJAVNOSTI",null,null,null,null,null,null,3203,"Nova Cerkev"]
[null,null,null,null,null,null,null,null,null,null,"OBČINA SVETI JURIJ V SLOVENSKIH GORICAH",2242877000,"OBČINA SVETI JURIJ V SLOVENSKIH GORICAH",null,null,null,null,null,null,null,null,"Inovacijski vavčer 2010","Javni razpis \"inovacijski vavčer\" 2010","27/2010","2010-04-02",null,null,null,null,null,null,null,null,null,null,null,null,null,null,null,null,null,null,null,null,null,null,null,null,null,null,null,null,null,null,null,null,null,null,null,"28.940","C28.940 Proizvodnja strojev za tekstilno, oblačilno in usnjarsko industrijo","C28.94 Proizvodnja strojev za tekstilno, oblačilno in usnjarsko industrijo","C28.9 Proizvodnja drugih strojev za posebne namene","C28 Proizvodnja drugih strojev in naprav","C PREDELOVALNE DEJAVNOSTI",null,null,null,null,null,null,5000,"Nova Gorica"]
[null,null,null,null,null,null,null,null,null,null,"OBČINA SVETI TOMAŽ",2242761000,"OBČINA SVETI TOMAŽ",null,null,null,null,null,null,null,null,"LF 2010","Javni razpis za kapitalske naložbe Republike Slovenije v zasebne družbe tveganega kapitala (lastniško financiranje 2010)","17/2010","2010-03-05",null,null,null,null,null,null,null,null,null,null,null,null,null,null,null,null,null,null,null,null,null,null,null,null,null,null,null,null,null,null,null,null,null,null,null,"28.950","C28.950 Proizvodnja strojev za industrijo papirja in kartona","C28.95 Proizvodnja strojev za industrijo papirja in kartona","C28.9 Proizvodnja drugih strojev za posebne namene","C28 Proizvodnja drugih strojev in naprav","C PREDELOVALNE DEJAVNOSTI",null,null,null,null,null,null,5001,"Nova Gorica - poštni predali"]
[null,null,null,null,null,null,null,null,null,null,"OBČINA ŠALOVCI",5883113000,"OBČINA ŠALOVCI",null,null,null,null,null,null,null,null,"MANUNET 4","Javni razpis MANUNET 4","10/2010","2010-02-12",null,null,null,null,null,null,null,null,null,null,null,null,null,null,null,null,null,null,null,null,null,null,null,null,null,null,null,null,null,null,null,null,null,null,null,"28.960","C28.960 Proizvodnja strojev za plastiko in gumo","C28.96 Proizvodnja strojev za plastiko in gumo","C28.9 Proizvodnja drugih strojev za posebne namene","C28 Proizvodnja drugih strojev in naprav","C PREDELOVALNE DEJAVNOSTI",null,null,null,null,null,null,1385,"Nova vas"]
[null,null,null,null,null,null,null,null,null,null,"OBČINA ŠEMPETER - VRTOJBA",1358227000,"OBČINA ŠEMPETER - VRTOJBA",null,null,null,null,null,null,null,null,"P2 2010","Javni razpis za sofinanciranje zagona podjetij v subjektih inovativnega okolja v letu 2010 (P2 2010)","10/2010","2010-02-12",null,null,null,null,null,null,null,null,null,null,null,null,null,null,null,null,null,null,null,null,null,null,null,null,null,null,null,null,null,null,null,null,null,null,null,"28.990","C28.990 Proizvodnja strojev za druge posebne namene","C28.99 Proizvodnja strojev za druge posebne namene","C28.9 Proizvodnja drugih strojev za posebne namene","C28 Proizvodnja drugih strojev in naprav","C PREDELOVALNE DEJAVNOSTI",null,null,null,null,null,null,8000,"Novo mesto"]
[null,null,null,null,null,null,null,null,null,null,"OBČINA ŠENČUR",5874696000,"OBČINA ŠENČUR",null,null,null,null,null,null,null,null,"CORNET 8","Javni razpis za mednarodne raziskovalne projekte industrijskih združenj – CORNET št. 8","8/2010","2010-02-05",null,null,null,null,null,null,null,null,null,null,null,null,null,null,null,null,null,null,null,null,null,null,null,null,null,null,null,null,null,null,null,null,null,null,null,"29.100","C29.100 Proizvodnja motornih vozil","C29.10 Proizvodnja motornih vozil","C29.1 Proizvodnja motornih vozil","C29 Proizvodnja motornih vozil, prikolic in polprikolic","C PREDELOVALNE DEJAVNOSTI",null,null,null,null,null,null,8001,"Novo mesto - poštni predali"]
[null,null,null,null,null,null,null,null,null,null,"OBČINA ŠENTILJ",5884209000,"OBČINA ŠENTILJ",null,null,null,null,null,null,null,null,"CORNET 9","Javni razpis za mednarodne raziskovalne projekte industrijskih združenj – CORNET št. 9","4/2010","2010-01-22",null,null,null,null,null,null,null,null,null,null,null,null,null,null,null,null,null,null,null,null,null,null,null,null,null,null,null,null,null,null,null,null,null,null,null,"29.200","C29.200 Proizvodnja karoserij za vozila, proizvodnja prikolic, polprikolic","C29.20 Proizvodnja karoserij za vozila, proizvodnja prikolic, polprikolic","C29.2 Proizvodnja karoserij za vozila, proizvodnja prikolic, polprikolic","C29 Proizvodnja motornih vozil, prikolic in polprikolic","C PREDELOVALNE DEJAVNOSTI",null,null,null,null,null,null,6243,"Obrov"]
[null,null,null,null,null,null,null,null,null,null,"OBČINA ŠENTJERNEJ",5883334000,"OBČINA ŠENTJERNEJ",null,null,null,null,null,null,null,null,"EUROSTARS 2010","Javni razpis za podporo malim in srednje velikim podjetjem, ki izvajajo raziskave in razvoj – program EUROSTARS, v okviru iniciative EUREKA za leto 2010","4/2010","2010-01-22",null,null,null,null,null,null,null,null,null,null,null,null,null,null,null,null,null,null,null,null,null,null,null,null,null,null,null,null,null,null,null,null,null,null,null,"29.310","C29.310 Proizvodnja električne in elektronske opreme za motorna vozila","C29.31 Proizvodnja električne in elektronske opreme za motorna vozila","C29.3 Proizvodnja delov in opreme za motorna vozila","C29 Proizvodnja motornih vozil, prikolic in polprikolic","C PREDELOVALNE DEJAVNOSTI",null,null,null,null,null,null,9233,"Odranci"]
[null,null,null,null,null,null,null,null,null,null,"OBČINA ŠENTJUR",5884799000,"OBČINA ŠENTJUR",null,null,null,null,null,null,null,null,"EUREKA 2010","Javni razpis za dodeljevanje spodbud v okviru iniciative EUREKA za leto 2010","3/2010","2010-01-15",null,null,null,null,null,null,null,null,null,null,null,null,null,null,null,null,null,null,null,null,null,null,null,null,null,null,null,null,null,null,null,null,null,null,null,"29.320","C29.320 Proizvodnja drugih delov in opreme za motorna vozila","C29.32 Proizvodnja drugih delov in opreme za motorna vozila","C29.3 Proizvodnja delov in opreme za motorna vozila","C29 Proizvodnja motornih vozil, prikolic in polprikolic","C PREDELOVALNE DEJAVNOSTI",null,null,null,null,null,null,2317,"Oplotnica"]
[null,null,null,null,null,null,null,null,null,null,"OBČINA ŠENTRUPERT",2241153000,"OBČINA ŠENTRUPERT",null,null,null,null,null,null,null,null,"PSI 2010/2011","Poklicno in strokovno izobraževanje v letu 2010/2011",null,"2010-01-14",null,null,null,null,null,null,null,null,null,null,null,null,null,null,null,null,null,null,null,null,null,null,null,null,null,null,null,null,null,null,null,null,null,null,null,"30.110","C30.110 Gradnja ladij in plavajočih konstrukcij","C30.11 Gradnja ladij in plavajočih konstrukcij","C30.1 Gradnja ladij in čolnov","C30 Proizvodnja drugih vozil in plovil","C PREDELOVALNE DEJAVNOSTI",null,null,null,null,null,null,2312,"Orehova vas"]
[null,null,null,null,null,null,null,null,null,null,"OBČINA ŠKOCJAN",5883296000,{"$f":"K259","v":"OBČINA ŠKOCJAN"},null,null,null,null,null,null,null,null,"P1 2010","Javni razpis za garancije Sklada za bančne kredite s subvencijo obrestne mere (P1 2010)","114/2009","2009-12-31",null,null,null,null,null,null,null,null,null,null,null,null,null,null,null,null,null,null,null,null,null,null,null,null,null,null,null,null,null,null,null,null,null,null,null,"30.120","C30.120 Proizvodnja čolnov za razvedrilo in šport","C30.12 Proizvodnja čolnov za razvedrilo in šport","C30.1 Gradnja ladij in čolnov","C30 Proizvodnja drugih vozil in plovil","C PREDELOVALNE DEJAVNOSTI",null,null,null,null,null,null,2270,"Ormož"]
[null,null,null,null,null,null,null,null,null,null,"OBČINA ŠKOFJA LOKA",5883318000,"OBČINA ŠKOFJA LOKA",null,null,null,null,null,null,null,null,"P1 TP 2010","Javni razpis za garancije Sklada za bančne kredite z ugodno obrestno mero za tehnološke projekte (P1 TP 2010)","114/2009","2009-12-31",null,null,null,null,null,null,null,null,null,null,null,null,null,null,null,null,null,null,null,null,null,null,null,null,null,null,null,null,null,null,null,null,null,null,null,"30.200","C30.200 Proizvodnja železniških in drugih tirnih vozil","C30.20 Proizvodnja železniških in drugih tirnih vozil","C30.2 Proizvodnja železniških in drugih tirnih vozil","C30 Proizvodnja drugih vozil in plovil","C PREDELOVALNE DEJAVNOSTI",null,null,null,null,null,null,1316,"Ortnek"]
[null,null,null,null,null,null,null,null,null,null,"OBČINA ŠKOFLJICA",5874602000,"OBČINA ŠKOFLJICA",null,null,null,null,null,null,null,null,"P1C 2009","Javni razpis za garancije Sklada za bančne kredite s subvencijo obrestne mere (P1C 2009)","74/2009","2009-09-25",null,null,null,null,null,null,null,null,null,null,null,null,null,null,null,null,null,null,null,null,null,null,null,null,null,null,null,null,null,null,null,null,null,null,null,"30.300","C30.300 Proizvodnja zračnih in vesoljskih plovil","C30.30 Proizvodnja zračnih in vesoljskih plovil","C30.3 Proizvodnja zračnih in vesoljskih plovil","C30 Proizvodnja drugih vozil in plovil","C PREDELOVALNE DEJAVNOSTI",null,null,null,null,null,null,1337,"Osilnica"]
[null,null,null,null,null,null,null,null,null,null,"OBČINA ŠMARJE PRI JELŠAH",5884012000,"OBČINA ŠMARJE PRI JELŠAH",null,null,null,null,null,null,null,null,"Ukrep omejene vrednosti 2009-2010","Javni razpis izvajanja ukrepa omejene vrednosti za izvajanje razvojno investicijskih projektov ter vzpodbujanje prezaposlitev in samozaposlovanja v letih 2009 in 2010 - sklop 1","63/2009","2009-08-07",null,null,null,null,null,null,null,null,null,null,null,null,null,null,null,null,null,null,null,null,null,null,null,null,null,null,null,null,null,null,null,null,null,null,null,"30.400","C30.400 Proizvodnja bojnih vozil","C30.40 Proizvodnja bojnih vozil","C30.4 Proizvodnja bojnih vozil","C30 Proizvodnja drugih vozil in plovil","C PREDELOVALNE DEJAVNOSTI",null,null,null,null,null,null,8222,"Otočec"]
[null,null,null,null,null,null,null,null,null,null,"OBČINA ŠMARJEŠKE TOPLICE",2241161000,"OBČINA ŠMARJEŠKE TOPLICE",null,null,null,null,null,null,null,null,"MR 2009","Javni razpis \"Mladi raziskovalci iz gospodarstva - generacija 2009\"","57/2009","2009-07-24",null,null,null,null,null,null,null,null,null,null,null,null,null,null,null,null,null,null,null,null,null,null,null,null,null,null,null,null,null,null,null,null,null,null,null,"30.910","C30.910 Proizvodnja motornih koles","C30.91 Proizvodnja motornih koles","C30.9 Proizvodnja drugih vozil","C30 Proizvodnja drugih vozil in plovil","C PREDELOVALNE DEJAVNOSTI",null,null,null,null,null,null,2361,"Ožbalt"]
[null,null,null,null,null,null,null,null,null,null,"OBČINA ŠMARTNO OB PAKI",5884276000,"OBČINA ŠMARTNO OB PAKI",null,null,null,null,null,null,null,null,"EraSME 6","6. javni razpis za mednarodne raziskovalno-razvojne projekte za mala in srednje velika podjetja - EraSME","55/2009","2009-07-17",null,null,null,null,null,null,null,null,null,null,null,null,null,null,null,null,null,null,null,null,null,null,null,null,null,null,null,null,null,null,null,null,null,null,null,"30.920","C30.920 Proizvodnja koles in invalidskih vozičkov","C30.92 Proizvodnja koles in invalidskih vozičkov","C30.9 Proizvodnja drugih vozil","C30 Proizvodnja drugih vozil in plovil","C PREDELOVALNE DEJAVNOSTI",null,null,null,null,null,null,2231,"Pernica"]
[null,null,null,null,null,null,null,null,null,null,"OBČINA ŠMARTNO PRI LITIJI",1779737000,"OBČINA ŠMARTNO PRI LITIJI",null,null,null,null,null,null,null,null,"Inovacijski vavčer 2009","Javni razpis \"inovacijski vavčer\" 2009","55/2009","2009-07-17",null,null,null,null,null,null,null,null,null,null,null,null,null,null,null,null,null,null,null,null,null,null,null,null,null,null,null,null,null,null,null,null,null,null,null,"30.990","C30.990 Proizvodnja vprežnih in drugih vozil","C30.99 Proizvodnja vprežnih in drugih vozil","C30.9 Proizvodnja drugih vozil","C30 Proizvodnja drugih vozil in plovil","C PREDELOVALNE DEJAVNOSTI",null,null,null,null,null,null,2211,"Pesnica pri Mariboru"]
[null,null,null,null,null,null,null,null,null,null,"OBČINA ŠOŠTANJ",5884284000,"OBČINA ŠOŠTANJ",null,null,null,null,null,null,null,null,"ARTEMIS 2","Javni razpis za zbiranje predlogov v okviru Delovnega programa Skupnega podjetja ARTEMIS v letu 2009","40/2009","2009-05-29",null,null,null,null,null,null,null,null,null,null,null,null,null,null,null,null,null,null,null,null,null,null,null,null,null,null,null,null,null,null,null,null,null,null,null,"31.010","C31.010 Proizvodnja pohištva za poslovne in prodajne prostore","C31.01 Proizvodnja pohištva za poslovne in prodajne prostore","C31.0 Proizvodnja pohištva","C31 Proizvodnja pohištva","C PREDELOVALNE DEJAVNOSTI",null,null,null,null,null,null,9203,"Petrovci"]
[null,null,null,null,null,null,null,null,null,null,"OBČINA ŠTORE",5880378000,"OBČINA ŠTORE",null,null,null,null,null,null,null,null,"Vavčersko svetovanje in usposabljanje 2009","Program vavčerskega svetovanja in usposabljanja za MSP v letu 2009",null,"2009-05-19",null,null,null,null,null,null,null,null,null,null,null,null,null,null,null,null,null,null,null,null,null,null,null,null,null,null,null,null,null,null,null,null,null,null,null,"31.020","C31.020 Proizvodnja kuhinjskega pohištva","C31.02 Proizvodnja kuhinjskega pohištva","C31.0 Proizvodnja pohištva","C31 Proizvodnja pohištva","C PREDELOVALNE DEJAVNOSTI",null,null,null,null,null,null,3301,"Petrovče"]
[null,null,null,null,null,null,null,null,null,null,"OBČINA TABOR",1357727000,"OBČINA TABOR",null,null,null,null,null,null,null,null,"Mobilnost II 2009","Javni razpis za sofinanciranje zaposlitev raziskovalcev ob prehodu v podjetja (št. II)","35/2009","2009-05-08",null,null,null,null,null,null,null,null,null,null,null,null,null,null,null,null,null,null,null,null,null,null,null,null,null,null,null,null,null,null,null,null,null,null,null,"31.030","C31.030 Proizvodnja žimnic","C31.03 Proizvodnja žimnic","C31.0 Proizvodnja pohištva","C31 Proizvodnja pohištva","C PREDELOVALNE DEJAVNOSTI",null,null,null,null,null,null,6330,"Piran/Pirano"]
[null,null,null,null,null,null,null,null,null,null,"OBČINA TIŠINA",5883067000,"OBČINA TIŠINA",null,null,null,null,null,null,null,null,"Interdisciplinarne I 2009","Javni razpis za sofinanciranje stroškov projektnih interdisciplinarnih skupin (št. I)","33/2009","2009-04-30",null,null,null,null,null,null,null,null,null,null,null,null,null,null,null,null,null,null,null,null,null,null,null,null,null,null,null,null,null,null,null,null,null,null,null,"31.090","C31.090 Proizvodnja drugega pohištva","C31.09 Proizvodnja drugega pohištva","C31.0 Proizvodnja pohištva","C31 Proizvodnja pohištva","C PREDELOVALNE DEJAVNOSTI",null,null,null,null,null,null,8255,"Pišece"]
[null,null,null,null,null,null,null,null,null,null,"OBČINA TOLMIN",5881455000,"OBČINA TOLMIN",null,null,null,null,null,null,null,null,"P1B 2009","Javni razpis za garancije Sklada za bančne kredite s subvencijo obrestne mere (P1B 2009)","32/2009","2009-04-24",null,null,null,null,null,null,null,null,null,null,null,null,null,null,null,null,null,null,null,null,null,null,null,null,null,null,null,null,null,null,null,null,null,null,null,"32.110","C32.110 Kovanje kovancev","C32.11 Kovanje kovancev","C32.1 Proizvodnja nakita, bižuterije in podobnih izdelkov","C32 Druge raznovrstne predelovalne dejavnosti","C PREDELOVALNE DEJAVNOSTI",null,null,null,null,null,null,6257,"Pivka"]
[null,null,null,null,null,null,null,null,null,null,"OBČINA TRBOVLJE",5882940000,"OBČINA TRBOVLJE",null,null,null,null,null,null,null,null,"P4 2009-2011","Javni razpis za sofinanciranje nakupa nove tehnološke opreme v obdobju 2009 - 2011 (P4 2009-2011)","19/2009","2009-03-13",null,null,null,null,null,null,null,null,null,null,null,null,null,null,null,null,null,null,null,null,null,null,null,null,null,null,null,null,null,null,null,null,null,null,null,"32.120","C32.120 Proizvodnja nakita in podobnih izdelkov","C32.12 Proizvodnja nakita in podobnih izdelkov","C32.1 Proizvodnja nakita, bižuterije in podobnih izdelkov","C32 Druge raznovrstne predelovalne dejavnosti","C PREDELOVALNE DEJAVNOSTI",null,null,null,null,null,null,6232,"Planina"]
[null,null,null,null,null,null,null,null,null,null,"OBČINA TREBNJE",5882958000,"OBČINA TREBNJE",null,null,null,null,null,null,null,null,"RIP 09","Javni razpis \"Neposredne spodbude za skupne razvojno-investicijske projekte - RIP 09\"","19/2009","2009-03-13",null,null,null,null,null,null,null,null,null,null,null,null,null,null,null,null,null,null,null,null,null,null,null,null,null,null,null,null,null,null,null,null,null,null,null,"32.130","C32.130 Proizvodnja bižuterije","C32.13 Proizvodnja bižuterije","C32.1 Proizvodnja nakita, bižuterije in podobnih izdelkov","C32 Druge raznovrstne predelovalne dejavnosti","C PREDELOVALNE DEJAVNOSTI",null,null,null,null,null,null,3225,"Planina pri Sevnici"]
[null,null,null,null,null,null,null,null,null,null,"OBČINA TRNOVSKA VAS",1358057000,"OBČINA TRNOVSKA VAS",null,null,null,null,null,null,null,null,"P1A 2009","Javni razpis za garancije Sklada za bančne kredite s subvencijo obrestne mere (P1A 2009)","17/2009","2009-03-06",null,null,null,null,null,null,null,null,null,null,null,null,null,null,null,null,null,null,null,null,null,null,null,null,null,null,null,null,null,null,null,null,null,null,null,"32.200","C32.200 Proizvodnja glasbil","C32.20 Proizvodnja glasbil","C32.2 Proizvodnja glasbil","C32 Druge raznovrstne predelovalne dejavnosti","C PREDELOVALNE DEJAVNOSTI",null,null,null,null,null,null,6276,"Pobegi"]
[null,null,null,null,null,null,null,null,null,null,"OBČINA TRZIN",1358561000,"OBČINA TRZIN",null,null,null,null,null,null,null,null,"P2 2009","Javni razpis za sofinanciranje zagona podjetij v tehnoloških parkih in inkubatorjih (P2 2009)","11/2009","2009-02-13",null,null,null,null,null,null,null,null,null,null,null,null,null,null,null,null,null,null,null,null,null,null,null,null,null,null,null,null,null,null,null,null,null,null,null,"32.300","C32.300 Proizvodnja športne opreme","C32.30 Proizvodnja športne opreme","C32.3 Proizvodnja športne opreme","C32 Druge raznovrstne predelovalne dejavnosti","C PREDELOVALNE DEJAVNOSTI",null,null,null,null,null,null,8312,"Podbočje"]
[null,null,null,null,null,null,null,null,null,null,"OBČINA TRŽIČ",5883547000,"OBČINA TRŽIČ",null,null,null,null,null,null,null,null,"PSI 2009/2010","Poklicno in strokovno izobraževanje v letu 2009/2010",null,"2009-01-06",null,null,null,null,null,null,null,null,null,null,null,null,null,null,null,null,null,null,null,null,null,null,null,null,null,null,null,null,null,null,null,null,null,null,null,"32.400","C32.400 Proizvodnja igrač in rekvizitov za igre in zabavo","C32.40 Proizvodnja igrač in rekvizitov za igre in zabavo","C32.4 Proizvodnja igrač in rekvizitov za igre in zabavo","C32 Druge raznovrstne predelovalne dejavnosti","C PREDELOVALNE DEJAVNOSTI",null,null,null,null,null,null,5243,"Podbrdo"]
[null,null,null,null,null,null,null,null,null,null,"OBČINA TURNIŠČE",5874700000,"OBČINA TURNIŠČE",null,null,null,null,null,null,null,null,"SRRP","Javni razpis \"Strateški raziskovalno-razvojni projekti v podjetjih\" (SRRP)","117/2008","2008-12-12",null,null,null,null,null,null,null,null,null,null,null,null,null,null,null,null,null,null,null,null,null,null,null,null,null,null,null,null,null,null,null,null,null,null,null,"32.500","C32.500 Proizvodnja medicinskih instrumentov, naprav in pripomočkov","C32.50 Proizvodnja medicinskih instrumentov, naprav in pripomočkov","C32.5 Proizvodnja medicinskih instrumentov, naprav in pripomočkov","C32 Druge raznovrstne predelovalne dejavnosti","C PREDELOVALNE DEJAVNOSTI",null,null,null,null,null,null,3254,"Podčetrtek"]
[null,null,null,null,null,null,null,null,null,null,"OBČINA VELIKA POLANA",1332104000,"OBČINA VELIKA POLANA",null,null,null,null,null,null,null,null,"EUREKA 2009","Javni razpis za dodeljevanje spodbud v okviru iniciative EUREKA za leto 2009","105/2008 ","2008-11-07",null,null,null,null,null,null,null,null,null,null,null,null,null,null,null,null,null,null,null,null,null,null,null,null,null,null,null,null,null,null,null,null,null,null,null,"32.910","C32.910 Proizvodnja metel in krtač","C32.91 Proizvodnja metel in krtač","C32.9 Druge predelovalne dejavnosti","C32 Druge raznovrstne predelovalne dejavnosti","C PREDELOVALNE DEJAVNOSTI",null,null,null,null,null,null,2273,"Podgorci"]
[null,null,null,null,null,null,null,null,null,null,"OBČINA VELIKE LAŠČE",5874785000,"OBČINA VELIKE LAŠČE",null,null,null,null,null,null,null,null,"mali RR","Javni razpis za \"neposredne spodbude za raziskovalno razvojne dejavnosti v podjetjih – projekti 2008\" (mali RR)","89/2008","2008-09-19",null,null,null,null,null,null,null,null,null,null,null,null,null,null,null,null,null,null,null,null,null,null,null,null,null,null,null,null,null,null,null,null,null,null,null,"32.990","C32.990 Drugje nerazvrščene predelovalne dejavnosti","C32.99 Drugje nerazvrščene predelovalne dejavnosti","C32.9 Druge predelovalne dejavnosti","C32 Druge raznovrstne predelovalne dejavnosti","C PREDELOVALNE DEJAVNOSTI",null,null,null,null,null,null,6216,"Podgorje"]
[null,null,null,null,null,null,null,null,null,null,"OBČINA VERŽEJ",1332171000,"OBČINA VERŽEJ",null,null,null,null,null,null,null,null,"P4 2008","Javni razpis za sofinanciranje nakupa nove tehnološke opreme v letu 2009 (P4 2008)","88/2008","2008-09-12",null,null,null,null,null,null,null,null,null,null,null,null,null,null,null,null,null,null,null,null,null,null,null,null,null,null,null,null,null,null,null,null,null,null,null,"33.110","C33.110 Popravila kovinskih izdelkov","C33.11 Popravila kovinskih izdelkov","C33.1 Popravila kovinskih izdelkov, strojev in naprav","C33 Popravila in montaža strojev in naprav","C PREDELOVALNE DEJAVNOSTI",null,null,null,null,null,null,2381,"Podgorje pri Slovenj Gradcu"]
[null,null,null,null,null,null,null,null,null,null,"OBČINA VIDEM",5883423000,"OBČINA VIDEM",null,null,null,null,null,null,null,null,"GLS","Javni razpis za sofinanciranje projektov izgradnje tehnoloških parkov in podjetniških inkubatorjev v okviru gospodarsko-razvojno-logističnih središč","79/2008","2008-08-01",null,null,null,null,null,null,null,null,null,null,null,null,null,null,null,null,null,null,null,null,null,null,null,null,null,null,null,null,null,null,null,null,null,null,null,"33.120","C33.120 Popravila strojev in naprav","C33.12 Popravila strojev in naprav","C33.1 Popravila kovinskih izdelkov, strojev in naprav","C33 Popravila in montaža strojev in naprav","C PREDELOVALNE DEJAVNOSTI",null,null,null,null,null,null,6244,"Podgrad"]
[null,null,null,null,null,null,null,null,null,null,"OBČINA VIPAVA",5879922000,"OBČINA VIPAVA",null,null,null,null,null,null,null,null,"MR 2008","Javni razpis \"Mladi raziskovalci iz gospodarstva - generacija 2008\"","76/2008","2008-07-25",null,null,null,null,null,null,null,null,null,null,null,null,null,null,null,null,null,null,null,null,null,null,null,null,null,null,null,null,null,null,null,null,null,null,null,"33.130","C33.130 Popravila elektronskih in optičnih naprav","C33.13 Popravila elektronskih in optičnih naprav","C33.1 Popravila kovinskih izdelkov, strojev in naprav","C33 Popravila in montaža strojev in naprav","C PREDELOVALNE DEJAVNOSTI",null,null,null,null,null,null,1414,"Podkum"]
[null,null,null,null,null,null,null,null,null,null,"OBČINA VITANJE",5883768000,"OBČINA VITANJE",null,null,null,null,null,null,null,null,"VALOR 2008","Javni razpis za spodbujanje procesa komercializacije znanja (VALOR 2008)","67/2008","2008-07-04",null,null,null,null,null,null,null,null,null,null,null,null,null,null,null,null,null,null,null,null,null,null,null,null,null,null,null,null,null,null,null,null,null,null,null,"33.140","C33.140 Popravila električnih naprav","C33.14 Popravila električnih naprav","C33.1 Popravila kovinskih izdelkov, strojev in naprav","C33 Popravila in montaža strojev in naprav","C PREDELOVALNE DEJAVNOSTI",null,null,null,null,null,null,2286,"Podlehnik"]
[null,null,null,null,null,null,null,null,null,null,"OBČINA VODICE",5874637000,"OBČINA VODICE",null,null,null,null,null,null,null,null,"Vavčersko svetovanje 2008","Program vavčerskega svetovanja v letu 2008",null,"2008-07-02",null,null,null,null,null,null,null,null,null,null,null,null,null,null,null,null,null,null,null,null,null,null,null,null,null,null,null,null,null,null,null,null,null,null,null,"33.150","C33.150 Popravila in vzdrževanje ladij in čolnov","C33.15 Popravila in vzdrževanje ladij in čolnov","C33.1 Popravila kovinskih izdelkov, strojev in naprav","C33 Popravila in montaža strojev in naprav","C PREDELOVALNE DEJAVNOSTI",null,null,null,null,null,null,5272,"Podnanos"]
[null,null,null,null,null,null,null,null,null,null,"OBČINA VOJNIK",5880386000,"OBČINA VOJNIK",null,null,null,null,null,null,null,null,"EUROSTARS 2008","Javni razpis za podporo malim in srednje velikim podjetjem, ki izvajajo raziskave in razvoj – program EUROSTARS, v okviru iniciative EUREKA za leto 2008","53/2008 ","2008-05-30",null,null,null,null,null,null,null,null,null,null,null,null,null,null,null,null,null,null,null,null,null,null,null,null,null,null,null,null,null,null,null,null,null,null,null,"33.160","C33.160 Popravila in vzdrževanje zračnih in vesoljskih plovil","C33.16 Popravila in vzdrževanje zračnih in vesoljskih plovil","C33.1 Popravila kovinskih izdelkov, strojev in naprav","C33 Popravila in montaža strojev in naprav","C PREDELOVALNE DEJAVNOSTI",null,null,null,null,null,null,4244,"Podnart"]
[null,null,null,null,null,null,null,null,null,null,"OBČINA VRANSKO",1357778000,"OBČINA VRANSKO",null,null,null,null,null,null,null,null,"RIP 08","Javni razpis \"Neposredne spodbude za skupne razvojno-investicijske projekte - projekti 2008\" (RIP 08)","38/2008","2008-04-18",null,null,null,null,null,null,null,null,null,null,null,null,null,null,null,null,null,null,null,null,null,null,null,null,null,null,null,null,null,null,null,null,null,null,null,"33.170","C33.170 Popravila in vzdrževanje drugih prevoznih sredstev","C33.17 Popravila in vzdrževanje drugih prevoznih sredstev","C33.1 Popravila kovinskih izdelkov, strojev in naprav","C33 Popravila in montaža strojev in naprav","C PREDELOVALNE DEJAVNOSTI",null,null,null,null,null,null,3241,"Podplat"]
[null,null,null,null,null,null,null,null,null,null,"OBČINA VRHNIKA",5883407000,"OBČINA VRHNIKA",null,null,null,null,null,null,null,null,"Interdisciplinarne 1-2008","Javni razpis za spodbujanje formiranja interdisciplinarnih razvojnih skupin za delo na tehnološko razvojnih projektih podjetij (št. 1/2008)","29/2008","2008-03-21",null,null,null,null,null,null,null,null,null,null,null,null,null,null,null,null,null,null,null,null,null,null,null,null,null,null,null,null,null,null,null,null,null,null,null,"33.190","C33.190 Popravila drugih naprav","C33.19 Popravila drugih naprav","C33.1 Popravila kovinskih izdelkov, strojev in naprav","C33 Popravila in montaža strojev in naprav","C PREDELOVALNE DEJAVNOSTI",null,null,null,null,null,null,3257,"Podsreda"]
[null,null,null,null,null,null,null,null,null,null,"OBČINA VUZENICA",5881765000,"OBČINA VUZENICA",null,null,null,null,null,null,null,null,"Mobilnost I 2008","Javni razpis spodbujanje mobilnosti visokokvalificiranega osebja (št. I)","29/2008","2008-03-21",null,null,null,null,null,null,null,null,null,null,null,null,null,null,null,null,null,null,null,null,null,null,null,null,null,null,null,null,null,null,null,null,null,null,null,"33.200","C33.200 Montaža industrijskih strojev in naprav","C33.20 Montaža industrijskih strojev in naprav","C33.2 Montaža industrijskih strojev in naprav","C33 Popravila in montaža strojev in naprav","C PREDELOVALNE DEJAVNOSTI",null,null,null,null,null,null,2363,"Podvelka"]
[null,null,null,null,null,null,null,null,null,null,"OBČINA ZAGORJE OB SAVI",5883890000,"OBČINA ZAGORJE OB SAVI",null,null,null,null,null,null,null,null,"P4a 2008","Javni razpis za sofinanciranje nakupa nove tehnološke opreme v letu 2008 za mikro, mala in srednje velika podjetja z najmanj 1 in največ 9 zaposlenimi (P4a 2008)","23/2008","2008-03-07",null,null,null,null,null,null,null,null,null,null,null,null,null,null,null,null,null,null,null,null,null,null,null,null,null,null,null,null,null,null,null,null,null,null,null,"35.111","D35.111 Proizvodnja električne energije v hidroelektrarnah","D35.11 Proizvodnja električne energije","D35.1 Oskrba z električno energijo","D35 Oskrba z električno energijo, plinom in paro","D OSKRBA Z ELEKTRIČNO ENERGIJO, PLINOM IN PARO",null,null,null,null,null,null,2208,"Pohorje"]
[null,null,null,null,null,null,null,null,null,null,"OBČINA ZAVRČ",5883377000,"OBČINA ZAVRČ",null,null,null,null,null,null,null,null,"P1 2008","Javni razpis za garancije Sklada za bančne investicijske kredite s subvencijo obrestne mere (P1 2008)","21/2008","2008-02-29",null,null,null,null,null,null,null,null,null,null,null,null,null,null,null,null,null,null,null,null,null,null,null,null,null,null,null,null,null,null,null,null,null,null,null,"35.112","D35.112 Proizvodnja električne energije v termoelektrarnah, jedrskih elektrarnah","D35.11 Proizvodnja električne energije","D35.1 Oskrba z električno energijo","D35 Oskrba z električno energijo, plinom in paro","D OSKRBA Z ELEKTRIČNO ENERGIJO, PLINOM IN PARO",null,null,null,null,null,null,2257,"Polenšak"]
[null,null,null,null,null,null,null,null,null,null,"OBČINA ZREČE",5883342000,"OBČINA ZREČE",null,null,null,null,null,null,null,null,"P2 2008","Javni razpis za sofinanciranje (subvencije) zagona inkubiranih in inovativnih podjetij\nP2 (A,B,C,D) v letu 2008","18/2008","2008-02-22",null,null,null,null,null,null,null,null,null,null,null,null,null,null,null,null,null,null,null,null,null,null,null,null,null,null,null,null,null,null,null,null,null,null,null,"35.119","D35.119 Druga proizvodnja električne energije","D35.11 Proizvodnja električne energije","D35.1 Oskrba z električno energijo","D35 Oskrba z električno energijo, plinom in paro","D OSKRBA Z ELEKTRIČNO ENERGIJO, PLINOM IN PARO",null,null,null,null,null,null,1355,"Polhov Gradec"]
[null,null,null,null,null,null,null,null,null,null,"OBČINA ŽALEC",5881544000,"OBČINA ŽALEC",null,null,null,null,null,null,null,null,"MR 2007","Javni razpis \"Mladi raziskovalci iz gospodarstva - generacija 2007\"","118/2007","2007-12-21",null,null,null,null,null,null,null,null,null,null,null,null,null,null,null,null,null,null,null,null,null,null,null,null,null,null,null,null,null,null,null,null,null,null,null,"35.120","D35.120 Prenos električne energije","D35.12 Prenos električne energije","D35.1 Oskrba z električno energijo","D35 Oskrba z električno energijo, plinom in paro","D OSKRBA Z ELEKTRIČNO ENERGIJO, PLINOM IN PARO",null,null,null,null,null,null,4223,"Poljane nad Škofjo Loko"]
[null,null,null,null,null,null,null,null,null,null,"OBČINA ŽELEZNIKI",5883148000,"OBČINA ŽELEZNIKI",null,null,null,null,null,null,null,null,"Poplave 9.2007","Javni poziv za pomoč podjetjem, ki so utrpela škodo kot posledico naravne nesreče 18.9.2007","88/20007","2007-09-28",null,null,null,null,null,null,null,null,null,null,null,null,null,null,null,null,null,null,null,null,null,null,null,null,null,null,null,null,null,null,null,null,null,null,null,"35.130","D35.130 Distribucija električne energije","D35.13 Distribucija električne energije","D35.1 Oskrba z električno energijo","D35 Oskrba z električno energijo, plinom in paro","D OSKRBA Z ELEKTRIČNO ENERGIJO, PLINOM IN PARO",null,null,null,null,null,null,2319,"Poljčane"]
[null,null,null,null,null,null,null,null,null,null,"OBČINA ŽETALE",1357999000,"OBČINA ŽETALE",null,null,null,null,null,null,null,null,"P4 2007/2008","Javni razpis za sofinanciranje (neposredne subvencije) nakupa nove tehnološke opreme v letu 2007/2008 (P4 2007/2008)"," 81/2007","2007-09-07",null,null,null,null,null,null,null,null,null,null,null,null,null,null,null,null,null,null,null,null,null,null,null,null,null,null,null,null,null,null,null,null,null,null,null,"35.140","D35.140 Trgovanje z električno energijo","D35.14 Trgovanje z električno energijo","D35.1 Oskrba z električno energijo","D35 Oskrba z električno energijo, plinom in paro","D OSKRBA Z ELEKTRIČNO ENERGIJO, PLINOM IN PARO",null,null,null,null,null,null,1272,"Polšnik"]
[null,null,null,null,null,null,null,null,null,null,"OBČINA ŽIRI",5883202000,"OBČINA ŽIRI",null,null,null,null,null,null,null,null,"R1 2007","Javni razpis za subvencije za podjetja v institucijah inovativnega okolja v letu 2007 (R1A in R1B)","45/2007","2007-06-08",null,null,null,null,null,null,null,null,null,null,null,null,null,null,null,null,null,null,null,null,null,null,null,null,null,null,null,null,null,null,null,null,null,null,null,"35.210","D35.210 Proizvodnja plina","D35.21 Proizvodnja plina","D35.2 Oskrba s plinastimi gorivi","D35 Oskrba z električno energijo, plinom in paro","D OSKRBA Z ELEKTRIČNO ENERGIJO, PLINOM IN PARO",null,null,null,null,null,null,3313,"Polzela"]
[null,null,null,null,null,null,null,null,null,null,"OBČINA ŽIROVNICA",1332201000,"OBČINA ŽIROVNICA",null,null,null,null,null,null,null,null,"P3 2007","Javni razpis za garancije za finančni leasing brez pologa (P3 2007)","45/2007 ","2007-05-25",null,null,null,null,null,null,null,null,null,null,null,null,null,null,null,null,null,null,null,null,null,null,null,null,null,null,null,null,null,null,null,null,null,null,null,"35.220","D35.220 Distribucija plinastih goriv po plinovodni mreži","D35.22 Distribucija plinastih goriv po plinovodni mreži","D35.2 Oskrba s plinastimi gorivi","D35 Oskrba z električno energijo, plinom in paro","D OSKRBA Z ELEKTRIČNO ENERGIJO, PLINOM IN PARO",null,null,null,null,null,null,3232,"Ponikva"]
[null,null,null,null,null,null,null,null,null,null,"OBČINA ŽUŽEMBERK",1358383000,"OBČINA ŽUŽEMBERK",null,null,null,null,null,null,null,null,"P1/3 2007","Javni razpis za posredne dolgoročne investicijske kredite z garancijami (P1/3 2007)","45/2007","2007-05-25",null,null,null,null,null,null,null,null,null,null,null,null,null,null,null,null,null,null,null,null,null,null,null,null,null,null,null,null,null,null,null,null,null,null,null,"35.230","D35.230 Trgovanje s plinastimi gorivi po plinovodni mreži","D35.23 Trgovanje s plinastimi gorivi po plinovodni mreži","D35.2 Oskrba s plinastimi gorivi","D35 Oskrba z električno energijo, plinom in paro","D OSKRBA Z ELEKTRIČNO ENERGIJO, PLINOM IN PARO",null,null,null,null,null,null,6320,"Portorož/Portorose"]
[null,null,null,null,null,null,null,null,null,null,"Ni aktiven DAVČNA UPRAVA REPUBLIKE SLOVENIJE",5918090000,"Ni aktiven DAVČNA UPRAVA REPUBLIKE SLOVENIJE",null,null,null,null,null,null,null,null,"ZPRPGDT","Zakon o pomoči za reševanje in prestrukturiranje gospodarskih družb v težavah","44/2007","2007-05-21",null,null,null,null,null,null,null,null,null,null,null,null,null,null,null,null,null,null,null,null,null,null,null,null,null,null,null,null,null,null,null,null,null,null,null,"35.300","D35.300 Oskrba s paro in vročo vodo","D35.30 Oskrba s paro in vročo vodo","D35.3 Oskrba s paro in vročo vodo","D35 Oskrba z električno energijo, plinom in paro","D OSKRBA Z ELEKTRIČNO ENERGIJO, PLINOM IN PARO",null,null,null,null,null,null,6230,"Postojna"]
[null,null,null,null,null,null,null,null,null,null,"Ni aktiven MINISTRSTVO ZA ŠOLSTVO IN ŠPORT",5022886000,"Ni aktiven MINISTRSTVO ZA ŠOLSTVO IN ŠPORT",null,null,null,null,null,null,null,null,"Vavčersko svetovanje 2007","Program vavčerskega svetovanja v letu 2007",null,"2007-04-02",null,null,null,null,null,null,null,null,null,null,null,null,null,null,null,null,null,null,null,null,null,null,null,null,null,null,null,null,null,null,null,null,null,null,null,"36.000","E36.000 Zbiranje, prečiščevanje in distribucija vode","E36.00 Zbiranje, prečiščevanje in distribucija vode","E36.0 Zbiranje, prečiščevanje in distribucija vode","E36 Zbiranje, prečiščevanje in distribucija vode","E OSKRBA Z VODO, RAVNANJE Z ODPLAKAMI IN ODPADKI, SANIRANJE OKOLJA",null,null,null,null,null,null,2331,"Pragersko"]
[null,null,null,null,null,null,null,null,null,null,"Ni aktiven MINISTRSTVO ZA VISOKO ŠOLSTVO, ZNANOST IN TEHNOLOGIJO",2045419000,"Ni aktiven MINISTRSTVO ZA VISOKO ŠOLSTVO, ZNANOST IN TEHNOLOGIJO",null,null,null,null,null,null,null,null,"EUREKA 2007-2008","Javni razpis za dodeljevanje spodbud na programu EUREKA za leto 2007 in 2008","19/2007","2007-03-02",null,null,null,null,null,null,null,null,null,null,null,null,null,null,null,null,null,null,null,null,null,null,null,null,null,null,null,null,null,null,null,null,null,null,null,"37.000","E37.000 Ravnanje z odplakami","E37.00 Ravnanje z odplakami","E37.0 Ravnanje z odplakami","E37 Ravnanje z odplakami","E OSKRBA Z VODO, RAVNANJE Z ODPLAKAMI IN ODPADKI, SANIRANJE OKOLJA",null,null,null,null,null,null,3312,"Prebold"]
[null,null,null,null,null,null,null,null,null,null,"Ni aktiven MINISTRSTVO ZA GOSPODARSTVO",5715334000,"Ni aktiven MINISTRSTVO ZA GOSPODARSTVO",null,null,null,null,null,null,null,null,null,null,null,null,null,null,null,null,null,null,null,null,null,null,null,null,null,null,null,null,null,null,null,null,null,null,null,null,null,null,null,null,null,null,null,null,null,null,null,"38.110","E38.110 Zbiranje in odvoz nenevarnih odpadkov","E38.11 Zbiranje in odvoz nenevarnih odpadkov","E38.1 Zbiranje in odvoz odpadkov","E38 Zbiranje in odvoz odpadkov ter ravnanje z njimi, pridobivanje sekundarnih surovin","E OSKRBA Z VODO, RAVNANJE Z ODPLAKAMI IN ODPADKI, SANIRANJE OKOLJA",null,null,null,null,null,null,4205,"Preddvor"]
[null,null,null,null,null,null,null,null,null,null,"Ni aktiven MINISTRSTVO ZA KMETIJSTVO, GOZDARSTVO IN PREHRANO",5022851000,"Ni aktiven MINISTRSTVO ZA KMETIJSTVO, GOZDARSTVO IN PREHRANO",null,null,null,null,null,null,null,null,null,null,null,null,null,null,null,null,null,null,null,null,null,null,null,null,null,null,null,null,null,null,null,null,null,null,null,null,null,null,null,null,null,null,null,null,null,null,null,"38.120","E38.120 Zbiranje in odvoz nevarnih odpadkov","E38.12 Zbiranje in odvoz nevarnih odpadkov","E38.1 Zbiranje in odvoz odpadkov","E38 Zbiranje in odvoz odpadkov ter ravnanje z njimi, pridobivanje sekundarnih surovin","E OSKRBA Z VODO, RAVNANJE Z ODPLAKAMI IN ODPADKI, SANIRANJE OKOLJA",null,null,null,null,null,null,6255,"Prem"]
[null,null,null,null,null,null,null,null,null,null,"Ni aktiven MINISTRSTVO ZA KULTURO",5228000000,"Ni aktiven MINISTRSTVO ZA KULTURO",null,null,null,null,null,null,null,null,null,null,null,null,null,null,null,null,null,null,null,null,null,null,null,null,null,null,null,null,null,null,null,null,null,null,null,null,null,null,null,null,null,null,null,null,null,null,null,"38.210","E38.210 Ravnanje z nenevarnimi odpadki","E38.21 Ravnanje z nenevarnimi odpadki","E38.2 Ravnanje z odpadki","E38 Zbiranje in odvoz odpadkov ter ravnanje z njimi, pridobivanje sekundarnih surovin","E OSKRBA Z VODO, RAVNANJE Z ODPLAKAMI IN ODPADKI, SANIRANJE OKOLJA",null,null,null,null,null,null,1352,"Preserje"]
[null,null,null,null,null,null,null,null,null,null,"Ni aktiven MINISTRSTVO ZA OKOLJE IN PROSTOR",5186773000,"Ni aktiven MINISTRSTVO ZA OKOLJE IN PROSTOR",null,null,null,null,null,null,null,null,null,null,null,null,null,null,null,null,null,null,null,null,null,null,null,null,null,null,null,null,null,null,null,null,null,null,null,null,null,null,null,null,null,null,null,null,null,null,null,"38.220","E38.220 Ravnanje z nevarnimi odpadki","E38.22 Ravnanje z nevarnimi odpadki","E38.2 Ravnanje z odpadki","E38 Zbiranje in odvoz odpadkov ter ravnanje z njimi, pridobivanje sekundarnih surovin","E OSKRBA Z VODO, RAVNANJE Z ODPLAKAMI IN ODPADKI, SANIRANJE OKOLJA",null,null,null,null,null,null,6258,"Prestranek"]
[null,null,null,null,null,null,null,null,null,null,"Ni aktiven MINISTRSTVO ZA PROMET",5028388000,"Ni aktiven MINISTRSTVO ZA PROMET",null,null,null,null,null,null,null,null,null,null,null,null,null,null,null,null,null,null,null,null,null,null,null,null,null,null,null,null,null,null,null,null,null,null,null,null,null,null,null,null,null,null,null,null,null,null,null,"38.310","E38.310 Demontaža odpadnih naprav","E38.31 Demontaža odpadnih naprav","E38.3 Pridobivanje sekundarnih surovin","E38 Zbiranje in odvoz odpadkov ter ravnanje z njimi, pridobivanje sekundarnih surovin","E OSKRBA Z VODO, RAVNANJE Z ODPLAKAMI IN ODPADKI, SANIRANJE OKOLJA",null,null,null,null,null,null,2391,"Prevalje"]
[null,null,null,null,null,null,null,null,null,null,"Ni aktiven MINISTRSTVO ZA IZOBRAŽEVANJE, ZNANOST, KULTURO IN ŠPORT",2399300000,"Ni aktiven MINISTRSTVO ZA IZOBRAŽEVANJE, ZNANOST, KULTURO IN ŠPORT",null,null,null,null,null,null,null,null,null,null,null,null,null,null,null,null,null,null,null,null,null,null,null,null,null,null,null,null,null,null,null,null,null,null,null,null,null,null,null,null,null,null,null,null,null,null,null,"38.320","E38.320 Pridobivanje sekundarnih surovin iz ostankov in odpadkov","E38.32 Pridobivanje sekundarnih surovin iz ostankov in odpadkov","E38.3 Pridobivanje sekundarnih surovin","E38 Zbiranje in odvoz odpadkov ter ravnanje z njimi, pridobivanje sekundarnih surovin","E OSKRBA Z VODO, RAVNANJE Z ODPLAKAMI IN ODPADKI, SANIRANJE OKOLJA",null,null,null,null,null,null,3262,"Prevorje"]
[null,null,null,null,null,null,null,null,null,null,"Ni aktiven MINISTRSTVO ZA INFRASTRUKTURO IN PROSTOR",2399270000,"Ni aktiven MINISTRSTVO ZA INFRASTRUKTURO IN PROSTOR",null,null,null,null,null,null,null,null,null,null,null,null,null,null,null,null,null,null,null,null,null,null,null,null,null,null,null,null,null,null,null,null,null,null,null,null,null,null,null,null,null,null,null,null,null,null,null,"39.000","E39.000 Saniranje okolja in drugo ravnanje z odpadki","E39.00 Saniranje okolja in drugo ravnanje z odpadki","E39.0 Saniranje okolja in drugo ravnanje z odpadki","E39 Saniranje okolja in drugo ravnanje z odpadki","E OSKRBA Z VODO, RAVNANJE Z ODPLAKAMI IN ODPADKI, SANIRANJE OKOLJA",null,null,null,null,null,null,1276,"Primskovo"]
[null,null,null,null,null,null,null,null,null,null,"Ni aktiven MINISTRSTVO ZA PROMET, DIREKCIJA RS ZA VODENJE INVESTICIJ V JAVNO ŽELEZNIŠKO INFRASTRUKTURO",2299488000,"Ni aktiven MINISTRSTVO ZA PROMET, DIREKCIJA RS ZA VODENJE INVESTICIJ V JAVNO ŽELEZNIŠKO INFRASTRUKTURO",null,null,null,null,null,null,null,null,null,null,null,null,null,null,null,null,null,null,null,null,null,null,null,null,null,null,null,null,null,null,null,null,null,null,null,null,null,null,null,null,null,null,null,null,null,null,null,"41.100","F41.100 Organizacija izvedbe stavbnih projektov","F41.10 Organizacija izvedbe stavbnih projektov","F41.1 Organizacija izvedbe stavbnih projektov","F41 Gradnja stavb","F GRADBENIŠTVO",null,null,null,null,null,null,3253,"Pristava pri Mestinju"]
[null,null,null,null,null,null,null,null,null,null,"Ni aktiven MINISTRSTVO ZA MALO GOSPODARSTVO IN TURIZEM",1227106000,"Ni aktiven MINISTRSTVO ZA MALO GOSPODARSTVO IN TURIZEM",null,null,null,null,null,null,null,null,null,null,null,null,null,null,null,null,null,null,null,null,null,null,null,null,null,null,null,null,null,null,null,null,null,null,null,null,null,null,null,null,null,null,null,null,null,null,null,"41.200","F41.200 Gradnja stanovanjskih in nestanovanjskih stavb","F41.20 Gradnja stanovanjskih in nestanovanjskih stavb","F41.2 Gradnja stanovanjskih in nestanovanjskih stavb","F41 Gradnja stavb","F GRADBENIŠTVO",null,null,null,null,null,null,9207,"Prosenjakovci/Partosfalva"]
[null,null,null,null,null,null,null,null,null,null,"Ni aktiven JAPTI, javna agencija za podjetništvo in tuje investicije (JAVNA AGENCIJA REPUBLIKE SLOVENIJE ZA PODJETNIŠTVO IN TUJE INVESTICIJE)",5748542000,"Ni aktiven JAPTI, javna agencija za podjetništvo in tuje investicije (JAVNA AGENCIJA REPUBLIKE SLOVENIJE ZA PODJETNIŠTVO IN TUJE INVESTICIJE)",null,null,null,null,null,null,null,null,null,null,null,null,null,null,null,null,null,null,null,null,null,null,null,null,null,null,null,null,null,null,null,null,null,null,null,null,null,null,null,null,null,null,null,null,null,null,null,"42.110","F42.110 Gradnja cest","F42.11 Gradnja cest","F42.1 Gradnja cest in železnic","F42 Gradnja inženirskih objektov","F GRADBENIŠTVO",null,null,null,null,null,null,5297,"Prvačina"]
[null,null,null,null,null,null,null,null,null,null,null,null,null,null,null,null,null,null,null,null,null,null,null,null,null,null,null,null,null,null,null,null,null,null,null,null,null,null,null,null,null,null,null,null,null,null,null,null,null,null,null,null,null,null,null,null,null,null,null,null,"42.120","F42.120 Gradnja železnic in podzemnih železnic","F42.12 Gradnja železnic in podzemnih železnic","F42.1 Gradnja cest in železnic","F42 Gradnja inženirskih objektov","F GRADBENIŠTVO",null,null,null,null,null,null,2250,"Ptuj"]
[null,null,null,null,null,null,null,null,null,null,null,null,null,null,null,null,null,null,null,null,null,null,null,null,null,null,null,null,null,null,null,null,null,null,null,null,null,null,null,null,null,null,null,null,null,null,null,null,null,null,null,null,null,null,null,null,null,null,null,null,"42.130","F42.130 Gradnja mostov in predorov","F42.13 Gradnja mostov in predorov","F42.1 Gradnja cest in železnic","F42 Gradnja inženirskih objektov","F GRADBENIŠTVO",null,null,null,null,null,null,2323,"Ptujska Gora"]
[null,null,null,null,null,null,null,null,null,null,null,null,null,null,null,null,null,null,null,null,null,null,null,null,null,null,null,null,null,null,null,null,null,null,null,null,null,null,null,null,null,null,null,null,null,null,null,null,null,null,null,null,null,null,null,null,null,null,null,null,"42.210","F42.210 Gradnja objektov oskrbne infrastrukture za tekočine in pline","F42.21 Gradnja objektov oskrbne infrastrukture za tekočine in pline","F42.2 Gradnja objektov oskrbne infrastrukture","F42 Gradnja inženirskih objektov","F GRADBENIŠTVO",null,null,null,null,null,null,9201,"Puconci"]
[null,null,null,null,null,null,null,null,null,null,null,null,null,null,null,null,null,null,null,null,null,null,null,null,null,null,null,null,null,null,null,null,null,null,null,null,null,null,null,null,null,null,null,null,null,null,null,null,null,null,null,null,null,null,null,null,null,null,null,null,"42.220","F42.220 Gradnja objektov oskrbne infrastrukture za elektriko in telekomunikacije","F42.22 Gradnja objektov oskrbne infrastrukture za elektriko in telekomunikacije","F42.2 Gradnja objektov oskrbne infrastrukture","F42 Gradnja inženirskih objektov","F GRADBENIŠTVO",null,null,null,null,null,null,2327,"Rače"]
[null,null,null,null,null,null,null,null,null,null,null,null,null,null,null,null,null,null,null,null,null,null,null,null,null,null,null,null,null,null,null,null,null,null,null,null,null,null,null,null,null,null,null,null,null,null,null,null,null,null,null,null,null,null,null,null,null,null,null,null,"42.910","F42.910 Gradnja vodnih objektov","F42.91 Gradnja vodnih objektov","F42.9 Gradnja drugih inženirskih objektov","F42 Gradnja inženirskih objektov","F GRADBENIŠTVO",null,null,null,null,null,null,1433,"Radeče"]
[null,null,null,null,null,null,null,null,null,null,null,null,null,null,null,null,null,null,null,null,null,null,null,null,null,null,null,null,null,null,null,null,null,null,null,null,null,null,null,null,null,null,null,null,null,null,null,null,null,null,null,null,null,null,null,null,null,null,null,null,"42.990","F42.990 Gradnja drugih objektov nizke gradnje","F42.99 Gradnja drugih objektov nizke gradnje","F42.9 Gradnja drugih inženirskih objektov","F42 Gradnja inženirskih objektov","F GRADBENIŠTVO",null,null,null,null,null,null,9252,"Radenci"]
[null,null,null,null,null,null,null,null,null,null,null,null,null,null,null,null,null,null,null,null,null,null,null,null,null,null,null,null,null,null,null,null,null,null,null,null,null,null,null,null,null,null,null,null,null,null,null,null,null,null,null,null,null,null,null,null,null,null,null,null,"43.110","F43.110 Rušenje objektov","F43.11 Rušenje objektov","F43.1 Pripravljalna dela na gradbišču","F43 Specializirana gradbena dela","F GRADBENIŠTVO",null,null,null,null,null,null,2360,"Radlje ob Dravi"]
[null,null,null,null,null,null,null,null,null,null,null,null,null,null,null,null,null,null,null,null,null,null,null,null,null,null,null,null,null,null,null,null,null,null,null,null,null,null,null,null,null,null,null,null,null,null,null,null,null,null,null,null,null,null,null,null,null,null,null,null,"43.120","F43.120 Zemeljska pripravljalna dela","F43.12 Zemeljska pripravljalna dela","F43.1 Pripravljalna dela na gradbišču","F43 Specializirana gradbena dela","F GRADBENIŠTVO",null,null,null,null,null,null,1235,"Radomlje"]
[null,null,null,null,null,null,null,null,null,null,null,null,null,null,null,null,null,null,null,null,null,null,null,null,null,null,null,null,null,null,null,null,null,null,null,null,null,null,null,null,null,null,null,null,null,null,null,null,null,null,null,null,null,null,null,null,null,null,null,null,"43.130","F43.130 Testno vrtanje in sondiranje","F43.13 Testno vrtanje in sondiranje","F43.1 Pripravljalna dela na gradbišču","F43 Specializirana gradbena dela","F GRADBENIŠTVO",null,null,null,null,null,null,4240,"Radovljica"]
[null,null,null,null,null,null,null,null,null,null,null,null,null,null,null,null,null,null,null,null,null,null,null,null,null,null,null,null,null,null,null,null,null,null,null,null,null,null,null,null,null,null,null,null,null,null,null,null,null,null,null,null,null,null,null,null,null,null,null,null,"43.210","F43.210 Inštaliranje električnih napeljav in naprav","F43.21 Inštaliranje električnih napeljav in naprav","F43.2 Inštaliranje pri gradnjah","F43 Specializirana gradbena dela","F GRADBENIŠTVO",null,null,null,null,null,null,8274,"Raka"]
[null,null,null,null,null,null,null,null,null,null,null,null,null,null,null,null,null,null,null,null,null,null,null,null,null,null,null,null,null,null,null,null,null,null,null,null,null,null,null,null,null,null,null,null,null,null,null,null,null,null,null,null,null,null,null,null,null,null,null,null,"43.220","F43.220 Inštaliranje vodovodnih, plinskih in ogrevalnih napeljav in naprav","F43.22 Inštaliranje vodovodnih, plinskih in ogrevalnih napeljav in naprav","F43.2 Inštaliranje pri gradnjah","F43 Specializirana gradbena dela","F GRADBENIŠTVO",null,null,null,null,null,null,1381,"Rakek"]
[null,null,null,null,null,null,null,null,null,null,null,null,null,null,null,null,null,null,null,null,null,null,null,null,null,null,null,null,null,null,null,null,null,null,null,null,null,null,null,null,null,null,null,null,null,null,null,null,null,null,null,null,null,null,null,null,null,null,null,null,"43.290","F43.290 Drugo inštaliranje pri gradnjah","F43.29 Drugo inštaliranje pri gradnjah","F43.2 Inštaliranje pri gradnjah","F43 Specializirana gradbena dela","F GRADBENIŠTVO",null,null,null,null,null,null,4283,"Rateče - Planica"]
[null,null,null,null,null,null,null,null,null,null,null,null,null,null,null,null,null,null,null,null,null,null,null,null,null,null,null,null,null,null,null,null,null,null,null,null,null,null,null,null,null,null,null,null,null,null,null,null,null,null,null,null,null,null,null,null,null,null,null,null,"43.310","F43.310 Fasaderska in štukaterska dela","F43.31 Fasaderska in štukaterska dela","F43.3 Zaključna gradbena dela","F43 Specializirana gradbena dela","F GRADBENIŠTVO",null,null,null,null,null,null,2390,"Ravne na Koroškem"]
[null,null,null,null,null,null,null,null,null,null,null,null,null,null,null,null,null,null,null,null,null,null,null,null,null,null,null,null,null,null,null,null,null,null,null,null,null,null,null,null,null,null,null,null,null,null,null,null,null,null,null,null,null,null,null,null,null,null,null,null,"43.320","F43.320 Vgrajevanje stavbnega pohištva","F43.32 Vgrajevanje stavbnega pohištva","F43.3 Zaključna gradbena dela","F43 Specializirana gradbena dela","F GRADBENIŠTVO",null,null,null,null,null,null,9246,"Razkrižje"]
[null,null,null,null,null,null,null,null,null,null,null,null,null,null,null,null,null,null,null,null,null,null,null,null,null,null,null,null,null,null,null,null,null,null,null,null,null,null,null,null,null,null,null,null,null,null,null,null,null,null,null,null,null,null,null,null,null,null,null,null,"43.330","F43.330 Oblaganje tal in sten","F43.33 Oblaganje tal in sten","F43.3 Zaključna gradbena dela","F43 Specializirana gradbena dela","F GRADBENIŠTVO",null,null,null,null,null,null,3332,"Rečica ob Savinji"]
[null,null,null,null,null,null,null,null,null,null,null,null,null,null,null,null,null,null,null,null,null,null,null,null,null,null,null,null,null,null,null,null,null,null,null,null,null,null,null,null,null,null,null,null,null,null,null,null,null,null,null,null,null,null,null,null,null,null,null,null,"43.341","F43.341 Steklarska dela","F43.34 Steklarska in pleskarska dela","F43.3 Zaključna gradbena dela","F43 Specializirana gradbena dela","F GRADBENIŠTVO",null,null,null,null,null,null,5292,"Renče"]
[null,null,null,null,null,null,null,null,null,null,null,null,null,null,null,null,null,null,null,null,null,null,null,null,null,null,null,null,null,null,null,null,null,null,null,null,null,null,null,null,null,null,null,null,null,null,null,null,null,null,null,null,null,null,null,null,null,null,null,null,"43.342","F43.342 Pleskarska dela","F43.34 Steklarska in pleskarska dela","F43.3 Zaključna gradbena dela","F43 Specializirana gradbena dela","F GRADBENIŠTVO",null,null,null,null,null,null,1310,"Ribnica"]
[null,null,null,null,null,null,null,null,null,null,null,null,null,null,null,null,null,null,null,null,null,null,null,null,null,null,null,null,null,null,null,null,null,null,null,null,null,null,null,null,null,null,null,null,null,null,null,null,null,null,null,null,null,null,null,null,null,null,null,null,"43.390","F43.390 Druga zaključna gradbena dela","F43.39 Druga zaključna gradbena dela","F43.3 Zaključna gradbena dela","F43 Specializirana gradbena dela","F GRADBENIŠTVO",null,null,null,null,null,null,2364,"Ribnica na Pohorju"]
[null,null,null,null,null,null,null,null,null,null,null,null,null,null,null,null,null,null,null,null,null,null,null,null,null,null,null,null,null,null,null,null,null,null,null,null,null,null,null,null,null,null,null,null,null,null,null,null,null,null,null,null,null,null,null,null,null,null,null,null,"43.910","F43.910 Postavljanje ostrešij in krovska dela","F43.91 Postavljanje ostrešij in krovska dela","F43.9 Krovstvo in druga specializirana gradbena dela","F43 Specializirana gradbena dela","F GRADBENIŠTVO",null,null,null,null,null,null,3272,"Rimske Toplice"]
[null,null,null,null,null,null,null,null,null,null,null,null,null,null,null,null,null,null,null,null,null,null,null,null,null,null,null,null,null,null,null,null,null,null,null,null,null,null,null,null,null,null,null,null,null,null,null,null,null,null,null,null,null,null,null,null,null,null,null,null,"43.990","F43.990 Druga specializirana gradbena dela","F43.99 Druga specializirana gradbena dela","F43.9 Krovstvo in druga specializirana gradbena dela","F43 Specializirana gradbena dela","F GRADBENIŠTVO",null,null,null,null,null,null,1314,"Rob"]
[null,null,null,null,null,null,null,null,null,null,null,null,null,null,null,null,null,null,null,null,null,null,null,null,null,null,null,null,null,null,null,null,null,null,null,null,null,null,null,null,null,null,null,null,null,null,null,null,null,null,null,null,null,null,null,null,null,null,null,null,"45.110","G45.110 Trgovina z avtomobili in lahkimi motornimi vozili","G45.11 Trgovina z avtomobili in lahkimi motornimi vozili","G45.1 Trgovina z motornimi vozili","G45 Trgovina z motornimi vozili in popravila motornih vozil","G TRGOVINA, VZDRŽEVANJE IN POPRAVILA MOTORNIH VOZIL",null,null,null,null,null,null,5215,"Ročinj"]
[null,null,null,null,null,null,null,null,null,null,null,null,null,null,null,null,null,null,null,null,null,null,null,null,null,null,null,null,null,null,null,null,null,null,null,null,null,null,null,null,null,null,null,null,null,null,null,null,null,null,null,null,null,null,null,null,null,null,null,null,"45.190","G45.190 Trgovina z drugimi motornimi vozili","G45.19 Trgovina z drugimi motornimi vozili","G45.1 Trgovina z motornimi vozili","G45 Trgovina z motornimi vozili in popravila motornih vozil","G TRGOVINA, VZDRŽEVANJE IN POPRAVILA MOTORNIH VOZIL",null,null,null,null,null,null,3250,"Rogaška Slatina"]
[null,null,null,null,null,null,null,null,null,null,null,null,null,null,null,null,null,null,null,null,null,null,null,null,null,null,null,null,null,null,null,null,null,null,null,null,null,null,null,null,null,null,null,null,null,null,null,null,null,null,null,null,null,null,null,null,null,null,null,null,"45.200","G45.200 Vzdrževanje in popravila motornih vozil","G45.20 Vzdrževanje in popravila motornih vozil","G45.2 Vzdrževanje in popravila motornih vozil","G45 Trgovina z motornimi vozili in popravila motornih vozil","G TRGOVINA, VZDRŽEVANJE IN POPRAVILA MOTORNIH VOZIL",null,null,null,null,null,null,9262,"Rogašovci"]
[null,null,null,null,null,null,null,null,null,null,null,null,null,null,null,null,null,null,null,null,null,null,null,null,null,null,null,null,null,null,null,null,null,null,null,null,null,null,null,null,null,null,null,null,null,null,null,null,null,null,null,null,null,null,null,null,null,null,null,null,"45.310","G45.310 Trgovina na debelo z rezervnimi deli in opremo za motorna vozila","G45.31 Trgovina na debelo z rezervnimi deli in opremo za motorna vozila","G45.3 Trgovina z rezervnimi deli in opremo za motorna vozila","G45 Trgovina z motornimi vozili in popravila motornih vozil","G TRGOVINA, VZDRŽEVANJE IN POPRAVILA MOTORNIH VOZIL",null,null,null,null,null,null,3252,"Rogatec"]
[null,null,null,null,null,null,null,null,null,null,null,null,null,null,null,null,null,null,null,null,null,null,null,null,null,null,null,null,null,null,null,null,null,null,null,null,null,null,null,null,null,null,null,null,null,null,null,null,null,null,null,null,null,null,null,null,null,null,null,null,"45.320","G45.320 Trgovina na drobno z rezervnimi deli in opremo za motorna vozila","G45.32 Trgovina na drobno z rezervnimi deli in opremo za motorna vozila","G45.3 Trgovina z rezervnimi deli in opremo za motorna vozila","G45 Trgovina z motornimi vozili in popravila motornih vozil","G TRGOVINA, VZDRŽEVANJE IN POPRAVILA MOTORNIH VOZIL",null,null,null,null,null,null,1373,"Rovte"]
[null,null,null,null,null,null,null,null,null,null,null,null,null,null,null,null,null,null,null,null,null,null,null,null,null,null,null,null,null,null,null,null,null,null,null,null,null,null,null,null,null,null,null,null,null,null,null,null,null,null,null,null,null,null,null,null,null,null,null,null,"45.400","G45.400 Trgovina, vzdrževanje in popravila motornih koles, trgovina z njihovimi deli in opremo","G45.40 Trgovina, vzdrževanje in popravila motornih koles, trgovina z njihovimi deli in opremo","G45.4 Trgovina, vzdrževanje in popravila motornih koles, trgovina z njihovimi deli in opremo","G45 Trgovina z motornimi vozili in popravila motornih vozil","G TRGOVINA, VZDRŽEVANJE IN POPRAVILA MOTORNIH VOZIL",null,null,null,null,null,null,2342,"Ruše"]
[null,null,null,null,null,null,null,null,null,null,null,null,null,null,null,null,null,null,null,null,null,null,null,null,null,null,null,null,null,null,null,null,null,null,null,null,null,null,null,null,null,null,null,null,null,null,null,null,null,null,null,null,null,null,null,null,null,null,null,null,"46.110","G46.110 Posredništvo pri prodaji kmetijskih surovin, živih živali, tekstilnih surovin, polizdelkov","G46.11 Posredništvo pri prodaji kmetijskih surovin, živih živali, tekstilnih surovin, polizdelkov","G46.1 Posredništvo","G46 Posredništvo in trgovina na debelo, razen z motornimi vozili","G TRGOVINA, VZDRŽEVANJE IN POPRAVILA MOTORNIH VOZIL",null,null,null,null,null,null,1282,"Sava"]
[null,null,null,null,null,null,null,null,null,null,null,null,null,null,null,null,null,null,null,null,null,null,null,null,null,null,null,null,null,null,null,null,null,null,null,null,null,null,null,null,null,null,null,null,null,null,null,null,null,null,null,null,null,null,null,null,null,null,null,null,"46.120","G46.120 Posredništvo pri prodaji goriv, rud, kovin, tehničnih kemikalij","G46.12 Posredništvo pri prodaji goriv, rud, kovin, tehničnih kemikalij","G46.1 Posredništvo","G46 Posredništvo in trgovina na debelo, razen z motornimi vozili","G TRGOVINA, VZDRŽEVANJE IN POPRAVILA MOTORNIH VOZIL",null,null,null,null,null,null,6333,"Sečovlje/Sicciole"]
[null,null,null,null,null,null,null,null,null,null,null,null,null,null,null,null,null,null,null,null,null,null,null,null,null,null,null,null,null,null,null,null,null,null,null,null,null,null,null,null,null,null,null,null,null,null,null,null,null,null,null,null,null,null,null,null,null,null,null,null,"46.130","G46.130 Posredništvo pri prodaji lesa in gradbenega materiala","G46.13 Posredništvo pri prodaji lesa in gradbenega materiala","G46.1 Posredništvo","G46 Posredništvo in trgovina na debelo, razen z motornimi vozili","G TRGOVINA, VZDRŽEVANJE IN POPRAVILA MOTORNIH VOZIL",null,null,null,null,null,null,4227,"Selca"]
[null,null,null,null,null,null,null,null,null,null,null,null,null,null,null,null,null,null,null,null,null,null,null,null,null,null,null,null,null,null,null,null,null,null,null,null,null,null,null,null,null,null,null,null,null,null,null,null,null,null,null,null,null,null,null,null,null,null,null,null,"46.140","G46.140 Posredništvo pri prodaji strojev, industrijske opreme, ladij, letal","G46.14 Posredništvo pri prodaji strojev, industrijske opreme, ladij, letal","G46.1 Posredništvo","G46 Posredništvo in trgovina na debelo, razen z motornimi vozili","G TRGOVINA, VZDRŽEVANJE IN POPRAVILA MOTORNIH VOZIL",null,null,null,null,null,null,2352,"Selnica ob Dravi"]
[null,null,null,null,null,null,null,null,null,null,null,null,null,null,null,null,null,null,null,null,null,null,null,null,null,null,null,null,null,null,null,null,null,null,null,null,null,null,null,null,null,null,null,null,null,null,null,null,null,null,null,null,null,null,null,null,null,null,null,null,"46.150","G46.150 Posredništvo pri prodaji pohištva, predmetov in naprav za gospodinjstvo in železnine","G46.15 Posredništvo pri prodaji pohištva, predmetov in naprav za gospodinjstvo in železnine","G46.1 Posredništvo","G46 Posredništvo in trgovina na debelo, razen z motornimi vozili","G TRGOVINA, VZDRŽEVANJE IN POPRAVILA MOTORNIH VOZIL",null,null,null,null,null,null,8333,"Semič"]
[null,null,null,null,null,null,null,null,null,null,null,null,null,null,null,null,null,null,null,null,null,null,null,null,null,null,null,null,null,null,null,null,null,null,null,null,null,null,null,null,null,null,null,null,null,null,null,null,null,null,null,null,null,null,null,null,null,null,null,null,"46.160","G46.160 Posredništvo pri prodaji tekstila, oblačil, krzna, obutve, usnjenih izdelkov","G46.16 Posredništvo pri prodaji tekstila, oblačil, krzna, obutve, usnjenih izdelkov","G46.1 Posredništvo","G46 Posredništvo in trgovina na debelo, razen z motornimi vozili","G TRGOVINA, VZDRŽEVANJE IN POPRAVILA MOTORNIH VOZIL",null,null,null,null,null,null,8281,"Senovo"]
[null,null,null,null,null,null,null,null,null,null,null,null,null,null,null,null,null,null,null,null,null,null,null,null,null,null,null,null,null,null,null,null,null,null,null,null,null,null,null,null,null,null,null,null,null,null,null,null,null,null,null,null,null,null,null,null,null,null,null,null,"46.170","G46.170 Posredništvo pri prodaji živil, pijač, tobačnih izdelkov","G46.17 Posredništvo pri prodaji živil, pijač, tobačnih izdelkov","G46.1 Posredništvo","G46 Posredništvo in trgovina na debelo, razen z motornimi vozili","G TRGOVINA, VZDRŽEVANJE IN POPRAVILA MOTORNIH VOZIL",null,null,null,null,null,null,6224,"Senožeče"]
[null,null,null,null,null,null,null,null,null,null,null,null,null,null,null,null,null,null,null,null,null,null,null,null,null,null,null,null,null,null,null,null,null,null,null,null,null,null,null,null,null,null,null,null,null,null,null,null,null,null,null,null,null,null,null,null,null,null,null,null,"46.180","G46.180 Specializirano posredništvo pri prodaji drugih določenih izdelkov","G46.18 Specializirano posredništvo pri prodaji drugih določenih izdelkov","G46.1 Posredništvo","G46 Posredništvo in trgovina na debelo, razen z motornimi vozili","G TRGOVINA, VZDRŽEVANJE IN POPRAVILA MOTORNIH VOZIL",null,null,null,null,null,null,8290,"Sevnica"]
[null,null,null,null,null,null,null,null,null,null,null,null,null,null,null,null,null,null,null,null,null,null,null,null,null,null,null,null,null,null,null,null,null,null,null,null,null,null,null,null,null,null,null,null,null,null,null,null,null,null,null,null,null,null,null,null,null,null,null,null,"46.190","G46.190 Nespecializirano posredništvo pri prodaji raznovrstnih izdelkov","G46.19 Nespecializirano posredništvo pri prodaji raznovrstnih izdelkov","G46.1 Posredništvo","G46 Posredništvo in trgovina na debelo, razen z motornimi vozili","G TRGOVINA, VZDRŽEVANJE IN POPRAVILA MOTORNIH VOZIL",null,null,null,null,null,null,6210,"Sežana"]
[null,null,null,null,null,null,null,null,null,null,null,null,null,null,null,null,null,null,null,null,null,null,null,null,null,null,null,null,null,null,null,null,null,null,null,null,null,null,null,null,null,null,null,null,null,null,null,null,null,null,null,null,null,null,null,null,null,null,null,null,"46.210","G46.210 Trgovina na debelo z žiti, tobakom, semeni in krmo","G46.21 Trgovina na debelo z žiti, tobakom, semeni in krmo","G46.2 Trgovina na debelo s kmetijskimi surovinami in živimi živalmi","G46 Posredništvo in trgovina na debelo, razen z motornimi vozili","G TRGOVINA, VZDRŽEVANJE IN POPRAVILA MOTORNIH VOZIL",null,null,null,null,null,null,2214,"Sladki Vrh"]
[null,null,null,null,null,null,null,null,null,null,null,null,null,null,null,null,null,null,null,null,null,null,null,null,null,null,null,null,null,null,null,null,null,null,null,null,null,null,null,null,null,null,null,null,null,null,null,null,null,null,null,null,null,null,null,null,null,null,null,null,"46.220","G46.220 Trgovina na debelo s cvetjem in rastlinami","G46.22 Trgovina na debelo s cvetjem in rastlinami","G46.2 Trgovina na debelo s kmetijskimi surovinami in živimi živalmi","G46 Posredništvo in trgovina na debelo, razen z motornimi vozili","G TRGOVINA, VZDRŽEVANJE IN POPRAVILA MOTORNIH VOZIL",null,null,null,null,null,null,5283,"Slap ob Idrijci"]
[null,null,null,null,null,null,null,null,null,null,null,null,null,null,null,null,null,null,null,null,null,null,null,null,null,null,null,null,null,null,null,null,null,null,null,null,null,null,null,null,null,null,null,null,null,null,null,null,null,null,null,null,null,null,null,null,null,null,null,null,"46.230","G46.230 Trgovina na debelo z živimi živalmi","G46.23 Trgovina na debelo z živimi živalmi","G46.2 Trgovina na debelo s kmetijskimi surovinami in živimi živalmi","G46 Posredništvo in trgovina na debelo, razen z motornimi vozili","G TRGOVINA, VZDRŽEVANJE IN POPRAVILA MOTORNIH VOZIL",null,null,null,null,null,null,2380,"Slovenj Gradec"]
[null,null,null,null,null,null,null,null,null,null,null,null,null,null,null,null,null,null,null,null,null,null,null,null,null,null,null,null,null,null,null,null,null,null,null,null,null,null,null,null,null,null,null,null,null,null,null,null,null,null,null,null,null,null,null,null,null,null,null,null,"46.240","G46.240 Trgovina na debelo s kožami, usnjem","G46.24 Trgovina na debelo s kožami, usnjem","G46.2 Trgovina na debelo s kmetijskimi surovinami in živimi živalmi","G46 Posredništvo in trgovina na debelo, razen z motornimi vozili","G TRGOVINA, VZDRŽEVANJE IN POPRAVILA MOTORNIH VOZIL",null,null,null,null,null,null,2310,"Slovenska Bistrica"]
[null,null,null,null,null,null,null,null,null,null,null,null,null,null,null,null,null,null,null,null,null,null,null,null,null,null,null,null,null,null,null,null,null,null,null,null,null,null,null,null,null,null,null,null,null,null,null,null,null,null,null,null,null,null,null,null,null,null,null,null,"46.310","G46.310 Trgovina na debelo s sadjem in zelenjavo","G46.31 Trgovina na debelo s sadjem in zelenjavo","G46.3 Trgovina na debelo z živili, pijačami, tobačnimi izdelki","G46 Posredništvo in trgovina na debelo, razen z motornimi vozili","G TRGOVINA, VZDRŽEVANJE IN POPRAVILA MOTORNIH VOZIL",null,null,null,null,null,null,3210,"Slovenske Konjice"]
[null,null,null,null,null,null,null,null,null,null,null,null,null,null,null,null,null,null,null,null,null,null,null,null,null,null,null,null,null,null,null,null,null,null,null,null,null,null,null,null,null,null,null,null,null,null,null,null,null,null,null,null,null,null,null,null,null,null,null,null,"46.320","G46.320 Trgovina na debelo z mesom in mesnimi izdelki","G46.32 Trgovina na debelo z mesom in mesnimi izdelki","G46.3 Trgovina na debelo z živili, pijačami, tobačnimi izdelki","G46 Posredništvo in trgovina na debelo, razen z motornimi vozili","G TRGOVINA, VZDRŽEVANJE IN POPRAVILA MOTORNIH VOZIL",null,null,null,null,null,null,1216,"Smlednik"]
[null,null,null,null,null,null,null,null,null,null,null,null,null,null,null,null,null,null,null,null,null,null,null,null,null,null,null,null,null,null,null,null,null,null,null,null,null,null,null,null,null,null,null,null,null,null,null,null,null,null,null,null,null,null,null,null,null,null,null,null,"46.330","G46.330 Trgovina na debelo z mlekom, mlečnimi izdelki, jajci, jedilnimi olji in maščobami","G46.33 Trgovina na debelo z mlekom, mlečnimi izdelki, jajci, jedilnimi olji in maščobami","G46.3 Trgovina na debelo z živili, pijačami, tobačnimi izdelki","G46 Posredništvo in trgovina na debelo, razen z motornimi vozili","G TRGOVINA, VZDRŽEVANJE IN POPRAVILA MOTORNIH VOZIL",null,null,null,null,null,null,5232,"Soča"]
[null,null,null,null,null,null,null,null,null,null,null,null,null,null,null,null,null,null,null,null,null,null,null,null,null,null,null,null,null,null,null,null,null,null,null,null,null,null,null,null,null,null,null,null,null,null,null,null,null,null,null,null,null,null,null,null,null,null,null,null,"46.340","G46.340 Trgovina na debelo s pijačami","G46.34 Trgovina na debelo s pijačami","G46.3 Trgovina na debelo z živili, pijačami, tobačnimi izdelki","G46 Posredništvo in trgovina na debelo, razen z motornimi vozili","G TRGOVINA, VZDRŽEVANJE IN POPRAVILA MOTORNIH VOZIL",null,null,null,null,null,null,1317,"Sodražica"]
[null,null,null,null,null,null,null,null,null,null,null,null,null,null,null,null,null,null,null,null,null,null,null,null,null,null,null,null,null,null,null,null,null,null,null,null,null,null,null,null,null,null,null,null,null,null,null,null,null,null,null,null,null,null,null,null,null,null,null,null,"46.350","G46.350 Trgovina na debelo s tobačnimi izdelki","G46.35 Trgovina na debelo s tobačnimi izdelki","G46.3 Trgovina na debelo z živili, pijačami, tobačnimi izdelki","G46 Posredništvo in trgovina na debelo, razen z motornimi vozili","G TRGOVINA, VZDRŽEVANJE IN POPRAVILA MOTORNIH VOZIL",null,null,null,null,null,null,3335,"Solčava"]
[null,null,null,null,null,null,null,null,null,null,null,null,null,null,null,null,null,null,null,null,null,null,null,null,null,null,null,null,null,null,null,null,null,null,null,null,null,null,null,null,null,null,null,null,null,null,null,null,null,null,null,null,null,null,null,null,null,null,null,null,"46.360","G46.360 Trgovina na debelo s sladkorjem, čokolado, sladkornimi izdelki","G46.36 Trgovina na debelo s sladkorjem, čokolado, sladkornimi izdelki","G46.3 Trgovina na debelo z živili, pijačami, tobačnimi izdelki","G46 Posredništvo in trgovina na debelo, razen z motornimi vozili","G TRGOVINA, VZDRŽEVANJE IN POPRAVILA MOTORNIH VOZIL",null,null,null,null,null,null,5250,"Solkan"]
[null,null,null,null,null,null,null,null,null,null,null,null,null,null,null,null,null,null,null,null,null,null,null,null,null,null,null,null,null,null,null,null,null,null,null,null,null,null,null,null,null,null,null,null,null,null,null,null,null,null,null,null,null,null,null,null,null,null,null,null,"46.370","G46.370 Trgovina na debelo s kavo, čajem, kakavom, začimbami","G46.37 Trgovina na debelo s kavo, čajem, kakavom, začimbami","G46.3 Trgovina na debelo z živili, pijačami, tobačnimi izdelki","G46 Posredništvo in trgovina na debelo, razen z motornimi vozili","G TRGOVINA, VZDRŽEVANJE IN POPRAVILA MOTORNIH VOZIL",null,null,null,null,null,null,4229,"Sorica"]
[null,null,null,null,null,null,null,null,null,null,null,null,null,null,null,null,null,null,null,null,null,null,null,null,null,null,null,null,null,null,null,null,null,null,null,null,null,null,null,null,null,null,null,null,null,null,null,null,null,null,null,null,null,null,null,null,null,null,null,null,"46.380","G46.380 Trgovina na debelo z drugimi živili, tudi z ribami, raki, mehkužci","G46.38 Trgovina na debelo z drugimi živili, tudi z ribami, raki, mehkužci","G46.3 Trgovina na debelo z živili, pijačami, tobačnimi izdelki","G46 Posredništvo in trgovina na debelo, razen z motornimi vozili","G TRGOVINA, VZDRŽEVANJE IN POPRAVILA MOTORNIH VOZIL",null,null,null,null,null,null,4225,"Sovodenj"]
[null,null,null,null,null,null,null,null,null,null,null,null,null,null,null,null,null,null,null,null,null,null,null,null,null,null,null,null,null,null,null,null,null,null,null,null,null,null,null,null,null,null,null,null,null,null,null,null,null,null,null,null,null,null,null,null,null,null,null,null,"46.390","G46.390 Nespecializirana trgovina na debelo z živili, pijačami, tobačnimi izdelki","G46.39 Nespecializirana trgovina na debelo z živili, pijačami, tobačnimi izdelki","G46.3 Trgovina na debelo z živili, pijačami, tobačnimi izdelki","G46 Posredništvo in trgovina na debelo, razen z motornimi vozili","G TRGOVINA, VZDRŽEVANJE IN POPRAVILA MOTORNIH VOZIL",null,null,null,null,null,null,5281,"Spodnja Idrija"]
[null,null,null,null,null,null,null,null,null,null,null,null,null,null,null,null,null,null,null,null,null,null,null,null,null,null,null,null,null,null,null,null,null,null,null,null,null,null,null,null,null,null,null,null,null,null,null,null,null,null,null,null,null,null,null,null,null,null,null,null,"46.410","G46.410 Trgovina na debelo s tekstilom","G46.41 Trgovina na debelo s tekstilom","G46.4 Trgovina na debelo z izdelki za široko rabo","G46 Posredništvo in trgovina na debelo, razen z motornimi vozili","G TRGOVINA, VZDRŽEVANJE IN POPRAVILA MOTORNIH VOZIL",null,null,null,null,null,null,2241,"Spodnji Duplek"]
[null,null,null,null,null,null,null,null,null,null,null,null,null,null,null,null,null,null,null,null,null,null,null,null,null,null,null,null,null,null,null,null,null,null,null,null,null,null,null,null,null,null,null,null,null,null,null,null,null,null,null,null,null,null,null,null,null,null,null,null,"46.420","G46.420 Trgovina na debelo z oblačili in obutvijo","G46.42 Trgovina na debelo z oblačili in obutvijo","G46.4 Trgovina na debelo z izdelki za široko rabo","G46 Posredništvo in trgovina na debelo, razen z motornimi vozili","G TRGOVINA, VZDRŽEVANJE IN POPRAVILA MOTORNIH VOZIL",null,null,null,null,null,null,9245,"Spodnji Ivanjci"]
[null,null,null,null,null,null,null,null,null,null,null,null,null,null,null,null,null,null,null,null,null,null,null,null,null,null,null,null,null,null,null,null,null,null,null,null,null,null,null,null,null,null,null,null,null,null,null,null,null,null,null,null,null,null,null,null,null,null,null,null,"46.430","G46.430 Trgovina na debelo z električnimi gospodinjskimi napravami","G46.43 Trgovina na debelo z električnimi gospodinjskimi napravami","G46.4 Trgovina na debelo z izdelki za široko rabo","G46 Posredništvo in trgovina na debelo, razen z motornimi vozili","G TRGOVINA, VZDRŽEVANJE IN POPRAVILA MOTORNIH VOZIL",null,null,null,null,null,null,2277,"Središče ob Dravi"]
[null,null,null,null,null,null,null,null,null,null,null,null,null,null,null,null,null,null,null,null,null,null,null,null,null,null,null,null,null,null,null,null,null,null,null,null,null,null,null,null,null,null,null,null,null,null,null,null,null,null,null,null,null,null,null,null,null,null,null,null,"46.440","G46.440 Trgovina na debelo s porcelanom, steklenino, čistili","G46.44 Trgovina na debelo s porcelanom, steklenino, čistili","G46.4 Trgovina na debelo z izdelki za široko rabo","G46 Posredništvo in trgovina na debelo, razen z motornimi vozili","G TRGOVINA, VZDRŽEVANJE IN POPRAVILA MOTORNIH VOZIL",null,null,null,null,null,null,4267,"Srednja vas v Bohinju"]
[null,null,null,null,null,null,null,null,null,null,null,null,null,null,null,null,null,null,null,null,null,null,null,null,null,null,null,null,null,null,null,null,null,null,null,null,null,null,null,null,null,null,null,null,null,null,null,null,null,null,null,null,null,null,null,null,null,null,null,null,"46.450","G46.450 Trgovina na debelo s parfumi in kozmetiko","G46.45 Trgovina na debelo s parfumi in kozmetiko","G46.4 Trgovina na debelo z izdelki za široko rabo","G46 Posredništvo in trgovina na debelo, razen z motornimi vozili","G TRGOVINA, VZDRŽEVANJE IN POPRAVILA MOTORNIH VOZIL",null,null,null,null,null,null,8256,"Sromlje"]
[null,null,null,null,null,null,null,null,null,null,null,null,null,null,null,null,null,null,null,null,null,null,null,null,null,null,null,null,null,null,null,null,null,null,null,null,null,null,null,null,null,null,null,null,null,null,null,null,null,null,null,null,null,null,null,null,null,null,null,null,"46.460","G46.460 Trgovina na debelo s farmacevtskimi izdelki ter medicinskimi potrebščinami in materiali","G46.46 Trgovina na debelo s farmacevtskimi izdelki ter medicinskimi potrebščinami in materiali","G46.4 Trgovina na debelo z izdelki za široko rabo","G46 Posredništvo in trgovina na debelo, razen z motornimi vozili","G TRGOVINA, VZDRŽEVANJE IN POPRAVILA MOTORNIH VOZIL",null,null,null,null,null,null,5224,"Srpenica"]
[null,null,null,null,null,null,null,null,null,null,null,null,null,null,null,null,null,null,null,null,null,null,null,null,null,null,null,null,null,null,null,null,null,null,null,null,null,null,null,null,null,null,null,null,null,null,null,null,null,null,null,null,null,null,null,null,null,null,null,null,"46.470","G46.470 Trgovina na debelo s pohištvom, preprogami in svetili","G46.47 Trgovina na debelo s pohištvom, preprogami in svetili","G46.4 Trgovina na debelo z izdelki za široko rabo","G46 Posredništvo in trgovina na debelo, razen z motornimi vozili","G TRGOVINA, VZDRŽEVANJE IN POPRAVILA MOTORNIH VOZIL",null,null,null,null,null,null,1242,"Stahovica"]
[null,null,null,null,null,null,null,null,null,null,null,null,null,null,null,null,null,null,null,null,null,null,null,null,null,null,null,null,null,null,null,null,null,null,null,null,null,null,null,null,null,null,null,null,null,null,null,null,null,null,null,null,null,null,null,null,null,null,null,null,"46.480","G46.480 Trgovina na debelo z urami in nakitom","G46.48 Trgovina na debelo z urami in nakitom","G46.4 Trgovina na debelo z izdelki za široko rabo","G46 Posredništvo in trgovina na debelo, razen z motornimi vozili","G TRGOVINA, VZDRŽEVANJE IN POPRAVILA MOTORNIH VOZIL",null,null,null,null,null,null,1332,"Stara Cerkev"]
[null,null,null,null,null,null,null,null,null,null,null,null,null,null,null,null,null,null,null,null,null,null,null,null,null,null,null,null,null,null,null,null,null,null,null,null,null,null,null,null,null,null,null,null,null,null,null,null,null,null,null,null,null,null,null,null,null,null,null,null,"46.490","G46.490 Trgovina na debelo z drugimi izdelki široke porabe","G46.49 Trgovina na debelo z drugimi izdelki široke porabe","G46.4 Trgovina na debelo z izdelki za široko rabo","G46 Posredništvo in trgovina na debelo, razen z motornimi vozili","G TRGOVINA, VZDRŽEVANJE IN POPRAVILA MOTORNIH VOZIL",null,null,null,null,null,null,8342,"Stari trg ob Kolpi"]
[null,null,null,null,null,null,null,null,null,null,null,null,null,null,null,null,null,null,null,null,null,null,null,null,null,null,null,null,null,null,null,null,null,null,null,null,null,null,null,null,null,null,null,null,null,null,null,null,null,null,null,null,null,null,null,null,null,null,null,null,"46.510","G46.510 Trgovina na debelo z računalniškimi napravami","G46.51 Trgovina na debelo z računalniškimi napravami","G46.5 Trgovina na debelo z napravami za informacijsko-komunikacijsko tehnologijo","G46 Posredništvo in trgovina na debelo, razen z motornimi vozili","G TRGOVINA, VZDRŽEVANJE IN POPRAVILA MOTORNIH VOZIL",null,null,null,null,null,null,1386,"Stari trg pri Ložu"]
[null,null,null,null,null,null,null,null,null,null,null,null,null,null,null,null,null,null,null,null,null,null,null,null,null,null,null,null,null,null,null,null,null,null,null,null,null,null,null,null,null,null,null,null,null,null,null,null,null,null,null,null,null,null,null,null,null,null,null,null,"46.520","G46.520 Trgovina na debelo z elektronskimi in telekomunikacijskimi napravami in deli","G46.52 Trgovina na debelo z elektronskimi in telekomunikacijskimi napravami in deli","G46.5 Trgovina na debelo z napravami za informacijsko-komunikacijsko tehnologijo","G46 Posredništvo in trgovina na debelo, razen z motornimi vozili","G TRGOVINA, VZDRŽEVANJE IN POPRAVILA MOTORNIH VOZIL",null,null,null,null,null,null,2205,"Starše"]
[null,null,null,null,null,null,null,null,null,null,null,null,null,null,null,null,null,null,null,null,null,null,null,null,null,null,null,null,null,null,null,null,null,null,null,null,null,null,null,null,null,null,null,null,null,null,null,null,null,null,null,null,null,null,null,null,null,null,null,null,"46.610","G46.610 Trgovina na debelo s kmetijskimi stroji, priključki, opremo","G46.61 Trgovina na debelo s kmetijskimi stroji, priključki, opremo","G46.6 Trgovina na debelo s stroji, napravami, opremo","G46 Posredništvo in trgovina na debelo, razen z motornimi vozili","G TRGOVINA, VZDRŽEVANJE IN POPRAVILA MOTORNIH VOZIL",null,null,null,null,null,null,2289,"Stoperce"]
[null,null,null,null,null,null,null,null,null,null,null,null,null,null,null,null,null,null,null,null,null,null,null,null,null,null,null,null,null,null,null,null,null,null,null,null,null,null,null,null,null,null,null,null,null,null,null,null,null,null,null,null,null,null,null,null,null,null,null,null,"46.620","G46.620 Trgovina na debelo z obdelovalnimi stroji","G46.62 Trgovina na debelo z obdelovalnimi stroji","G46.6 Trgovina na debelo s stroji, napravami, opremo","G46 Posredništvo in trgovina na debelo, razen z motornimi vozili","G TRGOVINA, VZDRŽEVANJE IN POPRAVILA MOTORNIH VOZIL",null,null,null,null,null,null,8322,"Stopiče"]
[null,null,null,null,null,null,null,null,null,null,null,null,null,null,null,null,null,null,null,null,null,null,null,null,null,null,null,null,null,null,null,null,null,null,null,null,null,null,null,null,null,null,null,null,null,null,null,null,null,null,null,null,null,null,null,null,null,null,null,null,"46.630","G46.630 Trgovina na debelo z rudarskimi in gradbenimi stroji","G46.63 Trgovina na debelo z rudarskimi in gradbenimi stroji","G46.6 Trgovina na debelo s stroji, napravami, opremo","G46 Posredništvo in trgovina na debelo, razen z motornimi vozili","G TRGOVINA, VZDRŽEVANJE IN POPRAVILA MOTORNIH VOZIL",null,null,null,null,null,null,3206,"Stranice"]
[null,null,null,null,null,null,null,null,null,null,null,null,null,null,null,null,null,null,null,null,null,null,null,null,null,null,null,null,null,null,null,null,null,null,null,null,null,null,null,null,null,null,null,null,null,null,null,null,null,null,null,null,null,null,null,null,null,null,null,null,"46.640","G46.640 Trgovina na debelo s stroji za tekstilno industrijo","G46.64 Trgovina na debelo s stroji za tekstilno industrijo","G46.6 Trgovina na debelo s stroji, napravami, opremo","G46 Posredništvo in trgovina na debelo, razen z motornimi vozili","G TRGOVINA, VZDRŽEVANJE IN POPRAVILA MOTORNIH VOZIL",null,null,null,null,null,null,8351,"Straža"]
[null,null,null,null,null,null,null,null,null,null,null,null,null,null,null,null,null,null,null,null,null,null,null,null,null,null,null,null,null,null,null,null,null,null,null,null,null,null,null,null,null,null,null,null,null,null,null,null,null,null,null,null,null,null,null,null,null,null,null,null,"46.650","G46.650 Trgovina na debelo s pisarniškim pohištvom","G46.65 Trgovina na debelo s pisarniškim pohištvom","G46.6 Trgovina na debelo s stroji, napravami, opremo","G46 Posredništvo in trgovina na debelo, razen z motornimi vozili","G TRGOVINA, VZDRŽEVANJE IN POPRAVILA MOTORNIH VOZIL",null,null,null,null,null,null,1313,"Struge"]
[null,null,null,null,null,null,null,null,null,null,null,null,null,null,null,null,null,null,null,null,null,null,null,null,null,null,null,null,null,null,null,null,null,null,null,null,null,null,null,null,null,null,null,null,null,null,null,null,null,null,null,null,null,null,null,null,null,null,null,null,"46.660","G46.660 Trgovina na debelo s pisarniškimi stroji in opremo","G46.66 Trgovina na debelo s pisarniškimi stroji in opremo","G46.6 Trgovina na debelo s stroji, napravami, opremo","G46 Posredništvo in trgovina na debelo, razen z motornimi vozili","G TRGOVINA, VZDRŽEVANJE IN POPRAVILA MOTORNIH VOZIL",null,null,null,null,null,null,8293,"Studenec"]
[null,null,null,null,null,null,null,null,null,null,null,null,null,null,null,null,null,null,null,null,null,null,null,null,null,null,null,null,null,null,null,null,null,null,null,null,null,null,null,null,null,null,null,null,null,null,null,null,null,null,null,null,null,null,null,null,null,null,null,null,"46.690","G46.690 Trgovina na debelo z drugimi napravami in opremo","G46.69 Trgovina na debelo z drugimi napravami in opremo","G46.6 Trgovina na debelo s stroji, napravami, opremo","G46 Posredništvo in trgovina na debelo, razen z motornimi vozili","G TRGOVINA, VZDRŽEVANJE IN POPRAVILA MOTORNIH VOZIL",null,null,null,null,null,null,8331,"Suhor"]
[null,null,null,null,null,null,null,null,null,null,null,null,null,null,null,null,null,null,null,null,null,null,null,null,null,null,null,null,null,null,null,null,null,null,null,null,null,null,null,null,null,null,null,null,null,null,null,null,null,null,null,null,null,null,null,null,null,null,null,null,"46.710","G46.710 Trgovina na debelo s trdimi, tekočimi in plinastimi gorivi","G46.71 Trgovina na debelo s trdimi, tekočimi in plinastimi gorivi","G46.7 Druga specializirana trgovina na debelo","G46 Posredništvo in trgovina na debelo, razen z motornimi vozili","G TRGOVINA, VZDRŽEVANJE IN POPRAVILA MOTORNIH VOZIL",null,null,null,null,null,null,2233,"Sv. Ana v Slovenskih goricah"]
[null,null,null,null,null,null,null,null,null,null,null,null,null,null,null,null,null,null,null,null,null,null,null,null,null,null,null,null,null,null,null,null,null,null,null,null,null,null,null,null,null,null,null,null,null,null,null,null,null,null,null,null,null,null,null,null,null,null,null,null,"46.720","G46.720 Trgovina na debelo s kovinami in rudami","G46.72 Trgovina na debelo s kovinami in rudami","G46.7 Druga specializirana trgovina na debelo","G46 Posredništvo in trgovina na debelo, razen z motornimi vozili","G TRGOVINA, VZDRŽEVANJE IN POPRAVILA MOTORNIH VOZIL",null,null,null,null,null,null,2235,"Sv. Trojica v Slovenskih goricah"]
[null,null,null,null,null,null,null,null,null,null,null,null,null,null,null,null,null,null,null,null,null,null,null,null,null,null,null,null,null,null,null,null,null,null,null,null,null,null,null,null,null,null,null,null,null,null,null,null,null,null,null,null,null,null,null,null,null,null,null,null,"46.730","G46.730 Trgovina na debelo z lesom, gradbenim materialom in sanitarno opremo","G46.73 Trgovina na debelo z lesom, gradbenim materialom in sanitarno opremo","G46.7 Druga specializirana trgovina na debelo","G46 Posredništvo in trgovina na debelo, razen z motornimi vozili","G TRGOVINA, VZDRŽEVANJE IN POPRAVILA MOTORNIH VOZIL",null,null,null,null,null,null,2353,"Sveti Duh na Ostrem Vrhu"]
[null,null,null,null,null,null,null,null,null,null,null,null,null,null,null,null,null,null,null,null,null,null,null,null,null,null,null,null,null,null,null,null,null,null,null,null,null,null,null,null,null,null,null,null,null,null,null,null,null,null,null,null,null,null,null,null,null,null,null,null,"46.740","G46.740 Trgovina na debelo s kovinskimi proizvodi, inštalacijskim materialom, napravami za ogrevanje","G46.74 Trgovina na debelo s kovinskimi proizvodi, inštalacijskim materialom, napravami za ogrevanje","G46.7 Druga specializirana trgovina na debelo","G46 Posredništvo in trgovina na debelo, razen z motornimi vozili","G TRGOVINA, VZDRŽEVANJE IN POPRAVILA MOTORNIH VOZIL",null,null,null,null,null,null,9244,"Sveti Jurij ob Ščavnici"]
[null,null,null,null,null,null,null,null,null,null,null,null,null,null,null,null,null,null,null,null,null,null,null,null,null,null,null,null,null,null,null,null,null,null,null,null,null,null,null,null,null,null,null,null,null,null,null,null,null,null,null,null,null,null,null,null,null,null,null,null,"46.750","G46.750 Trgovina na debelo s kemičnimi izdelki","G46.75 Trgovina na debelo s kemičnimi izdelki","G46.7 Druga specializirana trgovina na debelo","G46 Posredništvo in trgovina na debelo, razen z motornimi vozili","G TRGOVINA, VZDRŽEVANJE IN POPRAVILA MOTORNIH VOZIL",null,null,null,null,null,null,3264,"Sveti Štefan"]
[null,null,null,null,null,null,null,null,null,null,null,null,null,null,null,null,null,null,null,null,null,null,null,null,null,null,null,null,null,null,null,null,null,null,null,null,null,null,null,null,null,null,null,null,null,null,null,null,null,null,null,null,null,null,null,null,null,null,null,null,"46.760","G46.760 Trgovina na debelo z drugimi polizdelki","G46.76 Trgovina na debelo z drugimi polizdelki","G46.7 Druga specializirana trgovina na debelo","G46 Posredništvo in trgovina na debelo, razen z motornimi vozili","G TRGOVINA, VZDRŽEVANJE IN POPRAVILA MOTORNIH VOZIL",null,null,null,null,null,null,2258,"Sveti Tomaž"]
[null,null,null,null,null,null,null,null,null,null,null,null,null,null,null,null,null,null,null,null,null,null,null,null,null,null,null,null,null,null,null,null,null,null,null,null,null,null,null,null,null,null,null,null,null,null,null,null,null,null,null,null,null,null,null,null,null,null,null,null,"46.770","G46.770 Trgovina na debelo z ostanki in odpadki","G46.77 Trgovina na debelo z ostanki in odpadki","G46.7 Druga specializirana trgovina na debelo","G46 Posredništvo in trgovina na debelo, razen z motornimi vozili","G TRGOVINA, VZDRŽEVANJE IN POPRAVILA MOTORNIH VOZIL",null,null,null,null,null,null,9204,"Šalovci"]
[null,null,null,null,null,null,null,null,null,null,null,null,null,null,null,null,null,null,null,null,null,null,null,null,null,null,null,null,null,null,null,null,null,null,null,null,null,null,null,null,null,null,null,null,null,null,null,null,null,null,null,null,null,null,null,null,null,null,null,null,"46.900","G46.900 Nespecializirana trgovina na debelo","G46.90 Nespecializirana trgovina na debelo","G46.9 Nespecializirana trgovina na debelo","G46 Posredništvo in trgovina na debelo, razen z motornimi vozili","G TRGOVINA, VZDRŽEVANJE IN POPRAVILA MOTORNIH VOZIL",null,null,null,null,null,null,5261,"Šempas"]
[null,null,null,null,null,null,null,null,null,null,null,null,null,null,null,null,null,null,null,null,null,null,null,null,null,null,null,null,null,null,null,null,null,null,null,null,null,null,null,null,null,null,null,null,null,null,null,null,null,null,null,null,null,null,null,null,null,null,null,null,"47.110","G47.110 Trgovina na drobno v nespecializiranih prodajalnah, pretežno z živili","G47.11 Trgovina na drobno v nespecializiranih prodajalnah, pretežno z živili","G47.1 Trgovina na drobno v nespecializiranih prodajalnah","G47 Trgovina na drobno, razen z motornimi vozili","G TRGOVINA, VZDRŽEVANJE IN POPRAVILA MOTORNIH VOZIL",null,null,null,null,null,null,5290,"Šempeter pri Gorici"]
[null,null,null,null,null,null,null,null,null,null,null,null,null,null,null,null,null,null,null,null,null,null,null,null,null,null,null,null,null,null,null,null,null,null,null,null,null,null,null,null,null,null,null,null,null,null,null,null,null,null,null,null,null,null,null,null,null,null,null,null,"47.190","G47.190 Druga trgovina na drobno v nespecializiranih prodajalnah","G47.19 Druga trgovina na drobno v nespecializiranih prodajalnah","G47.1 Trgovina na drobno v nespecializiranih prodajalnah","G47 Trgovina na drobno, razen z motornimi vozili","G TRGOVINA, VZDRŽEVANJE IN POPRAVILA MOTORNIH VOZIL",null,null,null,null,null,null,3311,"Šempeter v Savinjski dolini"]
[null,null,null,null,null,null,null,null,null,null,null,null,null,null,null,null,null,null,null,null,null,null,null,null,null,null,null,null,null,null,null,null,null,null,null,null,null,null,null,null,null,null,null,null,null,null,null,null,null,null,null,null,null,null,null,null,null,null,null,null,"47.210","G47.210 Trgovina na drobno v specializiranih prodajalnah s sadjem in zelenjavo","G47.21 Trgovina na drobno v specializiranih prodajalnah s sadjem in zelenjavo","G47.2 Trgovina na drobno v specializiranih prodajalnah z živili, pijačami in tobačnimi izdelki","G47 Trgovina na drobno, razen z motornimi vozili","G TRGOVINA, VZDRŽEVANJE IN POPRAVILA MOTORNIH VOZIL",null,null,null,null,null,null,4208,"Šenčur"]
[null,null,null,null,null,null,null,null,null,null,null,null,null,null,null,null,null,null,null,null,null,null,null,null,null,null,null,null,null,null,null,null,null,null,null,null,null,null,null,null,null,null,null,null,null,null,null,null,null,null,null,null,null,null,null,null,null,null,null,null,"47.220","G47.220 Trgovina na drobno v specializiranih prodajalnah z mesom in mesnimi izdelki","G47.22 Trgovina na drobno v specializiranih prodajalnah z mesom in mesnimi izdelki","G47.2 Trgovina na drobno v specializiranih prodajalnah z živili, pijačami in tobačnimi izdelki","G47 Trgovina na drobno, razen z motornimi vozili","G TRGOVINA, VZDRŽEVANJE IN POPRAVILA MOTORNIH VOZIL",null,null,null,null,null,null,2212,"Šentilj v Slovenskih goricah"]
[null,null,null,null,null,null,null,null,null,null,null,null,null,null,null,null,null,null,null,null,null,null,null,null,null,null,null,null,null,null,null,null,null,null,null,null,null,null,null,null,null,null,null,null,null,null,null,null,null,null,null,null,null,null,null,null,null,null,null,null,"47.230","G47.230 Trgovina na drobno v specializiranih prodajalnah z ribami, raki, mehkužci","G47.23 Trgovina na drobno v specializiranih prodajalnah z ribami, raki, mehkužci","G47.2 Trgovina na drobno v specializiranih prodajalnah z živili, pijačami in tobačnimi izdelki","G47 Trgovina na drobno, razen z motornimi vozili","G TRGOVINA, VZDRŽEVANJE IN POPRAVILA MOTORNIH VOZIL",null,null,null,null,null,null,8297,"Šentjanž"]
[null,null,null,null,null,null,null,null,null,null,null,null,null,null,null,null,null,null,null,null,null,null,null,null,null,null,null,null,null,null,null,null,null,null,null,null,null,null,null,null,null,null,null,null,null,null,null,null,null,null,null,null,null,null,null,null,null,null,null,null,"47.240","G47.240 Trgovina na drobno v specializiranih prodajalnah s kruhom, pecivom, testeninami, sladkornimi izdelki","G47.24 Trgovina na drobno v specializiranih prodajalnah s kruhom, pecivom, testeninami, sladkornimi izdelki","G47.2 Trgovina na drobno v specializiranih prodajalnah z živili, pijačami in tobačnimi izdelki","G47 Trgovina na drobno, razen z motornimi vozili","G TRGOVINA, VZDRŽEVANJE IN POPRAVILA MOTORNIH VOZIL",null,null,null,null,null,null,2373,"Šentjanž pri Dravogradu"]
[null,null,null,null,null,null,null,null,null,null,null,null,null,null,null,null,null,null,null,null,null,null,null,null,null,null,null,null,null,null,null,null,null,null,null,null,null,null,null,null,null,null,null,null,null,null,null,null,null,null,null,null,null,null,null,null,null,null,null,null,"47.250","G47.250 Trgovina na drobno v specializiranih prodajalnah s pijačami","G47.25 Trgovina na drobno v specializiranih prodajalnah s pijačami","G47.2 Trgovina na drobno v specializiranih prodajalnah z živili, pijačami in tobačnimi izdelki","G47 Trgovina na drobno, razen z motornimi vozili","G TRGOVINA, VZDRŽEVANJE IN POPRAVILA MOTORNIH VOZIL",null,null,null,null,null,null,8310,"Šentjernej"]
[null,null,null,null,null,null,null,null,null,null,null,null,null,null,null,null,null,null,null,null,null,null,null,null,null,null,null,null,null,null,null,null,null,null,null,null,null,null,null,null,null,null,null,null,null,null,null,null,null,null,null,null,null,null,null,null,null,null,null,null,"47.260","G47.260 Trgovina na drobno v specializiranih prodajalnah s tobačnimi izdelki","G47.26 Trgovina na drobno v specializiranih prodajalnah s tobačnimi izdelki","G47.2 Trgovina na drobno v specializiranih prodajalnah z živili, pijačami in tobačnimi izdelki","G47 Trgovina na drobno, razen z motornimi vozili","G TRGOVINA, VZDRŽEVANJE IN POPRAVILA MOTORNIH VOZIL",null,null,null,null,null,null,3230,"Šentjur"]
[null,null,null,null,null,null,null,null,null,null,null,null,null,null,null,null,null,null,null,null,null,null,null,null,null,null,null,null,null,null,null,null,null,null,null,null,null,null,null,null,null,null,null,null,null,null,null,null,null,null,null,null,null,null,null,null,null,null,null,null,"47.290","G47.290 Druga trgovina na drobno v specializiranih prodajalnah z živili","G47.29 Druga trgovina na drobno v specializiranih prodajalnah z živili","G47.2 Trgovina na drobno v specializiranih prodajalnah z živili, pijačami in tobačnimi izdelki","G47 Trgovina na drobno, razen z motornimi vozili","G TRGOVINA, VZDRŽEVANJE IN POPRAVILA MOTORNIH VOZIL",null,null,null,null,null,null,3271,"Šentrupert"]
[null,null,null,null,null,null,null,null,null,null,null,null,null,null,null,null,null,null,null,null,null,null,null,null,null,null,null,null,null,null,null,null,null,null,null,null,null,null,null,null,null,null,null,null,null,null,null,null,null,null,null,null,null,null,null,null,null,null,null,null,"47.301","G47.301 Trgovina na drobno z lastnimi motornimi gorivi","G47.30 Trgovina na drobno v specializiranih prodajalnah z motornimi gorivi","G47.3 Trgovina na drobno v specializiranih prodajalnah z motornimi gorivi","G47 Trgovina na drobno, razen z motornimi vozili","G TRGOVINA, VZDRŽEVANJE IN POPRAVILA MOTORNIH VOZIL",null,null,null,null,null,null,8232,"Šentrupert"]
[null,null,null,null,null,null,null,null,null,null,null,null,null,null,null,null,null,null,null,null,null,null,null,null,null,null,null,null,null,null,null,null,null,null,null,null,null,null,null,null,null,null,null,null,null,null,null,null,null,null,null,null,null,null,null,null,null,null,null,null,"47.302","G47.302 Posredništvo pri prodaji motornih goriv na drobno","G47.30 Trgovina na drobno v specializiranih prodajalnah z motornimi gorivi","G47.3 Trgovina na drobno v specializiranih prodajalnah z motornimi gorivi","G47 Trgovina na drobno, razen z motornimi vozili","G TRGOVINA, VZDRŽEVANJE IN POPRAVILA MOTORNIH VOZIL",null,null,null,null,null,null,1296,"Šentvid pri Stični"]
[null,null,null,null,null,null,null,null,null,null,null,null,null,null,null,null,null,null,null,null,null,null,null,null,null,null,null,null,null,null,null,null,null,null,null,null,null,null,null,null,null,null,null,null,null,null,null,null,null,null,null,null,null,null,null,null,null,null,null,null,"47.410","G47.410 Trgovina na drobno v specializiranih prodajalnah z računalniškimi napravami in programi","G47.41 Trgovina na drobno v specializiranih prodajalnah z računalniškimi napravami in programi","G47.4 Trgovina na drobno v specializiranih prodajalnah z računalniškimi, komunikacijskimi, avdio in video napravami","G47 Trgovina na drobno, razen z motornimi vozili","G TRGOVINA, VZDRŽEVANJE IN POPRAVILA MOTORNIH VOZIL",null,null,null,null,null,null,8275,"Škocjan"]
[null,null,null,null,null,null,null,null,null,null,null,null,null,null,null,null,null,null,null,null,null,null,null,null,null,null,null,null,null,null,null,null,null,null,null,null,null,null,null,null,null,null,null,null,null,null,null,null,null,null,null,null,null,null,null,null,null,null,null,null,"47.420","G47.420 Trgovina na drobno v specializiranih prodajalnah s telekomunikacijskimi napravami","G47.42 Trgovina na drobno v specializiranih prodajalnah s telekomunikacijskimi napravami","G47.4 Trgovina na drobno v specializiranih prodajalnah z računalniškimi, komunikacijskimi, avdio in video napravami","G47 Trgovina na drobno, razen z motornimi vozili","G TRGOVINA, VZDRŽEVANJE IN POPRAVILA MOTORNIH VOZIL",null,null,null,null,null,null,6281,"Škofije"]
[null,null,null,null,null,null,null,null,null,null,null,null,null,null,null,null,null,null,null,null,null,null,null,null,null,null,null,null,null,null,null,null,null,null,null,null,null,null,null,null,null,null,null,null,null,null,null,null,null,null,null,null,null,null,null,null,null,null,null,null,"47.430","G47.430 Trgovina na drobno v specializiranih prodajalnah z avdio in video napravami","G47.43 Trgovina na drobno v specializiranih prodajalnah z avdio in video napravami","G47.4 Trgovina na drobno v specializiranih prodajalnah z računalniškimi, komunikacijskimi, avdio in video napravami","G47 Trgovina na drobno, razen z motornimi vozili","G TRGOVINA, VZDRŽEVANJE IN POPRAVILA MOTORNIH VOZIL",null,null,null,null,null,null,4220,"Škofja Loka"]
[null,null,null,null,null,null,null,null,null,null,null,null,null,null,null,null,null,null,null,null,null,null,null,null,null,null,null,null,null,null,null,null,null,null,null,null,null,null,null,null,null,null,null,null,null,null,null,null,null,null,null,null,null,null,null,null,null,null,null,null,"47.510","G47.510 Trgovina na drobno v specializiranih prodajalnah s tekstilom","G47.51 Trgovina na drobno v specializiranih prodajalnah s tekstilom","G47.5 Trgovina na drobno v specializiranih prodajalnah z drugo gospodinjsko opremo","G47 Trgovina na drobno, razen z motornimi vozili","G TRGOVINA, VZDRŽEVANJE IN POPRAVILA MOTORNIH VOZIL",null,null,null,null,null,null,3211,"Škofja vas"]
[null,null,null,null,null,null,null,null,null,null,null,null,null,null,null,null,null,null,null,null,null,null,null,null,null,null,null,null,null,null,null,null,null,null,null,null,null,null,null,null,null,null,null,null,null,null,null,null,null,null,null,null,null,null,null,null,null,null,null,null,"47.520","G47.520 Trgovina na drobno v specializiranih prodajalnah z gradbenim materialom, kovinskimi izdelki, barvami in steklom","G47.52 Trgovina na drobno v specializiranih prodajalnah z gradbenim materialom, kovinskimi izdelki, barvami in steklom","G47.5 Trgovina na drobno v specializiranih prodajalnah z drugo gospodinjsko opremo","G47 Trgovina na drobno, razen z motornimi vozili","G TRGOVINA, VZDRŽEVANJE IN POPRAVILA MOTORNIH VOZIL",null,null,null,null,null,null,1291,"Škofljica"]
[null,null,null,null,null,null,null,null,null,null,null,null,null,null,null,null,null,null,null,null,null,null,null,null,null,null,null,null,null,null,null,null,null,null,null,null,null,null,null,null,null,null,null,null,null,null,null,null,null,null,null,null,null,null,null,null,null,null,null,null,"47.530","G47.530 Trgovina na drobno v specializiranih prodajalnah s preprogami, talnimi in stenskimi oblogami","G47.53 Trgovina na drobno v specializiranih prodajalnah s preprogami, talnimi in stenskimi oblogami","G47.5 Trgovina na drobno v specializiranih prodajalnah z drugo gospodinjsko opremo","G47 Trgovina na drobno, razen z motornimi vozili","G TRGOVINA, VZDRŽEVANJE IN POPRAVILA MOTORNIH VOZIL",null,null,null,null,null,null,6274,"Šmarje"]
[null,null,null,null,null,null,null,null,null,null,null,null,null,null,null,null,null,null,null,null,null,null,null,null,null,null,null,null,null,null,null,null,null,null,null,null,null,null,null,null,null,null,null,null,null,null,null,null,null,null,null,null,null,null,null,null,null,null,null,null,"47.540","G47.540 Trgovina na drobno v specializiranih prodajalnah z električnimi gospodinjskimi napravami","G47.54 Trgovina na drobno v specializiranih prodajalnah z električnimi gospodinjskimi napravami","G47.5 Trgovina na drobno v specializiranih prodajalnah z drugo gospodinjsko opremo","G47 Trgovina na drobno, razen z motornimi vozili","G TRGOVINA, VZDRŽEVANJE IN POPRAVILA MOTORNIH VOZIL",null,null,null,null,null,null,1293,"Šmarje - Sap"]
[null,null,null,null,null,null,null,null,null,null,null,null,null,null,null,null,null,null,null,null,null,null,null,null,null,null,null,null,null,null,null,null,null,null,null,null,null,null,null,null,null,null,null,null,null,null,null,null,null,null,null,null,null,null,null,null,null,null,null,null,"47.590","G47.590 Trgovina na drobno v specializiranih prodajalnah s pohištvom, svetili in drugje nerazvrščenimi predmeti za gospodinjstvo","G47.59 Trgovina na drobno v specializiranih prodajalnah s pohištvom, svetili in drugje nerazvrščenimi predmeti za gospodinjstvo","G47.5 Trgovina na drobno v specializiranih prodajalnah z drugo gospodinjsko opremo","G47 Trgovina na drobno, razen z motornimi vozili","G TRGOVINA, VZDRŽEVANJE IN POPRAVILA MOTORNIH VOZIL",null,null,null,null,null,null,3240,"Šmarje pri Jelšah"]
[null,null,null,null,null,null,null,null,null,null,null,null,null,null,null,null,null,null,null,null,null,null,null,null,null,null,null,null,null,null,null,null,null,null,null,null,null,null,null,null,null,null,null,null,null,null,null,null,null,null,null,null,null,null,null,null,null,null,null,null,"47.610","G47.610 Trgovina na drobno v specializiranih prodajalnah s knjigami","G47.61 Trgovina na drobno v specializiranih prodajalnah s knjigami","G47.6 Trgovina na drobno v specializiranih prodajalnah z izdelki za kulturo, šport in zabavo","G47 Trgovina na drobno, razen z motornimi vozili","G TRGOVINA, VZDRŽEVANJE IN POPRAVILA MOTORNIH VOZIL",null,null,null,null,null,null,8220,"Šmarješke Toplice"]
[null,null,null,null,null,null,null,null,null,null,null,null,null,null,null,null,null,null,null,null,null,null,null,null,null,null,null,null,null,null,null,null,null,null,null,null,null,null,null,null,null,null,null,null,null,null,null,null,null,null,null,null,null,null,null,null,null,null,null,null,"47.621","G47.621 Trgovina na drobno v specializiranih prodajalnah s časopisi in revijami","G47.62 Trgovina na drobno v specializiranih prodajalnah s časopisi, revijami, papirjem, pisalnimi potrebščinami","G47.6 Trgovina na drobno v specializiranih prodajalnah z izdelki za kulturo, šport in zabavo","G47 Trgovina na drobno, razen z motornimi vozili","G TRGOVINA, VZDRŽEVANJE IN POPRAVILA MOTORNIH VOZIL",null,null,null,null,null,null,2315,"Šmartno na Pohorju"]
[null,null,null,null,null,null,null,null,null,null,null,null,null,null,null,null,null,null,null,null,null,null,null,null,null,null,null,null,null,null,null,null,null,null,null,null,null,null,null,null,null,null,null,null,null,null,null,null,null,null,null,null,null,null,null,null,null,null,null,null,"47.622","G47.622 Trgovina na drobno v specializiranih prodajalnah s papirjem in pisalnimi potrebščinami","G47.62 Trgovina na drobno v specializiranih prodajalnah s časopisi, revijami, papirjem, pisalnimi potrebščinami","G47.6 Trgovina na drobno v specializiranih prodajalnah z izdelki za kulturo, šport in zabavo","G47 Trgovina na drobno, razen z motornimi vozili","G TRGOVINA, VZDRŽEVANJE IN POPRAVILA MOTORNIH VOZIL",null,null,null,null,null,null,3341,"Šmartno ob Dreti"]
[null,null,null,null,null,null,null,null,null,null,null,null,null,null,null,null,null,null,null,null,null,null,null,null,null,null,null,null,null,null,null,null,null,null,null,null,null,null,null,null,null,null,null,null,null,null,null,null,null,null,null,null,null,null,null,null,null,null,null,null,"47.630","G47.630 Trgovina na drobno v specializiranih prodajalnah z glasbenimi in video zapisi","G47.63 Trgovina na drobno v specializiranih prodajalnah z glasbenimi in video zapisi","G47.6 Trgovina na drobno v specializiranih prodajalnah z izdelki za kulturo, šport in zabavo","G47 Trgovina na drobno, razen z motornimi vozili","G TRGOVINA, VZDRŽEVANJE IN POPRAVILA MOTORNIH VOZIL",null,null,null,null,null,null,3327,"Šmartno ob Paki"]
[null,null,null,null,null,null,null,null,null,null,null,null,null,null,null,null,null,null,null,null,null,null,null,null,null,null,null,null,null,null,null,null,null,null,null,null,null,null,null,null,null,null,null,null,null,null,null,null,null,null,null,null,null,null,null,null,null,null,null,null,"47.640","G47.640 Trgovina na drobno v specializiranih prodajalnah s športno opremo","G47.64 Trgovina na drobno v specializiranih prodajalnah s športno opremo","G47.6 Trgovina na drobno v specializiranih prodajalnah z izdelki za kulturo, šport in zabavo","G47 Trgovina na drobno, razen z motornimi vozili","G TRGOVINA, VZDRŽEVANJE IN POPRAVILA MOTORNIH VOZIL",null,null,null,null,null,null,1275,"Šmartno pri Litiji"]
[null,null,null,null,null,null,null,null,null,null,null,null,null,null,null,null,null,null,null,null,null,null,null,null,null,null,null,null,null,null,null,null,null,null,null,null,null,null,null,null,null,null,null,null,null,null,null,null,null,null,null,null,null,null,null,null,null,null,null,null,"47.650","G47.650 Trgovina na drobno v specializiranih prodajalnah z igračami in rekviziti za igre in zabavo","G47.65 Trgovina na drobno v specializiranih prodajalnah z igračami in rekviziti za igre in zabavo","G47.6 Trgovina na drobno v specializiranih prodajalnah z izdelki za kulturo, šport in zabavo","G47 Trgovina na drobno, razen z motornimi vozili","G TRGOVINA, VZDRŽEVANJE IN POPRAVILA MOTORNIH VOZIL",null,null,null,null,null,null,2383,"Šmartno pri Slovenj Gradcu"]
[null,null,null,null,null,null,null,null,null,null,null,null,null,null,null,null,null,null,null,null,null,null,null,null,null,null,null,null,null,null,null,null,null,null,null,null,null,null,null,null,null,null,null,null,null,null,null,null,null,null,null,null,null,null,null,null,null,null,null,null,"47.710","G47.710 Trgovina na drobno v specializiranih prodajalnah z oblačili","G47.71 Trgovina na drobno v specializiranih prodajalnah z oblačili","G47.7 Trgovina na drobno v specializiranih prodajalnah z drugimi izdelki","G47 Trgovina na drobno, razen z motornimi vozili","G TRGOVINA, VZDRŽEVANJE IN POPRAVILA MOTORNIH VOZIL",null,null,null,null,null,null,3201,"Šmartno v Rožni dolini"]
[null,null,null,null,null,null,null,null,null,null,null,null,null,null,null,null,null,null,null,null,null,null,null,null,null,null,null,null,null,null,null,null,null,null,null,null,null,null,null,null,null,null,null,null,null,null,null,null,null,null,null,null,null,null,null,null,null,null,null,null,"47.720","G47.720 Trgovina na drobno v specializiranih prodajalnah z obutvijo in usnjenimi izdelki","G47.72 Trgovina na drobno v specializiranih prodajalnah z obutvijo in usnjenimi izdelki","G47.7 Trgovina na drobno v specializiranih prodajalnah z drugimi izdelki","G47 Trgovina na drobno, razen z motornimi vozili","G TRGOVINA, VZDRŽEVANJE IN POPRAVILA MOTORNIH VOZIL",null,null,null,null,null,null,3325,"Šoštanj"]
[null,null,null,null,null,null,null,null,null,null,null,null,null,null,null,null,null,null,null,null,null,null,null,null,null,null,null,null,null,null,null,null,null,null,null,null,null,null,null,null,null,null,null,null,null,null,null,null,null,null,null,null,null,null,null,null,null,null,null,null,"47.730","G47.730 Trgovina na drobno v specializiranih prodajalnah s farmacevtskimi izdelki","G47.73 Trgovina na drobno v specializiranih prodajalnah s farmacevtskimi izdelki","G47.7 Trgovina na drobno v specializiranih prodajalnah z drugimi izdelki","G47 Trgovina na drobno, razen z motornimi vozili","G TRGOVINA, VZDRŽEVANJE IN POPRAVILA MOTORNIH VOZIL",null,null,null,null,null,null,6222,"Štanjel"]
[null,null,null,null,null,null,null,null,null,null,null,null,null,null,null,null,null,null,null,null,null,null,null,null,null,null,null,null,null,null,null,null,null,null,null,null,null,null,null,null,null,null,null,null,null,null,null,null,null,null,null,null,null,null,null,null,null,null,null,null,"47.740","G47.740 Trgovina na drobno v specializiranih prodajalnah z medicinskimi in ortopedskimi pripomočki","G47.74 Trgovina na drobno v specializiranih prodajalnah z medicinskimi in ortopedskimi pripomočki","G47.7 Trgovina na drobno v specializiranih prodajalnah z drugimi izdelki","G47 Trgovina na drobno, razen z motornimi vozili","G TRGOVINA, VZDRŽEVANJE IN POPRAVILA MOTORNIH VOZIL",null,null,null,null,null,null,3220,"Štore"]
[null,null,null,null,null,null,null,null,null,null,null,null,null,null,null,null,null,null,null,null,null,null,null,null,null,null,null,null,null,null,null,null,null,null,null,null,null,null,null,null,null,null,null,null,null,null,null,null,null,null,null,null,null,null,null,null,null,null,null,null,"47.750","G47.750 Trgovina na drobno v specializiranih prodajalnah s kozmetičnimi in toaletnimi izdelki","G47.75 Trgovina na drobno v specializiranih prodajalnah s kozmetičnimi in toaletnimi izdelki","G47.7 Trgovina na drobno v specializiranih prodajalnah z drugimi izdelki","G47 Trgovina na drobno, razen z motornimi vozili","G TRGOVINA, VZDRŽEVANJE IN POPRAVILA MOTORNIH VOZIL",null,null,null,null,null,null,3304,"Tabor"]
[null,null,null,null,null,null,null,null,null,null,null,null,null,null,null,null,null,null,null,null,null,null,null,null,null,null,null,null,null,null,null,null,null,null,null,null,null,null,null,null,null,null,null,null,null,null,null,null,null,null,null,null,null,null,null,null,null,null,null,null,"47.761","G47.761 Trgovina na drobno v cvetličarnah","G47.76 Trgovina na drobno v specializiranih prodajalnah s cvetjem, rastlinami, gnojili, hišnimi živalmi in hrano za živali","G47.7 Trgovina na drobno v specializiranih prodajalnah z drugimi izdelki","G47 Trgovina na drobno, razen z motornimi vozili","G TRGOVINA, VZDRŽEVANJE IN POPRAVILA MOTORNIH VOZIL",null,null,null,null,null,null,3221,"Teharje"]
[null,null,null,null,null,null,null,null,null,null,null,null,null,null,null,null,null,null,null,null,null,null,null,null,null,null,null,null,null,null,null,null,null,null,null,null,null,null,null,null,null,null,null,null,null,null,null,null,null,null,null,null,null,null,null,null,null,null,null,null,"47.762","G47.762 Trgovina na drobno v specializiranih prodajalnah z vrtnarsko opremo in hišnimi živalmi","G47.76 Trgovina na drobno v specializiranih prodajalnah s cvetjem, rastlinami, gnojili, hišnimi živalmi in hrano za živali","G47.7 Trgovina na drobno v specializiranih prodajalnah z drugimi izdelki","G47 Trgovina na drobno, razen z motornimi vozili","G TRGOVINA, VZDRŽEVANJE IN POPRAVILA MOTORNIH VOZIL",null,null,null,null,null,null,9251,"Tišina"]
[null,null,null,null,null,null,null,null,null,null,null,null,null,null,null,null,null,null,null,null,null,null,null,null,null,null,null,null,null,null,null,null,null,null,null,null,null,null,null,null,null,null,null,null,null,null,null,null,null,null,null,null,null,null,null,null,null,null,null,null,"47.770","G47.770 Trgovina na drobno v specializiranih prodajalnah z urami in nakitom","G47.77 Trgovina na drobno v specializiranih prodajalnah z urami in nakitom","G47.7 Trgovina na drobno v specializiranih prodajalnah z drugimi izdelki","G47 Trgovina na drobno, razen z motornimi vozili","G TRGOVINA, VZDRŽEVANJE IN POPRAVILA MOTORNIH VOZIL",null,null,null,null,null,null,5220,"Tolmin"]
[null,null,null,null,null,null,null,null,null,null,null,null,null,null,null,null,null,null,null,null,null,null,null,null,null,null,null,null,null,null,null,null,null,null,null,null,null,null,null,null,null,null,null,null,null,null,null,null,null,null,null,null,null,null,null,null,null,null,null,null,"47.781","G47.781 Trgovina na drobno v specializiranih prodajalnah z očali","G47.78 Druga trgovina na drobno v specializiranih prodajalnah z novim blagom","G47.7 Trgovina na drobno v specializiranih prodajalnah z drugimi izdelki","G47 Trgovina na drobno, razen z motornimi vozili","G TRGOVINA, VZDRŽEVANJE IN POPRAVILA MOTORNIH VOZIL",null,null,null,null,null,null,3326,"Topolšica"]
[null,null,null,null,null,null,null,null,null,null,null,null,null,null,null,null,null,null,null,null,null,null,null,null,null,null,null,null,null,null,null,null,null,null,null,null,null,null,null,null,null,null,null,null,null,null,null,null,null,null,null,null,null,null,null,null,null,null,null,null,"47.782","G47.782 Trgovina na drobno v specializiranih prodajalnah z umetniškimi izdelki","G47.78 Druga trgovina na drobno v specializiranih prodajalnah z novim blagom","G47.7 Trgovina na drobno v specializiranih prodajalnah z drugimi izdelki","G47 Trgovina na drobno, razen z motornimi vozili","G TRGOVINA, VZDRŽEVANJE IN POPRAVILA MOTORNIH VOZIL",null,null,null,null,null,null,2371,"Trbonje"]
[null,null,null,null,null,null,null,null,null,null,null,null,null,null,null,null,null,null,null,null,null,null,null,null,null,null,null,null,null,null,null,null,null,null,null,null,null,null,null,null,null,null,null,null,null,null,null,null,null,null,null,null,null,null,null,null,null,null,null,null,"47.789","G47.789 Druga trgovina na drobno v drugih specializiranih prodajalnah","G47.78 Druga trgovina na drobno v specializiranih prodajalnah z novim blagom","G47.7 Trgovina na drobno v specializiranih prodajalnah z drugimi izdelki","G47 Trgovina na drobno, razen z motornimi vozili","G TRGOVINA, VZDRŽEVANJE IN POPRAVILA MOTORNIH VOZIL",null,null,null,null,null,null,1420,"Trbovlje"]
[null,null,null,null,null,null,null,null,null,null,null,null,null,null,null,null,null,null,null,null,null,null,null,null,null,null,null,null,null,null,null,null,null,null,null,null,null,null,null,null,null,null,null,null,null,null,null,null,null,null,null,null,null,null,null,null,null,null,null,null,"47.790","G47.790 Trgovina na drobno v prodajalnah z rabljenim blagom","G47.79 Trgovina na drobno v prodajalnah z rabljenim blagom","G47.7 Trgovina na drobno v specializiranih prodajalnah z drugimi izdelki","G47 Trgovina na drobno, razen z motornimi vozili","G TRGOVINA, VZDRŽEVANJE IN POPRAVILA MOTORNIH VOZIL",null,null,null,null,null,null,8231,"Trebelno"]
[null,null,null,null,null,null,null,null,null,null,null,null,null,null,null,null,null,null,null,null,null,null,null,null,null,null,null,null,null,null,null,null,null,null,null,null,null,null,null,null,null,null,null,null,null,null,null,null,null,null,null,null,null,null,null,null,null,null,null,null,"47.810","G47.810 Trgovina na drobno na stojnicah in tržnicah z živili, pijačami in tobačnimi izdelki","G47.81 Trgovina na drobno na stojnicah in tržnicah z živili, pijačami in tobačnimi izdelki","G47.8 Trgovina na drobno na stojnicah in tržnicah","G47 Trgovina na drobno, razen z motornimi vozili","G TRGOVINA, VZDRŽEVANJE IN POPRAVILA MOTORNIH VOZIL",null,null,null,null,null,null,8210,"Trebnje"]
[null,null,null,null,null,null,null,null,null,null,null,null,null,null,null,null,null,null,null,null,null,null,null,null,null,null,null,null,null,null,null,null,null,null,null,null,null,null,null,null,null,null,null,null,null,null,null,null,null,null,null,null,null,null,null,null,null,null,null,null,"47.820","G47.820 Trgovina na drobno na stojnicah in tržnicah s tekstilijami in obutvijo","G47.82 Trgovina na drobno na stojnicah in tržnicah s tekstilijami in obutvijo","G47.8 Trgovina na drobno na stojnicah in tržnicah","G47 Trgovina na drobno, razen z motornimi vozili","G TRGOVINA, VZDRŽEVANJE IN POPRAVILA MOTORNIH VOZIL",null,null,null,null,null,null,5252,"Trnovo pri Gorici"]
[null,null,null,null,null,null,null,null,null,null,null,null,null,null,null,null,null,null,null,null,null,null,null,null,null,null,null,null,null,null,null,null,null,null,null,null,null,null,null,null,null,null,null,null,null,null,null,null,null,null,null,null,null,null,null,null,null,null,null,null,"47.890","G47.890 Trgovina na drobno na stojnicah in tržnicah z drugim blagom","G47.89 Trgovina na drobno na stojnicah in tržnicah z drugim blagom","G47.8 Trgovina na drobno na stojnicah in tržnicah","G47 Trgovina na drobno, razen z motornimi vozili","G TRGOVINA, VZDRŽEVANJE IN POPRAVILA MOTORNIH VOZIL",null,null,null,null,null,null,2254,"Trnovska vas"]
[null,null,null,null,null,null,null,null,null,null,null,null,null,null,null,null,null,null,null,null,null,null,null,null,null,null,null,null,null,null,null,null,null,null,null,null,null,null,null,null,null,null,null,null,null,null,null,null,null,null,null,null,null,null,null,null,null,null,null,null,"47.910","G47.910 Trgovina na drobno po pošti ali po internetu","G47.91 Trgovina na drobno po pošti ali po internetu","G47.9 Trgovina na drobno zunaj prodajaln, stojnic in tržnic","G47 Trgovina na drobno, razen z motornimi vozili","G TRGOVINA, VZDRŽEVANJE IN POPRAVILA MOTORNIH VOZIL",null,null,null,null,null,null,1222,"Trojane"]
[null,null,null,null,null,null,null,null,null,null,null,null,null,null,null,null,null,null,null,null,null,null,null,null,null,null,null,null,null,null,null,null,null,null,null,null,null,null,null,null,null,null,null,null,null,null,null,null,null,null,null,null,null,null,null,null,null,null,null,null,"47.990","G47.990 Druga trgovina na drobno zunaj prodajaln, stojnic in tržnic","G47.99 Druga trgovina na drobno zunaj prodajaln, stojnic in tržnic","G47.9 Trgovina na drobno zunaj prodajaln, stojnic in tržnic","G47 Trgovina na drobno, razen z motornimi vozili","G TRGOVINA, VZDRŽEVANJE IN POPRAVILA MOTORNIH VOZIL",null,null,null,null,null,null,1236,"Trzin"]
[null,null,null,null,null,null,null,null,null,null,null,null,null,null,null,null,null,null,null,null,null,null,null,null,null,null,null,null,null,null,null,null,null,null,null,null,null,null,null,null,null,null,null,null,null,null,null,null,null,null,null,null,null,null,null,null,null,null,null,null,"49.100","H49.100 Železniški potniški promet","H49.10 Železniški potniški promet","H49.1 Železniški potniški promet","H49 Kopenski promet, cevovodni transport","H PROMET IN SKLADIŠČENJE",null,null,null,null,null,null,4290,"Tržič"]
[null,null,null,null,null,null,null,null,null,null,null,null,null,null,null,null,null,null,null,null,null,null,null,null,null,null,null,null,null,null,null,null,null,null,null,null,null,null,null,null,null,null,null,null,null,null,null,null,null,null,null,null,null,null,null,null,null,null,null,null,"49.200","H49.200 Železniški tovorni promet","H49.20 Železniški tovorni promet","H49.2 Železniški tovorni promet","H49 Kopenski promet, cevovodni transport","H PROMET IN SKLADIŠČENJE",null,null,null,null,null,null,8295,"Tržišče"]
[null,null,null,null,null,null,null,null,null,null,null,null,null,null,null,null,null,null,null,null,null,null,null,null,null,null,null,null,null,null,null,null,null,null,null,null,null,null,null,null,null,null,null,null,null,null,null,null,null,null,null,null,null,null,null,null,null,null,null,null,"49.310","H49.310 Mestni in primestni kopenski potniški promet","H49.31 Mestni in primestni kopenski potniški promet","H49.3 Drug kopenski potniški promet","H49 Kopenski promet, cevovodni transport","H PROMET IN SKLADIŠČENJE",null,null,null,null,null,null,1311,"Turjak"]
[null,null,null,null,null,null,null,null,null,null,null,null,null,null,null,null,null,null,null,null,null,null,null,null,null,null,null,null,null,null,null,null,null,null,null,null,null,null,null,null,null,null,null,null,null,null,null,null,null,null,null,null,null,null,null,null,null,null,null,null,"49.320","H49.320 Obratovanje taksijev","H49.32 Obratovanje taksijev","H49.3 Drug kopenski potniški promet","H49 Kopenski promet, cevovodni transport","H PROMET IN SKLADIŠČENJE",null,null,null,null,null,null,9224,"Turnišče"]
[null,null,null,null,null,null,null,null,null,null,null,null,null,null,null,null,null,null,null,null,null,null,null,null,null,null,null,null,null,null,null,null,null,null,null,null,null,null,null,null,null,null,null,null,null,null,null,null,null,null,null,null,null,null,null,null,null,null,null,null,"49.391","H49.391 Medkrajevni in drug cestni potniški promet","H49.39 Drug kopenski potniški promet","H49.3 Drug kopenski potniški promet","H49 Kopenski promet, cevovodni transport","H PROMET IN SKLADIŠČENJE",null,null,null,null,null,null,8323,"Uršna sela"]
[null,null,null,null,null,null,null,null,null,null,null,null,null,null,null,null,null,null,null,null,null,null,null,null,null,null,null,null,null,null,null,null,null,null,null,null,null,null,null,null,null,null,null,null,null,null,null,null,null,null,null,null,null,null,null,null,null,null,null,null,"49.392","H49.392 Obratovanje žičnic","H49.39 Drug kopenski potniški promet","H49.3 Drug kopenski potniški promet","H49 Kopenski promet, cevovodni transport","H PROMET IN SKLADIŠČENJE",null,null,null,null,null,null,1252,"Vače"]
[null,null,null,null,null,null,null,null,null,null,null,null,null,null,null,null,null,null,null,null,null,null,null,null,null,null,null,null,null,null,null,null,null,null,null,null,null,null,null,null,null,null,null,null,null,null,null,null,null,null,null,null,null,null,null,null,null,null,null,null,"49.410","H49.410 Cestni tovorni promet","H49.41 Cestni tovorni promet","H49.4 Cestni tovorni promet ter selitvena dejavnost","H49 Kopenski promet, cevovodni transport","H PROMET IN SKLADIŠČENJE",null,null,null,null,null,null,3320,"Velenje"]
[null,null,null,null,null,null,null,null,null,null,null,null,null,null,null,null,null,null,null,null,null,null,null,null,null,null,null,null,null,null,null,null,null,null,null,null,null,null,null,null,null,null,null,null,null,null,null,null,null,null,null,null,null,null,null,null,null,null,null,null,"49.420","H49.420 Selitvena dejavnost","H49.42 Selitvena dejavnost","H49.4 Cestni tovorni promet ter selitvena dejavnost","H49 Kopenski promet, cevovodni transport","H PROMET IN SKLADIŠČENJE",null,null,null,null,null,null,3322,"Velenje - poštni predali"]
[null,null,null,null,null,null,null,null,null,null,null,null,null,null,null,null,null,null,null,null,null,null,null,null,null,null,null,null,null,null,null,null,null,null,null,null,null,null,null,null,null,null,null,null,null,null,null,null,null,null,null,null,null,null,null,null,null,null,null,null,"49.500","H49.500 Cevovodni transport","H49.50 Cevovodni transport","H49.5 Cevovodni transport","H49 Kopenski promet, cevovodni transport","H PROMET IN SKLADIŠČENJE",null,null,null,null,null,null,8212,"Velika Loka"]
[null,null,null,null,null,null,null,null,null,null,null,null,null,null,null,null,null,null,null,null,null,null,null,null,null,null,null,null,null,null,null,null,null,null,null,null,null,null,null,null,null,null,null,null,null,null,null,null,null,null,null,null,null,null,null,null,null,null,null,null,"50.100","H50.100 Pomorski potniški promet","H50.10 Pomorski potniški promet","H50.1 Pomorski potniški promet","H50 Vodni promet","H PROMET IN SKLADIŠČENJE",null,null,null,null,null,null,2274,"Velika Nedelja"]
[null,null,null,null,null,null,null,null,null,null,null,null,null,null,null,null,null,null,null,null,null,null,null,null,null,null,null,null,null,null,null,null,null,null,null,null,null,null,null,null,null,null,null,null,null,null,null,null,null,null,null,null,null,null,null,null,null,null,null,null,"50.200","H50.200 Pomorski tovorni promet","H50.20 Pomorski tovorni promet","H50.2 Pomorski tovorni promet","H50 Vodni promet","H PROMET IN SKLADIŠČENJE",null,null,null,null,null,null,9225,"Velika Polana"]
[null,null,null,null,null,null,null,null,null,null,null,null,null,null,null,null,null,null,null,null,null,null,null,null,null,null,null,null,null,null,null,null,null,null,null,null,null,null,null,null,null,null,null,null,null,null,null,null,null,null,null,null,null,null,null,null,null,null,null,null,"50.300","H50.300 Potniški promet po celinskih vodah","H50.30 Potniški promet po celinskih vodah","H50.3 Potniški promet po celinskih vodah","H50 Vodni promet","H PROMET IN SKLADIŠČENJE",null,null,null,null,null,null,1315,"Velike Lašče"]
[null,null,null,null,null,null,null,null,null,null,null,null,null,null,null,null,null,null,null,null,null,null,null,null,null,null,null,null,null,null,null,null,null,null,null,null,null,null,null,null,null,null,null,null,null,null,null,null,null,null,null,null,null,null,null,null,null,null,null,null,"50.400","H50.400 Tovorni promet po celinskih vodah","H50.40 Tovorni promet po celinskih vodah","H50.4 Tovorni promet po celinskih vodah","H50 Vodni promet","H PROMET IN SKLADIŠČENJE",null,null,null,null,null,null,8213,"Veliki Gaber"]
[null,null,null,null,null,null,null,null,null,null,null,null,null,null,null,null,null,null,null,null,null,null,null,null,null,null,null,null,null,null,null,null,null,null,null,null,null,null,null,null,null,null,null,null,null,null,null,null,null,null,null,null,null,null,null,null,null,null,null,null,"51.100","H51.100 Potniški zračni promet","H51.10 Potniški zračni promet","H51.1 Potniški zračni promet","H51 Zračni promet","H PROMET IN SKLADIŠČENJE",null,null,null,null,null,null,9241,"Veržej"]
[null,null,null,null,null,null,null,null,null,null,null,null,null,null,null,null,null,null,null,null,null,null,null,null,null,null,null,null,null,null,null,null,null,null,null,null,null,null,null,null,null,null,null,null,null,null,null,null,null,null,null,null,null,null,null,null,null,null,null,null,"51.210","H51.210 Tovorni zračni promet","H51.21 Tovorni zračni promet","H51.2 Tovorni zračni in vesoljski promet","H51 Zračni promet","H PROMET IN SKLADIŠČENJE",null,null,null,null,null,null,1312,"Videm - Dobrepolje"]
[null,null,null,null,null,null,null,null,null,null,null,null,null,null,null,null,null,null,null,null,null,null,null,null,null,null,null,null,null,null,null,null,null,null,null,null,null,null,null,null,null,null,null,null,null,null,null,null,null,null,null,null,null,null,null,null,null,null,null,null,"51.220","H51.220 Vesoljski promet","H51.22 Vesoljski promet","H51.2 Tovorni zračni in vesoljski promet","H51 Zračni promet","H PROMET IN SKLADIŠČENJE",null,null,null,null,null,null,2284,"Videm pri Ptuju"]
[null,null,null,null,null,null,null,null,null,null,null,null,null,null,null,null,null,null,null,null,null,null,null,null,null,null,null,null,null,null,null,null,null,null,null,null,null,null,null,null,null,null,null,null,null,null,null,null,null,null,null,null,null,null,null,null,null,null,null,null,"52.100","H52.100 Skladiščenje","H52.10 Skladiščenje","H52.1 Skladiščenje","H52 Skladiščenje in spremljajoče prometne dejavnosti","H PROMET IN SKLADIŠČENJE",null,null,null,null,null,null,8344,"Vinica"]
[null,null,null,null,null,null,null,null,null,null,null,null,null,null,null,null,null,null,null,null,null,null,null,null,null,null,null,null,null,null,null,null,null,null,null,null,null,null,null,null,null,null,null,null,null,null,null,null,null,null,null,null,null,null,null,null,null,null,null,null,"52.210","H52.210 Spremljajoče storitvene dejavnosti v kopenskem prometu","H52.21 Spremljajoče storitvene dejavnosti v kopenskem prometu","H52.2 Spremljajoče prometne dejavnosti","H52 Skladiščenje in spremljajoče prometne dejavnosti","H PROMET IN SKLADIŠČENJE",null,null,null,null,null,null,5271,"Vipava"]
[null,null,null,null,null,null,null,null,null,null,null,null,null,null,null,null,null,null,null,null,null,null,null,null,null,null,null,null,null,null,null,null,null,null,null,null,null,null,null,null,null,null,null,null,null,null,null,null,null,null,null,null,null,null,null,null,null,null,null,null,"52.220","H52.220 Spremljajoče storitvene dejavnosti v vodnem prometu","H52.22 Spremljajoče storitvene dejavnosti v vodnem prometu","H52.2 Spremljajoče prometne dejavnosti","H52 Skladiščenje in spremljajoče prometne dejavnosti","H PROMET IN SKLADIŠČENJE",null,null,null,null,null,null,4212,"Visoko"]
[null,null,null,null,null,null,null,null,null,null,null,null,null,null,null,null,null,null,null,null,null,null,null,null,null,null,null,null,null,null,null,null,null,null,null,null,null,null,null,null,null,null,null,null,null,null,null,null,null,null,null,null,null,null,null,null,null,null,null,null,"52.230","H52.230 Spremljajoče storitvene dejavnosti v zračnem prometu","H52.23 Spremljajoče storitvene dejavnosti v zračnem prometu","H52.2 Spremljajoče prometne dejavnosti","H52 Skladiščenje in spremljajoče prometne dejavnosti","H PROMET IN SKLADIŠČENJE",null,null,null,null,null,null,1294,"Višnja Gora"]
[null,null,null,null,null,null,null,null,null,null,null,null,null,null,null,null,null,null,null,null,null,null,null,null,null,null,null,null,null,null,null,null,null,null,null,null,null,null,null,null,null,null,null,null,null,null,null,null,null,null,null,null,null,null,null,null,null,null,null,null,"52.240","H52.240 Pretovarjanje","H52.24 Pretovarjanje","H52.2 Spremljajoče prometne dejavnosti","H52 Skladiščenje in spremljajoče prometne dejavnosti","H PROMET IN SKLADIŠČENJE",null,null,null,null,null,null,3205,"Vitanje"]
[null,null,null,null,null,null,null,null,null,null,null,null,null,null,null,null,null,null,null,null,null,null,null,null,null,null,null,null,null,null,null,null,null,null,null,null,null,null,null,null,null,null,null,null,null,null,null,null,null,null,null,null,null,null,null,null,null,null,null,null,"52.290","H52.290 Špedicija in druge spremljajoče prometne dejavnosti","H52.29 Špedicija in druge spremljajoče prometne dejavnosti","H52.2 Spremljajoče prometne dejavnosti","H52 Skladiščenje in spremljajoče prometne dejavnosti","H PROMET IN SKLADIŠČENJE",null,null,null,null,null,null,2255,"Vitomarci"]
[null,null,null,null,null,null,null,null,null,null,null,null,null,null,null,null,null,null,null,null,null,null,null,null,null,null,null,null,null,null,null,null,null,null,null,null,null,null,null,null,null,null,null,null,null,null,null,null,null,null,null,null,null,null,null,null,null,null,null,null,"53.100","H53.100 Izvajanje univerzalne poštne storitve","H53.10 Izvajanje univerzalne poštne storitve","H53.1 Izvajanje univerzalne poštne storitve","H53 Poštna in kurirska dejavnost","H PROMET IN SKLADIŠČENJE",null,null,null,null,null,null,1217,"Vodice"]
[null,null,null,null,null,null,null,null,null,null,null,null,null,null,null,null,null,null,null,null,null,null,null,null,null,null,null,null,null,null,null,null,null,null,null,null,null,null,null,null,null,null,null,null,null,null,null,null,null,null,null,null,null,null,null,null,null,null,null,null,"53.200","H53.200 Druga poštna in kurirska dejavnost","H53.20 Druga poštna in kurirska dejavnost","H53.2 Druga poštna in kurirska dejavnost","H53 Poštna in kurirska dejavnost","H PROMET IN SKLADIŠČENJE",null,null,null,null,null,null,3212,"Vojnik"]
[null,null,null,null,null,null,null,null,null,null,null,null,null,null,null,null,null,null,null,null,null,null,null,null,null,null,null,null,null,null,null,null,null,null,null,null,null,null,null,null,null,null,null,null,null,null,null,null,null,null,null,null,null,null,null,null,null,null,null,null,"55.100","I55.100 Dejavnost hotelov in podobnih nastanitvenih obratov","I55.10 Dejavnost hotelov in podobnih nastanitvenih obratov","I55.1 Dejavnost hotelov in podobnih nastanitvenih obratov","I55 Gostinske nastanitvene dejavnosti","I GOSTINSTVO",null,null,null,null,null,null,5293,"Volčja Draga"]
[null,null,null,null,null,null,null,null,null,null,null,null,null,null,null,null,null,null,null,null,null,null,null,null,null,null,null,null,null,null,null,null,null,null,null,null,null,null,null,null,null,null,null,null,null,null,null,null,null,null,null,null,null,null,null,null,null,null,null,null,"55.201","I55.201 Počitniški domovi in letovišča","I55.20 Dejavnost počitniških domov in podobnih nastanitvenih obratov za kratkotrajno bivanje","I55.2 Dejavnost počitniških domov in podobnih nastanitvenih obratov za kratkotrajno bivanje","I55 Gostinske nastanitvene dejavnosti","I GOSTINSTVO",null,null,null,null,null,null,2232,"Voličina"]
[null,null,null,null,null,null,null,null,null,null,null,null,null,null,null,null,null,null,null,null,null,null,null,null,null,null,null,null,null,null,null,null,null,null,null,null,null,null,null,null,null,null,null,null,null,null,null,null,null,null,null,null,null,null,null,null,null,null,null,null,"55.202","I55.202 Turistične kmetije s sobami","I55.20 Dejavnost počitniških domov in podobnih nastanitvenih obratov za kratkotrajno bivanje","I55.2 Dejavnost počitniških domov in podobnih nastanitvenih obratov za kratkotrajno bivanje","I55 Gostinske nastanitvene dejavnosti","I GOSTINSTVO",null,null,null,null,null,null,3305,"Vransko"]
[null,null,null,null,null,null,null,null,null,null,null,null,null,null,null,null,null,null,null,null,null,null,null,null,null,null,null,null,null,null,null,null,null,null,null,null,null,null,null,null,null,null,null,null,null,null,null,null,null,null,null,null,null,null,null,null,null,null,null,null,"55.203","I55.203 Oddajanje zasebnih sob gostom","I55.20 Dejavnost počitniških domov in podobnih nastanitvenih obratov za kratkotrajno bivanje","I55.2 Dejavnost počitniških domov in podobnih nastanitvenih obratov za kratkotrajno bivanje","I55 Gostinske nastanitvene dejavnosti","I GOSTINSTVO",null,null,null,null,null,null,6217,"Vremski Britof"]
[null,null,null,null,null,null,null,null,null,null,null,null,null,null,null,null,null,null,null,null,null,null,null,null,null,null,null,null,null,null,null,null,null,null,null,null,null,null,null,null,null,null,null,null,null,null,null,null,null,null,null,null,null,null,null,null,null,null,null,null,"55.204","I55.204 Planinski domovi in mladinska prenočišča","I55.20 Dejavnost počitniških domov in podobnih nastanitvenih obratov za kratkotrajno bivanje","I55.2 Dejavnost počitniških domov in podobnih nastanitvenih obratov za kratkotrajno bivanje","I55 Gostinske nastanitvene dejavnosti","I GOSTINSTVO",null,null,null,null,null,null,1360,"Vrhnika"]
[null,null,null,null,null,null,null,null,null,null,null,null,null,null,null,null,null,null,null,null,null,null,null,null,null,null,null,null,null,null,null,null,null,null,null,null,null,null,null,null,null,null,null,null,null,null,null,null,null,null,null,null,null,null,null,null,null,null,null,null,"55.209","I55.209 Druge nastanitve za krajši čas","I55.20 Dejavnost počitniških domov in podobnih nastanitvenih obratov za kratkotrajno bivanje","I55.2 Dejavnost počitniških domov in podobnih nastanitvenih obratov za kratkotrajno bivanje","I55 Gostinske nastanitvene dejavnosti","I GOSTINSTVO",null,null,null,null,null,null,2365,"Vuhred"]
[null,null,null,null,null,null,null,null,null,null,null,null,null,null,null,null,null,null,null,null,null,null,null,null,null,null,null,null,null,null,null,null,null,null,null,null,null,null,null,null,null,null,null,null,null,null,null,null,null,null,null,null,null,null,null,null,null,null,null,null,"55.300","I55.300 Dejavnost avtokampov, taborov","I55.30 Dejavnost avtokampov, taborov","I55.3 Dejavnost avtokampov, taborov","I55 Gostinske nastanitvene dejavnosti","I GOSTINSTVO",null,null,null,null,null,null,2367,"Vuzenica"]
[null,null,null,null,null,null,null,null,null,null,null,null,null,null,null,null,null,null,null,null,null,null,null,null,null,null,null,null,null,null,null,null,null,null,null,null,null,null,null,null,null,null,null,null,null,null,null,null,null,null,null,null,null,null,null,null,null,null,null,null,"55.900","I55.900 Dejavnost dijaških in študentskih domov ter druge nastanitve","I55.90 Dejavnost dijaških in študentskih domov ter druge nastanitve","I55.9 Dejavnost dijaških in študentskih domov ter druge nastanitve","I55 Gostinske nastanitvene dejavnosti","I GOSTINSTVO",null,null,null,null,null,null,8292,"Zabukovje"]
[null,null,null,null,null,null,null,null,null,null,null,null,null,null,null,null,null,null,null,null,null,null,null,null,null,null,null,null,null,null,null,null,null,null,null,null,null,null,null,null,null,null,null,null,null,null,null,null,null,null,null,null,null,null,null,null,null,null,null,null,"56.101","I56.101 Restavracije in gostilne","I56.10 Dejavnost restavracij in druga strežba jedi","I56.1 Dejavnost restavracij in druga strežba jedi","I56 Dejavnost strežbe jedi in pijač","I GOSTINSTVO",null,null,null,null,null,null,1410,"Zagorje ob Savi"]
[null,null,null,null,null,null,null,null,null,null,null,null,null,null,null,null,null,null,null,null,null,null,null,null,null,null,null,null,null,null,null,null,null,null,null,null,null,null,null,null,null,null,null,null,null,null,null,null,null,null,null,null,null,null,null,null,null,null,null,null,"56.102","I56.102 Okrepčevalnice in podobni obrati","I56.10 Dejavnost restavracij in druga strežba jedi","I56.1 Dejavnost restavracij in druga strežba jedi","I56 Dejavnost strežbe jedi in pijač","I GOSTINSTVO",null,null,null,null,null,null,1303,"Zagradec"]
[null,null,null,null,null,null,null,null,null,null,null,null,null,null,null,null,null,null,null,null,null,null,null,null,null,null,null,null,null,null,null,null,null,null,null,null,null,null,null,null,null,null,null,null,null,null,null,null,null,null,null,null,null,null,null,null,null,null,null,null,"56.103","I56.103 Slaščičarne in kavarne","I56.10 Dejavnost restavracij in druga strežba jedi","I56.1 Dejavnost restavracij in druga strežba jedi","I56 Dejavnost strežbe jedi in pijač","I GOSTINSTVO",null,null,null,null,null,null,2283,"Zavrč"]
[null,null,null,null,null,null,null,null,null,null,null,null,null,null,null,null,null,null,null,null,null,null,null,null,null,null,null,null,null,null,null,null,null,null,null,null,null,null,null,null,null,null,null,null,null,null,null,null,null,null,null,null,null,null,null,null,null,null,null,null,"56.104","I56.104 Začasni gostinski obrati","I56.10 Dejavnost restavracij in druga strežba jedi","I56.1 Dejavnost restavracij in druga strežba jedi","I56 Dejavnost strežbe jedi in pijač","I GOSTINSTVO",null,null,null,null,null,null,8272,"Zdole"]
[null,null,null,null,null,null,null,null,null,null,null,null,null,null,null,null,null,null,null,null,null,null,null,null,null,null,null,null,null,null,null,null,null,null,null,null,null,null,null,null,null,null,null,null,null,null,null,null,null,null,null,null,null,null,null,null,null,null,null,null,"56.105","I56.105 Turistične kmetije brez sob","I56.10 Dejavnost restavracij in druga strežba jedi","I56.1 Dejavnost restavracij in druga strežba jedi","I56 Dejavnost strežbe jedi in pijač","I GOSTINSTVO",null,null,null,null,null,null,4201,"Zgornja Besnica"]
[null,null,null,null,null,null,null,null,null,null,null,null,null,null,null,null,null,null,null,null,null,null,null,null,null,null,null,null,null,null,null,null,null,null,null,null,null,null,null,null,null,null,null,null,null,null,null,null,null,null,null,null,null,null,null,null,null,null,null,null,"56.210","I56.210 Priložnostna priprava in dostava jedi","I56.21 Priložnostna priprava in dostava jedi","I56.2 Priložnostna priprava in dostava jedi ter druga oskrba z jedmi","I56 Dejavnost strežbe jedi in pijač","I GOSTINSTVO",null,null,null,null,null,null,2242,"Zgornja Korena"]
[null,null,null,null,null,null,null,null,null,null,null,null,null,null,null,null,null,null,null,null,null,null,null,null,null,null,null,null,null,null,null,null,null,null,null,null,null,null,null,null,null,null,null,null,null,null,null,null,null,null,null,null,null,null,null,null,null,null,null,null,"56.290","I56.290 Druga oskrba z jedmi","I56.29 Druga oskrba z jedmi","I56.2 Priložnostna priprava in dostava jedi ter druga oskrba z jedmi","I56 Dejavnost strežbe jedi in pijač","I GOSTINSTVO",null,null,null,null,null,null,2201,"Zgornja Kungota"]
[null,null,null,null,null,null,null,null,null,null,null,null,null,null,null,null,null,null,null,null,null,null,null,null,null,null,null,null,null,null,null,null,null,null,null,null,null,null,null,null,null,null,null,null,null,null,null,null,null,null,null,null,null,null,null,null,null,null,null,null,"56.300","I56.300 Strežba pijač","I56.30 Strežba pijač","I56.3 Strežba pijač","I56 Dejavnost strežbe jedi in pijač","I GOSTINSTVO",null,null,null,null,null,null,2316,"Zgornja Ložnica"]
[null,null,null,null,null,null,null,null,null,null,null,null,null,null,null,null,null,null,null,null,null,null,null,null,null,null,null,null,null,null,null,null,null,null,null,null,null,null,null,null,null,null,null,null,null,null,null,null,null,null,null,null,null,null,null,null,null,null,null,null,"58.110","J58.110 Izdajanje knjig","J58.11 Izdajanje knjig","J58.1 Izdajanje knjig, periodike in drugo založništvo","J58 Založništvo","J INFORMACIJSKE IN KOMUNIKACIJSKE DEJAVNOSTI",null,null,null,null,null,null,2314,"Zgornja Polskava"]
[null,null,null,null,null,null,null,null,null,null,null,null,null,null,null,null,null,null,null,null,null,null,null,null,null,null,null,null,null,null,null,null,null,null,null,null,null,null,null,null,null,null,null,null,null,null,null,null,null,null,null,null,null,null,null,null,null,null,null,null,"58.120","J58.120 Izdajanje imenikov in adresarjev","J58.12 Izdajanje imenikov in adresarjev","J58.1 Izdajanje knjig, periodike in drugo založništvo","J58 Založništvo","J INFORMACIJSKE IN KOMUNIKACIJSKE DEJAVNOSTI",null,null,null,null,null,null,2213,"Zgornja Velka"]
[null,null,null,null,null,null,null,null,null,null,null,null,null,null,null,null,null,null,null,null,null,null,null,null,null,null,null,null,null,null,null,null,null,null,null,null,null,null,null,null,null,null,null,null,null,null,null,null,null,null,null,null,null,null,null,null,null,null,null,null,"58.130","J58.130 Izdajanje časopisov","J58.13 Izdajanje časopisov","J58.1 Izdajanje knjig, periodike in drugo založništvo","J58 Založništvo","J INFORMACIJSKE IN KOMUNIKACIJSKE DEJAVNOSTI",null,null,null,null,null,null,4247,"Zgornje Gorje"]
[null,null,null,null,null,null,null,null,null,null,null,null,null,null,null,null,null,null,null,null,null,null,null,null,null,null,null,null,null,null,null,null,null,null,null,null,null,null,null,null,null,null,null,null,null,null,null,null,null,null,null,null,null,null,null,null,null,null,null,null,"58.140","J58.140 Izdajanje revij in druge periodike","J58.14 Izdajanje revij in druge periodike","J58.1 Izdajanje knjig, periodike in drugo založništvo","J58 Založništvo","J INFORMACIJSKE IN KOMUNIKACIJSKE DEJAVNOSTI",null,null,null,null,null,null,4206,"Zgornje Jezersko"]
[null,null,null,null,null,null,null,null,null,null,null,null,null,null,null,null,null,null,null,null,null,null,null,null,null,null,null,null,null,null,null,null,null,null,null,null,null,null,null,null,null,null,null,null,null,null,null,null,null,null,null,null,null,null,null,null,null,null,null,null,"58.190","J58.190 Drugo založništvo","J58.19 Drugo založništvo","J58.1 Izdajanje knjig, periodike in drugo založništvo","J58 Založništvo","J INFORMACIJSKE IN KOMUNIKACIJSKE DEJAVNOSTI",null,null,null,null,null,null,2285,"Zgornji Leskovec"]
[null,null,null,null,null,null,null,null,null,null,null,null,null,null,null,null,null,null,null,null,null,null,null,null,null,null,null,null,null,null,null,null,null,null,null,null,null,null,null,null,null,null,null,null,null,null,null,null,null,null,null,null,null,null,null,null,null,null,null,null,"58.210","J58.210 Izdajanje računalniških iger","J58.21 Izdajanje računalniških iger","J58.2 Izdajanje programja","J58 Založništvo","J INFORMACIJSKE IN KOMUNIKACIJSKE DEJAVNOSTI",null,null,null,null,null,null,1432,"Zidani Most"]
[null,null,null,null,null,null,null,null,null,null,null,null,null,null,null,null,null,null,null,null,null,null,null,null,null,null,null,null,null,null,null,null,null,null,null,null,null,null,null,null,null,null,null,null,null,null,null,null,null,null,null,null,null,null,null,null,null,null,null,null,"58.290","J58.290 Drugo izdajanje programja","J58.29 Drugo izdajanje programja","J58.2 Izdajanje programja","J58 Založništvo","J INFORMACIJSKE IN KOMUNIKACIJSKE DEJAVNOSTI",null,null,null,null,null,null,3214,"Zreče"]
[null,null,null,null,null,null,null,null,null,null,null,null,null,null,null,null,null,null,null,null,null,null,null,null,null,null,null,null,null,null,null,null,null,null,null,null,null,null,null,null,null,null,null,null,null,null,null,null,null,null,null,null,null,null,null,null,null,null,null,null,"59.110","J59.110 Produkcija filmov, video filmov, televizijskih oddaj","J59.11 Produkcija filmov, video filmov, televizijskih oddaj","J59.1 Filmska in video dejavnost","J59 Dejavnosti v zvezi s filmi, video- in zvočnimi zapisi","J INFORMACIJSKE IN KOMUNIKACIJSKE DEJAVNOSTI",null,null,null,null,null,null,4209,"Žabnica"]
[null,null,null,null,null,null,null,null,null,null,null,null,null,null,null,null,null,null,null,null,null,null,null,null,null,null,null,null,null,null,null,null,null,null,null,null,null,null,null,null,null,null,null,null,null,null,null,null,null,null,null,null,null,null,null,null,null,null,null,null,"59.120","J59.120 Post produkcijske dejavnosti pri izdelavi filmov, video filmov, televizijskih oddaj","J59.12 Post produkcijske dejavnosti pri izdelavi filmov, video filmov, televizijskih oddaj","J59.1 Filmska in video dejavnost","J59 Dejavnosti v zvezi s filmi, video- in zvočnimi zapisi","J INFORMACIJSKE IN KOMUNIKACIJSKE DEJAVNOSTI",null,null,null,null,null,null,3310,"Žalec"]
[null,null,null,null,null,null,null,null,null,null,null,null,null,null,null,null,null,null,null,null,null,null,null,null,null,null,null,null,null,null,null,null,null,null,null,null,null,null,null,null,null,null,null,null,null,null,null,null,null,null,null,null,null,null,null,null,null,null,null,null,"59.130","J59.130 Distribucija filmov, video filmov, televizijskih oddaj","J59.13 Distribucija filmov, video filmov, televizijskih oddaj","J59.1 Filmska in video dejavnost","J59 Dejavnosti v zvezi s filmi, video- in zvočnimi zapisi","J INFORMACIJSKE IN KOMUNIKACIJSKE DEJAVNOSTI",null,null,null,null,null,null,4228,"Železniki"]
[null,null,null,null,null,null,null,null,null,null,null,null,null,null,null,null,null,null,null,null,null,null,null,null,null,null,null,null,null,null,null,null,null,null,null,null,null,null,null,null,null,null,null,null,null,null,null,null,null,null,null,null,null,null,null,null,null,null,null,null,"59.140","J59.140 Kinematografska dejavnost","J59.14 Kinematografska dejavnost","J59.1 Filmska in video dejavnost","J59 Dejavnosti v zvezi s filmi, video- in zvočnimi zapisi","J INFORMACIJSKE IN KOMUNIKACIJSKE DEJAVNOSTI",null,null,null,null,null,null,2287,"Žetale"]
[null,null,null,null,null,null,null,null,null,null,null,null,null,null,null,null,null,null,null,null,null,null,null,null,null,null,null,null,null,null,null,null,null,null,null,null,null,null,null,null,null,null,null,null,null,null,null,null,null,null,null,null,null,null,null,null,null,null,null,null,"59.200","J59.200 Snemanje in izdajanje zvočnih zapisov in muzikalij","J59.20 Snemanje in izdajanje zvočnih zapisov in muzikalij","J59.2 Snemanje in izdajanje zvočnih zapisov in muzikalij","J59 Dejavnosti v zvezi s filmi, video- in zvočnimi zapisi","J INFORMACIJSKE IN KOMUNIKACIJSKE DEJAVNOSTI",null,null,null,null,null,null,4226,"Žiri"]
[null,null,null,null,null,null,null,null,null,null,null,null,null,null,null,null,null,null,null,null,null,null,null,null,null,null,null,null,null,null,null,null,null,null,null,null,null,null,null,null,null,null,null,null,null,null,null,null,null,null,null,null,null,null,null,null,null,null,null,null,"60.100","J60.100 Radijska dejavnost","J60.10 Radijska dejavnost","J60.1 Radijska dejavnost","J60 Radijska in televizijska dejavnost","J INFORMACIJSKE IN KOMUNIKACIJSKE DEJAVNOSTI",null,null,null,null,null,null,4274,"Žirovnica"]
[null,null,null,null,null,null,null,null,null,null,null,null,null,null,null,null,null,null,null,null,null,null,null,null,null,null,null,null,null,null,null,null,null,null,null,null,null,null,null,null,null,null,null,null,null,null,null,null,null,null,null,null,null,null,null,null,null,null,null,null,"60.200","J60.200 Televizijska dejavnost","J60.20 Televizijska dejavnost","J60.2 Televizijska dejavnost","J60 Radijska in televizijska dejavnost","J INFORMACIJSKE IN KOMUNIKACIJSKE DEJAVNOSTI",null,null,null,null,null,null,8360,"Žužemberk","SEZNAM POSEBNIH POŠTNIH ŠTEVILK"]
[null,null,null,null,null,null,null,null,null,null,null,null,null,null,null,null,null,null,null,null,null,null,null,null,null,null,null,null,null,null,null,null,null,null,null,null,null,null,null,null,null,null,null,null,null,null,null,null,null,null,null,null,null,null,null,null,null,null,null,null,"61.100","J61.100 Telekomunikacijske dejavnosti po vodih","J61.10 Telekomunikacijske dejavnosti po vodih","J61.1 Telekomunikacijske dejavnosti po vodih","J61 Telekomunikacijske dejavnosti","J INFORMACIJSKE IN KOMUNIKACIJSKE DEJAVNOSTI",null,null,null,null,null,null,3505,"Celje","Merkur"]
[null,null,null,null,null,null,null,null,null,null,null,null,null,null,null,null,null,null,null,null,null,null,null,null,null,null,null,null,null,null,null,null,null,null,null,null,null,null,null,null,null,null,null,null,null,null,null,null,null,null,null,null,null,null,null,null,null,null,null,null,"61.200","J61.200 Brezžične telekomunikacijske dejavnosti","J61.20 Brezžične telekomunikacijske dejavnosti","J61.2 Brezžične telekomunikacijske dejavnosti","J61 Telekomunikacijske dejavnosti","J INFORMACIJSKE IN KOMUNIKACIJSKE DEJAVNOSTI",null,null,null,null,null,null,3600,"Celje","Pošta Slovenije, PE Celje"]
[null,null,null,null,null,null,null,null,null,null,null,null,null,null,null,null,null,null,null,null,null,null,null,null,null,null,null,null,null,null,null,null,null,null,null,null,null,null,null,null,null,null,null,null,null,null,null,null,null,null,null,null,null,null,null,null,null,null,null,null,"61.300","J61.300 Satelitske telekomunikacijske dejavnosti","J61.30 Satelitske telekomunikacijske dejavnosti","J61.3 Satelitske telekomunikacijske dejavnosti","J61 Telekomunikacijske dejavnosti","J INFORMACIJSKE IN KOMUNIKACIJSKE DEJAVNOSTI",null,null,null,null,null,null,6503,"Koper","Adriatic Slovenica, Zavarovalna družba"]
[null,null,null,null,null,null,null,null,null,null,null,null,null,null,null,null,null,null,null,null,null,null,null,null,null,null,null,null,null,null,null,null,null,null,null,null,null,null,null,null,null,null,null,null,null,null,null,null,null,null,null,null,null,null,null,null,null,null,null,null,"61.900","J61.900 Druge telekomunikacijske dejavnosti","J61.90 Druge telekomunikacijske dejavnosti","J61.9 Druge telekomunikacijske dejavnosti","J61 Telekomunikacijske dejavnosti","J INFORMACIJSKE IN KOMUNIKACIJSKE DEJAVNOSTI",null,null,null,null,null,null,6502,"Koper","Banka Koper"]
[null,null,null,null,null,null,null,null,null,null,null,null,null,null,null,null,null,null,null,null,null,null,null,null,null,null,null,null,null,null,null,null,null,null,null,null,null,null,null,null,null,null,null,null,null,null,null,null,null,null,null,null,null,null,null,null,null,null,null,null,"62.010","J62.010 Računalniško programiranje","J62.01 Računalniško programiranje","J62.0 Računalniško programiranje, svetovanje in druge s tem povezane dejavnosti","J62 Računalniško programiranje, svetovanje in druge s tem povezane dejavnosti","J INFORMACIJSKE IN KOMUNIKACIJSKE DEJAVNOSTI",null,null,null,null,null,null,6504,"Koper","Intereuropa"]
[null,null,null,null,null,null,null,null,null,null,null,null,null,null,null,null,null,null,null,null,null,null,null,null,null,null,null,null,null,null,null,null,null,null,null,null,null,null,null,null,null,null,null,null,null,null,null,null,null,null,null,null,null,null,null,null,null,null,null,null,"62.020","J62.020 Svetovanje o računalniških napravah in programih","J62.02 Svetovanje o računalniških napravah in programih","J62.0 Računalniško programiranje, svetovanje in druge s tem povezane dejavnosti","J62 Računalniško programiranje, svetovanje in druge s tem povezane dejavnosti","J INFORMACIJSKE IN KOMUNIKACIJSKE DEJAVNOSTI",null,null,null,null,null,null,6501,"Koper","Luka Koper"]
[null,null,null,null,null,null,null,null,null,null,null,null,null,null,null,null,null,null,null,null,null,null,null,null,null,null,null,null,null,null,null,null,null,null,null,null,null,null,null,null,null,null,null,null,null,null,null,null,null,null,null,null,null,null,null,null,null,null,null,null,"62.030","J62.030 Upravljanje računalniških naprav in sistemov","J62.03 Upravljanje računalniških naprav in sistemov","J62.0 Računalniško programiranje, svetovanje in druge s tem povezane dejavnosti","J62 Računalniško programiranje, svetovanje in druge s tem povezane dejavnosti","J INFORMACIJSKE IN KOMUNIKACIJSKE DEJAVNOSTI",null,null,null,null,null,null,6600,"Koper","Pošta Slovenije, PE Koper"]
[null,null,null,null,null,null,null,null,null,null,null,null,null,null,null,null,null,null,null,null,null,null,null,null,null,null,null,null,null,null,null,null,null,null,null,null,null,null,null,null,null,null,null,null,null,null,null,null,null,null,null,null,null,null,null,null,null,null,null,null,"62.090","J62.090 Druge z informacijsko tehnologijo in računalniškimi storitvami povezane dejavnosti","J62.09 Druge z informacijsko tehnologijo in računalniškimi storitvami povezane dejavnosti","J62.0 Računalniško programiranje, svetovanje in druge s tem povezane dejavnosti","J62 Računalniško programiranje, svetovanje in druge s tem povezane dejavnosti","J INFORMACIJSKE IN KOMUNIKACIJSKE DEJAVNOSTI",null,null,null,null,null,null,6200,"Koper","Pošta Slovenije, PPP Koper"]
[null,null,null,null,null,null,null,null,null,null,null,null,null,null,null,null,null,null,null,null,null,null,null,null,null,null,null,null,null,null,null,null,null,null,null,null,null,null,null,null,null,null,null,null,null,null,null,null,null,null,null,null,null,null,null,null,null,null,null,null,"63.110","J63.110 Obdelava podatkov in s tem povezane dejavnosti","J63.11 Obdelava podatkov in s tem povezane dejavnosti","J63.1 Obdelava podatkov in s tem povezane dejavnosti, obratovanje spletnih portalov","J63 Druge informacijske dejavnosti","J INFORMACIJSKE IN KOMUNIKACIJSKE DEJAVNOSTI",null,null,null,null,null,null,4200,"Kranj","Pošta Slovenije, PPP Šenčur"]
[null,null,null,null,null,null,null,null,null,null,null,null,null,null,null,null,null,null,null,null,null,null,null,null,null,null,null,null,null,null,null,null,null,null,null,null,null,null,null,null,null,null,null,null,null,null,null,null,null,null,null,null,null,null,null,null,null,null,null,null,"63.120","J63.120 Obratovanje spletnih portalov","J63.12 Obratovanje spletnih portalov","J63.1 Obdelava podatkov in s tem povezane dejavnosti, obratovanje spletnih portalov","J63 Druge informacijske dejavnosti","J INFORMACIJSKE IN KOMUNIKACIJSKE DEJAVNOSTI",null,null,null,null,null,null,4502,"Kranj","Sava"]
[null,null,null,null,null,null,null,null,null,null,null,null,null,null,null,null,null,null,null,null,null,null,null,null,null,null,null,null,null,null,null,null,null,null,null,null,null,null,null,null,null,null,null,null,null,null,null,null,null,null,null,null,null,null,null,null,null,null,null,null,"63.910","J63.910 Dejavnost tiskovnih agencij","J63.91 Dejavnost tiskovnih agencij","J63.9 Dejavnosti tiskovnih agencij, drugo informiranje","J63 Druge informacijske dejavnosti","J INFORMACIJSKE IN KOMUNIKACIJSKE DEJAVNOSTI",null,null,null,null,null,null,1002,"Ljubljana","Pošta Slovenije, PE PLC, PLC Ljubljana"]
[null,null,null,null,null,null,null,null,null,null,null,null,null,null,null,null,null,null,null,null,null,null,null,null,null,null,null,null,null,null,null,null,null,null,null,null,null,null,null,null,null,null,null,null,null,null,null,null,null,null,null,null,null,null,null,null,null,null,null,null,"63.990","J63.990 Drugo informiranje","J63.99 Drugo informiranje","J63.9 Dejavnosti tiskovnih agencij, drugo informiranje","J63 Druge informacijske dejavnosti","J INFORMACIJSKE IN KOMUNIKACIJSKE DEJAVNOSTI",null,null,null,null,null,null,1517,"Ljubljana","Abanka Vipa"]
[null,null,null,null,null,null,null,null,null,null,null,null,null,null,null,null,null,null,null,null,null,null,null,null,null,null,null,null,null,null,null,null,null,null,null,null,null,null,null,null,null,null,null,null,null,null,null,null,null,null,null,null,null,null,null,null,null,null,null,null,"64.110","K64.110 Centralno bančništvo","K64.11 Centralno bančništvo","K64.1 Denarno posredništvo","K64 Dejavnosti finančnih storitev, razen zavarovalništva in dejavnosti pokojninskih skladov","K FINANČNE IN ZAVAROVALNIŠKE DEJAVNOSTI",null,null,null,null,null,null,1505,"Ljubljana","Banka Slovenije"]
[null,null,null,null,null,null,null,null,null,null,null,null,null,null,null,null,null,null,null,null,null,null,null,null,null,null,null,null,null,null,null,null,null,null,null,null,null,null,null,null,null,null,null,null,null,null,null,null,null,null,null,null,null,null,null,null,null,null,null,null,"64.190","K64.190 Drugo denarno posredništvo","K64.19 Drugo denarno posredništvo","K64.1 Denarno posredništvo","K64 Dejavnosti finančnih storitev, razen zavarovalništva in dejavnosti pokojninskih skladov","K FINANČNE IN ZAVAROVALNIŠKE DEJAVNOSTI",null,null,null,null,null,null,1533,"Ljubljana","BTC"]
[null,null,null,null,null,null,null,null,null,null,null,null,null,null,null,null,null,null,null,null,null,null,null,null,null,null,null,null,null,null,null,null,null,null,null,null,null,null,null,null,null,null,null,null,null,null,null,null,null,null,null,null,null,null,null,null,null,null,null,null,"64.200","K64.200 Dejavnost holdingov","K64.20 Dejavnost holdingov","K64.2 Dejavnost holdingov","K64 Dejavnosti finančnih storitev, razen zavarovalništva in dejavnosti pokojninskih skladov","K FINANČNE IN ZAVAROVALNIŠKE DEJAVNOSTI",null,null,null,null,null,null,1512,"Ljubljana","Cankarjeva založba"]
[null,null,null,null,null,null,null,null,null,null,null,null,null,null,null,null,null,null,null,null,null,null,null,null,null,null,null,null,null,null,null,null,null,null,null,null,null,null,null,null,null,null,null,null,null,null,null,null,null,null,null,null,null,null,null,null,null,null,null,null,"64.300","K64.300 Dejavnost skrbniških in drugih skladov ter podobnih finančnih subjektov","K64.30 Dejavnost skrbniških in drugih skladov ter podobnih finančnih subjektov","K64.3 Dejavnost skrbniških in drugih skladov ter podobnih finančnih subjektov","K64 Dejavnosti finančnih storitev, razen zavarovalništva in dejavnosti pokojninskih skladov","K FINANČNE IN ZAVAROVALNIŠKE DEJAVNOSTI",null,null,null,null,null,null,1524,"Ljubljana","Carinarnica Ljubljana"]
[null,null,null,null,null,null,null,null,null,null,null,null,null,null,null,null,null,null,null,null,null,null,null,null,null,null,null,null,null,null,null,null,null,null,null,null,null,null,null,null,null,null,null,null,null,null,null,null,null,null,null,null,null,null,null,null,null,null,null,null,"64.910","K64.910 Dejavnost finančnega zakupa","K64.91 Dejavnost finančnega zakupa","K64.9 Dejavnosti finančnih storitev, razen zavarovalništva in dejavnosti pokojninskih skladov","K64 Dejavnosti finančnih storitev, razen zavarovalništva in dejavnosti pokojninskih skladov","K FINANČNE IN ZAVAROVALNIŠKE DEJAVNOSTI",null,null,null,null,null,null,1523,"Ljubljana","Carinska uprava Republike Slovenije"]
[null,null,null,null,null,null,null,null,null,null,null,null,null,null,null,null,null,null,null,null,null,null,null,null,null,null,null,null,null,null,null,null,null,null,null,null,null,null,null,null,null,null,null,null,null,null,null,null,null,null,null,null,null,null,null,null,null,null,null,null,"64.920","K64.920 Drugo kreditiranje","K64.92 Drugo kreditiranje","K64.9 Dejavnosti finančnih storitev, razen zavarovalništva in dejavnosti pokojninskih skladov","K64 Dejavnosti finančnih storitev, razen zavarovalništva in dejavnosti pokojninskih skladov","K FINANČNE IN ZAVAROVALNIŠKE DEJAVNOSTI",null,null,null,null,null,null,1522,"Ljubljana","Chemo"]
[null,null,null,null,null,null,null,null,null,null,null,null,null,null,null,null,null,null,null,null,null,null,null,null,null,null,null,null,null,null,null,null,null,null,null,null,null,null,null,null,null,null,null,null,null,null,null,null,null,null,null,null,null,null,null,null,null,null,null,null,"64.990","K64.990 Drugje nerazvrščene dejavnosti finančnih storitev, razen zavarovalništva in dejavnosti pokojninskih skladov","K64.99 Drugje nerazvrščene dejavnosti finančnih storitev, razen zavarovalništva in dejavnosti pokojninskih skladov","K64.9 Dejavnosti finančnih storitev, razen zavarovalništva in dejavnosti pokojninskih skladov","K64 Dejavnosti finančnih storitev, razen zavarovalništva in dejavnosti pokojninskih skladov","K FINANČNE IN ZAVAROVALNIŠKE DEJAVNOSTI",null,null,null,null,null,null,1510,"Ljubljana","Dnevnik"]
[null,null,null,null,null,null,null,null,null,null,null,null,null,null,null,null,null,null,null,null,null,null,null,null,null,null,null,null,null,null,null,null,null,null,null,null,null,null,null,null,null,null,null,null,null,null,null,null,null,null,null,null,null,null,null,null,null,null,null,null,"65.110","K65.110 Dejavnost življenjskega zavarovanja","K65.11 Dejavnost življenjskega zavarovanja","K65.1 Dejavnost zavarovanja","K65 Dejavnosti zavarovanja, pozavarovanja in pokojninskih skladov, razen obvezne socialne varnosti","K FINANČNE IN ZAVAROVALNIŠKE DEJAVNOSTI",null,null,null,null,null,null,1509,"Ljubljana","Delo"]
[null,null,null,null,null,null,null,null,null,null,null,null,null,null,null,null,null,null,null,null,null,null,null,null,null,null,null,null,null,null,null,null,null,null,null,null,null,null,null,null,null,null,null,null,null,null,null,null,null,null,null,null,null,null,null,null,null,null,null,null,"65.120","K65.120 Dejavnost zavarovanja, razen življenjskega","K65.12 Dejavnost zavarovanja, razen življenjskega","K65.1 Dejavnost zavarovanja","K65 Dejavnosti zavarovanja, pozavarovanja in pokojninskih skladov, razen obvezne socialne varnosti","K FINANČNE IN ZAVAROVALNIŠKE DEJAVNOSTI",null,null,null,null,null,null,1538,"Ljubljana","DZS"]
[null,null,null,null,null,null,null,null,null,null,null,null,null,null,null,null,null,null,null,null,null,null,null,null,null,null,null,null,null,null,null,null,null,null,null,null,null,null,null,null,null,null,null,null,null,null,null,null,null,null,null,null,null,null,null,null,null,null,null,null,"65.200","K65.200 Dejavnost pozavarovanja","K65.20 Dejavnost pozavarovanja","K65.2 Dejavnost pozavarovanja","K65 Dejavnosti zavarovanja, pozavarovanja in pokojninskih skladov, razen obvezne socialne varnosti","K FINANČNE IN ZAVAROVALNIŠKE DEJAVNOSTI",null,null,null,null,null,null,1516,"Ljubljana","Elektro Ljubljana"]
[null,null,null,null,null,null,null,null,null,null,null,null,null,null,null,null,null,null,null,null,null,null,null,null,null,null,null,null,null,null,null,null,null,null,null,null,null,null,null,null,null,null,null,null,null,null,null,null,null,null,null,null,null,null,null,null,null,null,null,null,"65.300","K65.300 Dejavnost pokojninskih skladov","K65.30 Dejavnost pokojninskih skladov","K65.3 Dejavnost pokojninskih skladov","K65 Dejavnosti zavarovanja, pozavarovanja in pokojninskih skladov, razen obvezne socialne varnosti","K FINANČNE IN ZAVAROVALNIŠKE DEJAVNOSTI",null,null,null,null,null,null,1528,"Ljubljana","Emona"]
[null,null,null,null,null,null,null,null,null,null,null,null,null,null,null,null,null,null,null,null,null,null,null,null,null,null,null,null,null,null,null,null,null,null,null,null,null,null,null,null,null,null,null,null,null,null,null,null,null,null,null,null,null,null,null,null,null,null,null,null,"66.110","K66.110 Upravljanje finančnih trgov","K66.11 Upravljanje finančnih trgov","K66.1 Pomožne dejavnosti za finančne storitve, razen za zavarovalništvo in pokojninske sklade","K66 Pomožne dejavnosti za finančne in zavarovalniške storitve","K FINANČNE IN ZAVAROVALNIŠKE DEJAVNOSTI",null,null,null,null,null,null,1540,"Ljubljana","EPPS - Elektronsko pismo Pošte Slovenije"]
[null,null,null,null,null,null,null,null,null,null,null,null,null,null,null,null,null,null,null,null,null,null,null,null,null,null,null,null,null,null,null,null,null,null,null,null,null,null,null,null,null,null,null,null,null,null,null,null,null,null,null,null,null,null,null,null,null,null,null,null,"66.120","K66.120 Posredništvo pri trgovanju z vrednostnimi papirji in borznim blagom","K66.12 Posredništvo pri trgovanju z vrednostnimi papirji in borznim blagom","K66.1 Pomožne dejavnosti za finančne storitve, razen za zavarovalništvo in pokojninske sklade","K66 Pomožne dejavnosti za finančne in zavarovalniške storitve","K FINANČNE IN ZAVAROVALNIŠKE DEJAVNOSTI",null,null,null,null,null,null,1504,"Ljubljana","Gospodarska zbornica Slovenije"]
[null,null,null,null,null,null,null,null,null,null,null,null,null,null,null,null,null,null,null,null,null,null,null,null,null,null,null,null,null,null,null,null,null,null,null,null,null,null,null,null,null,null,null,null,null,null,null,null,null,null,null,null,null,null,null,null,null,null,null,null,"66.190","K66.190 Druge pomožne dejavnosti za finančne storitve, razen za zavarovalništvo in pokojninske sklade","K66.19 Druge pomožne dejavnosti za finančne storitve, razen za zavarovalništvo in pokojninske sklade","K66.1 Pomožne dejavnosti za finančne storitve, razen za zavarovalništvo in pokojninske sklade","K66 Pomožne dejavnosti za finančne in zavarovalniške storitve","K FINANČNE IN ZAVAROVALNIŠKE DEJAVNOSTI",null,null,null,null,null,null,1521,"Ljubljana","Iskra Invest"]
[null,null,null,null,null,null,null,null,null,null,null,null,null,null,null,null,null,null,null,null,null,null,null,null,null,null,null,null,null,null,null,null,null,null,null,null,null,null,null,null,null,null,null,null,null,null,null,null,null,null,null,null,null,null,null,null,null,null,null,null,"66.210","K66.210 Vrednotenje tveganja in škode","K66.21 Vrednotenje tveganja in škode","K66.2 Pomožne dejavnosti za zavarovalništvo in pokojninske sklade","K66 Pomožne dejavnosti za finančne in zavarovalniške storitve","K FINANČNE IN ZAVAROVALNIŠKE DEJAVNOSTI",null,null,null,null,null,null,1545,"Ljubljana","Kanal A"]
[null,null,null,null,null,null,null,null,null,null,null,null,null,null,null,null,null,null,null,null,null,null,null,null,null,null,null,null,null,null,null,null,null,null,null,null,null,null,null,null,null,null,null,null,null,null,null,null,null,null,null,null,null,null,null,null,null,null,null,null,"66.220","K66.220 Dejavnost zavarovalniških agentov","K66.22 Dejavnost zavarovalniških agentov","K66.2 Pomožne dejavnosti za zavarovalništvo in pokojninske sklade","K66 Pomožne dejavnosti za finančne in zavarovalniške storitve","K FINANČNE IN ZAVAROVALNIŠKE DEJAVNOSTI",null,null,null,null,null,null,1542,"Ljubljana","KDD - Centralna klirinško depotna družba"]
[null,null,null,null,null,null,null,null,null,null,null,null,null,null,null,null,null,null,null,null,null,null,null,null,null,null,null,null,null,null,null,null,null,null,null,null,null,null,null,null,null,null,null,null,null,null,null,null,null,null,null,null,null,null,null,null,null,null,null,null,"66.290","K66.290 Druge pomožne dejavnosti za zavarovalništvo in pokojninske sklade","K66.29 Druge pomožne dejavnosti za zavarovalništvo in pokojninske sklade","K66.2 Pomožne dejavnosti za zavarovalništvo in pokojninske sklade","K66 Pomožne dejavnosti za finančne in zavarovalniške storitve","K FINANČNE IN ZAVAROVALNIŠKE DEJAVNOSTI",null,null,null,null,null,null,1525,"Ljubljana","Klinični center Ljubljana"]
[null,null,null,null,null,null,null,null,null,null,null,null,null,null,null,null,null,null,null,null,null,null,null,null,null,null,null,null,null,null,null,null,null,null,null,null,null,null,null,null,null,null,null,null,null,null,null,null,null,null,null,null,null,null,null,null,null,null,null,null,"66.300","K66.300 Upravljanje finančnih skladov","K66.30 Upravljanje finančnih skladov","K66.3 Upravljanje finančnih skladov","K66 Pomožne dejavnosti za finančne in zavarovalniške storitve","K FINANČNE IN ZAVAROVALNIŠKE DEJAVNOSTI",null,null,null,null,null,null,1544,"Ljubljana","Droga Kolinska"]
[null,null,null,null,null,null,null,null,null,null,null,null,null,null,null,null,null,null,null,null,null,null,null,null,null,null,null,null,null,null,null,null,null,null,null,null,null,null,null,null,null,null,null,null,null,null,null,null,null,null,null,null,null,null,null,null,null,null,null,null,"68.100","L68.100 Trgovanje z lastnimi nepremičninami","L68.10 Trgovanje z lastnimi nepremičninami","L68.1 Trgovanje z lastnimi nepremičninami","L68 Poslovanje z nepremičninami","L POSLOVANJE Z NEPREMIČNINAMI",null,null,null,null,null,null,1514,"Ljubljana","Kompas"]
[null,null,null,null,null,null,null,null,null,null,null,null,null,null,null,null,null,null,null,null,null,null,null,null,null,null,null,null,null,null,null,null,null,null,null,null,null,null,null,null,null,null,null,null,null,null,null,null,null,null,null,null,null,null,null,null,null,null,null,null,"68.200","L68.200 Oddajanje in obratovanje lastnih ali najetih nepremičnin","L68.20 Oddajanje in obratovanje lastnih ali najetih nepremičnin","L68.2 Oddajanje in obratovanje lastnih ali najetih nepremičnin","L68 Poslovanje z nepremičninami","L POSLOVANJE Z NEPREMIČNINAMI",null,null,null,null,null,null,1526,"Ljubljana","Lek"]
[null,null,null,null,null,null,null,null,null,null,null,null,null,null,null,null,null,null,null,null,null,null,null,null,null,null,null,null,null,null,null,null,null,null,null,null,null,null,null,null,null,null,null,null,null,null,null,null,null,null,null,null,null,null,null,null,null,null,null,null,"68.310","L68.310 Posredništvo v prometu z nepremičninami","L68.31 Posredništvo v prometu z nepremičninami","L68.3 Poslovanje z nepremičninami za plačilo ali po pogodbi","L68 Poslovanje z nepremičninami","L POSLOVANJE Z NEPREMIČNINAMI",null,null,null,null,null,null,1502,"Ljubljana","Ministrstvo za finance"]
[null,null,null,null,null,null,null,null,null,null,null,null,null,null,null,null,null,null,null,null,null,null,null,null,null,null,null,null,null,null,null,null,null,null,null,null,null,null,null,null,null,null,null,null,null,null,null,null,null,null,null,null,null,null,null,null,null,null,null,null,"68.320","L68.320 Upravljanje nepremičnin za plačilo ali po pogodbi","L68.32 Upravljanje nepremičnin za plačilo ali po pogodbi","L68.3 Poslovanje z nepremičninami za plačilo ali po pogodbi","L68 Poslovanje z nepremičninami","L POSLOVANJE Z NEPREMIČNINAMI",null,null,null,null,null,null,1501,"Ljubljana","Ministrstvo za notranje zadeve"]
[null,null,null,null,null,null,null,null,null,null,null,null,null,null,null,null,null,null,null,null,null,null,null,null,null,null,null,null,null,null,null,null,null,null,null,null,null,null,null,null,null,null,null,null,null,null,null,null,null,null,null,null,null,null,null,null,null,null,null,null,"69.101","M69.101 Odvetništvo","M69.10 Pravne dejavnosti","M69.1 Pravne dejavnosti","M69 Pravne in računovodske dejavnosti","M STROKOVNE, ZNANSTVENE IN TEHNIČNE DEJAVNOSTI",null,null,null,null,null,null,1535,"Ljubljana","Ministrstvo za promet"]
[null,null,null,null,null,null,null,null,null,null,null,null,null,null,null,null,null,null,null,null,null,null,null,null,null,null,null,null,null,null,null,null,null,null,null,null,null,null,null,null,null,null,null,null,null,null,null,null,null,null,null,null,null,null,null,null,null,null,null,null,"69.102","M69.102 Notariat","M69.10 Pravne dejavnosti","M69.1 Pravne dejavnosti","M69 Pravne in računovodske dejavnosti","M STROKOVNE, ZNANSTVENE IN TEHNIČNE DEJAVNOSTI",null,null,null,null,null,null,1536,"Ljubljana","Mladinska knjiga Založba"]
[null,null,null,null,null,null,null,null,null,null,null,null,null,null,null,null,null,null,null,null,null,null,null,null,null,null,null,null,null,null,null,null,null,null,null,null,null,null,null,null,null,null,null,null,null,null,null,null,null,null,null,null,null,null,null,null,null,null,null,null,"69.103","M69.103 Druge pravne dejavnosti","M69.10 Pravne dejavnosti","M69.1 Pravne dejavnosti","M69 Pravne in računovodske dejavnosti","M STROKOVNE, ZNANSTVENE IN TEHNIČNE DEJAVNOSTI",null,null,null,null,null,null,1537,"Ljubljana","Mobitel"]
[null,null,null,null,null,null,null,null,null,null,null,null,null,null,null,null,null,null,null,null,null,null,null,null,null,null,null,null,null,null,null,null,null,null,null,null,null,null,null,null,null,null,null,null,null,null,null,null,null,null,null,null,null,null,null,null,null,null,null,null,"69.200","M69.200 Računovodske, knjigovodske in revizijske dejavnosti, davčno svetovanje","M69.20 Računovodske, knjigovodske in revizijske dejavnosti, davčno svetovanje","M69.2 Računovodske, knjigovodske in revizijske dejavnosti, davčno svetovanje","M69 Pravne in računovodske dejavnosti","M STROKOVNE, ZNANSTVENE IN TEHNIČNE DEJAVNOSTI",null,null,null,null,null,null,1520,"Ljubljana","Nova Ljubljanska banka"]
[null,null,null,null,null,null,null,null,null,null,null,null,null,null,null,null,null,null,null,null,null,null,null,null,null,null,null,null,null,null,null,null,null,null,null,null,null,null,null,null,null,null,null,null,null,null,null,null,null,null,null,null,null,null,null,null,null,null,null,null,"70.100","M70.100 Dejavnost uprav podjetij","M70.10 Dejavnost uprav podjetij","M70.1 Dejavnost uprav podjetij","M70 Dejavnost uprav podjetij, podjetniško in poslovno svetovanje","M STROKOVNE, ZNANSTVENE IN TEHNIČNE DEJAVNOSTI",null,null,null,null,null,null,1534,"Ljubljana","Okrajno sodišče v Ljubljani"]
[null,null,null,null,null,null,null,null,null,null,null,null,null,null,null,null,null,null,null,null,null,null,null,null,null,null,null,null,null,null,null,null,null,null,null,null,null,null,null,null,null,null,null,null,null,null,null,null,null,null,null,null,null,null,null,null,null,null,null,null,"70.210","M70.210 Dejavnost stikov z javnostjo","M70.21 Dejavnost stikov z javnostjo","M70.2 Podjetniško in poslovno svetovanje","M70 Dejavnost uprav podjetij, podjetniško in poslovno svetovanje","M STROKOVNE, ZNANSTVENE IN TEHNIČNE DEJAVNOSTI",null,null,null,null,null,null,1503,"Ljubljana","Okrožno sodišče v Ljubljani"]
[null,null,null,null,null,null,null,null,null,null,null,null,null,null,null,null,null,null,null,null,null,null,null,null,null,null,null,null,null,null,null,null,null,null,null,null,null,null,null,null,null,null,null,null,null,null,null,null,null,null,null,null,null,null,null,null,null,null,null,null,"70.220","M70.220 Drugo podjetniško in poslovno svetovanje","M70.22 Drugo podjetniško in poslovno svetovanje","M70.2 Podjetniško in poslovno svetovanje","M70 Dejavnost uprav podjetij, podjetniško in poslovno svetovanje","M STROKOVNE, ZNANSTVENE IN TEHNIČNE DEJAVNOSTI",null,null,null,null,null,null,1527,"Ljubljana","Petrol"]
[null,null,null,null,null,null,null,null,null,null,null,null,null,null,null,null,null,null,null,null,null,null,null,null,null,null,null,null,null,null,null,null,null,null,null,null,null,null,null,null,null,null,null,null,null,null,null,null,null,null,null,null,null,null,null,null,null,null,null,null,"71.111","M71.111 Arhitekturno projektiranje","M71.11 Arhitekturna in urbanistična dejavnost","M71.1 Arhitekturno in tehnično projektiranje in s tem povezano svetovanje","M71 Arhitekturno in tehnično projektiranje, tehnično preizkušanje in analiziranje","M STROKOVNE, ZNANSTVENE IN TEHNIČNE DEJAVNOSTI",null,null,null,null,null,null,1600,"Ljubljana","Pošta Slovenije, PE Ljubljana"]
[null,null,null,null,null,null,null,null,null,null,null,null,null,null,null,null,null,null,null,null,null,null,null,null,null,null,null,null,null,null,null,null,null,null,null,null,null,null,null,null,null,null,null,null,null,null,null,null,null,null,null,null,null,null,null,null,null,null,null,null,"71.112","M71.112 Krajinsko arhitekturno, urbanistično in drugo projektiranje","M71.11 Arhitekturna in urbanistična dejavnost","M71.1 Arhitekturno in tehnično projektiranje in s tem povezano svetovanje","M71 Arhitekturno in tehnično projektiranje, tehnično preizkušanje in analiziranje","M STROKOVNE, ZNANSTVENE IN TEHNIČNE DEJAVNOSTI",null,null,null,null,null,null,1550,"Ljubljana","RTV Slovenija"]
[null,null,null,null,null,null,null,null,null,null,null,null,null,null,null,null,null,null,null,null,null,null,null,null,null,null,null,null,null,null,null,null,null,null,null,null,null,null,null,null,null,null,null,null,null,null,null,null,null,null,null,null,null,null,null,null,null,null,null,null,"71.121","M71.121 Geofizikalne meritve, kartiranje","M71.12 Tehnično projektiranje in s tem povezano svetovanje","M71.1 Arhitekturno in tehnično projektiranje in s tem povezano svetovanje","M71 Arhitekturno in tehnično projektiranje, tehnično preizkušanje in analiziranje","M STROKOVNE, ZNANSTVENE IN TEHNIČNE DEJAVNOSTI",null,null,null,null,null,null,1532,"Ljubljana","Salamonov oglasnik"]
[null,null,null,null,null,null,null,null,null,null,null,null,null,null,null,null,null,null,null,null,null,null,null,null,null,null,null,null,null,null,null,null,null,null,null,null,null,null,null,null,null,null,null,null,null,null,null,null,null,null,null,null,null,null,null,null,null,null,null,null,"71.129","M71.129 Druge inženirske dejavnosti in tehnično svetovanje","M71.12 Tehnično projektiranje in s tem povezano svetovanje","M71.1 Arhitekturno in tehnično projektiranje in s tem povezano svetovanje","M71 Arhitekturno in tehnično projektiranje, tehnično preizkušanje in analiziranje","M STROKOVNE, ZNANSTVENE IN TEHNIČNE DEJAVNOSTI",null,null,null,null,null,null,1513,"Ljubljana","SKB banka"]
[null,null,null,null,null,null,null,null,null,null,null,null,null,null,null,null,null,null,null,null,null,null,null,null,null,null,null,null,null,null,null,null,null,null,null,null,null,null,null,null,null,null,null,null,null,null,null,null,null,null,null,null,null,null,null,null,null,null,null,null,"71.200","M71.200 Tehnično preizkušanje in analiziranje","M71.20 Tehnično preizkušanje in analiziranje","M71.2 Tehnično preizkušanje in analiziranje","M71 Arhitekturno in tehnično projektiranje, tehnično preizkušanje in analiziranje","M STROKOVNE, ZNANSTVENE IN TEHNIČNE DEJAVNOSTI",null,null,null,null,null,null,1511,"Ljubljana","Slovenijales"]
[null,null,null,null,null,null,null,null,null,null,null,null,null,null,null,null,null,null,null,null,null,null,null,null,null,null,null,null,null,null,null,null,null,null,null,null,null,null,null,null,null,null,null,null,null,null,null,null,null,null,null,null,null,null,null,null,null,null,null,null,"72.110","M72.110 Raziskovalna in razvojna dejavnost na področju biotehnologije","M72.11 Raziskovalna in razvojna dejavnost na področju biotehnologije","M72.1 Raziskovalna in razvojna dejavnost na področju naravoslovja in tehnologije","M72 Znanstvena raziskovalna in razvojna dejavnost","M STROKOVNE, ZNANSTVENE IN TEHNIČNE DEJAVNOSTI",null,null,null,null,null,null,1506,"Ljubljana","Slovenske železnice"]
[null,null,null,null,null,null,null,null,null,null,null,null,null,null,null,null,null,null,null,null,null,null,null,null,null,null,null,null,null,null,null,null,null,null,null,null,null,null,null,null,null,null,null,null,null,null,null,null,null,null,null,null,null,null,null,null,null,null,null,null,"72.190","M72.190 Raziskovalna in razvojna dejavnost na drugih področjih naravoslovja in tehnologije","M72.19 Raziskovalna in razvojna dejavnost na drugih področjih naravoslovja in tehnologije","M72.1 Raziskovalna in razvojna dejavnost na področju naravoslovja in tehnologije","M72 Znanstvena raziskovalna in razvojna dejavnost","M STROKOVNE, ZNANSTVENE IN TEHNIČNE DEJAVNOSTI",null,null,null,null,null,null,1519,"Ljubljana","SPL Ljubljana"]
[null,null,null,null,null,null,null,null,null,null,null,null,null,null,null,null,null,null,null,null,null,null,null,null,null,null,null,null,null,null,null,null,null,null,null,null,null,null,null,null,null,null,null,null,null,null,null,null,null,null,null,null,null,null,null,null,null,null,null,null,"72.200","M72.200 Raziskovalna in razvojna dejavnost na področju družboslovja in humanistike","M72.20 Raziskovalna in razvojna dejavnost na področju družboslovja in humanistike","M72.2 Raziskovalna in razvojna dejavnost na področju družboslovja in humanistike","M72 Znanstvena raziskovalna in razvojna dejavnost","M STROKOVNE, ZNANSTVENE IN TEHNIČNE DEJAVNOSTI",null,null,null,null,null,null,1543,"Ljubljana","Športna loterija"]
[null,null,null,null,null,null,null,null,null,null,null,null,null,null,null,null,null,null,null,null,null,null,null,null,null,null,null,null,null,null,null,null,null,null,null,null,null,null,null,null,null,null,null,null,null,null,null,null,null,null,null,null,null,null,null,null,null,null,null,null,"73.110","M73.110 Dejavnost oglaševalskih agencij","M73.11 Dejavnost oglaševalskih agencij","M73.1 Oglaševanje","M73 Oglaševanje in raziskovanje trga","M STROKOVNE, ZNANSTVENE IN TEHNIČNE DEJAVNOSTI",null,null,null,null,null,null,1546,"Ljubljana","Telekom Slovenije"]
[null,null,null,null,null,null,null,null,null,null,null,null,null,null,null,null,null,null,null,null,null,null,null,null,null,null,null,null,null,null,null,null,null,null,null,null,null,null,null,null,null,null,null,null,null,null,null,null,null,null,null,null,null,null,null,null,null,null,null,null,"73.120","M73.120 Posredovanje oglaševalskega prostora","M73.12 Posredovanje oglaševalskega prostora","M73.1 Oglaševanje","M73 Oglaševanje in raziskovanje trga","M STROKOVNE, ZNANSTVENE IN TEHNIČNE DEJAVNOSTI",null,null,null,null,null,null,1547,"Ljubljana","Telekom Slovenije, PE Ljubljana"]
[null,null,null,null,null,null,null,null,null,null,null,null,null,null,null,null,null,null,null,null,null,null,null,null,null,null,null,null,null,null,null,null,null,null,null,null,null,null,null,null,null,null,null,null,null,null,null,null,null,null,null,null,null,null,null,null,null,null,null,null,"73.200","M73.200 Raziskovanje trga in javnega mnenja","M73.20 Raziskovanje trga in javnega mnenja","M73.2 Raziskovanje trga in javnega mnenja","M73 Oglaševanje in raziskovanje trga","M STROKOVNE, ZNANSTVENE IN TEHNIČNE DEJAVNOSTI",null,null,null,null,null,null,1518,"Ljubljana","ZPIZ, Zavod za pokoj. in inval. zav. Slov."]
[null,null,null,null,null,null,null,null,null,null,null,null,null,null,null,null,null,null,null,null,null,null,null,null,null,null,null,null,null,null,null,null,null,null,null,null,null,null,null,null,null,null,null,null,null,null,null,null,null,null,null,null,null,null,null,null,null,null,null,null,"74.100","M74.100 Oblikovanje, aranžerstvo, dekoraterstvo","M74.10 Oblikovanje, aranžerstvo, dekoraterstvo","M74.1 Oblikovanje, aranžerstvo, dekoraterstvo","M74 Druge strokovne in tehnične dejavnosti","M STROKOVNE, ZNANSTVENE IN TEHNIČNE DEJAVNOSTI",null,null,null,null,null,null,1507,"Ljubljana","ZZZS, Zavod za zdrav. zav. Slov."]
[null,null,null,null,null,null,null,null,null,null,null,null,null,null,null,null,null,null,null,null,null,null,null,null,null,null,null,null,null,null,null,null,null,null,null,null,null,null,null,null,null,null,null,null,null,null,null,null,null,null,null,null,null,null,null,null,null,null,null,null,"74.200","M74.200 Fotografska dejavnost","M74.20 Fotografska dejavnost","M74.2 Fotografska dejavnost","M74 Druge strokovne in tehnične dejavnosti","M STROKOVNE, ZNANSTVENE IN TEHNIČNE DEJAVNOSTI",null,null,null,null,null,null,1529,"Ljubljana","Žito"]
[null,null,null,null,null,null,null,null,null,null,null,null,null,null,null,null,null,null,null,null,null,null,null,null,null,null,null,null,null,null,null,null,null,null,null,null,null,null,null,null,null,null,null,null,null,null,null,null,null,null,null,null,null,null,null,null,null,null,null,null,"74.300","M74.300 Prevajanje in tolmačenje","M74.30 Prevajanje in tolmačenje","M74.3 Prevajanje in tolmačenje","M74 Druge strokovne in tehnične dejavnosti","M STROKOVNE, ZNANSTVENE IN TEHNIČNE DEJAVNOSTI",null,null,null,null,null,null,2002,"Maribor","Pošta Slovenije, PE PLC, PLC Maribor"]
[null,null,null,null,null,null,null,null,null,null,null,null,null,null,null,null,null,null,null,null,null,null,null,null,null,null,null,null,null,null,null,null,null,null,null,null,null,null,null,null,null,null,null,null,null,null,null,null,null,null,null,null,null,null,null,null,null,null,null,null,"74.900","M74.900 Drugje nerazvrščene strokovne in tehnične dejavnosti","M74.90 Drugje nerazvrščene strokovne in tehnične dejavnosti","M74.9 Drugje nerazvrščene strokovne in tehnične dejavnosti","M74 Druge strokovne in tehnične dejavnosti","M STROKOVNE, ZNANSTVENE IN TEHNIČNE DEJAVNOSTI",null,null,null,null,null,null,2502,"Maribor","FURS, Finančni urad Maribor"]
[null,null,null,null,null,null,null,null,null,null,null,null,null,null,null,null,null,null,null,null,null,null,null,null,null,null,null,null,null,null,null,null,null,null,null,null,null,null,null,null,null,null,null,null,null,null,null,null,null,null,null,null,null,null,null,null,null,null,null,null,"75.000","M75.000 Veterinarstvo","M75.00 Veterinarstvo","M75.0 Veterinarstvo","M75 Veterinarstvo","M STROKOVNE, ZNANSTVENE IN TEHNIČNE DEJAVNOSTI",null,null,null,null,null,null,2509,"Maribor","Elektro Maribor"]
[null,null,null,null,null,null,null,null,null,null,null,null,null,null,null,null,null,null,null,null,null,null,null,null,null,null,null,null,null,null,null,null,null,null,null,null,null,null,null,null,null,null,null,null,null,null,null,null,null,null,null,null,null,null,null,null,null,null,null,null,"77.110","N77.110 Dajanje lahkih motornih vozil v najem in zakup","N77.11 Dajanje lahkih motornih vozil v najem in zakup","N77.1 Dajanje motornih vozil v najem in zakup","N77 Dajanje v najem in zakup","N DRUGE RAZNOVRSTNE POSLOVNE DEJAVNOSTI",null,null,null,null,null,null,2506,"Maribor","Henkel Slovenija"]
[null,null,null,null,null,null,null,null,null,null,null,null,null,null,null,null,null,null,null,null,null,null,null,null,null,null,null,null,null,null,null,null,null,null,null,null,null,null,null,null,null,null,null,null,null,null,null,null,null,null,null,null,null,null,null,null,null,null,null,null,"77.120","N77.120 Dajanje tovornjakov v najem in zakup","N77.12 Dajanje tovornjakov v najem in zakup","N77.1 Dajanje motornih vozil v najem in zakup","N77 Dajanje v najem in zakup","N DRUGE RAZNOVRSTNE POSLOVNE DEJAVNOSTI",null,null,null,null,null,null,2505,"Maribor","Nova Kreditna banka Maribor"]
[null,null,null,null,null,null,null,null,null,null,null,null,null,null,null,null,null,null,null,null,null,null,null,null,null,null,null,null,null,null,null,null,null,null,null,null,null,null,null,null,null,null,null,null,null,null,null,null,null,null,null,null,null,null,null,null,null,null,null,null,"77.210","N77.210 Dajanje športne opreme v najem in zakup","N77.21 Dajanje športne opreme v najem in zakup","N77.2 Dajanje športne opreme in izdelkov za široko rabo v najem in zakup","N77 Dajanje v najem in zakup","N DRUGE RAZNOVRSTNE POSLOVNE DEJAVNOSTI",null,null,null,null,null,null,2503,"Maribor","Okrožno sodišče v Mariboru"]
[null,null,null,null,null,null,null,null,null,null,null,null,null,null,null,null,null,null,null,null,null,null,null,null,null,null,null,null,null,null,null,null,null,null,null,null,null,null,null,null,null,null,null,null,null,null,null,null,null,null,null,null,null,null,null,null,null,null,null,null,"77.220","N77.220 Dajanje videokaset in plošč v najem","N77.22 Dajanje videokaset in plošč v najem","N77.2 Dajanje športne opreme in izdelkov za široko rabo v najem in zakup","N77 Dajanje v najem in zakup","N DRUGE RAZNOVRSTNE POSLOVNE DEJAVNOSTI",null,null,null,null,null,null,2508,"Maribor","Okrajno sodišče v Mariboru"]
[null,null,null,null,null,null,null,null,null,null,null,null,null,null,null,null,null,null,null,null,null,null,null,null,null,null,null,null,null,null,null,null,null,null,null,null,null,null,null,null,null,null,null,null,null,null,null,null,null,null,null,null,null,null,null,null,null,null,null,null,"77.290","N77.290 Dajanje drugih izdelkov za široko rabo v najem in zakup","N77.29 Dajanje drugih izdelkov za široko rabo v najem in zakup","N77.2 Dajanje športne opreme in izdelkov za široko rabo v najem in zakup","N77 Dajanje v najem in zakup","N DRUGE RAZNOVRSTNE POSLOVNE DEJAVNOSTI",null,null,null,null,null,null,2500,"Maribor","Pošta Slovenije, uprava"]
[null,null,null,null,null,null,null,null,null,null,null,null,null,null,null,null,null,null,null,null,null,null,null,null,null,null,null,null,null,null,null,null,null,null,null,null,null,null,null,null,null,null,null,null,null,null,null,null,null,null,null,null,null,null,null,null,null,null,null,null,"77.310","N77.310 Dajanje kmetijskih strojev in opreme v najem in zakup","N77.31 Dajanje kmetijskih strojev in opreme v najem in zakup","N77.3 Dajanje strojev, naprav in drugih opredmetenih sredstev v najem in zakup","N77 Dajanje v najem in zakup","N DRUGE RAZNOVRSTNE POSLOVNE DEJAVNOSTI",null,null,null,null,null,null,2600,"Maribor","Pošta Slovenije, PE Maribor"]
[null,null,null,null,null,null,null,null,null,null,null,null,null,null,null,null,null,null,null,null,null,null,null,null,null,null,null,null,null,null,null,null,null,null,null,null,null,null,null,null,null,null,null,null,null,null,null,null,null,null,null,null,null,null,null,null,null,null,null,null,"77.320","N77.320 Dajanje gradbenih strojev in opreme v najem in zakup","N77.32 Dajanje gradbenih strojev in opreme v najem in zakup","N77.3 Dajanje strojev, naprav in drugih opredmetenih sredstev v najem in zakup","N77 Dajanje v najem in zakup","N DRUGE RAZNOVRSTNE POSLOVNE DEJAVNOSTI",null,null,null,null,null,null,2607,"Maribor","Pošta Slovenije, Center za digitalizacijo"]
[null,null,null,null,null,null,null,null,null,null,null,null,null,null,null,null,null,null,null,null,null,null,null,null,null,null,null,null,null,null,null,null,null,null,null,null,null,null,null,null,null,null,null,null,null,null,null,null,null,null,null,null,null,null,null,null,null,null,null,null,"77.330","N77.330 Dajanje pisarniške opreme in računalniških naprav v najem in zakup","N77.33 Dajanje pisarniške opreme in računalniških naprav v najem in zakup","N77.3 Dajanje strojev, naprav in drugih opredmetenih sredstev v najem in zakup","N77 Dajanje v najem in zakup","N DRUGE RAZNOVRSTNE POSLOVNE DEJAVNOSTI",null,null,null,null,null,null,2609,"Maribor","Pošta Slovenije, PE PLC Maribor, Skladiščna logistika"]
[null,null,null,null,null,null,null,null,null,null,null,null,null,null,null,null,null,null,null,null,null,null,null,null,null,null,null,null,null,null,null,null,null,null,null,null,null,null,null,null,null,null,null,null,null,null,null,null,null,null,null,null,null,null,null,null,null,null,null,null,"77.340","N77.340 Dajanje vodnih plovil v najem in zakup","N77.34 Dajanje vodnih plovil v najem in zakup","N77.3 Dajanje strojev, naprav in drugih opredmetenih sredstev v najem in zakup","N77 Dajanje v najem in zakup","N DRUGE RAZNOVRSTNE POSLOVNE DEJAVNOSTI",null,null,null,null,null,null,2610,"Maribor","Pošta Slovenije, Centralna RA pisarna"]
[null,null,null,null,null,null,null,null,null,null,null,null,null,null,null,null,null,null,null,null,null,null,null,null,null,null,null,null,null,null,null,null,null,null,null,null,null,null,null,null,null,null,null,null,null,null,null,null,null,null,null,null,null,null,null,null,null,null,null,null,"77.350","N77.350 Dajanje zračnih plovil v najem in zakup","N77.35 Dajanje zračnih plovil v najem in zakup","N77.3 Dajanje strojev, naprav in drugih opredmetenih sredstev v najem in zakup","N77 Dajanje v najem in zakup","N DRUGE RAZNOVRSTNE POSLOVNE DEJAVNOSTI",null,null,null,null,null,null,2501,"Maribor","Upravna enota Maribor"]
[null,null,null,null,null,null,null,null,null,null,null,null,null,null,null,null,null,null,null,null,null,null,null,null,null,null,null,null,null,null,null,null,null,null,null,null,null,null,null,null,null,null,null,null,null,null,null,null,null,null,null,null,null,null,null,null,null,null,null,null,"77.390","N77.390 Dajanje drugih strojev, naprav in opredmetenih sredstev v najem in zakup","N77.39 Dajanje drugih strojev, naprav in opredmetenih sredstev v najem in zakup","N77.3 Dajanje strojev, naprav in drugih opredmetenih sredstev v najem in zakup","N77 Dajanje v najem in zakup","N DRUGE RAZNOVRSTNE POSLOVNE DEJAVNOSTI",null,null,null,null,null,null,2504,"Maribor","Večer"]
[null,null,null,null,null,null,null,null,null,null,null,null,null,null,null,null,null,null,null,null,null,null,null,null,null,null,null,null,null,null,null,null,null,null,null,null,null,null,null,null,null,null,null,null,null,null,null,null,null,null,null,null,null,null,null,null,null,null,null,null,"77.400","N77.400 Dajanje pravic uporabe intelektualne lastnine v zakup, razen avtorsko zaščitenih del","N77.40 Dajanje pravic uporabe intelektualne lastnine v zakup, razen avtorsko zaščitenih del","N77.4 Dajanje pravic uporabe intelektualne lastnine v zakup, razen avtorsko zaščitenih del","N77 Dajanje v najem in zakup","N DRUGE RAZNOVRSTNE POSLOVNE DEJAVNOSTI",null,null,null,null,null,null,2507,"Maribor","Zavarovalnica Maribor"]
[null,null,null,null,null,null,null,null,null,null,null,null,null,null,null,null,null,null,null,null,null,null,null,null,null,null,null,null,null,null,null,null,null,null,null,null,null,null,null,null,null,null,null,null,null,null,null,null,null,null,null,null,null,null,null,null,null,null,null,null,"78.100","N78.100 Dejavnost pri iskanju zaposlitve","N78.10 Dejavnost pri iskanju zaposlitve","N78.1 Dejavnost pri iskanju zaposlitve","N78 Zaposlovalne dejavnosti","N DRUGE RAZNOVRSTNE POSLOVNE DEJAVNOSTI",null,null,null,null,null,null,9501,"Murska Sobota","Mura"]
[null,null,null,null,null,null,null,null,null,null,null,null,null,null,null,null,null,null,null,null,null,null,null,null,null,null,null,null,null,null,null,null,null,null,null,null,null,null,null,null,null,null,null,null,null,null,null,null,null,null,null,null,null,null,null,null,null,null,null,null,"78.200","N78.200 Posredovanje začasne delovne sile","N78.20 Posredovanje začasne delovne sile","N78.2 Posredovanje začasne delovne sile","N78 Zaposlovalne dejavnosti","N DRUGE RAZNOVRSTNE POSLOVNE DEJAVNOSTI",null,null,null,null,null,null,4501,"Naklo","Merkur"]
[null,null,null,null,null,null,null,null,null,null,null,null,null,null,null,null,null,null,null,null,null,null,null,null,null,null,null,null,null,null,null,null,null,null,null,null,null,null,null,null,null,null,null,null,null,null,null,null,null,null,null,null,null,null,null,null,null,null,null,null,"78.300","N78.300 Druga oskrba s človeškimi viri","N78.30 Druga oskrba s človeškimi viri","N78.3 Druga oskrba s človeškimi viri","N78 Zaposlovalne dejavnosti","N DRUGE RAZNOVRSTNE POSLOVNE DEJAVNOSTI",null,null,null,null,null,null,8501,"Novo mesto","Krka"]
[null,null,null,null,null,null,null,null,null,null,null,null,null,null,null,null,null,null,null,null,null,null,null,null,null,null,null,null,null,null,null,null,null,null,null,null,null,null,null,null,null,null,null,null,null,null,null,null,null,null,null,null,null,null,null,null,null,null,null,null,"79.110","N79.110 Dejavnost potovalnih agencij","N79.11 Dejavnost potovalnih agencij","N79.1 Dejavnost potovalnih agencij in organizatorjev potovanj","N79 Dejavnost potovalnih agencij, organizatorjev potovanj in s potovanji povezanih dejavnosti","N DRUGE RAZNOVRSTNE POSLOVNE DEJAVNOSTI",null,null,null,null,null,null,9502,"Radenci","Radenska d.d."]
[null,null,null,null,null,null,null,null,null,null,null,null,null,null,null,null,null,null,null,null,null,null,null,null,null,null,null,null,null,null,null,null,null,null,null,null,null,null,null,null,null,null,null,null,null,null,null,null,null,null,null,null,null,null,null,null,null,null,null,null,"79.120","N79.120 Dejavnost organizatorjev potovanj","N79.12 Dejavnost organizatorjev potovanj","N79.1 Dejavnost potovalnih agencij in organizatorjev potovanj","N79 Dejavnost potovalnih agencij, organizatorjev potovanj in s potovanji povezanih dejavnosti","N DRUGE RAZNOVRSTNE POSLOVNE DEJAVNOSTI",null,null,null,null,null,null,3503,"Velenje","Gorenje"]
[null,null,null,null,null,null,null,null,null,null,null,null,null,null,null,null,null,null,null,null,null,null,null,null,null,null,null,null,null,null,null,null,null,null,null,null,null,null,null,null,null,null,null,null,null,null,null,null,null,null,null,null,null,null,null,null,null,null,null,null,"79.900","N79.900 Rezervacije in druge s potovanji povezane dejavnosti","N79.90 Rezervacije in druge s potovanji povezane dejavnosti","N79.9 Rezervacije in druge s potovanji povezane dejavnosti","N79 Dejavnost potovalnih agencij, organizatorjev potovanj in s potovanji povezanih dejavnosti","N DRUGE RAZNOVRSTNE POSLOVNE DEJAVNOSTI",null,null,null,null,null,null,3504,"Velenje","ERA"]
[null,null,null,null,null,null,null,null,null,null,null,null,null,null,null,null,null,null,null,null,null,null,null,null,null,null,null,null,null,null,null,null,null,null,null,null,null,null,null,null,null,null,null,null,null,null,null,null,null,null,null,null,null,null,null,null,null,null,null,null,"80.100","N80.100 Varovanje","N80.10 Varovanje","N80.1 Varovanje","N80 Varovanje in poizvedovalne dejavnosti","N DRUGE RAZNOVRSTNE POSLOVNE DEJAVNOSTI"]
[null,null,null,null,null,null,null,null,null,null,null,null,null,null,null,null,null,null,null,null,null,null,null,null,null,null,null,null,null,null,null,null,null,null,null,null,null,null,null,null,null,null,null,null,null,null,null,null,null,null,null,null,null,null,null,null,null,null,null,null,"80.200","N80.200 Nadzorovanje delovanja varovalnih sistemov","N80.20 Nadzorovanje delovanja varovalnih sistemov","N80.2 Nadzorovanje delovanja varovalnih sistemov","N80 Varovanje in poizvedovalne dejavnosti","N DRUGE RAZNOVRSTNE POSLOVNE DEJAVNOSTI"]
[null,null,null,null,null,null,null,null,null,null,null,null,null,null,null,null,null,null,null,null,null,null,null,null,null,null,null,null,null,null,null,null,null,null,null,null,null,null,null,null,null,null,null,null,null,null,null,null,null,null,null,null,null,null,null,null,null,null,null,null,"80.300","N80.300 Poizvedovalne dejavnosti","N80.30 Poizvedovalne dejavnosti","N80.3 Poizvedovalne dejavnosti","N80 Varovanje in poizvedovalne dejavnosti","N DRUGE RAZNOVRSTNE POSLOVNE DEJAVNOSTI"]
[null,null,null,null,null,null,null,null,null,null,null,null,null,null,null,null,null,null,null,null,null,null,null,null,null,null,null,null,null,null,null,null,null,null,null,null,null,null,null,null,null,null,null,null,null,null,null,null,null,null,null,null,null,null,null,null,null,null,null,null,"81.100","N81.100 Vzdrževanje objektov in hišniška dejavnost","N81.10 Vzdrževanje objektov in hišniška dejavnost","N81.1 Vzdrževanje objektov in hišniška dejavnost","N81 Dejavnost oskrbe stavb in okolice","N DRUGE RAZNOVRSTNE POSLOVNE DEJAVNOSTI"]
[null,null,null,null,null,null,null,null,null,null,null,null,null,null,null,null,null,null,null,null,null,null,null,null,null,null,null,null,null,null,null,null,null,null,null,null,null,null,null,null,null,null,null,null,null,null,null,null,null,null,null,null,null,null,null,null,null,null,null,null,"81.210","N81.210 Splošno čiščenje stavb","N81.21 Splošno čiščenje stavb","N81.2 Čiščenje","N81 Dejavnost oskrbe stavb in okolice","N DRUGE RAZNOVRSTNE POSLOVNE DEJAVNOSTI"]
[null,null,null,null,null,null,null,null,null,null,null,null,null,null,null,null,null,null,null,null,null,null,null,null,null,null,null,null,null,null,null,null,null,null,null,null,null,null,null,null,null,null,null,null,null,null,null,null,null,null,null,null,null,null,null,null,null,null,null,null,"81.220","N81.220 Drugo čiščenje stavb, industrijskih naprav in opreme","N81.22 Drugo čiščenje stavb, industrijskih naprav in opreme","N81.2 Čiščenje","N81 Dejavnost oskrbe stavb in okolice","N DRUGE RAZNOVRSTNE POSLOVNE DEJAVNOSTI"]
[null,null,null,null,null,null,null,null,null,null,null,null,null,null,null,null,null,null,null,null,null,null,null,null,null,null,null,null,null,null,null,null,null,null,null,null,null,null,null,null,null,null,null,null,null,null,null,null,null,null,null,null,null,null,null,null,null,null,null,null,"81.290","N81.290 Čiščenje cest in drugo čiščenje","N81.29 Čiščenje cest in drugo čiščenje","N81.2 Čiščenje","N81 Dejavnost oskrbe stavb in okolice","N DRUGE RAZNOVRSTNE POSLOVNE DEJAVNOSTI"]
[null,null,null,null,null,null,null,null,null,null,null,null,null,null,null,null,null,null,null,null,null,null,null,null,null,null,null,null,null,null,null,null,null,null,null,null,null,null,null,null,null,null,null,null,null,null,null,null,null,null,null,null,null,null,null,null,null,null,null,null,"81.300","N81.300 Urejanje in vzdrževanje zelenih površin in okolice","N81.30 Urejanje in vzdrževanje zelenih površin in okolice","N81.3 Urejanje in vzdrževanje zelenih površin in okolice","N81 Dejavnost oskrbe stavb in okolice","N DRUGE RAZNOVRSTNE POSLOVNE DEJAVNOSTI"]
[null,null,null,null,null,null,null,null,null,null,null,null,null,null,null,null,null,null,null,null,null,null,null,null,null,null,null,null,null,null,null,null,null,null,null,null,null,null,null,null,null,null,null,null,null,null,null,null,null,null,null,null,null,null,null,null,null,null,null,null,"82.110","N82.110 Nudenje celovitih pisarniških storitev","N82.11 Nudenje celovitih pisarniških storitev","N82.1 Pisarniške dejavnosti","N82 Pisarniške in spremljajoče poslovne storitvene dejavnosti","N DRUGE RAZNOVRSTNE POSLOVNE DEJAVNOSTI"]
[null,null,null,null,null,null,null,null,null,null,null,null,null,null,null,null,null,null,null,null,null,null,null,null,null,null,null,null,null,null,null,null,null,null,null,null,null,null,null,null,null,null,null,null,null,null,null,null,null,null,null,null,null,null,null,null,null,null,null,null,"82.190","N82.190 Fotokopiranje, priprava dokumentov in druge posamične pisarniške dejavnosti","N82.19 Fotokopiranje, priprava dokumentov in druge posamične pisarniške dejavnosti","N82.1 Pisarniške dejavnosti","N82 Pisarniške in spremljajoče poslovne storitvene dejavnosti","N DRUGE RAZNOVRSTNE POSLOVNE DEJAVNOSTI"]
[null,null,null,null,null,null,null,null,null,null,null,null,null,null,null,null,null,null,null,null,null,null,null,null,null,null,null,null,null,null,null,null,null,null,null,null,null,null,null,null,null,null,null,null,null,null,null,null,null,null,null,null,null,null,null,null,null,null,null,null,"82.200","N82.200 Dejavnost klicnih centrov","N82.20 Dejavnost klicnih centrov","N82.2 Dejavnost klicnih centrov","N82 Pisarniške in spremljajoče poslovne storitvene dejavnosti","N DRUGE RAZNOVRSTNE POSLOVNE DEJAVNOSTI"]
[null,null,null,null,null,null,null,null,null,null,null,null,null,null,null,null,null,null,null,null,null,null,null,null,null,null,null,null,null,null,null,null,null,null,null,null,null,null,null,null,null,null,null,null,null,null,null,null,null,null,null,null,null,null,null,null,null,null,null,null,"82.300","N82.300 Organiziranje razstav, sejmov, srečanj","N82.30 Organiziranje razstav, sejmov, srečanj","N82.3 Organiziranje razstav, sejmov, srečanj","N82 Pisarniške in spremljajoče poslovne storitvene dejavnosti","N DRUGE RAZNOVRSTNE POSLOVNE DEJAVNOSTI"]
[null,null,null,null,null,null,null,null,null,null,null,null,null,null,null,null,null,null,null,null,null,null,null,null,null,null,null,null,null,null,null,null,null,null,null,null,null,null,null,null,null,null,null,null,null,null,null,null,null,null,null,null,null,null,null,null,null,null,null,null,"82.910","N82.910 Zbiranje terjatev in ocenjevanje kreditne sposobnosti","N82.91 Zbiranje terjatev in ocenjevanje kreditne sposobnosti","N82.9 Druge spremljajoče dejavnosti za poslovanje","N82 Pisarniške in spremljajoče poslovne storitvene dejavnosti","N DRUGE RAZNOVRSTNE POSLOVNE DEJAVNOSTI"]
[null,null,null,null,null,null,null,null,null,null,null,null,null,null,null,null,null,null,null,null,null,null,null,null,null,null,null,null,null,null,null,null,null,null,null,null,null,null,null,null,null,null,null,null,null,null,null,null,null,null,null,null,null,null,null,null,null,null,null,null,"82.920","N82.920 Pakiranje","N82.92 Pakiranje","N82.9 Druge spremljajoče dejavnosti za poslovanje","N82 Pisarniške in spremljajoče poslovne storitvene dejavnosti","N DRUGE RAZNOVRSTNE POSLOVNE DEJAVNOSTI"]
[null,null,null,null,null,null,null,null,null,null,null,null,null,null,null,null,null,null,null,null,null,null,null,null,null,null,null,null,null,null,null,null,null,null,null,null,null,null,null,null,null,null,null,null,null,null,null,null,null,null,null,null,null,null,null,null,null,null,null,null,"82.990","N82.990 Drugje nerazvrščene spremljajoče dejavnosti za poslovanje","N82.99 Drugje nerazvrščene spremljajoče dejavnosti za poslovanje","N82.9 Druge spremljajoče dejavnosti za poslovanje","N82 Pisarniške in spremljajoče poslovne storitvene dejavnosti","N DRUGE RAZNOVRSTNE POSLOVNE DEJAVNOSTI"]
[null,null,null,null,null,null,null,null,null,null,null,null,null,null,null,null,null,null,null,null,null,null,null,null,null,null,null,null,null,null,null,null,null,null,null,null,null,null,null,null,null,null,null,null,null,null,null,null,null,null,null,null,null,null,null,null,null,null,null,null,"84.110","O84.110 Splošna dejavnost javne uprave","O84.11 Splošna dejavnost javne uprave","O84.1 Dejavnost državne uprave ter ekonomska in socialna politika skupnosti","O84 Dejavnost javne uprave in obrambe, dejavnost obvezne socialne varnosti","O DEJAVNOST JAVNE UPRAVE IN OBRAMBE, DEJAVNOST OBVEZNE SOCIALNE VARNOSTI"]
[null,null,null,null,null,null,null,null,null,null,null,null,null,null,null,null,null,null,null,null,null,null,null,null,null,null,null,null,null,null,null,null,null,null,null,null,null,null,null,null,null,null,null,null,null,null,null,null,null,null,null,null,null,null,null,null,null,null,null,null,"84.120","O84.120 Urejanje zdravstva, izobraževanja, kulturnih in drugih socialnih storitev, razen obvezne socialne varnosti","O84.12 Urejanje zdravstva, izobraževanja, kulturnih in drugih socialnih storitev, razen obvezne socialne varnosti","O84.1 Dejavnost državne uprave ter ekonomska in socialna politika skupnosti","O84 Dejavnost javne uprave in obrambe, dejavnost obvezne socialne varnosti","O DEJAVNOST JAVNE UPRAVE IN OBRAMBE, DEJAVNOST OBVEZNE SOCIALNE VARNOSTI"]
[null,null,null,null,null,null,null,null,null,null,null,null,null,null,null,null,null,null,null,null,null,null,null,null,null,null,null,null,null,null,null,null,null,null,null,null,null,null,null,null,null,null,null,null,null,null,null,null,null,null,null,null,null,null,null,null,null,null,null,null,"84.130","O84.130 Urejanje gospodarskih področij za učinkovitejše poslovanje","O84.13 Urejanje gospodarskih področij za učinkovitejše poslovanje","O84.1 Dejavnost državne uprave ter ekonomska in socialna politika skupnosti","O84 Dejavnost javne uprave in obrambe, dejavnost obvezne socialne varnosti","O DEJAVNOST JAVNE UPRAVE IN OBRAMBE, DEJAVNOST OBVEZNE SOCIALNE VARNOSTI"]
[null,null,null,null,null,null,null,null,null,null,null,null,null,null,null,null,null,null,null,null,null,null,null,null,null,null,null,null,null,null,null,null,null,null,null,null,null,null,null,null,null,null,null,null,null,null,null,null,null,null,null,null,null,null,null,null,null,null,null,null,"84.210","O84.210 Urejanje zunanjih zadev","O84.21 Urejanje zunanjih zadev","O84.2 Posebne dejavnosti za celotno družbeno skupnost","O84 Dejavnost javne uprave in obrambe, dejavnost obvezne socialne varnosti","O DEJAVNOST JAVNE UPRAVE IN OBRAMBE, DEJAVNOST OBVEZNE SOCIALNE VARNOSTI"]
[null,null,null,null,null,null,null,null,null,null,null,null,null,null,null,null,null,null,null,null,null,null,null,null,null,null,null,null,null,null,null,null,null,null,null,null,null,null,null,null,null,null,null,null,null,null,null,null,null,null,null,null,null,null,null,null,null,null,null,null,"84.220","O84.220 Obramba","O84.22 Obramba","O84.2 Posebne dejavnosti za celotno družbeno skupnost","O84 Dejavnost javne uprave in obrambe, dejavnost obvezne socialne varnosti","O DEJAVNOST JAVNE UPRAVE IN OBRAMBE, DEJAVNOST OBVEZNE SOCIALNE VARNOSTI"]
[null,null,null,null,null,null,null,null,null,null,null,null,null,null,null,null,null,null,null,null,null,null,null,null,null,null,null,null,null,null,null,null,null,null,null,null,null,null,null,null,null,null,null,null,null,null,null,null,null,null,null,null,null,null,null,null,null,null,null,null,"84.230","O84.230 Sodstvo","O84.23 Sodstvo","O84.2 Posebne dejavnosti za celotno družbeno skupnost","O84 Dejavnost javne uprave in obrambe, dejavnost obvezne socialne varnosti","O DEJAVNOST JAVNE UPRAVE IN OBRAMBE, DEJAVNOST OBVEZNE SOCIALNE VARNOSTI"]
[null,null,null,null,null,null,null,null,null,null,null,null,null,null,null,null,null,null,null,null,null,null,null,null,null,null,null,null,null,null,null,null,null,null,null,null,null,null,null,null,null,null,null,null,null,null,null,null,null,null,null,null,null,null,null,null,null,null,null,null,"84.240","O84.240 Dejavnosti za javni red in varnost","O84.24 Dejavnosti za javni red in varnost","O84.2 Posebne dejavnosti za celotno družbeno skupnost","O84 Dejavnost javne uprave in obrambe, dejavnost obvezne socialne varnosti","O DEJAVNOST JAVNE UPRAVE IN OBRAMBE, DEJAVNOST OBVEZNE SOCIALNE VARNOSTI"]
[null,null,null,null,null,null,null,null,null,null,null,null,null,null,null,null,null,null,null,null,null,null,null,null,null,null,null,null,null,null,null,null,null,null,null,null,null,null,null,null,null,null,null,null,null,null,null,null,null,null,null,null,null,null,null,null,null,null,null,null,"84.250","O84.250 Zaščita in reševanje pri požarih in nesrečah","O84.25 Zaščita in reševanje pri požarih in nesrečah","O84.2 Posebne dejavnosti za celotno družbeno skupnost","O84 Dejavnost javne uprave in obrambe, dejavnost obvezne socialne varnosti","O DEJAVNOST JAVNE UPRAVE IN OBRAMBE, DEJAVNOST OBVEZNE SOCIALNE VARNOSTI"]
[null,null,null,null,null,null,null,null,null,null,null,null,null,null,null,null,null,null,null,null,null,null,null,null,null,null,null,null,null,null,null,null,null,null,null,null,null,null,null,null,null,null,null,null,null,null,null,null,null,null,null,null,null,null,null,null,null,null,null,null,"84.300","O84.300 Dejavnost obvezne socialne varnosti","O84.30 Dejavnost obvezne socialne varnosti","O84.3 Dejavnost obvezne socialne varnosti","O84 Dejavnost javne uprave in obrambe, dejavnost obvezne socialne varnosti","O DEJAVNOST JAVNE UPRAVE IN OBRAMBE, DEJAVNOST OBVEZNE SOCIALNE VARNOSTI"]
[null,null,null,null,null,null,null,null,null,null,null,null,null,null,null,null,null,null,null,null,null,null,null,null,null,null,null,null,null,null,null,null,null,null,null,null,null,null,null,null,null,null,null,null,null,null,null,null,null,null,null,null,null,null,null,null,null,null,null,null,"85.100","P85.100 Predšolska vzgoja","P85.10 Predšolska vzgoja","P85.1 Predšolska vzgoja","P85 Izobraževanje","P IZOBRAŽEVANJE"]
[null,null,null,null,null,null,null,null,null,null,null,null,null,null,null,null,null,null,null,null,null,null,null,null,null,null,null,null,null,null,null,null,null,null,null,null,null,null,null,null,null,null,null,null,null,null,null,null,null,null,null,null,null,null,null,null,null,null,null,null,"85.200","P85.200 Osnovnošolsko izobraževanje","P85.20 Osnovnošolsko izobraževanje","P85.2 Osnovnošolsko izobraževanje","P85 Izobraževanje","P IZOBRAŽEVANJE"]
[null,null,null,null,null,null,null,null,null,null,null,null,null,null,null,null,null,null,null,null,null,null,null,null,null,null,null,null,null,null,null,null,null,null,null,null,null,null,null,null,null,null,null,null,null,null,null,null,null,null,null,null,null,null,null,null,null,null,null,null,"85.310","P85.310 Srednješolsko splošno izobraževanje","P85.31 Srednješolsko splošno izobraževanje","P85.3 Srednješolsko izobraževanje","P85 Izobraževanje","P IZOBRAŽEVANJE"]
[null,null,null,null,null,null,null,null,null,null,null,null,null,null,null,null,null,null,null,null,null,null,null,null,null,null,null,null,null,null,null,null,null,null,null,null,null,null,null,null,null,null,null,null,null,null,null,null,null,null,null,null,null,null,null,null,null,null,null,null,"85.320","P85.320 Srednješolsko poklicno in strokovno izobraževanje","P85.32 Srednješolsko poklicno in strokovno izobraževanje","P85.3 Srednješolsko izobraževanje","P85 Izobraževanje","P IZOBRAŽEVANJE"]
[null,null,null,null,null,null,null,null,null,null,null,null,null,null,null,null,null,null,null,null,null,null,null,null,null,null,null,null,null,null,null,null,null,null,null,null,null,null,null,null,null,null,null,null,null,null,null,null,null,null,null,null,null,null,null,null,null,null,null,null,"85.410","P85.410 Posrednješolsko neterciarno izobraževanje","P85.41 Posrednješolsko neterciarno izobraževanje","P85.4 Posrednješolsko izobraževanje","P85 Izobraževanje","P IZOBRAŽEVANJE"]
[null,null,null,null,null,null,null,null,null,null,null,null,null,null,null,null,null,null,null,null,null,null,null,null,null,null,null,null,null,null,null,null,null,null,null,null,null,null,null,null,null,null,null,null,null,null,null,null,null,null,null,null,null,null,null,null,null,null,null,null,"85.421","P85.421 Višješolsko izobraževanje","P85.42 Višješolsko in visokošolsko izobraževanje","P85.4 Posrednješolsko izobraževanje","P85 Izobraževanje","P IZOBRAŽEVANJE"]
[null,null,null,null,null,null,null,null,null,null,null,null,null,null,null,null,null,null,null,null,null,null,null,null,null,null,null,null,null,null,null,null,null,null,null,null,null,null,null,null,null,null,null,null,null,null,null,null,null,null,null,null,null,null,null,null,null,null,null,null,"85.422","P85.422 Visokošolsko izobraževanje","P85.42 Višješolsko in visokošolsko izobraževanje","P85.4 Posrednješolsko izobraževanje","P85 Izobraževanje","P IZOBRAŽEVANJE"]
[null,null,null,null,null,null,null,null,null,null,null,null,null,null,null,null,null,null,null,null,null,null,null,null,null,null,null,null,null,null,null,null,null,null,null,null,null,null,null,null,null,null,null,null,null,null,null,null,null,null,null,null,null,null,null,null,null,null,null,null,"85.510","P85.510 Izobraževanje, izpopolnjevanje in usposabljanje na področju športa in rekreacije","P85.51 Izobraževanje, izpopolnjevanje in usposabljanje na področju športa in rekreacije","P85.5 Drugo izobraževanje, izpopolnjevanje in usposabljanje","P85 Izobraževanje","P IZOBRAŽEVANJE"]
[null,null,null,null,null,null,null,null,null,null,null,null,null,null,null,null,null,null,null,null,null,null,null,null,null,null,null,null,null,null,null,null,null,null,null,null,null,null,null,null,null,null,null,null,null,null,null,null,null,null,null,null,null,null,null,null,null,null,null,null,"85.520","P85.520 Izobraževanje, izpopolnjevanje in usposabljanje na področju kulture in umetnosti","P85.52 Izobraževanje, izpopolnjevanje in usposabljanje na področju kulture in umetnosti","P85.5 Drugo izobraževanje, izpopolnjevanje in usposabljanje","P85 Izobraževanje","P IZOBRAŽEVANJE"]
[null,null,null,null,null,null,null,null,null,null,null,null,null,null,null,null,null,null,null,null,null,null,null,null,null,null,null,null,null,null,null,null,null,null,null,null,null,null,null,null,null,null,null,null,null,null,null,null,null,null,null,null,null,null,null,null,null,null,null,null,"85.530","P85.530 Dejavnost vozniških šol","P85.53 Dejavnost vozniških šol","P85.5 Drugo izobraževanje, izpopolnjevanje in usposabljanje","P85 Izobraževanje","P IZOBRAŽEVANJE"]
[null,null,null,null,null,null,null,null,null,null,null,null,null,null,null,null,null,null,null,null,null,null,null,null,null,null,null,null,null,null,null,null,null,null,null,null,null,null,null,null,null,null,null,null,null,null,null,null,null,null,null,null,null,null,null,null,null,null,null,null,"85.590","P85.590 Drugje nerazvrščeno izobraževanje, izpopolnjevanje in usposabljanje","P85.59 Drugje nerazvrščeno izobraževanje, izpopolnjevanje in usposabljanje","P85.5 Drugo izobraževanje, izpopolnjevanje in usposabljanje","P85 Izobraževanje","P IZOBRAŽEVANJE"]
[null,null,null,null,null,null,null,null,null,null,null,null,null,null,null,null,null,null,null,null,null,null,null,null,null,null,null,null,null,null,null,null,null,null,null,null,null,null,null,null,null,null,null,null,null,null,null,null,null,null,null,null,null,null,null,null,null,null,null,null,"85.600","P85.600 Pomožne dejavnosti za izobraževanje","P85.60 Pomožne dejavnosti za izobraževanje","P85.6 Pomožne dejavnosti za izobraževanje","P85 Izobraževanje","P IZOBRAŽEVANJE"]
[null,null,null,null,null,null,null,null,null,null,null,null,null,null,null,null,null,null,null,null,null,null,null,null,null,null,null,null,null,null,null,null,null,null,null,null,null,null,null,null,null,null,null,null,null,null,null,null,null,null,null,null,null,null,null,null,null,null,null,null,"86.100","Q86.100 Bolnišnična zdravstvena dejavnost","Q86.10 Bolnišnična zdravstvena dejavnost","Q86.1 Bolnišnična zdravstvena dejavnost","Q86 Zdravstvo","Q ZDRAVSTVO IN SOCIALNO VARSTVO"]
[null,null,null,null,null,null,null,null,null,null,null,null,null,null,null,null,null,null,null,null,null,null,null,null,null,null,null,null,null,null,null,null,null,null,null,null,null,null,null,null,null,null,null,null,null,null,null,null,null,null,null,null,null,null,null,null,null,null,null,null,"86.210","Q86.210 Splošna zunajbolnišnična zdravstvena dejavnost","Q86.21 Splošna zunajbolnišnična zdravstvena dejavnost","Q86.2 Zunajbolnišnična zdravstvena in zobozdravstvena dejavnost","Q86 Zdravstvo","Q ZDRAVSTVO IN SOCIALNO VARSTVO"]
[null,null,null,null,null,null,null,null,null,null,null,null,null,null,null,null,null,null,null,null,null,null,null,null,null,null,null,null,null,null,null,null,null,null,null,null,null,null,null,null,null,null,null,null,null,null,null,null,null,null,null,null,null,null,null,null,null,null,null,null,"86.220","Q86.220 Specialistična zunajbolnišnična zdravstvena dejavnost","Q86.22 Specialistična zunajbolnišnična zdravstvena dejavnost","Q86.2 Zunajbolnišnična zdravstvena in zobozdravstvena dejavnost","Q86 Zdravstvo","Q ZDRAVSTVO IN SOCIALNO VARSTVO"]
[null,null,null,null,null,null,null,null,null,null,null,null,null,null,null,null,null,null,null,null,null,null,null,null,null,null,null,null,null,null,null,null,null,null,null,null,null,null,null,null,null,null,null,null,null,null,null,null,null,null,null,null,null,null,null,null,null,null,null,null,"86.230","Q86.230 Zobozdravstvena dejavnost","Q86.23 Zobozdravstvena dejavnost","Q86.2 Zunajbolnišnična zdravstvena in zobozdravstvena dejavnost","Q86 Zdravstvo","Q ZDRAVSTVO IN SOCIALNO VARSTVO"]
[null,null,null,null,null,null,null,null,null,null,null,null,null,null,null,null,null,null,null,null,null,null,null,null,null,null,null,null,null,null,null,null,null,null,null,null,null,null,null,null,null,null,null,null,null,null,null,null,null,null,null,null,null,null,null,null,null,null,null,null,"86.901","Q86.901 Alternativne oblike zdravljenja","Q86.90 Druge dejavnosti za zdravje","Q86.9 Druge dejavnosti za zdravje","Q86 Zdravstvo","Q ZDRAVSTVO IN SOCIALNO VARSTVO"]
[null,null,null,null,null,null,null,null,null,null,null,null,null,null,null,null,null,null,null,null,null,null,null,null,null,null,null,null,null,null,null,null,null,null,null,null,null,null,null,null,null,null,null,null,null,null,null,null,null,null,null,null,null,null,null,null,null,null,null,null,"86.909","Q86.909 Druge zdravstvene dejavnosti","Q86.90 Druge dejavnosti za zdravje","Q86.9 Druge dejavnosti za zdravje","Q86 Zdravstvo","Q ZDRAVSTVO IN SOCIALNO VARSTVO"]
[null,null,null,null,null,null,null,null,null,null,null,null,null,null,null,null,null,null,null,null,null,null,null,null,null,null,null,null,null,null,null,null,null,null,null,null,null,null,null,null,null,null,null,null,null,null,null,null,null,null,null,null,null,null,null,null,null,null,null,null,"87.100","Q87.100 Dejavnost nastanitvenih ustanov za bolniško nego","Q87.10 Dejavnost nastanitvenih ustanov za bolniško nego","Q87.1 Dejavnost nastanitvenih ustanov za bolniško nego","Q87 Socialno varstvo z nastanitvijo","Q ZDRAVSTVO IN SOCIALNO VARSTVO"]
[null,null,null,null,null,null,null,null,null,null,null,null,null,null,null,null,null,null,null,null,null,null,null,null,null,null,null,null,null,null,null,null,null,null,null,null,null,null,null,null,null,null,null,null,null,null,null,null,null,null,null,null,null,null,null,null,null,null,null,null,"87.200","Q87.200 Dejavnost nastanitvenih ustanov za oskrbo duševno prizadetih, duševno obolelih in zasvojenih oseb","Q87.20 Dejavnost nastanitvenih ustanov za oskrbo duševno prizadetih, duševno obolelih in zasvojenih oseb","Q87.2 Dejavnost nastanitvenih ustanov za oskrbo duševno prizadetih, duševno obolelih in zasvojenih oseb","Q87 Socialno varstvo z nastanitvijo","Q ZDRAVSTVO IN SOCIALNO VARSTVO"]
[null,null,null,null,null,null,null,null,null,null,null,null,null,null,null,null,null,null,null,null,null,null,null,null,null,null,null,null,null,null,null,null,null,null,null,null,null,null,null,null,null,null,null,null,null,null,null,null,null,null,null,null,null,null,null,null,null,null,null,null,"87.300","Q87.300 Dejavnost nastanitvenih ustanov za oskrbo starejših in invalidnih oseb","Q87.30 Dejavnost nastanitvenih ustanov za oskrbo starejših in invalidnih oseb","Q87.3 Dejavnost nastanitvenih ustanov za oskrbo starejših in invalidnih oseb","Q87 Socialno varstvo z nastanitvijo","Q ZDRAVSTVO IN SOCIALNO VARSTVO"]
[null,null,null,null,null,null,null,null,null,null,null,null,null,null,null,null,null,null,null,null,null,null,null,null,null,null,null,null,null,null,null,null,null,null,null,null,null,null,null,null,null,null,null,null,null,null,null,null,null,null,null,null,null,null,null,null,null,null,null,null,"87.900","Q87.900 Drugo socialno varstvo z nastanitvijo","Q87.90 Drugo socialno varstvo z nastanitvijo","Q87.9 Drugo socialno varstvo z nastanitvijo","Q87 Socialno varstvo z nastanitvijo","Q ZDRAVSTVO IN SOCIALNO VARSTVO"]
[null,null,null,null,null,null,null,null,null,null,null,null,null,null,null,null,null,null,null,null,null,null,null,null,null,null,null,null,null,null,null,null,null,null,null,null,null,null,null,null,null,null,null,null,null,null,null,null,null,null,null,null,null,null,null,null,null,null,null,null,"88.101","Q88.101 Dejavnost invalidskih podjetij","Q88.10 Socialno varstvo brez nastanitve za starejše in invalidne osebe","Q88.1 Socialno varstvo brez nastanitve za starejše in invalidne osebe","Q88 Socialno varstvo brez nastanitve","Q ZDRAVSTVO IN SOCIALNO VARSTVO"]
[null,null,null,null,null,null,null,null,null,null,null,null,null,null,null,null,null,null,null,null,null,null,null,null,null,null,null,null,null,null,null,null,null,null,null,null,null,null,null,null,null,null,null,null,null,null,null,null,null,null,null,null,null,null,null,null,null,null,null,null,"88.109","Q88.109 Drugo socialno varstvo brez nastanitve za starejše in invalidne osebe","Q88.10 Socialno varstvo brez nastanitve za starejše in invalidne osebe","Q88.1 Socialno varstvo brez nastanitve za starejše in invalidne osebe","Q88 Socialno varstvo brez nastanitve","Q ZDRAVSTVO IN SOCIALNO VARSTVO"]
[null,null,null,null,null,null,null,null,null,null,null,null,null,null,null,null,null,null,null,null,null,null,null,null,null,null,null,null,null,null,null,null,null,null,null,null,null,null,null,null,null,null,null,null,null,null,null,null,null,null,null,null,null,null,null,null,null,null,null,null,"88.910","Q88.910 Dnevno varstvo otrok","Q88.91 Dnevno varstvo otrok","Q88.9 Drugo socialno varstvo brez nastanitve","Q88 Socialno varstvo brez nastanitve","Q ZDRAVSTVO IN SOCIALNO VARSTVO"]
[null,null,null,null,null,null,null,null,null,null,null,null,null,null,null,null,null,null,null,null,null,null,null,null,null,null,null,null,null,null,null,null,null,null,null,null,null,null,null,null,null,null,null,null,null,null,null,null,null,null,null,null,null,null,null,null,null,null,null,null,"88.991","Q88.991 Dejavnost humanitarnih in dobrodelnih organizacij","Q88.99 Drugje nerazvrščeno socialno varstvo brez nastanitve","Q88.9 Drugo socialno varstvo brez nastanitve","Q88 Socialno varstvo brez nastanitve","Q ZDRAVSTVO IN SOCIALNO VARSTVO"]
[null,null,null,null,null,null,null,null,null,null,null,null,null,null,null,null,null,null,null,null,null,null,null,null,null,null,null,null,null,null,null,null,null,null,null,null,null,null,null,null,null,null,null,null,null,null,null,null,null,null,null,null,null,null,null,null,null,null,null,null,"88.999","Q88.999 Drugo drugje nerazvrščeno socialno varstvo brez nastanitve","Q88.99 Drugje nerazvrščeno socialno varstvo brez nastanitve","Q88.9 Drugo socialno varstvo brez nastanitve","Q88 Socialno varstvo brez nastanitve","Q ZDRAVSTVO IN SOCIALNO VARSTVO"]
[null,null,null,null,null,null,null,null,null,null,null,null,null,null,null,null,null,null,null,null,null,null,null,null,null,null,null,null,null,null,null,null,null,null,null,null,null,null,null,null,null,null,null,null,null,null,null,null,null,null,null,null,null,null,null,null,null,null,null,null,"90.010","R90.010 Umetniško uprizarjanje","R90.01 Umetniško uprizarjanje","R90.0 Kulturne in razvedrilne dejavnosti","R90 Kulturne in razvedrilne dejavnosti","R KULTURNE, RAZVEDRILNE IN REKREACIJSKE DEJAVNOSTI"]
[null,null,null,null,null,null,null,null,null,null,null,null,null,null,null,null,null,null,null,null,null,null,null,null,null,null,null,null,null,null,null,null,null,null,null,null,null,null,null,null,null,null,null,null,null,null,null,null,null,null,null,null,null,null,null,null,null,null,null,null,"90.020","R90.020 Spremljajoče dejavnosti za umetniško uprizarjanje","R90.02 Spremljajoče dejavnosti za umetniško uprizarjanje","R90.0 Kulturne in razvedrilne dejavnosti","R90 Kulturne in razvedrilne dejavnosti","R KULTURNE, RAZVEDRILNE IN REKREACIJSKE DEJAVNOSTI"]
[null,null,null,null,null,null,null,null,null,null,null,null,null,null,null,null,null,null,null,null,null,null,null,null,null,null,null,null,null,null,null,null,null,null,null,null,null,null,null,null,null,null,null,null,null,null,null,null,null,null,null,null,null,null,null,null,null,null,null,null,"90.030","R90.030 Umetniško ustvarjanje","R90.03 Umetniško ustvarjanje","R90.0 Kulturne in razvedrilne dejavnosti","R90 Kulturne in razvedrilne dejavnosti","R KULTURNE, RAZVEDRILNE IN REKREACIJSKE DEJAVNOSTI"]
[null,null,null,null,null,null,null,null,null,null,null,null,null,null,null,null,null,null,null,null,null,null,null,null,null,null,null,null,null,null,null,null,null,null,null,null,null,null,null,null,null,null,null,null,null,null,null,null,null,null,null,null,null,null,null,null,null,null,null,null,"90.040","R90.040 Obratovanje objektov za kulturne prireditve","R90.04 Obratovanje objektov za kulturne prireditve","R90.0 Kulturne in razvedrilne dejavnosti","R90 Kulturne in razvedrilne dejavnosti","R KULTURNE, RAZVEDRILNE IN REKREACIJSKE DEJAVNOSTI"]
[null,null,null,null,null,null,null,null,null,null,null,null,null,null,null,null,null,null,null,null,null,null,null,null,null,null,null,null,null,null,null,null,null,null,null,null,null,null,null,null,null,null,null,null,null,null,null,null,null,null,null,null,null,null,null,null,null,null,null,null,"91.011","R91.011 Dejavnost knjižnic","R91.01 Dejavnost knjižnic in arhivov","R91.0 Dejavnost knjižnic, arhivov, muzejev in druge kulturne dejavnosti","R91 Dejavnost knjižnic, arhivov, muzejev in druge kulturne dejavnosti","R KULTURNE, RAZVEDRILNE IN REKREACIJSKE DEJAVNOSTI"]
[null,null,null,null,null,null,null,null,null,null,null,null,null,null,null,null,null,null,null,null,null,null,null,null,null,null,null,null,null,null,null,null,null,null,null,null,null,null,null,null,null,null,null,null,null,null,null,null,null,null,null,null,null,null,null,null,null,null,null,null,"91.012","R91.012 Dejavnost arhivov","R91.01 Dejavnost knjižnic in arhivov","R91.0 Dejavnost knjižnic, arhivov, muzejev in druge kulturne dejavnosti","R91 Dejavnost knjižnic, arhivov, muzejev in druge kulturne dejavnosti","R KULTURNE, RAZVEDRILNE IN REKREACIJSKE DEJAVNOSTI"]
[null,null,null,null,null,null,null,null,null,null,null,null,null,null,null,null,null,null,null,null,null,null,null,null,null,null,null,null,null,null,null,null,null,null,null,null,null,null,null,null,null,null,null,null,null,null,null,null,null,null,null,null,null,null,null,null,null,null,null,null,"91.020","R91.020 Dejavnost muzejev","R91.02 Dejavnost muzejev","R91.0 Dejavnost knjižnic, arhivov, muzejev in druge kulturne dejavnosti","R91 Dejavnost knjižnic, arhivov, muzejev in druge kulturne dejavnosti","R KULTURNE, RAZVEDRILNE IN REKREACIJSKE DEJAVNOSTI"]
[null,null,null,null,null,null,null,null,null,null,null,null,null,null,null,null,null,null,null,null,null,null,null,null,null,null,null,null,null,null,null,null,null,null,null,null,null,null,null,null,null,null,null,null,null,null,null,null,null,null,null,null,null,null,null,null,null,null,null,null,"91.030","R91.030 Varstvo kulturne dediščine","R91.03 Varstvo kulturne dediščine","R91.0 Dejavnost knjižnic, arhivov, muzejev in druge kulturne dejavnosti","R91 Dejavnost knjižnic, arhivov, muzejev in druge kulturne dejavnosti","R KULTURNE, RAZVEDRILNE IN REKREACIJSKE DEJAVNOSTI"]
[null,null,null,null,null,null,null,null,null,null,null,null,null,null,null,null,null,null,null,null,null,null,null,null,null,null,null,null,null,null,null,null,null,null,null,null,null,null,null,null,null,null,null,null,null,null,null,null,null,null,null,null,null,null,null,null,null,null,null,null,"91.040","R91.040 Dejavnost botaničnih in živalskih vrtov, varstvo naravnih vrednot","R91.04 Dejavnost botaničnih in živalskih vrtov, varstvo naravnih vrednot","R91.0 Dejavnost knjižnic, arhivov, muzejev in druge kulturne dejavnosti","R91 Dejavnost knjižnic, arhivov, muzejev in druge kulturne dejavnosti","R KULTURNE, RAZVEDRILNE IN REKREACIJSKE DEJAVNOSTI"]
[null,null,null,null,null,null,null,null,null,null,null,null,null,null,null,null,null,null,null,null,null,null,null,null,null,null,null,null,null,null,null,null,null,null,null,null,null,null,null,null,null,null,null,null,null,null,null,null,null,null,null,null,null,null,null,null,null,null,null,null,"92.001","R92.001 Dejavnost igralnic","R92.00 Prirejanje iger na srečo","R92.0 Prirejanje iger na srečo","R92 Prirejanje iger na srečo","R KULTURNE, RAZVEDRILNE IN REKREACIJSKE DEJAVNOSTI"]
[null,null,null,null,null,null,null,null,null,null,null,null,null,null,null,null,null,null,null,null,null,null,null,null,null,null,null,null,null,null,null,null,null,null,null,null,null,null,null,null,null,null,null,null,null,null,null,null,null,null,null,null,null,null,null,null,null,null,null,null,"92.002","R92.002 Prirejanje iger na srečo, razen v igralnicah","R92.00 Prirejanje iger na srečo","R92.0 Prirejanje iger na srečo","R92 Prirejanje iger na srečo","R KULTURNE, RAZVEDRILNE IN REKREACIJSKE DEJAVNOSTI"]
[null,null,null,null,null,null,null,null,null,null,null,null,null,null,null,null,null,null,null,null,null,null,null,null,null,null,null,null,null,null,null,null,null,null,null,null,null,null,null,null,null,null,null,null,null,null,null,null,null,null,null,null,null,null,null,null,null,null,null,null,"93.110","R93.110 Obratovanje športnih objektov","R93.11 Obratovanje športnih objektov","R93.1 Športne dejavnosti","R93 Športne in druge dejavnosti za prosti čas","R KULTURNE, RAZVEDRILNE IN REKREACIJSKE DEJAVNOSTI"]
[null,null,null,null,null,null,null,null,null,null,null,null,null,null,null,null,null,null,null,null,null,null,null,null,null,null,null,null,null,null,null,null,null,null,null,null,null,null,null,null,null,null,null,null,null,null,null,null,null,null,null,null,null,null,null,null,null,null,null,null,"93.120","R93.120 Dejavnost športnih klubov","R93.12 Dejavnost športnih klubov","R93.1 Športne dejavnosti","R93 Športne in druge dejavnosti za prosti čas","R KULTURNE, RAZVEDRILNE IN REKREACIJSKE DEJAVNOSTI"]
[null,null,null,null,null,null,null,null,null,null,null,null,null,null,null,null,null,null,null,null,null,null,null,null,null,null,null,null,null,null,null,null,null,null,null,null,null,null,null,null,null,null,null,null,null,null,null,null,null,null,null,null,null,null,null,null,null,null,null,null,"93.130","R93.130 Obratovanje fitnes objektov","R93.13 Obratovanje fitnes objektov","R93.1 Športne dejavnosti","R93 Športne in druge dejavnosti za prosti čas","R KULTURNE, RAZVEDRILNE IN REKREACIJSKE DEJAVNOSTI"]
[null,null,null,null,null,null,null,null,null,null,null,null,null,null,null,null,null,null,null,null,null,null,null,null,null,null,null,null,null,null,null,null,null,null,null,null,null,null,null,null,null,null,null,null,null,null,null,null,null,null,null,null,null,null,null,null,null,null,null,null,"93.190","R93.190 Druge športne dejavnosti","R93.19 Druge športne dejavnosti","R93.1 Športne dejavnosti","R93 Športne in druge dejavnosti za prosti čas","R KULTURNE, RAZVEDRILNE IN REKREACIJSKE DEJAVNOSTI"]
[null,null,null,null,null,null,null,null,null,null,null,null,null,null,null,null,null,null,null,null,null,null,null,null,null,null,null,null,null,null,null,null,null,null,null,null,null,null,null,null,null,null,null,null,null,null,null,null,null,null,null,null,null,null,null,null,null,null,null,null,"93.210","R93.210 Dejavnost zabaviščnih parkov","R93.21 Dejavnost zabaviščnih parkov","R93.2 Druge dejavnosti za prosti čas","R93 Športne in druge dejavnosti za prosti čas","R KULTURNE, RAZVEDRILNE IN REKREACIJSKE DEJAVNOSTI"]
[null,null,null,null,null,null,null,null,null,null,null,null,null,null,null,null,null,null,null,null,null,null,null,null,null,null,null,null,null,null,null,null,null,null,null,null,null,null,null,null,null,null,null,null,null,null,null,null,null,null,null,null,null,null,null,null,null,null,null,null,"93.291","R93.291 Dejavnost marin","R93.29 Drugje nerazvrščene dejavnosti za prosti čas","R93.2 Druge dejavnosti za prosti čas","R93 Športne in druge dejavnosti za prosti čas","R KULTURNE, RAZVEDRILNE IN REKREACIJSKE DEJAVNOSTI"]
[null,null,null,null,null,null,null,null,null,null,null,null,null,null,null,null,null,null,null,null,null,null,null,null,null,null,null,null,null,null,null,null,null,null,null,null,null,null,null,null,null,null,null,null,null,null,null,null,null,null,null,null,null,null,null,null,null,null,null,null,"93.292","R93.292 Dejavnost smučarskih centrov","R93.29 Drugje nerazvrščene dejavnosti za prosti čas","R93.2 Druge dejavnosti za prosti čas","R93 Športne in druge dejavnosti za prosti čas","R KULTURNE, RAZVEDRILNE IN REKREACIJSKE DEJAVNOSTI"]
[null,null,null,null,null,null,null,null,null,null,null,null,null,null,null,null,null,null,null,null,null,null,null,null,null,null,null,null,null,null,null,null,null,null,null,null,null,null,null,null,null,null,null,null,null,null,null,null,null,null,null,null,null,null,null,null,null,null,null,null,"93.299","R93.299 Druge nerazvrščene dejavnosti za prosti čas","R93.29 Drugje nerazvrščene dejavnosti za prosti čas","R93.2 Druge dejavnosti za prosti čas","R93 Športne in druge dejavnosti za prosti čas","R KULTURNE, RAZVEDRILNE IN REKREACIJSKE DEJAVNOSTI"]
[null,null,null,null,null,null,null,null,null,null,null,null,null,null,null,null,null,null,null,null,null,null,null,null,null,null,null,null,null,null,null,null,null,null,null,null,null,null,null,null,null,null,null,null,null,null,null,null,null,null,null,null,null,null,null,null,null,null,null,null,"94.110","S94.110 Dejavnost poslovnih in delodajalskih združenj","S94.11 Dejavnost poslovnih in delodajalskih združenj","S94.1 Dejavnost poslovnih, delodajalskih in strokovnih združenj","S94 Dejavnost članskih organizacij","S DRUGE DEJAVNOSTI"]
[null,null,null,null,null,null,null,null,null,null,null,null,null,null,null,null,null,null,null,null,null,null,null,null,null,null,null,null,null,null,null,null,null,null,null,null,null,null,null,null,null,null,null,null,null,null,null,null,null,null,null,null,null,null,null,null,null,null,null,null,"94.120","S94.120 Dejavnost strokovnih združenj","S94.12 Dejavnost strokovnih združenj","S94.1 Dejavnost poslovnih, delodajalskih in strokovnih združenj","S94 Dejavnost članskih organizacij","S DRUGE DEJAVNOSTI"]
[null,null,null,null,null,null,null,null,null,null,null,null,null,null,null,null,null,null,null,null,null,null,null,null,null,null,null,null,null,null,null,null,null,null,null,null,null,null,null,null,null,null,null,null,null,null,null,null,null,null,null,null,null,null,null,null,null,null,null,null,"94.200","S94.200 Dejavnost sindikatov","S94.20 Dejavnost sindikatov","S94.2 Dejavnost sindikatov","S94 Dejavnost članskih organizacij","S DRUGE DEJAVNOSTI"]
[null,null,null,null,null,null,null,null,null,null,null,null,null,null,null,null,null,null,null,null,null,null,null,null,null,null,null,null,null,null,null,null,null,null,null,null,null,null,null,null,null,null,null,null,null,null,null,null,null,null,null,null,null,null,null,null,null,null,null,null,"94.910","S94.910 Dejavnost verskih organizacij","S94.91 Dejavnost verskih organizacij","S94.9 Dejavnost drugih članskih organizacij","S94 Dejavnost članskih organizacij","S DRUGE DEJAVNOSTI"]
[null,null,null,null,null,null,null,null,null,null,null,null,null,null,null,null,null,null,null,null,null,null,null,null,null,null,null,null,null,null,null,null,null,null,null,null,null,null,null,null,null,null,null,null,null,null,null,null,null,null,null,null,null,null,null,null,null,null,null,null,"94.920","S94.920 Dejavnost političnih organizacij","S94.92 Dejavnost političnih organizacij","S94.9 Dejavnost drugih članskih organizacij","S94 Dejavnost članskih organizacij","S DRUGE DEJAVNOSTI"]
[null,null,null,null,null,null,null,null,null,null,null,null,null,null,null,null,null,null,null,null,null,null,null,null,null,null,null,null,null,null,null,null,null,null,null,null,null,null,null,null,null,null,null,null,null,null,null,null,null,null,null,null,null,null,null,null,null,null,null,null,"94.991","S94.991 Dejavnost invalidskih organizacij","S94.99 Dejavnost drugje nerazvrščenih članskih organizacij","S94.9 Dejavnost drugih članskih organizacij","S94 Dejavnost članskih organizacij","S DRUGE DEJAVNOSTI"]
[null,null,null,null,null,null,null,null,null,null,null,null,null,null,null,null,null,null,null,null,null,null,null,null,null,null,null,null,null,null,null,null,null,null,null,null,null,null,null,null,null,null,null,null,null,null,null,null,null,null,null,null,null,null,null,null,null,null,null,null,"94.999","S94.999 Dejavnost drugje nerazvrščenih članskih organizacij","S94.99 Dejavnost drugje nerazvrščenih članskih organizacij","S94.9 Dejavnost drugih članskih organizacij","S94 Dejavnost članskih organizacij","S DRUGE DEJAVNOSTI"]
[null,null,null,null,null,null,null,null,null,null,null,null,null,null,null,null,null,null,null,null,null,null,null,null,null,null,null,null,null,null,null,null,null,null,null,null,null,null,null,null,null,null,null,null,null,null,null,null,null,null,null,null,null,null,null,null,null,null,null,null,"95.110","S95.110 Popravila in vzdrževanje računalnikov in perifernih enot","S95.11 Popravila in vzdrževanje računalnikov in perifernih enot","S95.1 Popravila in vzdrževanje računalnikov in komunikacijskih naprav","S95 Popravila računalnikov in izdelkov za široko rabo","S DRUGE DEJAVNOSTI"]
[null,null,null,null,null,null,null,null,null,null,null,null,null,null,null,null,null,null,null,null,null,null,null,null,null,null,null,null,null,null,null,null,null,null,null,null,null,null,null,null,null,null,null,null,null,null,null,null,null,null,null,null,null,null,null,null,null,null,null,null,"95.120","S95.120 Popravila komunikacijskih naprav","S95.12 Popravila komunikacijskih naprav","S95.1 Popravila in vzdrževanje računalnikov in komunikacijskih naprav","S95 Popravila računalnikov in izdelkov za široko rabo","S DRUGE DEJAVNOSTI"]
[null,null,null,null,null,null,null,null,null,null,null,null,null,null,null,null,null,null,null,null,null,null,null,null,null,null,null,null,null,null,null,null,null,null,null,null,null,null,null,null,null,null,null,null,null,null,null,null,null,null,null,null,null,null,null,null,null,null,null,null,"95.210","S95.210 Popravila elektronskih naprav za široko rabo","S95.21 Popravila elektronskih naprav za široko rabo","S95.2 Popravila izdelkov za široko rabo","S95 Popravila računalnikov in izdelkov za široko rabo","S DRUGE DEJAVNOSTI"]
[null,null,null,null,null,null,null,null,null,null,null,null,null,null,null,null,null,null,null,null,null,null,null,null,null,null,null,null,null,null,null,null,null,null,null,null,null,null,null,null,null,null,null,null,null,null,null,null,null,null,null,null,null,null,null,null,null,null,null,null,"95.220","S95.220 Popravila gospodinjskih in hišnih naprav in opreme","S95.22 Popravila gospodinjskih in hišnih naprav in opreme","S95.2 Popravila izdelkov za široko rabo","S95 Popravila računalnikov in izdelkov za široko rabo","S DRUGE DEJAVNOSTI"]
[null,null,null,null,null,null,null,null,null,null,null,null,null,null,null,null,null,null,null,null,null,null,null,null,null,null,null,null,null,null,null,null,null,null,null,null,null,null,null,null,null,null,null,null,null,null,null,null,null,null,null,null,null,null,null,null,null,null,null,null,"95.230","S95.230 Popravila obutve in usnjene galanterije","S95.23 Popravila obutve in usnjene galanterije","S95.2 Popravila izdelkov za široko rabo","S95 Popravila računalnikov in izdelkov za široko rabo","S DRUGE DEJAVNOSTI"]
[null,null,null,null,null,null,null,null,null,null,null,null,null,null,null,null,null,null,null,null,null,null,null,null,null,null,null,null,null,null,null,null,null,null,null,null,null,null,null,null,null,null,null,null,null,null,null,null,null,null,null,null,null,null,null,null,null,null,null,null,"95.240","S95.240 Popravila pohištva","S95.24 Popravila pohištva","S95.2 Popravila izdelkov za široko rabo","S95 Popravila računalnikov in izdelkov za široko rabo","S DRUGE DEJAVNOSTI"]
[null,null,null,null,null,null,null,null,null,null,null,null,null,null,null,null,null,null,null,null,null,null,null,null,null,null,null,null,null,null,null,null,null,null,null,null,null,null,null,null,null,null,null,null,null,null,null,null,null,null,null,null,null,null,null,null,null,null,null,null,"95.250","S95.250 Popravila ur in nakita","S95.25 Popravila ur in nakita","S95.2 Popravila izdelkov za široko rabo","S95 Popravila računalnikov in izdelkov za široko rabo","S DRUGE DEJAVNOSTI"]
[null,null,null,null,null,null,null,null,null,null,null,null,null,null,null,null,null,null,null,null,null,null,null,null,null,null,null,null,null,null,null,null,null,null,null,null,null,null,null,null,null,null,null,null,null,null,null,null,null,null,null,null,null,null,null,null,null,null,null,null,"95.290","S95.290 Popravila drugih osebnih ali gospodinjskih izdelkov","S95.29 Popravila drugih osebnih ali gospodinjskih izdelkov","S95.2 Popravila izdelkov za široko rabo","S95 Popravila računalnikov in izdelkov za široko rabo","S DRUGE DEJAVNOSTI"]
[null,null,null,null,null,null,null,null,null,null,null,null,null,null,null,null,null,null,null,null,null,null,null,null,null,null,null,null,null,null,null,null,null,null,null,null,null,null,null,null,null,null,null,null,null,null,null,null,null,null,null,null,null,null,null,null,null,null,null,null,"96.010","S96.010 Dejavnost pralnic in kemičnih čistilnic","S96.01 Dejavnost pralnic in kemičnih čistilnic","S96.0 Druge storitvene dejavnosti","S96 Druge storitvene dejavnosti","S DRUGE DEJAVNOSTI"]
[null,null,null,null,null,null,null,null,null,null,null,null,null,null,null,null,null,null,null,null,null,null,null,null,null,null,null,null,null,null,null,null,null,null,null,null,null,null,null,null,null,null,null,null,null,null,null,null,null,null,null,null,null,null,null,null,null,null,null,null,"96.021","S96.021 Frizerska dejavnost","S96.02 Frizerska, kozmetična in pedikerska dejavnost","S96.0 Druge storitvene dejavnosti","S96 Druge storitvene dejavnosti","S DRUGE DEJAVNOSTI"]
[null,null,null,null,null,null,null,null,null,null,null,null,null,null,null,null,null,null,null,null,null,null,null,null,null,null,null,null,null,null,null,null,null,null,null,null,null,null,null,null,null,null,null,null,null,null,null,null,null,null,null,null,null,null,null,null,null,null,null,null,"96.022","S96.022 Kozmetična in pedikerska dejavnost","S96.02 Frizerska, kozmetična in pedikerska dejavnost","S96.0 Druge storitvene dejavnosti","S96 Druge storitvene dejavnosti","S DRUGE DEJAVNOSTI"]
[null,null,null,null,null,null,null,null,null,null,null,null,null,null,null,null,null,null,null,null,null,null,null,null,null,null,null,null,null,null,null,null,null,null,null,null,null,null,null,null,null,null,null,null,null,null,null,null,null,null,null,null,null,null,null,null,null,null,null,null,"96.030","S96.030 Pogrebna dejavnost","S96.03 Pogrebna dejavnost","S96.0 Druge storitvene dejavnosti","S96 Druge storitvene dejavnosti","S DRUGE DEJAVNOSTI"]
[null,null,null,null,null,null,null,null,null,null,null,null,null,null,null,null,null,null,null,null,null,null,null,null,null,null,null,null,null,null,null,null,null,null,null,null,null,null,null,null,null,null,null,null,null,null,null,null,null,null,null,null,null,null,null,null,null,null,null,null,"96.040","S96.040 Dejavnosti za nego telesa","S96.04 Dejavnosti za nego telesa","S96.0 Druge storitvene dejavnosti","S96 Druge storitvene dejavnosti","S DRUGE DEJAVNOSTI"]
[null,null,null,null,null,null,null,null,null,null,null,null,null,null,null,null,null,null,null,null,null,null,null,null,null,null,null,null,null,null,null,null,null,null,null,null,null,null,null,null,null,null,null,null,null,null,null,null,null,null,null,null,null,null,null,null,null,null,null,null,"96.090","S96.090 Druge storitvene dejavnosti, drugje nerazvrščene","S96.09 Druge storitvene dejavnosti, drugje nerazvrščene","S96.0 Druge storitvene dejavnosti","S96 Druge storitvene dejavnosti","S DRUGE DEJAVNOSTI"]
[null,null,null,null,null,null,null,null,null,null,null,null,null,null,null,null,null,null,null,null,null,null,null,null,null,null,null,null,null,null,null,null,null,null,null,null,null,null,null,null,null,null,null,null,null,null,null,null,null,null,null,null,null,null,null,null,null,null,null,null,"97.000","T97.000 Dejavnost gospodinjstev z zaposlenim hišnim osebjem","T97.00 Dejavnost gospodinjstev z zaposlenim hišnim osebjem","T97.0 Dejavnost gospodinjstev z zaposlenim hišnim osebjem","T97 Dejavnost gospodinjstev z zaposlenim hišnim osebjem","T DEJAVNOST GOSPODINJSTEV Z ZAPOSLENIM HIŠNIM OSEBJEM, PROIZVODNJA ZA LASTNO RABO"]
[null,null,null,null,null,null,null,null,null,null,null,null,null,null,null,null,null,null,null,null,null,null,null,null,null,null,null,null,null,null,null,null,null,null,null,null,null,null,null,null,null,null,null,null,null,null,null,null,null,null,null,null,null,null,null,null,null,null,null,null,"98.100","T98.100 Raznovrstna proizvodnja dobrin v gospodinjstvih za lastno rabo","T98.10 Raznovrstna proizvodnja dobrin v gospodinjstvih za lastno rabo","T98.1 Raznovrstna proizvodnja dobrin v gospodinjstvih za lastno rabo","T98 Raznovrstna proizvodnja gospodinjstev za lastno rabo","T DEJAVNOST GOSPODINJSTEV Z ZAPOSLENIM HIŠNIM OSEBJEM, PROIZVODNJA ZA LASTNO RABO"]
[null,null,null,null,null,null,null,null,null,null,null,null,null,null,null,null,null,null,null,null,null,null,null,null,null,null,null,null,null,null,null,null,null,null,null,null,null,null,null,null,null,null,null,null,null,null,null,null,null,null,null,null,null,null,null,null,null,null,null,null,"98.200","T98.200 Raznovrstna proizvodnja storitev v gospodinjstvih za lastno rabo","T98.20 Raznovrstna proizvodnja storitev v gospodinjstvih za lastno rabo","T98.2 Raznovrstna proizvodnja storitev v gospodinjstvih za lastno rabo","T98 Raznovrstna proizvodnja gospodinjstev za lastno rabo","T DEJAVNOST GOSPODINJSTEV Z ZAPOSLENIM HIŠNIM OSEBJEM, PROIZVODNJA ZA LASTNO RABO"]
[null,null,null,null,null,null,null,null,null,null,null,null,null,null,null,null,null,null,null,null,null,null,null,null,null,null,null,null,null,null,null,null,null,null,null,null,null,null,null,null,null,null,null,null,null,null,null,null,null,null,null,null,null,null,null,null,null,null,null,null,"99.000","U99.000 Dejavnost eksteritorialnih organizacij in teles","U99.00 Dejavnost eksteritorialnih organizacij in teles","U99.0 Dejavnost eksteritorialnih organizacij in teles","U99 Dejavnost eksteritorialnih organizacij in teles","U DEJAVNOST EKSTERITORIALNIH ORGANIZACIJ IN TELES"]